App-RoboBot v4.004 Perl 5 v5.27.11 MSWin32-x86-multi-thread-64int

Status
Pass
From
Alexandr Ciornii (CHORNY)
Dist
App-RoboBot v4.004
Platform
Perl 5 v5.27.11 MSWin32-x86-multi-thread-64int
Date
2018-05-19 07:59:39
ID
badaf443-6bf4-1014-949b-9c48e25103c5
This distribution has been tested as part of the CPAN Testers
project, supporting the Perl programming language.  See
http://wiki.cpantesters.org/ for more information or email
questions to cpan-testers-discuss@perl.org


--
Dear Jon Sime,

This is a computer-generated report for App-RoboBot-4.004
on perl 5.27.11, created by CPAN-Reporter-1.2018.

Thank you for uploading your work to CPAN.  Congratulations!
All tests were successful.

Sections of this report:

    * Tester comments
    * Program output
    * Prerequisites
    * Environment and other context

------------------------------
TESTER COMMENTS
------------------------------

Additional comments from tester:

this report is from an automated smoke testing program
and was not reviewed by a human for accuracy

------------------------------
PROGRAM OUTPUT
------------------------------

Output from 'C:\STRAWB~1\c\bin\gmake.exe test':

Skip blib\lib\auto\share\dist\App-RoboBot\migrations\revert\p-memos-20161128214110.sql (unchanged)
Skip blib\lib\auto\share\dist\App-RoboBot\migrations\revert\p-location-20161128204426.sql (unchanged)
Skip blib\lib\auto\share\dist\App-RoboBot\migrations\verify\base.sql (unchanged)
Skip blib\lib\auto\share\dist\App-RoboBot\migrations\revert\p-autoreply-20161128171050.sql (unchanged)
Skip blib\lib\auto\share\dist\App-RoboBot\migrations\revert\p-logger-20161128205533.sql (unchanged)
Skip blib\lib\auto\share\dist\App-RoboBot\migrations\deploy\p-github-20161128190436.sql (unchanged)
Skip blib\lib\auto\share\dist\App-RoboBot\migrations\verify\p-factoids-20161128182038.sql (unchanged)
Skip blib\lib\auto\share\dist\App-RoboBot\migrations\deploy\p-location-20161128204426.sql (unchanged)
Skip blib\lib\auto\share\dist\App-RoboBot\migrations\verify\p-channellink-20161128173743.sql (unchanged)
Skip blib\lib\auto\share\dist\App-RoboBot\migrations\revert\p-auth-20161128164909.sql (unchanged)
Skip blib\lib\auto\share\dist\App-RoboBot\migrations\deploy\p-alarms-20161128153112.sql (unchanged)
Skip blib\lib\auto\share\dist\App-RoboBot\migrations\verify\p-autoreply-20161128171050.sql (unchanged)
Skip blib\lib\auto\share\dist\App-RoboBot\migrations\deploy\p-variables-20161128195027.sql (unchanged)
Skip blib\lib\auto\share\dist\App-RoboBot\migrations\deploy\base.sql (unchanged)
Skip blib\lib\auto\share\dist\App-RoboBot\migrations\revert\p-achievements-20161128144040.sql (unchanged)
Skip blib\lib\auto\share\dist\App-RoboBot\migrations\revert\p-github-20161128190436.sql (unchanged)
Skip blib\lib\auto\share\dist\App-RoboBot\migrations\revert\p-alarms-20161128153112.sql (unchanged)
Skip blib\lib\auto\share\dist\App-RoboBot\migrations\revert\p-karma-20161128200656.sql (unchanged)
Skip blib\lib\auto\share\dist\App-RoboBot\migrations\deploy\p-skills-20161128231536.sql (unchanged)
Skip blib\lib\auto\share\dist\App-RoboBot\migrations\deploy\p-logger-20161128205533.sql (unchanged)
Skip blib\lib\auto\share\dist\App-RoboBot\migrations\deploy\p-achievements-20161128144040.sql (unchanged)
Skip blib\lib\auto\share\dist\App-RoboBot\migrations\verify\p-auth-20161128164909.sql (unchanged)
Skip blib\lib\auto\share\dist\App-RoboBot\migrations\revert\p-skills-20161128231536.sql (unchanged)
Skip blib\lib\auto\share\dist\App-RoboBot\migrations\verify\p-skills-20161128215019.sql (unchanged)
Skip blib\lib\auto\share\dist\App-RoboBot\migrations\verify\p-logger-20161128205533.sql (unchanged)
Skip blib\lib\auto\share\dist\App-RoboBot\migrations\deploy\p-channellink-20161128173743.sql (unchanged)
Skip blib\lib\auto\share\dist\App-RoboBot\migrations\deploy\p-madlibs-20161128211213.sql (unchanged)
Skip blib\lib\auto\share\dist\App-RoboBot\migrations\deploy\p-autoreply-20161128171050.sql (unchanged)
Skip blib\lib\auto\share\dist\App-RoboBot\migrations\verify\p-fakequotes-20161128183237.sql (unchanged)
Skip blib\lib\auto\share\dist\App-RoboBot\ubuntu-xenial-16.04-cloudimg-console.log (unchanged)
Skip blib\lib\auto\share\dist\App-RoboBot\migrations\verify\p-net-http-20161128214753.sql (unchanged)
Skip blib\lib\auto\share\dist\App-RoboBot\migrations\revert\p-thinge-20161128223332.sql (unchanged)
Skip blib\lib\auto\share\dist\App-RoboBot\migrations\deploy\p-net-http-20161128214753.sql (unchanged)
Skip blib\lib\auto\share\dist\App-RoboBot\migrations\verify\p-variables-20161128195027.sql (unchanged)
Skip blib\lib\auto\share\dist\App-RoboBot\migrations\deploy\p-markov-20161128212720.sql (unchanged)
Skip blib\lib\auto\share\dist\App-RoboBot\migrations\revert\p-markov-20161128212720.sql (unchanged)
Skip blib\lib\auto\share\dist\App-RoboBot\migrations\verify\p-github-20161128190436.sql (unchanged)
Skip blib\lib\auto\share\dist\App-RoboBot\migrations\revert\p-net-urls-20161128224203.sql (unchanged)
Skip blib\lib\auto\share\dist\App-RoboBot\migrations\deploy\p-karma-20161128200656.sql (unchanged)
Skip blib\lib\auto\share\dist\App-RoboBot\migrations\revert\p-fakequotes-20161128183237.sql (unchanged)
Skip blib\lib\auto\share\dist\App-RoboBot\migrations\revert\p-variables-20161128195027.sql (unchanged)
Skip blib\lib\auto\share\dist\App-RoboBot\migrations\deploy\p-macros-20161128210159.sql (unchanged)
Skip blib\lib\auto\share\dist\App-RoboBot\migrations\deploy\p-auth-20161128164909.sql (unchanged)
Skip blib\lib\auto\share\dist\App-RoboBot\migrations\revert\p-net-http-20161128214753.sql (unchanged)
Skip blib\lib\auto\share\dist\App-RoboBot\Vagrantfile (unchanged)
Skip blib\lib\auto\share\dist\App-RoboBot\migrations\revert\base.sql (unchanged)
Skip blib\lib\auto\share\dist\App-RoboBot\migrations\deploy\p-net-urls-20161128224203.sql (unchanged)
Skip blib\lib\auto\share\dist\App-RoboBot\migrations\verify\p-location-20161128204426.sql (unchanged)
Skip blib\lib\auto\share\dist\App-RoboBot\migrations\revert\p-macros-20161128210159.sql (unchanged)
Skip blib\lib\auto\share\dist\App-RoboBot\migrations\deploy\p-skills-20161128215019.sql (unchanged)
Skip blib\lib\auto\share\dist\App-RoboBot\migrations\sqitch.plan (unchanged)
Skip blib\lib\auto\share\dist\App-RoboBot\robobot.conf.sample (unchanged)
Skip blib\lib\auto\share\dist\App-RoboBot\migrations\sqitch.conf (unchanged)
Skip blib\lib\auto\share\dist\App-RoboBot\migrations\verify\p-memos-20161128214110.sql (unchanged)
Skip blib\lib\auto\share\dist\App-RoboBot\migrations\deploy\p-voting-20161128224521.sql (unchanged)
Skip blib\lib\auto\share\dist\App-RoboBot\migrations\revert\p-factoids-20161128182038.sql (unchanged)
Skip blib\lib\auto\share\dist\App-RoboBot\migrations\deploy\p-thinge-20161128223332.sql (unchanged)
Skip blib\lib\auto\share\dist\App-RoboBot\migrations\revert\p-madlibs-20161128211213.sql (unchanged)
Skip blib\lib\auto\share\dist\App-RoboBot\migrations\verify\p-net-urls-20161128224203.sql (unchanged)
Skip blib\lib\auto\share\dist\App-RoboBot\migrations\revert\p-skills-20161128215019.sql (unchanged)
Skip blib\lib\auto\share\dist\App-RoboBot\migrations\verify\p-macros-20161128210159.sql (unchanged)
Skip blib\lib\auto\share\dist\App-RoboBot\migrations\verify\p-alarms-20161128153112.sql (unchanged)
Skip blib\lib\auto\share\dist\App-RoboBot\migrations\verify\p-voting-20161128224521.sql (unchanged)
Skip blib\lib\auto\share\dist\App-RoboBot\migrations\verify\p-achievements-20161128144040.sql (unchanged)
Skip blib\lib\auto\share\dist\App-RoboBot\migrations\verify\p-markov-20161128212720.sql (unchanged)
Skip blib\lib\auto\share\dist\App-RoboBot\migrations\verify\p-thinge-20161128223332.sql (unchanged)
Skip blib\lib\auto\share\dist\App-RoboBot\migrations\deploy\p-memos-20161128214110.sql (unchanged)
Skip blib\lib\auto\share\dist\App-RoboBot\migrations\verify\p-skills-20161128231536.sql (unchanged)
Skip blib\lib\auto\share\dist\App-RoboBot\migrations\revert\p-channellink-20161128173743.sql (unchanged)
Skip blib\lib\auto\share\dist\App-RoboBot\migrations\verify\p-karma-20161128200656.sql (unchanged)
Skip blib\lib\auto\share\dist\App-RoboBot\migrations\verify\p-madlibs-20161128211213.sql (unchanged)
Skip blib\lib\auto\share\dist\App-RoboBot\migrations\deploy\p-factoids-20161128182038.sql (unchanged)
Skip blib\lib\auto\share\dist\App-RoboBot\migrations\deploy\p-fakequotes-20161128183237.sql (unchanged)
Skip blib\lib\auto\share\dist\App-RoboBot\migrations\revert\p-voting-20161128224521.sql (unchanged)
"C:\Strawberry2711\perl\bin\perl.exe" "-MExtUtils::Command::MM" "-MTest::Harness" "-e" "undef *Test::Harness::Switches; test_harness(0, 'blib\lib', 'blib\arch')" t/*.t
# 
# Versions for all modules listed in MYMETA.json (including optional ones):
# 
# === Configure Requires ===
# 
#     Module                  Want Have
#     ----------------------- ---- ----
#     ExtUtils::MakeMaker      any 7.34
#     File::ShareDir::Install 0.06 0.11
# 
# === Build Requires ===
# 
#     Module              Want Have
#     ------------------- ---- ----
#     ExtUtils::MakeMaker  any 7.34
# 
# === Test Requires ===
# 
#     Module              Want     Have
#     ------------------- ---- --------
#     ExtUtils::MakeMaker  any     7.34
#     File::Spec           any     3.74
#     Test::More           any 1.302136
# 
# === Test Recommends ===
# 
#     Module         Want     Have
#     ---------- -------- --------
#     CPAN::Meta 2.120900 2.150010
# 
# === Runtime Requires ===
# 
#     Module                          Want      Have
#     ------------------------------- ---- ---------
#     Acme::Zalgo                      any     0.002
#     AnyEvent                         any      7.14
#     AnyEvent::IRC::Client            any     undef
#     AnyEvent::Mattermost             any     0.002
#     AnyEvent::SlackRTM               any       1.0
#     App::Sqitch                      any    0.9997
#     Clone                            any      0.39
#     Config::Any::Merge               any      0.08
#     Config::General                  any      2.63
#     DBD::Pg                          any     3.6.0
#     DBIx::DataStore                  any     0.097
#     Data::Dumper                     any     2.170
#     DateTime                         any      1.48
#     DateTime::Format::Pg             any   0.16013
#     EV                               any      4.22
#     Exporter::Easy                   any      0.18
#     File::HomeDir                    any     1.002
#     File::ShareDir                   any     1.104
#     FileHandle                       any      2.03
#     Getopt::Long::Descriptive        any     0.102
#     HTML::TreeBuilder::LibXML        any      0.26
#     HTML::TreeBuilder::XPath         any      0.14
#     HTTP::Request                    any      6.16
#     IPC::Open2                       any      1.04
#     JSON                             any   2.97001
#     JSON::Path                       any     0.411
#     LWP::Protocol::https             any      6.07
#     LWP::Simple                      any      6.33
#     LWP::UserAgent                   any      6.33
#     Lingua::EN::Tagger               any      0.28
#     List::Util                       any      1.50
#     Log::Dispatch::Screen            any      2.67
#     Log::Log4perl                    any      1.49
#     Log::Log4perl::Appender::Screen  any     undef
#     Module::Loaded                   any      0.08
#     Module::Pluggable::Object        any       5.2
#     Moose                            any    2.2010
#     MooseX::ClassAttribute           any      0.29
#     MooseX::SetOnce                  any  0.200002
#     Number::Format                   any      1.75
#     Pod::Simple::SimpleTree          any      3.35
#     Scalar::Util                     any      1.50
#     Term::ExtendedColor              any     0.224
#     Text::Aspell                     any   missing
#     Text::Levenshtein                any      0.13
#     Text::Wrap                       any 2013.0523
#     Time::HiRes                      any    1.9759
#     Try::Tiny                        any      0.30
#     URI                              any      1.73
#     URI::Find                        any  20160806
#     URI::QueryParam                  any      1.73
#     XML::LibXML                      any    2.0132
#     namespace::autoclean             any      0.28
#     strict                           any      1.11
#     vars                             any      1.04
#     warnings                         any      1.42
# 
# 
# *** WARNING WARNING WARNING WARNING WARNING WARNING WARNING WARNING ***
# 
# The following REQUIRED prerequisites were not satisfied:
# 
# Text::Aspell is not installed (any version required)
# 
t/00-report-prereqs.t ............ ok
t/01-use.t ....................... ok
t/50-types-list.t ................ ok
t/50-types-map.t ................. ok
t/50-types-string.t .............. ok
t/50-types-vector.t .............. ok
t/author-pod-syntax.t ............ skipped: these tests are for testing by the author
t/release-changes_has_content.t .. skipped: these tests are for release candidate testing
All tests successful.
Files=8, Tests=96, 31 wallclock secs ( 0.11 usr +  0.10 sys =  0.21 CPU)
Result: PASS

------------------------------
PREREQUISITES
------------------------------

Prerequisite modules loaded:

requires:

    Module                          Need     Have     
    ------------------------------- -------- ---------
    Acme::Zalgo                     0        0.002    
    AnyEvent                        0        7.14     
    AnyEvent::IRC::Client           0        0        
    AnyEvent::Mattermost            0        0.002    
    AnyEvent::SlackRTM              0        1.0      
    App::Sqitch                     0        0.9997   
    Clone                           0        0.39     
    Config::Any::Merge              0        0.08     
    Config::General                 0        2.63     
    Data::Dumper                    0        2.170    
    DateTime                        0        1.48     
    DateTime::Format::Pg            0        0.16013  
    DBD::Pg                         0        3.6.0    
    DBIx::DataStore                 0        0.097    
    EV                              0        4.22     
    Exporter::Easy                  0        0.18     
    File::HomeDir                   0        1.002    
    File::ShareDir                  0        1.104    
    FileHandle                      0        2.03     
    Getopt::Long::Descriptive       0        0.102    
    HTML::TreeBuilder::LibXML       0        0.26     
    HTML::TreeBuilder::XPath        0        0.14     
    HTTP::Request                   0        6.16     
    IPC::Open2                      0        1.04     
    JSON                            0        2.97001  
    JSON::Path                      0        0.411    
    Lingua::EN::Tagger              0        0.28     
    List::Util                      0        1.50     
    Log::Dispatch::Screen           0        2.67     
    Log::Log4perl                   0        1.49     
    Log::Log4perl::Appender::Screen 0        0        
    LWP::Protocol::https            0        6.07     
    LWP::Simple                     0        6.33     
    LWP::UserAgent                  0        6.33     
    Module::Loaded                  0        0.08     
    Module::Pluggable::Object       0        5.2      
    Moose                           0        2.2010   
    MooseX::ClassAttribute          0        0.29     
    MooseX::SetOnce                 0        0.200002 
    namespace::autoclean            0        0.28     
    Number::Format                  0        1.75     
    perl                            5.020000 5.027011 
    Pod::Simple::SimpleTree         0        3.35     
    Scalar::Util                    0        1.50     
    strict                          0        1.11     
    Term::ExtendedColor             0        0.224    
  ! Text::Aspell                    0        n/a      
    Text::Levenshtein               0        0.13     
    Text::Wrap                      0        2013.0523
    Time::HiRes                     0        1.9759   
    Try::Tiny                       0        0.30     
    URI                             0        1.73     
    URI::Find                       0        20160806 
    URI::QueryParam                 0        1.73     
    vars                            0        1.04     
    warnings                        0        1.42     
    XML::LibXML                     0        2.0132   

build_requires:

    Module                          Need     Have     
    ------------------------------- -------- ---------
    ExtUtils::MakeMaker             0        7.34     
    File::Spec                      0        3.74     
    Test::More                      0        1.302136 

configure_requires:

    Module                          Need     Have     
    ------------------------------- -------- ---------
    ExtUtils::MakeMaker             0        7.34     
    File::ShareDir::Install         0.06     0.11     


------------------------------
ENVIRONMENT AND OTHER CONTEXT
------------------------------

Environment variables:

    AUTOMATED_TESTING = 1
    COMSPEC = C:\WINDOWS\system32\cmd.exe
    NUMBER_OF_PROCESSORS = 1
    PATH = C:\WINDOWS\system32;C:\WINDOWS;C:\WINDOWS\System32\Wbem;C:\Git\cmd;C:\Strawberry2711\c\bin;C:\Strawberry2711\perl\site\bin;C:\Strawberry2711\perl\bin
    PERL5LIB = C:\STRAWB~1\cpan\build\Term-ExtendedColor-0.224-0/blib/arch;C:\STRAWB~1\cpan\build\Term-ExtendedColor-0.224-0/blib/lib;C:\STRAWB~1\cpan\build\DBIx-DataStore-0.097-0/blib/arch;C:\STRAWB~1\cpan\build\DBIx-DataStore-0.097-0/blib/lib;C:\STRAWB~1\cpan\build\Config-Any-Merge-0.08-0/blib/arch;C:\STRAWB~1\cpan\build\Config-Any-Merge-0.08-0/blib/lib;C:\STRAWB~1\cpan\build\App-Sqitch-0.9997-0/blib/arch;C:\STRAWB~1\cpan\build\App-Sqitch-0.9997-0/blib/lib;C:\STRAWB~1\cpan\build\URI-db-0.18-0/blib/arch;C:\STRAWB~1\cpan\build\URI-db-0.18-0/blib/lib;C:\STRAWB~1\cpan\build\URI-Nested-0.10-0/blib/arch;C:\STRAWB~1\cpan\build\URI-Nested-0.10-0/blib/lib;C:\STRAWB~1\cpan\build\AnyEvent-SlackRTM-1.0-0/blib/arch;C:\STRAWB~1\cpan\build\AnyEvent-SlackRTM-1.0-0/blib/lib;C:\STRAWB~1\cpan\build\AnyEvent-Mattermost-0.002-0/blib/arch;C:\STRAWB~1\cpan\build\AnyEvent-Mattermost-0.002-0/blib/lib;C:\STRAWB~1\cpan\build\AnyEvent-WebSocket-Client-0.46-0/blib/arch;C:\STRAWB~1\cpan\build\AnyEvent-WebSocket-Client-0.46-0/blib/lib;C:\STRAWB~1\cpan\build\Protocol-WebSocket-0.24-0/blib/arch;C:\STRAWB~1\cpan\build\Protocol-WebSocket-0.24-0/blib/lib;C:\STRAWB~1\cpan\build\AnyEvent-Connector-0.03-0/blib/arch;C:\STRAWB~1\cpan\build\AnyEvent-Connector-0.03-0/blib/lib;C:\STRAWB~1\cpan\build\Module-Build-Prereqs-FromCPANfile-0.02-0/blib/arch;C:\STRAWB~1\cpan\build\Module-Build-Prereqs-FromCPANfile-0.02-0/blib/lib;C:\STRAWB~1\cpan\build\AnyEvent-IRC-0.97-0/blib/arch;C:\STRAWB~1\cpan\build\AnyEvent-IRC-0.97-0/blib/lib;C:\STRAWB~1\cpan\build\Acme-Zalgo-0.002-0/blib/arch;C:\STRAWB~1\cpan\build\Acme-Zalgo-0.002-0/blib/lib
    PERL5OPT = 
    PERL5_CPANPLUS_IS_RUNNING = 1032
    PERL5_CPAN_IS_RUNNING = 1032
    PERL5_CPAN_IS_RUNNING_IN_RECURSION = 2024,1032
    PERL_CR_SMOKER_CURRENT = App-RoboBot-4.004
    PERL_CR_SMOKER_RUNONCE = 1
    PERL_EXTUTILS_AUTOINSTALL = --defaultdeps
    PERL_HASH_SEED = 0x11111111
    PERL_MM_USE_DEFAULT = 1
    PERL_USE_UNSAFE_INC = 1
    PROCESSOR_IDENTIFIER = x86 Family 16 Model 5 Stepping 3, AuthenticAMD
    TEMP = C:\DOCUME~1\a\LOCALS~1\Temp

Perl special variables (and OS-specific diagnostics, for MSWin32):

    $^X = C:\Strawberry2711\perl\bin\perl.exe
    $UID/$EUID = 0 / 0
    $GID = 0
    $EGID = 0
    Win32::GetOSName = WinXP/.Net
    Win32::GetOSVersion = Service Pack 3, 5, 1, 2600, 2, 3, 0, 256, 1
    Win32::FsType = NTFS
    Win32::IsAdminUser = 1

Perl module toolchain versions installed:

    Module              Have    
    ------------------- --------
    CPAN                2.20    
    CPAN::Meta          2.150010
    Cwd                 3.74    
    ExtUtils::CBuilder  0.280230
    ExtUtils::Command   7.34    
    ExtUtils::Install   2.14    
    ExtUtils::MakeMaker 7.34    
    ExtUtils::Manifest  1.70    
    ExtUtils::ParseXS   3.39    
    File::Spec          3.74    
    JSON                2.97001 
    JSON::PP            2.97001 
    Module::Build       0.4224  
    Module::Signature   0.81    
    Parse::CPAN::Meta   2.150010
    Test::Harness       3.42    
    Test::More          1.302136
    YAML                1.24    
    YAML::Syck          1.30    
    version             0.9924  


--

Summary of my perl5 (revision 5 version 27 subversion 11) configuration:
   
  Platform:
    osname=MSWin32
    osvers=5.1.2600
    archname=MSWin32-x86-multi-thread-64int
    uname='Win32 strawberry-perl 5.27.11.1-beta1 #1 Sat Apr 21 21:04:44 2018 i386'
    config_args='undef'
    hint=recommended
    useposix=true
    d_sigaction=undef
    useithreads=define
    usemultiplicity=define
    use64bitint=define
    use64bitall=undef
    uselongdouble=undef
    usemymalloc=n
    default_inc_excludes_dot=define
    bincompat5005=undef
  Compiler:
    cc='gcc'
    ccflags =' -s -O2 -DWIN32 -D__USE_MINGW_ANSI_STDIO -DPERL_TEXTMODE_SCRIPTS -DPERL_IMPLICIT_CONTEXT -DPERL_IMPLICIT_SYS -DUSE_PERLIO -fwrapv -fno-strict-aliasing -mms-bitfields'
    optimize='-s -O2'
    cppflags='-DWIN32'
    ccversion=''
    gccversion='7.1.0'
    gccosandvers=''
    intsize=4
    longsize=4
    ptrsize=4
    doublesize=8
    byteorder=12345678
    doublekind=3
    d_longlong=define
    longlongsize=8
    d_longdbl=define
    longdblsize=12
    longdblkind=3
    ivtype='long long'
    ivsize=8
    nvtype='double'
    nvsize=8
    Off_t='long long'
    lseeksize=8
    alignbytes=8
    prototype=define
  Linker and Libraries:
    ld='g++'
    ldflags ='-s -L"C:\STRAWB~1\perl\lib\CORE" -L"C:\STRAWB~1\c\lib"'
    libpth=C:\STRAWB~1\c\lib C:\STRAWB~1\c\i686-w64-mingw32\lib C:\STRAWB~1\c\lib\gcc\i686-w64-mingw32\7.1.0
    libs= -lmoldname -lkernel32 -luser32 -lgdi32 -lwinspool -lcomdlg32 -ladvapi32 -lshell32 -lole32 -loleaut32 -lnetapi32 -luuid -lws2_32 -lmpr -lwinmm -lversion -lodbc32 -lodbccp32 -lcomctl32
    perllibs= -lmoldname -lkernel32 -luser32 -lgdi32 -lwinspool -lcomdlg32 -ladvapi32 -lshell32 -lole32 -loleaut32 -lnetapi32 -luuid -lws2_32 -lmpr -lwinmm -lversion -lodbc32 -lodbccp32 -lcomctl32
    libc=
    so=dll
    useshrplib=true
    libperl=libperl527.a
    gnulibc_version=''
  Dynamic Linking:
    dlsrc=dl_win32.xs
    dlext=xs.dll
    d_dlsymun=undef
    ccdlflags=' '
    cccdlflags=' '
    lddlflags='-mdll -s -L"C:\STRAWB~1\perl\lib\CORE" -L"C:\STRAWB~1\c\lib"'


Characteristics of this binary (from libperl): 
  Compile-time options:
    HAS_TIMES
    HAVE_INTERP_INTERN
    MULTIPLICITY
    PERLIO_LAYERS
    PERL_COPY_ON_WRITE
    PERL_DONT_CREATE_GVSV
    PERL_IMPLICIT_CONTEXT
    PERL_IMPLICIT_SYS
    PERL_MALLOC_WRAP
    PERL_OP_PARENT
    PERL_PRESERVE_IVUV
    USE_64_BIT_INT
    USE_ITHREADS
    USE_LARGE_FILES
    USE_LOCALE
    USE_LOCALE_COLLATE
    USE_LOCALE_CTYPE
    USE_LOCALE_NUMERIC
    USE_LOCALE_TIME
    USE_PERLIO
    USE_PERL_ATOF
  Built under MSWin32
  Compiled at Apr 21 2018 21:15:44
  %ENV:
    PERL5LIB="C:\STRAWB~1\cpan\build\Term-ExtendedColor-0.224-0/blib/arch;C:\STRAWB~1\cpan\build\Term-ExtendedColor-0.224-0/blib/lib;C:\STRAWB~1\cpan\build\DBIx-DataStore-0.097-0/blib/arch;C:\STRAWB~1\cpan\build\DBIx-DataStore-0.097-0/blib/lib;C:\STRAWB~1\cpan\build\Config-Any-Merge-0.08-0/blib/arch;C:\STRAWB~1\cpan\build\Config-Any-Merge-0.08-0/blib/lib;C:\STRAWB~1\cpan\build\App-Sqitch-0.9997-0/blib/arch;C:\STRAWB~1\cpan\build\App-Sqitch-0.9997-0/blib/lib;C:\STRAWB~1\cpan\build\URI-db-0.18-0/blib/arch;C:\STRAWB~1\cpan\build\URI-db-0.18-0/blib/lib;C:\STRAWB~1\cpan\build\URI-Nested-0.10-0/blib/arch;C:\STRAWB~1\cpan\build\URI-Nested-0.10-0/blib/lib;C:\STRAWB~1\cpan\build\AnyEvent-SlackRTM-1.0-0/blib/arch;C:\STRAWB~1\cpan\build\AnyEvent-SlackRTM-1.0-0/blib/lib;C:\STRAWB~1\cpan\build\AnyEvent-Mattermost-0.002-0/blib/arch;C:\STRAWB~1\cpan\build\AnyEvent-Mattermost-0.002-0/blib/lib;C:\STRAWB~1\cpan\build\AnyEvent-WebSocket-Client-0.46-0/blib/arch;C:\STRAWB~1\cpan\build\AnyEvent-WebSocket-Client-0.46-0/blib/lib;C:\STRAWB~1\cpan\build\Protocol-WebSocket-0.24-0/blib/arch;C:\STRAWB~1\cpan\build\Protocol-WebSocket-0.24-0/blib/lib;C:\STRAWB~1\cpan\build\AnyEvent-Connector-0.03-0/blib/arch;C:\STRAWB~1\cpan\build\AnyEvent-Connector-0.03-0/blib/lib;C:\STRAWB~1\cpan\build\Module-Build-Prereqs-FromCPANfile-0.02-0/blib/arch;C:\STRAWB~1\cpan\build\Module-Build-Prereqs-FromCPANfile-0.02-0/blib/lib;C:\STRAWB~1\cpan\build\AnyEvent-IRC-0.97-0/blib/arch;C:\STRAWB~1\cpan\build\AnyEvent-IRC-0.97-0/blib/lib;C:\STRAWB~1\cpan\build\Acme-Zalgo-0.002-0/blib/arch;C:\STRAWB~1\cpan\build\Acme-Zalgo-0.002-0/blib/lib"
    PERL5_CPANPLUS_IS_RUNNING="1032"
    PERL5_CPAN_IS_RUNNING="1032"
    PERL5_CPAN_IS_RUNNING_IN_RECURSION="2024,1032"
    PERL_CR_SMOKER_CURRENT="App-RoboBot-4.004"
    PERL_CR_SMOKER_RUNONCE="1"
    PERL_EXTUTILS_AUTOINSTALL="--defaultdeps"
    PERL_HASH_SEED="0x11111111"
    PERL_MM_USE_DEFAULT="1"
    PERL_USE_UNSAFE_INC="1"
  @INC:
    C:\STRAWB~1\cpan\build\Term-ExtendedColor-0.224-0/blib/arch
    C:\STRAWB~1\cpan\build\Term-ExtendedColor-0.224-0/blib/lib
    C:\STRAWB~1\cpan\build\DBIx-DataStore-0.097-0/blib/arch
    C:\STRAWB~1\cpan\build\DBIx-DataStore-0.097-0/blib/lib
    C:\STRAWB~1\cpan\build\Config-Any-Merge-0.08-0/blib/arch
    C:\STRAWB~1\cpan\build\Config-Any-Merge-0.08-0/blib/lib
    C:\STRAWB~1\cpan\build\App-Sqitch-0.9997-0/blib/arch
    C:\STRAWB~1\cpan\build\App-Sqitch-0.9997-0/blib/lib
    C:\STRAWB~1\cpan\build\URI-db-0.18-0/blib/arch
    C:\STRAWB~1\cpan\build\URI-db-0.18-0/blib/lib
    C:\STRAWB~1\cpan\build\URI-Nested-0.10-0/blib/arch
    C:\STRAWB~1\cpan\build\URI-Nested-0.10-0/blib/lib
    C:\STRAWB~1\cpan\build\AnyEvent-SlackRTM-1.0-0/blib/arch
    C:\STRAWB~1\cpan\build\AnyEvent-SlackRTM-1.0-0/blib/lib
    C:\STRAWB~1\cpan\build\AnyEvent-Mattermost-0.002-0/blib/arch
    C:\STRAWB~1\cpan\build\AnyEvent-Mattermost-0.002-0/blib/lib
    C:\STRAWB~1\cpan\build\AnyEvent-WebSocket-Client-0.46-0/blib/arch
    C:\STRAWB~1\cpan\build\AnyEvent-WebSocket-Client-0.46-0/blib/lib
    C:\STRAWB~1\cpan\build\Protocol-WebSocket-0.24-0/blib/arch
    C:\STRAWB~1\cpan\build\Protocol-WebSocket-0.24-0/blib/lib
    C:\STRAWB~1\cpan\build\AnyEvent-Connector-0.03-0/blib/arch
    C:\STRAWB~1\cpan\build\AnyEvent-Connector-0.03-0/blib/lib
    C:\STRAWB~1\cpan\build\Module-Build-Prereqs-FromCPANfile-0.02-0/blib/arch
    C:\STRAWB~1\cpan\build\Module-Build-Prereqs-FromCPANfile-0.02-0/blib/lib
    C:\STRAWB~1\cpan\build\AnyEvent-IRC-0.97-0/blib/arch
    C:\STRAWB~1\cpan\build\AnyEvent-IRC-0.97-0/blib/lib
    C:\STRAWB~1\cpan\build\Acme-Zalgo-0.002-0/blib/arch
    C:\STRAWB~1\cpan\build\Acme-Zalgo-0.002-0/blib/lib
    C:/Strawberry2711/perl/site/lib/MSWin32-x86-multi-thread-64int
    C:/Strawberry2711/perl/site/lib
    C:/Strawberry2711/perl/vendor/lib
    C:/Strawberry2711/perl/lib
    .