Back
From: metabase:user:314402c4-2aae-11df-837a-5e0a49663a4f
Subject: PASS GDTextUtil-0.86 v5.8.9 FreeBSD
Date: 2013-10-13T07:33:17Z
This distribution has been tested as part of the CPAN Testers
project, supporting the Perl programming language. See
http://wiki.cpantesters.org/ for more information or email
questions to cpan-testers-discuss@perl.org
--
Dear Martien Verbruggen,
This is a computer-generated report for GDTextUtil-0.86
on perl 5.8.9, created by CPAN-Reporter-1.2010.
Thank you for uploading your work to CPAN. Congratulations!
All tests were successful.
Sections of this report:
* Tester comments
* Program output
* Prerequisites
* Environment and other context
------------------------------
TESTER COMMENTS
------------------------------
Additional comments from tester:
none provided
------------------------------
PROGRAM OUTPUT
------------------------------
Output from '/usr/bin/make test':
PERL_DL_NONLAZY=1 /usr/local/bin/perl5.8.9 "-MExtUtils::Command::MM" "-e" "test_harness(0, 'blib/lib', 'blib/arch')" t/*.t
t/align.t .. ok
t/text.t ... ok
t/wrap.t ... ok
All tests successful.
Files=3, Tests=55, 0 wallclock secs ( 0.05 usr 0.00 sys + 0.27 cusr 0.04 csys = 0.37 CPU)
Result: PASS
------------------------------
PREREQUISITES
------------------------------
Prerequisite modules loaded:
requires:
Module Need Have
------ ---- ----
GD 1 2.46
------------------------------
ENVIRONMENT AND OTHER CONTEXT
------------------------------
Environment variables:
DBIC_NO_WARN_BAD_PERL = 1
PATH = /usr/local/bin:/usr/bin:/bin:/usr/local/sbin:/usr/sbin:/sbin:/home/e/eserte/bin/freebsd9.0:/home/e/eserte/bin/sh:/home/e/eserte/bin:/usr/games:/home/e/eserte/devel:/home/e/eserte/src/srezic-misc/scripts
PERL5LIB =
PERL5OPT =
PERL5_CPANPLUS_IS_RUNNING = 71006
PERL5_CPAN_IS_RUNNING = 71006
PERL5_CPAN_IS_RUNNING_IN_RECURSION = 67072,71006
PERLDOC = -MPod::Perldoc::ToTextOverstrike
PERL_BATCH = yes
PERL_CPAN_REPORTER_CONFIG = /var/tmp/cpansmoker-1000/5tEyc7Tdh0_config.ini
PERL_EXTUTILS_AUTOINSTALL = --defaultdeps
PERL_HTML_DISPLAY_CLASS = HTML::Display::Mozilla
SHELL = /usr/local/bin/zsh
TERM = screen
TMPDIR = /var/tmp/cpansmoker-1000
Perl special variables (and OS-specific diagnostics, for MSWin32):
$^X = /usr/local/bin/perl5.8.9
$UID/$EUID = 1000 / 1000
$GID = 1000 1000 0 5 920 1023 1024
$EGID = 1000 1000 0 5 920 1023 1024
Perl module toolchain versions installed:
Module Have
------------------- --------
CPAN 1.9301
CPAN::Meta 2.112150
Cwd 3.29
ExtUtils::CBuilder 0.280205
ExtUtils::Command 1.16
ExtUtils::Install 1.52
ExtUtils::MakeMaker 6.62
ExtUtils::Manifest 1.58
ExtUtils::ParseXS 3.18
File::Spec 3.29
JSON 2.53
JSON::PP 2.27104
Module::Build 0.4003
Module::Signature n/a
Parse::CPAN::Meta 1.4401
Test::Harness 3.25
Test::More 0.98
YAML n/a
YAML::Syck n/a
version 0.88
--
Summary of my perl5 (revision 5 version 8 subversion 9) configuration:
Platform:
osname=freebsd, osvers=9.0-release, archname=amd64-freebsd
uname='freebsd cvrsnica.herceg.de 9.0-release freebsd 9.0-release #0: tue jan 3 07:46:30 utc 2012 root@farrell.cse.buffalo.edu:usrobjusrsrcsysgeneric amd64 '
config_args='-Dprefix=/usr/perl5.8.9 -Dusemymalloc=n -D cc=ccache cc -Dgccansipedantic -de'
hint=recommended, useposix=true, d_sigaction=define
usethreads=undef use5005threads=undef useithreads=undef usemultiplicity=undef
useperlio=define d_sfio=undef uselargefiles=define usesocks=undef
use64bitint=define use64bitall=define uselongdouble=undef
usemymalloc=n, bincompat5005=undef
Compiler:
cc='ccache cc', ccflags ='-DHAS_FPSETMASK -DHAS_FLOATINGPOINT_H -fno-strict-aliasing -pipe -I/usr/local/include',
optimize='-O2 -pipe',
cppflags='-DHAS_FPSETMASK -DHAS_FLOATINGPOINT_H -fno-strict-aliasing -pipe -I/usr/local/include'
ccversion='', gccversion='4.2.1 20070831 patched [FreeBSD]', gccosandvers=''
intsize=4, longsize=8, ptrsize=8, doublesize=8, byteorder=12345678
d_longlong=define, longlongsize=8, d_longdbl=define, longdblsize=16
ivtype='long', ivsize=8, nvtype='double', nvsize=8, Off_t='off_t', lseeksize=8
alignbytes=8, prototype=define
Linker and Libraries:
ld='ccache cc', ldflags ='-Wl,-E -L/usr/local/lib'
libpth=/usr/lib /usr/local/lib
libs=-lgdbm -lm -lcrypt -lutil -lc
perllibs=-lm -lcrypt -lutil -lc
libc=, so=so, useshrplib=false, libperl=libperl.a
gnulibc_version=''
Dynamic Linking:
dlsrc=dl_dlopen.xs, dlext=so, d_dlsymun=undef, ccdlflags=' '
cccdlflags='-DPIC -fPIC', lddlflags='-shared -L/usr/local/lib'
Characteristics of this binary (from libperl):
Compile-time options: PERL_MALLOC_WRAP USE_64_BIT_ALL USE_64_BIT_INT
USE_FAST_STDIO USE_LARGE_FILES USE_PERLIO
Built under freebsd
Compiled at Aug 12 2012 23:40:50
%ENV:
PERL5LIB=""
PERL5OPT=""
PERL5_CPANPLUS_IS_RUNNING="71006"
PERL5_CPAN_IS_RUNNING="71006"
PERL5_CPAN_IS_RUNNING_IN_RECURSION="67072,71006"
PERLDOC="-MPod::Perldoc::ToTextOverstrike"
PERL_BATCH="yes"
PERL_CPAN_REPORTER_CONFIG="/var/tmp/cpansmoker-1000/5tEyc7Tdh0_config.ini"
PERL_EXTUTILS_AUTOINSTALL="--defaultdeps"
PERL_HTML_DISPLAY_CLASS="HTML::Display::Mozilla"
@INC:
/usr/perl5.8.9/lib/5.8.9/amd64-freebsd
/usr/perl5.8.9/lib/5.8.9
/usr/perl5.8.9/lib/site_perl/5.8.9/amd64-freebsd
/usr/perl5.8.9/lib/site_perl/5.8.9
.