Report for HTML-Shakan-2.10

Back
From: metabase:user:30977d10-2aae-11df-837a-5e0a49663a4f
Subject: PASS HTML-Shakan-2.10 v5.25.11 SunOS/Solaris
Date: 2017-05-01T10:05:37Z

This distribution has been tested as part of the CPAN Testers
project, supporting the Perl programming language.  See
http://wiki.cpantesters.org/ for more information or email
questions to cpan-testers-discuss@perl.org


--
Dear Masayuki Matsuki,

This is a computer-generated report for HTML-Shakan-2.10
on perl 5.25.11, created by CPAN-Reporter-1.2018.

Thank you for uploading your work to CPAN.  Congratulations!
All tests were successful.

Sections of this report:

    * Tester comments
    * Program output
    * Prerequisites
    * Environment and other context

------------------------------
TESTER COMMENTS
------------------------------

Additional comments from tester:

this report is from an automated smoke testing program
and was not reviewed by a human for accuracy

------------------------------
PROGRAM OUTPUT
------------------------------

Output from './Build test':

t/00_compile.t ............................. ok
t/010_core/001_render.t .................... ok
# FVL: 0.39
t/010_core/002_validator.t ................. ok
t/010_core/003_widgets.t ................... ok
t/010_core/004_filter.t .................... ok
t/010_core/005_bind_filter.t ............... ok
t/010_core/006_fillin_form.t ............... ok
t/010_core/007_fillin_date.t ............... ok
t/010_core/008_declare.t ................... ok
t/010_core/009_validator_message.t ......... ok
t/010_core/010_submitted.t ................. ok
t/010_core/011_custom_validation_form.t .... ok
t/010_core/012_custom_validation_field.t ... ok
t/010_core/013_render_field.t .............. ok
t/010_core/014_multi_value.t ............... ok
t/020_inflator/001_datetime.t .............. ok
t/020_inflator/002_dt_join.t ............... ok
# FVL: 0.39
t/030_field/001_file.t ..................... ok
# FVL: 0.39
t/030_field/002_image.t .................... ok
t/030_field/003_duplication.t .............. ok
t/040_model/001_datamodel.t ................ skipped: Test requires module 'Data::Model' but it's not found
t/040_model/002_skinny.t ................... skipped: Test requires module 'DBIx::Skinny' but it's not found
t/040_model/003_teng.t ..................... ok
t/999_regression/001_destructive_widget.t .. ok
t/upload_submitted.t ....................... skipped: Test requires module 'Plack::Request' but it's not found
All tests successful.
Files=25, Tests=99, 13 wallclock secs ( 0.15 usr  0.08 sys +  9.58 cusr  1.80 csys = 11.61 CPU)
Result: PASS

------------------------------
PREREQUISITES
------------------------------

Prerequisite modules loaded:

requires:

    Module                       Need     Have    
    ---------------------------- -------- --------
    Email::Valid::Loose          0.05     0.05    
    FormValidator::Lite          0.24     0.39    
    Hash::MultiValue             0        0.16    
    HTML::Escape                 0        1.10    
    List::MoreUtils              0.22     0.419   
    List::Util                   1.32     1.47    
    Mouse                        0.9      v2.4.9  
    parent                       0        0.236   
    perl                         5.008001 5.025011
    Scalar::Util                 0        1.47    

build_requires:

    Module                       Need     Have    
    ---------------------------- -------- --------
    CGI                          0        4.36    
    Test::More                   0.98     1.302083
    Test::Requires               0.06     0.10    

configure_requires:

    Module                       Need     Have    
    ---------------------------- -------- --------
    Module::Build                0        0.4222  
    Module::Build::Tiny          0.035    0.039   

opt_requires:

    Module                       Need     Have    
    ---------------------------- -------- --------
    DateTime                     0        1.42    
    DateTime::Format::HTTP       0        0.42    
    HTML::Scrubber               0        0.15    
    Lingua::JA::Regular::Unicode 0        0.13    

opt_build_requires:

    Module                       Need     Have    
    ---------------------------- -------- --------
  ! DBIx::Skinny                 0        n/a     
  ! DBIx::Skinny::Row            0        n/a     
  ! DBIx::Skinny::Schema         0        n/a     
    Teng                         0        0.28    
    Teng::Row                    0        0       
    Teng::Schema::Declare        0        0       


------------------------------
ENVIRONMENT AND OTHER CONTEXT
------------------------------

Environment variables:

    AUTOMATED_TESTING = 1
    LANG = en_US.UTF-8
    PATH = /usr/gnu/bin:/usr/bin:/usr/sbin:/sbin:/usr/sfw/bin:
    PERL5LIB = /home/stro/cpan/build/5.25.11m/build/Mouse-v2.4.9-0/blib/arch:/home/stro/cpan/build/5.25.11m/build/Mouse-v2.4.9-0/blib/lib
    PERL5OPT = 
    PERL5_CPANPLUS_IS_RUNNING = 956
    PERL5_CPAN_IS_RUNNING = 956
    PERL5_CPAN_IS_RUNNING_IN_RECURSION = 9169,956
    PERL_CR_SMOKER_CURRENT = HTML-Shakan-2.10
    PERL_EXTUTILS_AUTOINSTALL = --defaultdeps
    PERL_MM_USE_DEFAULT = 1
    PERL_USE_UNSAFE_INC = 1
    SHELL = /bin/bash
    TERM = xterm

Perl special variables (and OS-specific diagnostics, for MSWin32):

    $^X = /home/stro/perl/5.25.11m/bin/perl
    $UID/$EUID = 101 / 101
    $GID = 10 10
    $EGID = 10 10

Perl module toolchain versions installed:

    Module              Have      
    ------------------- ----------
    CPAN                2.17      
    CPAN::Meta          2.150010  
    Cwd                 3.67      
    ExtUtils::CBuilder  0.280225  
    ExtUtils::Command   7.24      
    ExtUtils::Install   2.04      
    ExtUtils::MakeMaker 7.24      
    ExtUtils::Manifest  1.70      
    ExtUtils::ParseXS   3.34      
    File::Spec          3.67      
    JSON                2.90      
    JSON::PP            2.27400_02
    Module::Build       0.4222    
    Module::Signature   0.81      
    Parse::CPAN::Meta   2.150010  
    Test::Harness       3.39      
    Test::More          1.302083  
    YAML                1.23      
    YAML::Syck          1.29      
    version             0.9917    


--

Summary of my perl5 (revision 5 version 25 subversion 11) configuration:
   
  Platform:
    osname=solaris
    osvers=2.11
    archname=i86pc-solaris-multi
    uname='sunos vm-openindiana-001 5.11 illumos-2816291 i86pc i386 i86pc '
    config_args='-Dcc=gcc'
    hint=previous
    useposix=true
    d_sigaction=define
    useithreads=undef
    usemultiplicity=define
    use64bitint=undef
    use64bitall=undef
    uselongdouble=undef
    usemymalloc=n
    default_inc_excludes_dot=define
    bincompat5005=undef
  Compiler:
    cc='gcc'
    ccflags ='-fno-strict-aliasing -pipe -I/usr/gnu/include -D_LARGEFILE_SOURCE -D_FILE_OFFSET_BITS=64 -DPERL_USE_SAFE_PUTENV'
    optimize='-O'
    cppflags='-fno-strict-aliasing -pipe -I/usr/gnu/include'
    ccversion=''
    gccversion='3.4.3 (csl-sol210-3_4-20050802)'
    gccosandvers='solaris2.11'
    intsize=4
    longsize=4
    ptrsize=4
    doublesize=8
    byteorder=1234
    doublekind=3
    d_longlong=define
    longlongsize=8
    d_longdbl=define
    longdblsize=12
    longdblkind=3
    ivtype='long'
    ivsize=4
    nvtype='double'
    nvsize=8
    Off_t='off_t'
    lseeksize=8
    alignbytes=4
    prototype=define
  Linker and Libraries:
    ld='gcc'
    ldflags =' -L/usr/gnu/lib '
    libpth=/usr/gcc/3.4/lib /usr/lib /usr/gnu/lib /usr/ccs/lib /usr/gcc/3.4/lib /usr/lib
    libs=-lpthread -lsocket -lnsl -lgdbm -ldb -ldl -lm -lc
    perllibs=-lpthread -lsocket -lnsl -ldl -lm -lc
    libc=/lib/libc.so
    so=so
    useshrplib=true
    libperl=libperl.so
    gnulibc_version=''
  Dynamic Linking:
    dlsrc=dl_dlopen.xs
    dlext=so
    d_dlsymun=undef
    ccdlflags='  -R /home/stro/perl/5.25.11m/lib/5.25.11/i86pc-solaris-multi/CORE'
    cccdlflags='-fPIC'
    lddlflags='-shared -L/usr/gnu/lib'


Characteristics of this binary (from libperl): 
  Compile-time options:
    HAS_TIMES
    MULTIPLICITY
    PERLIO_LAYERS
    PERL_COPY_ON_WRITE
    PERL_DONT_CREATE_GVSV
    PERL_HASH_FUNC_ONE_AT_A_TIME_HARD
    PERL_IMPLICIT_CONTEXT
    PERL_MALLOC_WRAP
    PERL_OP_PARENT
    PERL_PRESERVE_IVUV
    PERL_USE_SAFE_PUTENV
    USE_LARGE_FILES
    USE_LOCALE
    USE_LOCALE_COLLATE
    USE_LOCALE_CTYPE
    USE_LOCALE_NUMERIC
    USE_LOCALE_TIME
    USE_PERLIO
    USE_PERL_ATOF
  Built under solaris
  Compiled at Apr  4 2017 11:41:36
  %ENV:
    PERL5LIB="/home/stro/cpan/build/5.25.11m/build/Mouse-v2.4.9-0/blib/arch:/home/stro/cpan/build/5.25.11m/build/Mouse-v2.4.9-0/blib/lib"
    PERL5OPT=""
    PERL5_CPANPLUS_IS_RUNNING="956"
    PERL5_CPAN_IS_RUNNING="956"
    PERL5_CPAN_IS_RUNNING_IN_RECURSION="9169,956"
    PERL_CR_SMOKER_CURRENT="HTML-Shakan-2.10"
    PERL_EXTUTILS_AUTOINSTALL="--defaultdeps"
    PERL_MM_USE_DEFAULT="1"
    PERL_USE_UNSAFE_INC="1"
  @INC:
    /home/stro/cpan/build/5.25.11m/build/Mouse-v2.4.9-0/blib/arch
    /home/stro/cpan/build/5.25.11m/build/Mouse-v2.4.9-0/blib/lib
    /home/stro/perl/5.25.11m/lib/site_perl/5.25.11/i86pc-solaris-multi
    /home/stro/perl/5.25.11m/lib/site_perl/5.25.11
    /home/stro/perl/5.25.11m/lib/5.25.11/i86pc-solaris-multi
    /home/stro/perl/5.25.11m/lib/5.25.11
    .