Report for Handel-1.00014

Back
From: metabase:user:30ae4450-2aae-11df-837a-5e0a49663a4f
Subject: PASS Handel-1.00014 v5.16.2 
Date: 2012-12-13T13:15:21Z

This distribution has been tested as part of the CPAN Testers
project, supporting the Perl programming language.  See
http://wiki.cpantesters.org/ for more information or email
questions to cpan-testers-discuss@perl.org


--
Dear Christopher H. Laco,

This is a computer-generated report for Handel-1.00014
on perl 5.16.2, created by CPAN-Reporter-1.2007.

Thank you for uploading your work to CPAN.  Congratulations!
All tests were successful.

Sections of this report:

    * Tester comments
    * Program output
    * Prerequisites
    * Environment and other context

------------------------------
TESTER COMMENTS
------------------------------

Additional comments from tester:

none provided

------------------------------
PROGRAM OUTPUT
------------------------------

Output from 'C:\strawberry5162\c\bin\dmake.exe test':

C:\strawberry5162\perl\bin\perl.exe "-MExtUtils::Command::MM" "-e" "test_harness(0, 'inc', 'blib\lib', 'blib\arch')" t/*.t
t/base_cart_class.t ....................... ok
t/base_create_accessors.t ................. ok
t/base_create_instance.t .................. ok
t/base_get_column.t ....................... ok
t/base_item_class.t ....................... ok
t/base_set_column.t ....................... ok
t/base_storage.t .......................... ok
t/base_storage_class.t .................... ok
t/base_update.t ........................... ok
t/basic.t ................................. ok
t/cart_add.t .............................. ok
t/cart_clear.t ............................ ok
t/cart_create.t ........................... ok
t/cart_delete.t ........................... ok
t/cart_destroy.t .......................... ok
t/cart_item_create.t ...................... ok
t/cart_items.t ............................ ok
t/cart_iterator.t ......................... ok
t/cart_restore.t .......................... ok
t/cart_restore_append.t ................... ok
t/cart_restore_append_filter.t ............ ok
t/cart_restore_merge.t .................... ok
t/cart_restore_merge_filter.t ............. ok
t/cart_restore_replace.t .................. ok
t/cart_restore_replace_filter.t ........... ok
t/cart_save.t ............................. ok
t/cart_search.t ........................... ok
t/catalyst_helpers_controller_cart.t ...... skipped: Test::File::Contents 0.05 not installed
t/catalyst_helpers_controller_checkout.t .. skipped: Test::File::Contents 0.02 not installed
t/catalyst_helpers_controller_order.t ..... skipped: Test::File::Contents 0.02 not installed
t/catalyst_helpers_handel.t ............... skipped: Test::File::Contents 0.02 not installed
t/catalyst_helpers_model_cart.t ........... skipped: Test::File::Contents 0.02 not installed
t/catalyst_helpers_model_order.t .......... skipped: Test::File::Contents 0.02 not installed
t/catalyst_helpers_scaffold.t ............. skipped: Test::File::Contents 0.02 not installed
t/catalyst_model_cart.t ................... ok
t/catalyst_model_order.t .................. ok
t/checkout_cart.t ......................... ok
t/checkout_messages.t ..................... ok
t/checkout_order.t ........................ ok
add_phase is deprecated and will be removed in a future release at t/checkout_phases.t line 21.
add_phase is deprecated and will be removed in a future release at t/checkout_phases.t line 77.
add_phase is deprecated and will be removed in a future release at t/checkout_phases.t line 93.
add_phase is deprecated and will be removed in a future release at t/checkout_phases.t line 110.
add_phase is deprecated and will be removed in a future release at t/checkout_phases.t line 77.
add_phase is deprecated and will be removed in a future release at t/checkout_phases.t line 93.
add_phase is deprecated and will be removed in a future release at t/checkout_phases.t line 110.
add_phase is deprecated and will be removed in a future release at t/checkout_phases.t line 77.
add_phase is deprecated and will be removed in a future release at t/checkout_phases.t line 93.
add_phase is deprecated and will be removed in a future release at t/checkout_phases.t line 110.
t/checkout_phases.t ....................... ok
add_phase is deprecated and will be removed in a future release at t/checkout_plugins.t line 124.
add_phase is deprecated and will be removed in a future release at t/checkout_plugins.t line 124.
add_phase is deprecated and will be removed in a future release at t/checkout_plugins.t line 124.
t/checkout_plugins.t ...................... ok
Use of uninitialized value in null operation during global destruction.
t/checkout_process.t ...................... ok
t/checkout_stash.t ........................ ok
t/compat.t ................................ ok
t/compat_cart_item_new.t .................. ok
t/compat_cart_items.t ..................... ok
t/compat_cart_load.t ...................... ok
t/compat_cart_new.t ....................... ok
t/compat_currency.t ....................... ok
t/compat_order_item_new.t ................. ok
t/compat_order_items.t .................... ok
t/compat_order_load.t ..................... ok
t/compat_order_new.t ...................... ok
t/config.t ................................ ok
t/config_modperl1.t ....................... ok
t/config_modperl2.t ....................... ok
t/constants.t ............................. ok
t/constraints_cart_name.t ................. ok
t/constraints_cart_type.t ................. ok
add_phase is deprecated and will be removed in a future release at t/constraints_checkout_phase.t line 29.
t/constraints_checkout_phase.t ............ ok
t/constraints_currency_code.t ............. ok
t/constraints_order_type.t ................ ok
t/constraints_price.t ..................... ok
t/constraints_quantity.t .................. ok
t/constraints_uuid.t ...................... ok
t/currency.t .............................. ok
t/exceptions.t ............................ ok
t/exceptions_axkit.t ...................... ok
t/iterator.t .............................. ok
t/iterator_dbic.t ......................... ok
t/iterator_list.t ......................... ok
t/iterator_results.t ...................... ok
t/l10n.t .................................. ok
t/l10n_lexicon_synced.t ................... ok
t/manifest.t .............................. skipped: set TEST_AUTHOR to enable this test
t/module_starter.t ........................ skipped: Test::File::Contents 0.02 not installed
t/order_add.t ............................. ok
t/order_clear.t ........................... ok
t/order_create.t .......................... ok
t/order_delete.t .......................... ok
t/order_destroy.t ......................... ok
t/order_item_create.t ..................... ok
t/order_items.t ........................... ok
t/order_reconcile.t ....................... ok
t/order_save.t ............................ ok
t/order_search.t .......................... ok
t/pod_coverage.t .......................... skipped: set TEST_AUTHOR to enable this test
t/pod_spelling.t .......................... skipped: set TEST_AUTHOR to enable this test
t/pod_syntax.t ............................ skipped: set TEST_AUTHOR to enable this test
t/schema.t ................................ ok
t/storage_add_columns.t ................... ok
t/storage_add_constraint.t ................ ok
t/storage_check_constraints.t ............. ok
t/storage_clone.t ......................... ok
t/storage_column_accessors.t .............. ok
t/storage_columns.t ....................... ok
t/storage_constraints.t ................... ok
t/storage_copyable_item_columns.t ......... ok
t/storage_currency_class.t ................ ok
t/storage_currency_columns.t .............. ok
t/storage_dbic_add_columns.t .............. ok
t/storage_dbic_add_constraint.t ........... ok
t/storage_dbic_add_item.t ................. ok
t/storage_dbic_clone.t .................... ok
t/storage_dbic_column_accessors.t ......... ok
t/storage_dbic_columns.t .................. ok
t/storage_dbic_connection_info.t .......... ok
t/storage_dbic_constraints.t .............. ok
t/storage_dbic_copyable_item_columns.t .... ok
t/storage_dbic_count_items.t .............. ok
t/storage_dbic_create.t ................... ok
t/storage_dbic_currency_code.t ............ ok
t/storage_dbic_currency_columns.t ......... ok
t/storage_dbic_currency_format.t .......... ok
t/storage_dbic_default_values.t ........... ok
t/storage_dbic_delete.t ................... ok
t/storage_dbic_delete_items.t ............. ok
t/storage_dbic_has_column.t ............... ok
t/storage_dbic_primary_columns.t .......... ok
t/storage_dbic_process_error.t ............ ok
t/storage_dbic_remove_columns.t ........... ok
t/storage_dbic_remove_constraint.t ........ ok
t/storage_dbic_remove_constraints.t ....... ok
t/storage_dbic_schema_class.t ............. ok
t/storage_dbic_schema_instance.t .......... ok
t/storage_dbic_search.t ................... ok
t/storage_dbic_search_items.t ............. ok
t/storage_dbic_setup.t .................... ok
t/storage_dbic_validation.t ............... ok
t/storage_default_values.t ................ ok
t/storage_has_column.t .................... ok
t/storage_iterator_class.t ................ ok
t/storage_new.t ........................... ok
t/storage_primary_columns.t ............... ok
t/storage_remove_columns.t ................ ok
t/storage_remove_constraint.t ............. ok
t/storage_remove_constraints.t ............ ok
t/storage_set_default_values.t ............ ok
t/storage_setup.t ......................... ok
t/storage_validate_data.t ................. ok
t/storage_validation.t .................... ok
t/strict.t ................................ skipped: Test::Strict not installed
t/style_critic_core.t ..................... skipped: set TEST_AUTHOR to enable this test
t/style_no_tabs.t ......................... skipped: set TEST_AUTHOR to enable this test
t/subclassing.t ........................... ok
t/tt2_cart.t .............................. ok
t/tt2_checkout.t .......................... ok
t/tt2_constants.t ......................... ok
t/tt2_order.t ............................. ok
t/warnings.t .............................. skipped: Test::Strict 0.05 not installed
t/xsp_cart.t .............................. skipped: set TEST_HTTP to enable this test
t/xsp_checkout.t .......................... skipped: set TEST_HTTP to enable this test
t/xsp_order.t ............................. skipped: set TEST_HTTP to enable this test
All tests successful.
Files=153, Tests=12579, 230 wallclock secs ( 0.52 usr +  2.28 sys =  2.80 CPU)
Result: PASS

------------------------------
PREREQUISITES
------------------------------

Prerequisite modules loaded:

requires:

    Module                                   Need     Have    
    ---------------------------------------- -------- --------
    Carp                                     0        1.26    
    Catalyst::Devel                          1.28     1.37    
    Catalyst::Plugin::Session                0.3      0.36    
    Catalyst::Plugin::Session::State::Cookie 0.17     0.17    
    Catalyst::Plugin::Session::Store::File   0.18     0.18    
    Catalyst::Runtime                        5.80025  5.90019 
    Catalyst::View::TT                       0.34     0.39    
    Class::Accessor::Grouped                 0.10006  0.10009 
    Class::Inspector                         1.24     1.28    
    Class::ISA                               0.36     0.36    
    Clone                                    0.31     0.31    
    Data::Currency                           0.04002  0.04002 
    DateTime                                 0.61     0.77    
    DateTime::Format::MySQL                  0.04     0.04    
    DBD::SQLite                              1.29     1.37    
    DBIx::Class                              0.08123  0.08204 
    DBIx::Class::UUIDColumns                 0.02005  0.02006 
    DBIx::Class::Validation                  0.02005  0.02005 
    Error                                    0.17016  0.17019 
    File::Path                               2.08     2.08_01 
    File::Spec::Functions                    3.3      3.39_02 
    FileHandle                               2.01     2.02    
    Finance::Currency::Convert::WebserviceX  0.07001  0.07001 
    FormValidator::Simple                    0.28     0.29    
    Getopt::Long                             2.38     2.38    
    HTML::FillInForm                         2.00     2.1     
    Locale::Currency                         2.07     3.23    
    Locale::Currency::Format                 1.28     1.30    
    Locale::Maketext                         1.13     1.22    
    Module::Pluggable                        3.9      4.3     
    Module::Starter                          1.54     1.60    
    NEXT                                     0.64     0.65    
    perl                                     5.008001 5.016002
    Pod::Usage                               1.36     1.51    
    Scalar::Util                             1.22     1.25    
    SQL::Translator                          0.11006  0.11016 
    Test::More                               0.94     0.98    
    Tie::Hash                                1.03     1.04    
    YAML                                     0.71     0.84    

build_requires:

    Module                                   Need     Have    
    ---------------------------------------- -------- --------
    ExtUtils::MakeMaker                      6.6302   6.63_02 
    Test::More                               0.94     0.98    

configure_requires:

    Module                                   Need     Have    
    ---------------------------------------- -------- --------
    ExtUtils::MakeMaker                      6.62     6.63_02 


------------------------------
ENVIRONMENT AND OTHER CONTEXT
------------------------------

Environment variables:

    COMSPEC = C:\WINDOWS\system32\cmd.exe
    NUMBER_OF_PROCESSORS = 1
    PATH = C:\Program Files\Far Manager\;C:\P\ImageMagick-6.8.0-Q8;C:\WINDOWS\system32;C:\WINDOWS;C:\WINDOWS\System32\Wbem;C:\strawberry5162\c\bin;C:\strawberry5162\perl\site\bin;C:\strawberry5162\perl\bin
    PERL5LIB = 
    PERL5OPT = 
    PERL5_CPANPLUS_IS_RUNNING = 1192
    PERL5_CPAN_IS_RUNNING = 1192
    PROCESSOR_IDENTIFIER = x86 Family 16 Model 5 Stepping 3, AuthenticAMD
    TEMP = C:\DOCUME~1\c\LOCALS~1\Temp
    TERM = dumb

Perl special variables (and OS-specific diagnostics, for MSWin32):

    $^X = C:\strawberry5162\perl\bin\perl.exe
    $UID/$EUID = 0 / 0
    $GID = 0
    $EGID = 0
    Win32::GetOSName = WinXP/.Net
    Win32::GetOSVersion = Service Pack 3, 5, 1, 2600, 2, 3, 0, 256, 1
    Win32::FsType = NTFS
    Win32::IsAdminUser = 1

Perl module toolchain versions installed:

    Module              Have    
    ------------------- --------
    CPAN                1.9800  
    CPAN::Meta          2.120921
    Cwd                 3.39_02 
    ExtUtils::CBuilder  0.280206
    ExtUtils::Command   1.17    
    ExtUtils::Install   1.58    
    ExtUtils::MakeMaker 6.63_02 
    ExtUtils::Manifest  1.61    
    ExtUtils::ParseXS   3.16    
    File::Spec          3.39_02 
    JSON                2.53    
    JSON::PP            2.27200 
    Module::Build       0.4003  
    Module::Signature   0.68    
    Parse::CPAN::Meta   1.4404  
    Test::Harness       3.25    
    Test::More          0.98    
    YAML                0.84    
    YAML::Syck          1.22    
    version             0.9901  


--

Summary of my perl5 (revision 5 version 16 subversion 2) configuration:
   
  Platform:
    osname=MSWin32, osvers=4.0, archname=MSWin32-x86-multi-thread
    uname='Win32 strawberry-perl 5.16.2.1 #1 Fri Nov  2 00:33:54 2012 i386'
    config_args='undef'
    hint=recommended, useposix=true, d_sigaction=undef
    useithreads=define, usemultiplicity=define
    useperlio=define, d_sfio=undef, uselargefiles=define, usesocks=undef
    use64bitint=undef, use64bitall=undef, uselongdouble=undef
    usemymalloc=n, bincompat5005=undef
  Compiler:
    cc='gcc', ccflags =' -s -O2 -DWIN32  -DPERL_TEXTMODE_SCRIPTS -DPERL_IMPLICIT_CONTEXT -DPERL_IMPLICIT_SYS -fno-strict-aliasing -mms-bitfields',
    optimize='-s -O2',
    cppflags='-DWIN32'
    ccversion='', gccversion='4.6.3', gccosandvers=''
    intsize=4, longsize=4, ptrsize=4, doublesize=8, byteorder=1234
    d_longlong=undef, longlongsize=8, d_longdbl=define, longdblsize=12
    ivtype='long', ivsize=4, nvtype='double', nvsize=8, Off_t='long long', lseeksize=8
    alignbytes=8, prototype=define
  Linker and Libraries:
    ld='g++', ldflags ='-s -L"C:\strawberry5162\perl\lib\CORE" -L"C:\strawberry5162\c\lib"'
    libpth=C:\strawberry5162\c\lib C:\strawberry5162\c\i686-w64-mingw32\lib
    libs=-lmoldname -lkernel32 -luser32 -lgdi32 -lwinspool -lcomdlg32 -ladvapi32 -lshell32 -lole32 -loleaut32 -lnetapi32 -luuid -lws2_32 -lmpr -lwinmm -lversion -lodbc32 -lodbccp32 -lcomctl32
    perllibs=-lmoldname -lkernel32 -luser32 -lgdi32 -lwinspool -lcomdlg32 -ladvapi32 -lshell32 -lole32 -loleaut32 -lnetapi32 -luuid -lws2_32 -lmpr -lwinmm -lversion -lodbc32 -lodbccp32 -lcomctl32
    libc=, so=dll, useshrplib=true, libperl=libperl516.a
    gnulibc_version=''
  Dynamic Linking:
    dlsrc=dl_win32.xs, dlext=dll, d_dlsymun=undef, ccdlflags=' '
    cccdlflags=' ', lddlflags='-mdll -s -L"C:\strawberry5162\perl\lib\CORE" -L"C:\strawberry5162\c\lib"'


Characteristics of this binary (from libperl): 
  Compile-time options: HAS_TIMES HAVE_INTERP_INTERN MULTIPLICITY
                        PERLIO_LAYERS PERL_DONT_CREATE_GVSV
                        PERL_IMPLICIT_CONTEXT PERL_IMPLICIT_SYS
                        PERL_MALLOC_WRAP PERL_PRESERVE_IVUV PL_OP_SLAB_ALLOC
                        USE_ITHREADS USE_LARGE_FILES USE_LOCALE
                        USE_LOCALE_COLLATE USE_LOCALE_CTYPE
                        USE_LOCALE_NUMERIC USE_PERLIO USE_PERL_ATOF
  Built under MSWin32
  Compiled at Nov  2 2012 00:44:17
  %ENV:
    PERL5_CPANPLUS_IS_RUNNING="1192"
    PERL5_CPAN_IS_RUNNING="1192"
  @INC:
    C:/strawberry5162/perl/site/lib
    C:/strawberry5162/perl/vendor/lib
    C:/strawberry5162/perl/lib
    .