App-SpreadsheetUtils v0.003 Perl 5 v5.22.2 amd64-freebsd-thread-multi

Status
Pass
From
Slaven Rezić
Dist
App-SpreadsheetUtils v0.003
Platform
Perl 5 v5.22.2 amd64-freebsd-thread-multi
Date
2023-01-31T15:12:48
ID
b8f6b5c2-a179-11ed-b107-840f6e8775ea
This distribution has been tested as part of the CPAN Testers
project, supporting the Perl programming language.  See
http://wiki.cpantesters.org/ for more information or email
questions to cpan-testers-discuss@perl.org


--
Dear perlancar,

This is a computer-generated report for App-SpreadsheetUtils-0.003
on perl 5.22.2, created by CPAN-Reporter-1.2017.

Thank you for uploading your work to CPAN.  Congratulations!
All tests were successful.

Sections of this report:

    * Tester comments
    * Program output
    * Prerequisites
    * Environment and other context

------------------------------
TESTER COMMENTS
------------------------------

Additional comments from tester:

none provided

------------------------------
PROGRAM OUTPUT
------------------------------

Output from '/usr/bin/make test':

PERL_DL_NONLAZY=1 "/usr/perl5.22.2t/bin/perl" "-MExtUtils::Command::MM" "-MTest::Harness" "-e" "undef *Test::Harness::Switches; test_harness(0, 'blib/lib', 'blib/arch')" t/*.t
t/00-compile.t ........... ok
t/author-critic.t ........ skipped: these tests are for testing by the author
t/author-pod-coverage.t .. skipped: these tests are for testing by the author
t/author-pod-syntax.t .... skipped: these tests are for testing by the author
t/release-rinci.t ........ skipped: these tests are for release candidate testing
All tests successful.
Files=5, Tests=5,  1 wallclock secs ( 0.02 usr  0.02 sys +  0.09 cusr  0.06 csys =  0.19 CPU)
Result: PASS

------------------------------
PREREQUISITES
------------------------------

Prerequisite modules loaded:

requires:

    Module                Need     Have    
    --------------------- -------- --------
  ! Complete::Util        0.616    0.612   
    Exporter              5.57     5.72    
    File::Temp            0.2307   0.2311  
    Log::ger              0.038    0.040   
    Perinci::CmdLine::Any 0        0.13    
    perl                  5.010001 5.022002
    Spreadsheet::Read     0        0.69    
    strict                0        1.09    
    Text::CSV_XS          0        1.23    
    warnings              0        1.34    

build_requires:

    Module                Need     Have    
    --------------------- -------- --------
    ExtUtils::MakeMaker   0        7.58    
    File::Spec            0        3.62    
    IO::Handle            0        1.35    
    IPC::Open3            0        1.18    
    Test::More            0        1.302183

configure_requires:

    Module                Need     Have    
    --------------------- -------- --------
    ExtUtils::MakeMaker   0        7.58    


------------------------------
ENVIRONMENT AND OTHER CONTEXT
------------------------------

Environment variables:

    LC_ALL = de_DE.ISO8859-1
    PATH = /usr/local/bin:/usr/bin:/bin:/usr/local/sbin:/usr/sbin:/sbin:/home/cpansand/bin/freebsd10.3:/home/cpansand/bin/sh:/home/cpansand/bin:/usr/games:/home/cpansand/devel:/home/eserte/src/srezic-misc/scripts
    PERL5LIB = /home/cpansand/.cpan/build/2023013114/Complete-Util-0.612-7Uz4Z2/blib/arch:/home/cpansand/.cpan/build/2023013114/Complete-Util-0.612-7Uz4Z2/blib/lib:/home/cpansand/.cpan/build/2023013114/Scalar-List-Utils-1.63-qR9te8/blib/arch:/home/cpansand/.cpan/build/2023013114/Scalar-List-Utils-1.63-qR9te8/blib/lib:/home/cpansand/.cpan/build/2023013114/File-Temp-0.2311-PSbAkk/blib/arch:/home/cpansand/.cpan/build/2023013114/File-Temp-0.2311-PSbAkk/blib/lib:/home/cpansand/.cpan/build/2023013114/Log-ger-0.040-KVqzJ3/blib/arch:/home/cpansand/.cpan/build/2023013114/Log-ger-0.040-KVqzJ3/blib/lib
    PERL5OPT = 
    PERL5_CPANPLUS_IS_RUNNING = 19133
    PERL5_CPAN_IS_RUNNING = 19133
    PERL5_CPAN_IS_RUNNING_IN_RECURSION = 96694,19133
    PERLDOC = -MPod::Perldoc::ToTextOverstrike
    PERL_BATCH = yes
    PERL_CANARY_STABILITY_NOPROMPT = 1
    PERL_CPAN_REPORTER_CONFIG = /var/tmp/cpansmoker-1023/2023013110/cpanreporter_000_config.ini
    PERL_EXTUTILS_AUTOINSTALL = --defaultdeps
    SHELL = /usr/local/bin/zsh
    TERM = screen
    TMPDIR = /var/tmp/cpansmoker-1023/2023013110

Perl special variables (and OS-specific diagnostics, for MSWin32):

    $^X = /usr/perl5.22.2t/bin/perl
    $UID/$EUID = 1023 / 1023
    $GID = 1023 1023
    $EGID = 1023 1023

Perl module toolchain versions installed:

    Module              Have    
    ------------------- --------
    CPAN                2.11    
    CPAN::Meta          2.150001
    Cwd                 3.62    
    ExtUtils::CBuilder  0.280221
    ExtUtils::Command   7.58    
    ExtUtils::Install   2.06    
    ExtUtils::MakeMaker 7.58    
    ExtUtils::Manifest  1.70    
    ExtUtils::ParseXS   3.35    
    File::Spec          3.62    
    JSON                2.90    
    JSON::PP            2.27300 
    Module::Build       0.4218  
    Module::Signature   0.80    
    Parse::CPAN::Meta   1.4422  
    Test::Harness       3.35    
    Test::More          1.302183
    YAML                1.15    
    YAML::Syck          1.29    
    version             0.9917  


--

Summary of my perl5 (revision 5 version 22 subversion 2) configuration:
   
  Platform:
    osname=freebsd, osvers=10.1-release, archname=amd64-freebsd-thread-multi
    uname='freebsd cvrsnica-freebsd-101.herceg.de 10.1-release freebsd 10.1-release #0 r274401: tue nov 11 21:02:49 utc 2014 root@releng1.nyi.freebsd.org:usrobjusrsrcsysgeneric amd64 '
    config_args='-ds -e -Dprefix=/usr/perl5.22.2t -Dusethreads -Dcf_email=srezic@cpan.org -Doptimize=-O2 -pipe'
    hint=recommended, useposix=true, d_sigaction=define
    useithreads=define, usemultiplicity=define
    use64bitint=define, use64bitall=define, uselongdouble=undef
    usemymalloc=n, bincompat5005=undef
  Compiler:
    cc='cc', ccflags ='-DHAS_FPSETMASK -DHAS_FLOATINGPOINT_H -fno-strict-aliasing -pipe -fstack-protector -I/usr/local/include -D_FORTIFY_SOURCE=2',
    optimize='-O2 -pipe',
    cppflags='-DHAS_FPSETMASK -DHAS_FLOATINGPOINT_H -fno-strict-aliasing -pipe -fstack-protector -I/usr/local/include'
    ccversion='', gccversion='4.2.1 Compatible FreeBSD Clang 3.4.1 (tags/RELEASE_34/dot1-final 208032)', gccosandvers=''
    intsize=4, longsize=8, ptrsize=8, doublesize=8, byteorder=12345678, doublekind=3
    d_longlong=define, longlongsize=8, d_longdbl=define, longdblsize=16, longdblkind=3
    ivtype='long', ivsize=8, nvtype='double', nvsize=8, Off_t='off_t', lseeksize=8
    alignbytes=8, prototype=define
  Linker and Libraries:
    ld='cc', ldflags ='-pthread -Wl,-E  -fstack-protector -L/usr/local/lib'
    libpth=/usr/lib /usr/local/lib /usr/include/clang/3.4.1 /usr/lib
    libs=-lpthread -lgdbm -lm -lcrypt -lutil
    perllibs=-lpthread -lm -lcrypt -lutil
    libc=, so=so, useshrplib=false, libperl=libperl.a
    gnulibc_version=''
  Dynamic Linking:
    dlsrc=dl_dlopen.xs, dlext=so, d_dlsymun=undef, ccdlflags=' '
    cccdlflags='-DPIC -fPIC', lddlflags='-shared  -L/usr/local/lib -fstack-protector'


Characteristics of this binary (from libperl): 
  Compile-time options: HAS_TIMES MULTIPLICITY PERLIO_LAYERS
                        PERL_DONT_CREATE_GVSV
                        PERL_HASH_FUNC_ONE_AT_A_TIME_HARD
                        PERL_IMPLICIT_CONTEXT PERL_MALLOC_WRAP
                        PERL_NEW_COPY_ON_WRITE PERL_PRESERVE_IVUV
                        USE_64_BIT_ALL USE_64_BIT_INT USE_ITHREADS
                        USE_LARGE_FILES USE_LOCALE USE_LOCALE_COLLATE
                        USE_LOCALE_CTYPE USE_LOCALE_NUMERIC USE_LOCALE_TIME
                        USE_PERLIO USE_PERL_ATOF USE_REENTRANT_API
  Built under freebsd
  Compiled at Jun 18 2016 12:32:50
  %ENV:
    PERL5LIB="/home/cpansand/.cpan/build/2023013114/Complete-Util-0.612-7Uz4Z2/blib/arch:/home/cpansand/.cpan/build/2023013114/Complete-Util-0.612-7Uz4Z2/blib/lib:/home/cpansand/.cpan/build/2023013114/Scalar-List-Utils-1.63-qR9te8/blib/arch:/home/cpansand/.cpan/build/2023013114/Scalar-List-Utils-1.63-qR9te8/blib/lib:/home/cpansand/.cpan/build/2023013114/File-Temp-0.2311-PSbAkk/blib/arch:/home/cpansand/.cpan/build/2023013114/File-Temp-0.2311-PSbAkk/blib/lib:/home/cpansand/.cpan/build/2023013114/Log-ger-0.040-KVqzJ3/blib/arch:/home/cpansand/.cpan/build/2023013114/Log-ger-0.040-KVqzJ3/blib/lib"
    PERL5OPT=""
    PERL5_CPANPLUS_IS_RUNNING="19133"
    PERL5_CPAN_IS_RUNNING="19133"
    PERL5_CPAN_IS_RUNNING_IN_RECURSION="96694,19133"
    PERLDOC="-MPod::Perldoc::ToTextOverstrike"
    PERL_BATCH="yes"
    PERL_CANARY_STABILITY_NOPROMPT="1"
    PERL_CPAN_REPORTER_CONFIG="/var/tmp/cpansmoker-1023/2023013110/cpanreporter_000_config.ini"
    PERL_EXTUTILS_AUTOINSTALL="--defaultdeps"
  @INC:
    /home/cpansand/.cpan/build/2023013114/Complete-Util-0.612-7Uz4Z2/blib/arch
    /home/cpansand/.cpan/build/2023013114/Complete-Util-0.612-7Uz4Z2/blib/lib
    /home/cpansand/.cpan/build/2023013114/Scalar-List-Utils-1.63-qR9te8/blib/arch
    /home/cpansand/.cpan/build/2023013114/Scalar-List-Utils-1.63-qR9te8/blib/lib
    /home/cpansand/.cpan/build/2023013114/File-Temp-0.2311-PSbAkk/blib/arch
    /home/cpansand/.cpan/build/2023013114/File-Temp-0.2311-PSbAkk/blib/lib
    /home/cpansand/.cpan/build/2023013114/Log-ger-0.040-KVqzJ3/blib/arch
    /home/cpansand/.cpan/build/2023013114/Log-ger-0.040-KVqzJ3/blib/lib
    /usr/perl5.22.2t/lib/site_perl/5.22.2/amd64-freebsd-thread-multi
    /usr/perl5.22.2t/lib/site_perl/5.22.2
    /usr/perl5.22.2t/lib/5.22.2/amd64-freebsd-thread-multi
    /usr/perl5.22.2t/lib/5.22.2
    .