Test-LectroTest v0.5001 Perl 5 v5.29.6 x86_64-linux
        
            - Status
- Pass
- From
- Nigel Horne
- Dist
- 
                Test-LectroTest v0.5001
            
- Platform
- Perl 5 v5.29.6 x86_64-linux
- Date
- 2019-02-14 17:41:13
- ID
- b8e11f56-307f-11e9-bf31-80c71e9d5857
This distribution has been tested as part of the CPAN Testers
project, supporting the Perl programming language.  See
http://wiki.cpantesters.org/ for more information or email
questions to cpan-testers-discuss@perl.org
--
Dear Tom Moertel,
This is a computer-generated report for Test-LectroTest-0.5001
on perl 5.29.6, created by CPAN-Reporter-1.2018.
Thank you for uploading your work to CPAN.  Congratulations!
All tests were successful.
Sections of this report:
    * Tester comments
    * Program output
    * Prerequisites
    * Environment and other context
------------------------------
TESTER COMMENTS
------------------------------
Additional comments from tester:
this report is from an automated smoke testing program
and was not reviewed by a human for accuracy
------------------------------
PROGRAM OUTPUT
------------------------------
Output from '/usr/bin/make test':
PERL_DL_NONLAZY=1 "/home/njh/perl5/perlbrew/perls/perl-5.29.6/bin/perl5.29.6" "-MExtUtils::Command::MM" "-MTest::Harness" "-e" "undef *Test::Harness::Switches; test_harness(0, 'blib/lib', 'blib/arch')" t/*.t
t/docs-eg.t ............... ok
t/compat.t ................ ok
t/harness.t ............... ok
t/pod-coverage.t .......... skipped: Test::Pod::Coverage 1.00 required for testing POD coverage
t/pod.t ................... skipped: Test::Pod 1.00 required for testing POD
t/props.t ................. ok
t/props2.t ................ ok
t/recorder.t .............. ok
t/release-pod-coverage.t .. skipped: these tests are for release candidate testing
t/release-pod-syntax.t .... skipped: these tests are for release candidate testing
t/runner.t ................ ok
t/gens.t .................. ok
All tests successful.
Files=12, Tests=329, 12 wallclock secs ( 0.15 usr  0.02 sys + 14.91 cusr  0.64 csys = 15.72 CPU)
Result: PASS
------------------------------
PREREQUISITES
------------------------------
Prerequisite modules loaded:
requires:
    Module              Need Have    
    ------------------- ---- --------
    Carp                0    1.50    
    Class::Struct       0    0.65    
    constant            0    1.33    
    Data::Dumper        0    2.173   
    Exporter            0    5.73    
    Filter::Util::Call  0    1.59    
    POSIX               0    1.86    
    Scalar::Util        0    1.50    
    strict              0    1.11    
    Test::Builder       0    1.302141
    warnings            0    1.43    
build_requires:
    Module              Need Have    
    ------------------- ---- --------
    File::Temp          0    0.2308  
    Test::More          0    1.302141
configure_requires:
    Module              Need Have    
    ------------------- ---- --------
    ExtUtils::MakeMaker 6.30 7.34    
------------------------------
ENVIRONMENT AND OTHER CONTEXT
------------------------------
Environment variables:
    AUTOMATED_TESTING = 1
    HARNESS_OPTIONS = j2
    LANG = en_GB.UTF-8
    LANGUAGE = en_GB:en
    PATH = /home/njh/perl5/perlbrew/bin:/home/njh/perl5/perlbrew/perls/perl-5.29.6/bin:/home/njh/src/njh/smoker/bin:/usr/bin:/bin
    PERL5LIB = /home/njh/.cpan/build/Params-Util-1.07-2/blib/arch:/home/njh/.cpan/build/Params-Util-1.07-2/blib/lib:/home/njh/.cpan/build/Devel-CheckOS-1.81-0/blib/arch:/home/njh/.cpan/build/Devel-CheckOS-1.81-0/blib/lib:/home/njh/.cpan/build/Data-Compare-1.25-0/blib/arch:/home/njh/.cpan/build/Data-Compare-1.25-0/blib/lib:/home/njh/.cpan/build/File-Find-Rule-0.34-2/blib/arch:/home/njh/.cpan/build/File-Find-Rule-0.34-2/blib/lib:/home/njh/.cpan/build/Text-Glob-0.11-2/blib/arch:/home/njh/.cpan/build/Text-Glob-0.11-2/blib/lib:/home/njh/.cpan/build/Number-Compare-0.03-2/blib/arch:/home/njh/.cpan/build/Number-Compare-0.03-2/blib/lib:/home/njh/.cpan/build/Class-XSAccessor-1.19-0/blib/arch:/home/njh/.cpan/build/Class-XSAccessor-1.19-0/blib/lib:/home/njh/.cpan/build/Data-Graph-Util-0.005-0/blib/arch:/home/njh/.cpan/build/Data-Graph-Util-0.005-0/blib/lib:/home/njh/.cpan/build/Test-Exception-0.43-0/blib/arch:/home/njh/.cpan/build/Test-Exception-0.43-0/blib/lib:/home/njh/.cpan/build/Sub-Uplevel-0.2800-0/blib/arch:/home/njh/.cpan/build/Sub-Uplevel-0.2800-0/blib/lib
    PERL5OPT = 
    PERL5_CPANPLUS_IS_RUNNING = 17827
    PERL5_CPAN_IS_RUNNING = 17827
    PERLBREW_HOME = /home/njh/.perlbrew
    PERLBREW_MANPATH = /home/njh/perl5/perlbrew/perls/perl-5.29.6/man
    PERLBREW_PATH = /home/njh/perl5/perlbrew/bin:/home/njh/perl5/perlbrew/perls/perl-5.29.6/bin
    PERLBREW_PERL = perl-5.29.6
    PERLBREW_ROOT = /home/njh/perl5/perlbrew
    PERLBREW_SHELLRC_VERSION = 0.86
    PERLBREW_VERSION = 0.86
    PERL_USE_UNSAFE_INC = 1
    SHELL = /bin/sh
    TEMP = /tmp/user/1000
    TMPDIR = /tmp/user/1000/testwrapper.17814
Perl special variables (and OS-specific diagnostics, for MSWin32):
    $^X = /home/njh/perl5/perlbrew/perls/perl-5.29.6/bin/perl5.29.6
    $UID/$EUID = 1000 / 1000
    $GID = 1000 4 24 25 29 30 44 46 103 108 116 127 1000
    $EGID = 1000 4 24 25 29 30 44 46 103 108 116 127 1000
Perl module toolchain versions installed:
    Module              Have    
    ------------------- --------
    CPAN                2.21    
    CPAN::Meta          2.150010
    Cwd                 3.76    
    ExtUtils::CBuilder  0.280230
    ExtUtils::Command   7.34    
    ExtUtils::Install   2.14    
    ExtUtils::MakeMaker 7.34    
    ExtUtils::Manifest  1.71    
    ExtUtils::ParseXS   3.40    
    File::Spec          3.76    
    JSON                n/a     
    JSON::PP            2.97001 
    Module::Build       n/a     
    Module::Signature   n/a     
    Parse::CPAN::Meta   2.150010
    Test::Harness       3.42    
    Test::More          1.302141
    YAML                1.27    
    YAML::Syck          n/a     
    version             0.9924  
--
Summary of my perl5 (revision 5 version 29 subversion 6) configuration:
   
  Platform:
    osname=linux
    osvers=4.18.0-3-amd64
    archname=x86_64-linux
    uname='linux compaq 4.18.0-3-amd64 #1 smp debian 4.18.20-2 (2018-11-23) x86_64 gnulinux '
    config_args='-de -Dprefix=/home/njh/perl5/perlbrew/perls/perl-5.29.6 -Dusedevel -Dusedevel -Accflags= -Aeval:scriptdir=/home/njh/perl5/perlbrew/perls/perl-5.29.6/bin'
    hint=recommended
    useposix=true
    d_sigaction=define
    useithreads=undef
    usemultiplicity=undef
    use64bitint=define
    use64bitall=define
    uselongdouble=undef
    usemymalloc=n
    default_inc_excludes_dot=define
    bincompat5005=undef
  Compiler:
    cc='cc'
    ccflags ='-fwrapv -fno-strict-aliasing -pipe -fstack-protector-strong -I/usr/local/include -D_LARGEFILE_SOURCE -D_FILE_OFFSET_BITS=64 -D_FORTIFY_SOURCE=2'
    optimize='-O2'
    cppflags='-fwrapv -fno-strict-aliasing -pipe -fstack-protector-strong -I/usr/local/include'
    ccversion=''
    gccversion='8.2.0'
    gccosandvers=''
    intsize=4
    longsize=8
    ptrsize=8
    doublesize=8
    byteorder=12345678
    doublekind=3
    d_longlong=define
    longlongsize=8
    d_longdbl=define
    longdblsize=16
    longdblkind=3
    ivtype='long'
    ivsize=8
    nvtype='double'
    nvsize=8
    Off_t='off_t'
    lseeksize=8
    alignbytes=8
    prototype=define
  Linker and Libraries:
    ld='cc'
    ldflags =' -fstack-protector-strong -L/usr/local/lib'
    libpth=/usr/local/lib /usr/lib/gcc/x86_64-linux-gnu/8/include-fixed /usr/include/x86_64-linux-gnu /usr/lib /lib/x86_64-linux-gnu /lib/../lib /usr/lib/x86_64-linux-gnu /usr/lib/../lib /lib /lib64 /usr/lib64
    libs=-lpthread -lnsl -lgdbm -ldb -ldl -lm -lcrypt -lutil -lc
    perllibs=-lpthread -lnsl -ldl -lm -lcrypt -lutil -lc
    libc=
    so=so
    useshrplib=false
    libperl=libperl.a
    gnulibc_version='2.28'
  Dynamic Linking:
    dlsrc=dl_dlopen.xs
    dlext=so
    d_dlsymun=undef
    ccdlflags='-Wl,-E'
    cccdlflags='-fPIC'
    lddlflags='-shared -O2 -L/usr/local/lib -fstack-protector-strong'
Characteristics of this binary (from libperl): 
  Compile-time options:
    HAS_TIMES
    PERLIO_LAYERS
    PERL_COPY_ON_WRITE
    PERL_DONT_CREATE_GVSV
    PERL_MALLOC_WRAP
    PERL_OP_PARENT
    PERL_PRESERVE_IVUV
    PERL_USE_DEVEL
    USE_64_BIT_ALL
    USE_64_BIT_INT
    USE_LARGE_FILES
    USE_LOCALE
    USE_LOCALE_COLLATE
    USE_LOCALE_CTYPE
    USE_LOCALE_NUMERIC
    USE_LOCALE_TIME
    USE_PERLIO
    USE_PERL_ATOF
  Built under linux
  Compiled at Jan 21 2019 00:35:43
  %ENV:
    PERL5LIB="/home/njh/.cpan/build/Params-Util-1.07-2/blib/arch:/home/njh/.cpan/build/Params-Util-1.07-2/blib/lib:/home/njh/.cpan/build/Devel-CheckOS-1.81-0/blib/arch:/home/njh/.cpan/build/Devel-CheckOS-1.81-0/blib/lib:/home/njh/.cpan/build/Data-Compare-1.25-0/blib/arch:/home/njh/.cpan/build/Data-Compare-1.25-0/blib/lib:/home/njh/.cpan/build/File-Find-Rule-0.34-2/blib/arch:/home/njh/.cpan/build/File-Find-Rule-0.34-2/blib/lib:/home/njh/.cpan/build/Text-Glob-0.11-2/blib/arch:/home/njh/.cpan/build/Text-Glob-0.11-2/blib/lib:/home/njh/.cpan/build/Number-Compare-0.03-2/blib/arch:/home/njh/.cpan/build/Number-Compare-0.03-2/blib/lib:/home/njh/.cpan/build/Class-XSAccessor-1.19-0/blib/arch:/home/njh/.cpan/build/Class-XSAccessor-1.19-0/blib/lib:/home/njh/.cpan/build/Data-Graph-Util-0.005-0/blib/arch:/home/njh/.cpan/build/Data-Graph-Util-0.005-0/blib/lib:/home/njh/.cpan/build/Test-Exception-0.43-0/blib/arch:/home/njh/.cpan/build/Test-Exception-0.43-0/blib/lib:/home/njh/.cpan/build/Sub-Uplevel-0.2800-0/blib/arch:/home/njh/.cpan/build/Sub-Uplevel-0.2800-0/blib/lib"
    PERL5OPT=""
    PERL5_CPANPLUS_IS_RUNNING="17827"
    PERL5_CPAN_IS_RUNNING="17827"
    PERLBREW_HOME="/home/njh/.perlbrew"
    PERLBREW_MANPATH="/home/njh/perl5/perlbrew/perls/perl-5.29.6/man"
    PERLBREW_PATH="/home/njh/perl5/perlbrew/bin:/home/njh/perl5/perlbrew/perls/perl-5.29.6/bin"
    PERLBREW_PERL="perl-5.29.6"
    PERLBREW_ROOT="/home/njh/perl5/perlbrew"
    PERLBREW_SHELLRC_VERSION="0.86"
    PERLBREW_VERSION="0.86"
    PERL_USE_UNSAFE_INC="1"
  @INC:
    /home/njh/.cpan/build/Params-Util-1.07-2/blib/arch
    /home/njh/.cpan/build/Params-Util-1.07-2/blib/lib
    /home/njh/.cpan/build/Devel-CheckOS-1.81-0/blib/arch
    /home/njh/.cpan/build/Devel-CheckOS-1.81-0/blib/lib
    /home/njh/.cpan/build/Data-Compare-1.25-0/blib/arch
    /home/njh/.cpan/build/Data-Compare-1.25-0/blib/lib
    /home/njh/.cpan/build/File-Find-Rule-0.34-2/blib/arch
    /home/njh/.cpan/build/File-Find-Rule-0.34-2/blib/lib
    /home/njh/.cpan/build/Text-Glob-0.11-2/blib/arch
    /home/njh/.cpan/build/Text-Glob-0.11-2/blib/lib
    /home/njh/.cpan/build/Number-Compare-0.03-2/blib/arch
    /home/njh/.cpan/build/Number-Compare-0.03-2/blib/lib
    /home/njh/.cpan/build/Class-XSAccessor-1.19-0/blib/arch
    /home/njh/.cpan/build/Class-XSAccessor-1.19-0/blib/lib
    /home/njh/.cpan/build/Data-Graph-Util-0.005-0/blib/arch
    /home/njh/.cpan/build/Data-Graph-Util-0.005-0/blib/lib
    /home/njh/.cpan/build/Test-Exception-0.43-0/blib/arch
    /home/njh/.cpan/build/Test-Exception-0.43-0/blib/lib
    /home/njh/.cpan/build/Sub-Uplevel-0.2800-0/blib/arch
    /home/njh/.cpan/build/Sub-Uplevel-0.2800-0/blib/lib
    /home/njh/perl5/perlbrew/perls/perl-5.29.6/lib/site_perl/5.29.6/x86_64-linux
    /home/njh/perl5/perlbrew/perls/perl-5.29.6/lib/site_perl/5.29.6
    /home/njh/perl5/perlbrew/perls/perl-5.29.6/lib/5.29.6/x86_64-linux
    /home/njh/perl5/perlbrew/perls/perl-5.29.6/lib/5.29.6
    .