Back
From: metabase:user:30977d10-2aae-11df-837a-5e0a49663a4f
Subject: PASS MouseX-NativeTraits-1.09 v5.25.11 SunOS/Solaris
Date: 2017-05-01T08:03:54Z
This distribution has been tested as part of the CPAN Testers
project, supporting the Perl programming language. See
http://wiki.cpantesters.org/ for more information or email
questions to cpan-testers-discuss@perl.org
--
Dear Goro Fuji,
This is a computer-generated report for MouseX-NativeTraits-1.09
on perl 5.25.11, created by CPAN-Reporter-1.2018.
Thank you for uploading your work to CPAN. Congratulations!
All tests were successful.
Sections of this report:
* Tester comments
* Program output
* Prerequisites
* Environment and other context
------------------------------
TESTER COMMENTS
------------------------------
Additional comments from tester:
this report is from an automated smoke testing program
and was not reviewed by a human for accuracy
------------------------------
PROGRAM OUTPUT
------------------------------
Output from '/usr/bin/make test':
PERL_DL_NONLAZY=1 "/home/stro/perl/5.25.11/bin/perl" "-MExtUtils::Command::MM" "-MTest::Harness" "-e" "\$ENV{q{ANY_MOOSE}} = q{Mouse}; undef *Test::Harness::Switches; test_harness(0, 'inc', 'blib/lib', 'blib/arch'); " t/*.t t/070_native_traits/*.t
# Testing MouseX::NativeTraits/1.09
# Dependencies:
# Mouse/v2.4.9
t/00_load.t ...................................... ok
Any::Moose is deprecated. Please use Moo instead at t/01_basic.t line 8.
t/01_basic.t ..................................... ok
Any::Moose is deprecated. Please use Moo instead at t/02_meta.t line 7.
t/02_meta.t ...................................... ok
t/03_extra.t ..................................... ok
t/04_counter.t ................................... ok
t/05_remain_tied.t ............................... ok
Any::Moose is deprecated. Please use Moo instead at t/070_native_traits/010_trait_array.t line 8.
t/070_native_traits/010_trait_array.t ............ ok
Any::Moose is deprecated. Please use Moo instead at t/070_native_traits/011_array_subtypes.t line 8.
t/070_native_traits/011_array_subtypes.t ......... ok
t/070_native_traits/012_array_trigger.t .......... ok
t/070_native_traits/013_array_coerce.t ........... skipped: Not supported by MouseX::NativeTraits
Any::Moose is deprecated. Please use Moo instead at t/070_native_traits/020_trait_bool.t line 8.
t/070_native_traits/020_trait_bool.t ............. ok
Any::Moose is deprecated. Please use Moo instead at t/070_native_traits/030_trait_code.t line 6.
t/070_native_traits/030_trait_code.t ............. ok
Any::Moose is deprecated. Please use Moo instead at t/070_native_traits/040_trait_counter.t line 8.
t/070_native_traits/040_trait_counter.t .......... ok
Any::Moose is deprecated. Please use Moo instead at t/070_native_traits/050_trait_hash.t line 8.
t/070_native_traits/050_trait_hash.t ............. ok
t/070_native_traits/051_hash_subtypes.t .......... ok
t/070_native_traits/052_hash_trigger.t ........... ok
t/070_native_traits/053_hash_coerce.t ............ skipped: Not supported by MouseX::NativeTraits
Any::Moose is deprecated. Please use Moo instead at t/070_native_traits/060_trait_number.t line 8.
t/070_native_traits/060_trait_number.t ........... ok
Any::Moose is deprecated. Please use Moo instead at t/070_native_traits/070_trait_string.t line 8.
t/070_native_traits/070_trait_string.t ........... ok
t/070_native_traits/100_array_from_role.t ........ ok
t/070_native_traits/101_remove_attribute.t ....... skipped: Not supported by MouseX::NativeTraits
t/070_native_traits/102_collection_with_roles.t .. ok
t/070_native_traits/103_custom_instance.t ........ skipped: not supproted by MouseX::NativeTraits
All tests successful.
Files=23, Tests=3482, 4 wallclock secs ( 0.27 usr 0.04 sys + 2.18 cusr 0.27 csys = 2.76 CPU)
Result: PASS
------------------------------
PREREQUISITES
------------------------------
Prerequisite modules loaded:
requires:
Module Need Have
------------------- -------- --------
Mouse 0.82 v2.4.9
perl 5.006002 5.025011
build_requires:
Module Need Have
------------------- -------- --------
Any::Moose 0.13 0.27
ExtUtils::MakeMaker 6.59 7.24
Test::Fatal 0.003 0.014
Test::More 0.88 1.302083
configure_requires:
Module Need Have
------------------- -------- --------
ExtUtils::MakeMaker 6.59 7.24
------------------------------
ENVIRONMENT AND OTHER CONTEXT
------------------------------
Environment variables:
AUTOMATED_TESTING = 1
LANG = en_US.UTF-8
PATH = /usr/gnu/bin:/usr/bin:/usr/sbin:/sbin:/usr/sfw/bin:
PERL5LIB = /home/stro/cpan/build/5.25.11/build/Mouse-v2.4.9-0/blib/arch:/home/stro/cpan/build/5.25.11/build/Mouse-v2.4.9-0/blib/lib
PERL5OPT =
PERL5_CPANPLUS_IS_RUNNING = 5442
PERL5_CPAN_IS_RUNNING = 5442
PERL5_CPAN_IS_RUNNING_IN_RECURSION = 28932,5442
PERL_CR_SMOKER_CURRENT = Config-Model-2.101
PERL_EXTUTILS_AUTOINSTALL = --defaultdeps
PERL_MM_USE_DEFAULT = 1
PERL_USE_UNSAFE_INC = 1
SHELL = /bin/bash
TERM = xterm
Perl special variables (and OS-specific diagnostics, for MSWin32):
$^X = /home/stro/perl/5.25.11/bin/perl
$UID/$EUID = 101 / 101
$GID = 10 10
$EGID = 10 10
Perl module toolchain versions installed:
Module Have
------------------- ----------
CPAN 2.17
CPAN::Meta 2.150010
Cwd 3.67
ExtUtils::CBuilder 0.280225
ExtUtils::Command 7.24
ExtUtils::Install 2.04
ExtUtils::MakeMaker 7.24
ExtUtils::Manifest 1.70
ExtUtils::ParseXS 3.34
File::Spec 3.67
JSON 2.90
JSON::PP 2.27400_02
Module::Build 0.4222
Module::Signature 0.81
Parse::CPAN::Meta 2.150010
Test::Harness 3.39
Test::More 1.302083
YAML 1.23
YAML::Syck 1.29
version 0.9917
--
Summary of my perl5 (revision 5 version 25 subversion 11) configuration:
Platform:
osname=solaris
osvers=2.11
archname=i86pc-solaris
uname='sunos vm-openindiana-001 5.11 illumos-2816291 i86pc i386 i86pc '
config_args='-Dcc=gcc'
hint=recommended
useposix=true
d_sigaction=define
useithreads=undef
usemultiplicity=undef
use64bitint=undef
use64bitall=undef
uselongdouble=undef
usemymalloc=n
default_inc_excludes_dot=define
bincompat5005=undef
Compiler:
cc='gcc'
ccflags ='-fno-strict-aliasing -pipe -I/usr/gnu/include -D_LARGEFILE_SOURCE -D_FILE_OFFSET_BITS=64 -DPERL_USE_SAFE_PUTENV'
optimize='-O'
cppflags='-fno-strict-aliasing -pipe -I/usr/gnu/include'
ccversion=''
gccversion='3.4.3 (csl-sol210-3_4-20050802)'
gccosandvers='solaris2.11'
intsize=4
longsize=4
ptrsize=4
doublesize=8
byteorder=1234
doublekind=3
d_longlong=define
longlongsize=8
d_longdbl=define
longdblsize=12
longdblkind=3
ivtype='long'
ivsize=4
nvtype='double'
nvsize=8
Off_t='off_t'
lseeksize=8
alignbytes=4
prototype=define
Linker and Libraries:
ld='gcc'
ldflags =' -L/usr/gnu/lib '
libpth=/usr/gcc/3.4/lib /usr/lib /usr/gnu/lib /usr/ccs/lib
libs=-lpthread -lsocket -lnsl -lgdbm -ldb -ldl -lm -lc
perllibs=-lpthread -lsocket -lnsl -ldl -lm -lc
libc=/lib/libc.so
so=so
useshrplib=true
libperl=libperl.so
gnulibc_version=''
Dynamic Linking:
dlsrc=dl_dlopen.xs
dlext=so
d_dlsymun=undef
ccdlflags=' -R /home/stro/perl/5.25.11/lib/5.25.11/i86pc-solaris/CORE'
cccdlflags='-fPIC'
lddlflags='-shared -L/usr/gnu/lib'
Characteristics of this binary (from libperl):
Compile-time options:
HAS_TIMES
PERLIO_LAYERS
PERL_COPY_ON_WRITE
PERL_DONT_CREATE_GVSV
PERL_HASH_FUNC_ONE_AT_A_TIME_HARD
PERL_MALLOC_WRAP
PERL_OP_PARENT
PERL_PRESERVE_IVUV
PERL_USE_SAFE_PUTENV
USE_LARGE_FILES
USE_LOCALE
USE_LOCALE_COLLATE
USE_LOCALE_CTYPE
USE_LOCALE_NUMERIC
USE_LOCALE_TIME
USE_PERLIO
USE_PERL_ATOF
Built under solaris
Compiled at Apr 4 2017 02:41:54
%ENV:
PERL5LIB="/home/stro/cpan/build/5.25.11/build/Mouse-v2.4.9-0/blib/arch:/home/stro/cpan/build/5.25.11/build/Mouse-v2.4.9-0/blib/lib"
PERL5OPT=""
PERL5_CPANPLUS_IS_RUNNING="5442"
PERL5_CPAN_IS_RUNNING="5442"
PERL5_CPAN_IS_RUNNING_IN_RECURSION="28932,5442"
PERL_CR_SMOKER_CURRENT="Config-Model-2.101"
PERL_EXTUTILS_AUTOINSTALL="--defaultdeps"
PERL_MM_USE_DEFAULT="1"
PERL_USE_UNSAFE_INC="1"
@INC:
/home/stro/cpan/build/5.25.11/build/Mouse-v2.4.9-0/blib/arch
/home/stro/cpan/build/5.25.11/build/Mouse-v2.4.9-0/blib/lib
/home/stro/perl/5.25.11/lib/site_perl/5.25.11/i86pc-solaris
/home/stro/perl/5.25.11/lib/site_perl/5.25.11
/home/stro/perl/5.25.11/lib/5.25.11/i86pc-solaris
/home/stro/perl/5.25.11/lib/5.25.11
.