Test-BrewBuild v2.22 Perl 5 v5.20.1 MSWin32-x86-multi-thread-64int

Status
Pass
From
Alexandr Ciornii (CHORNY)
Dist
Test-BrewBuild v2.22
Platform
Perl 5 v5.20.1 MSWin32-x86-multi-thread-64int
Date
2019-10-19 17:47:51
ID
b82ba6d9-6bf7-1014-ac5c-35c433525cb4
This distribution has been tested as part of the CPAN Testers
project, supporting the Perl programming language.  See
http://wiki.cpantesters.org/ for more information or email
questions to cpan-testers-discuss@perl.org


--
Dear Steve Bertrand,

This is a computer-generated report for Test-BrewBuild-2.22
on perl 5.20.1, created by CPAN-Reporter-1.2014.

Thank you for uploading your work to CPAN.  Congratulations!
All tests were successful.

Sections of this report:

    * Tester comments
    * Program output
    * Prerequisites
    * Environment and other context

------------------------------
TESTER COMMENTS
------------------------------

Additional comments from tester:

this report is from an automated smoke testing program
and was not reviewed by a human for accuracy

------------------------------
PROGRAM OUTPUT
------------------------------

Output from 'C:\STRAWB~1\c\bin\dmake.exe test':

"C:\Strawberry201\perl\bin\perl.exe" "-MExtUtils::Command::MM" "-MTest::Harness" "-e" "undef *Test::Harness::Switches; test_harness(0, 'blib\lib', 'blib\arch')" t/*.t t/*/*.t
t/00-00-load.t ...................................... ok
t/test_api/00-api-BB_plugins.t ...................... ok
t/test_api/05-api-BB_brew_info.t .................... skipped: berrybrew.exe not installed... skipping
t/test_api/10-api-BB_perls_avaliable.t .............. skipped: berrybrew.exe not installed... skipping
t/test_api/100-api-BB_install_all.t ................. skipped: developer tests only
t/test_api/105-re.t ................................. ok
t/test_api/15-api-BB_is_win.t ....................... skipped: developer tests only
t/test_api/20-api-BB_perls_installed.t .............. skipped: berrybrew.exe not installed... skipping
t/test_api/25-api-BB_log.t .......................... skipped: berrybrew.exe not installed... skipping
t/test_api/30-api-BC.t .............................. skipped: developer tests only
Use of uninitialized value in concatenation (.) or string at C:\STRAWB~1\cpan\build\Test-BrewBuild-2.22-Wwe88p\blib\lib/Test/BrewBuild/BrewCommands.pm line 161.
Use of uninitialized value in concatenation (.) or string at C:\STRAWB~1\cpan\build\Test-BrewBuild-2.22-Wwe88p\blib\lib/Test/BrewBuild/BrewCommands.pm line 161.
t/test_api/35-api-BB_instance_remove.t .............. ok
t/test_api/40-api-BB_instance_install.t ............. skipped: developer tests only
t/test_api/45-api-TestPluginInst.t .................. ok
t/test_api/50-api-BC_using.t ........................ skipped: developer tests only
t/test_api/55-api-BB_workdir.t ...................... ok
t/test_api/60-api-Git.t ............................. skipped: developer tests only
t/test_api/65-api-Dispatch_forks.t .................. ok
t/test_api/70-api-BB_legacy.t ....................... ok
t/test_api/75-api-Tester.t .......................... skipped: developer tests only
t/test_api/80-api-BB_install_timeout.t .............. skipped: developer tests only
Use of uninitialized value in concatenation (.) or string at C:\STRAWB~1\cpan\build\Test-BrewBuild-2.22-Wwe88p\blib\lib/Test/BrewBuild/BrewCommands.pm line 161.
Use of uninitialized value in concatenation (.) or string at C:\STRAWB~1\cpan\build\Test-BrewBuild-2.22-Wwe88p\blib\lib/Test/BrewBuild/BrewCommands.pm line 161.
t/test_api/85-api-BB_inst_rand_dups.t ............... ok
t/test_api/90-api-BB_inst_release_candidates.t ...... skipped: developer tests only
t/test_api/95-api-BB_revdep_with_metacpan_client.t .. skipped: developer only test
t/test_author/99-manifest.t ......................... skipped: Author tests not required for installation
t/test_author/99-pod-coverage.t ..................... skipped: Author tests not required for installation
t/test_author/99-pod.t .............................. skipped: Author tests not required for installation
t/test_bugs/142-tester_handle_non_repo.t ............ skipped: developer tests only
t/test_bugs/164_dispatch_show_help_on_bad_args.t .... skipped: developer tests only
t/test_config/05-tester-config.t .................... skipped: developer tests only
t/test_config/10-brewbuild-config.t ................. ok
t/test_dispatch/05-dispatch-bad_command.t ........... skipped: developer tests only
t/test_dispatch/10-dispatch-revdep_pass.t ........... skipped: developer tests only
t/test_dispatch/15-dispatch-fail.t .................. skipped: developer tests only
t/test_dispatch/25-dispatch-default_port.t .......... skipped: developer tests only
t/test_dispatch/30-dispatch-notest.t ................ skipped: developer tests only
t/test_dispatch/40-dispatch-install.t ............... skipped: developer tests only
t/test_dispatch/45-dispatch-new.t ................... skipped: developer tests only
t/test_log/05-log-revdep_global_full_verbose.t ...... skipped: developer tests only
t/test_log/10-log-revdep_save_log_files.t ........... skipped: developer tests only
t/test_log/15-log-Tester.t .......................... skipped: developer tests only
t/test_log/20-log-Dispatch.t ........................ skipped: developer tests only
t/test_log/25-log-test_global_full_verbose.t ........ skipped: developer tests only
t/test_log/30-Git.t ................................. skipped: developer tests only
t/z_clean.t ......................................... ok
All tests successful.
Files=44, Tests=64, 38 wallclock secs ( 0.18 usr +  0.22 sys =  0.40 CPU)
Result: PASS

------------------------------
PREREQUISITES
------------------------------

Prerequisite modules loaded:

requires:

    Module                               Need  Have    
    ------------------------------------ ----- --------
    App::cpanminus                       0     1.7028  
    Archive::Extract                     0     0.72    
    Capture::Tiny                        0     0.25    
    Config::Tiny                         0     2.22    
    File::Copy::Recursive                0     0.38    
    Logging::Simple                      1.04  1.04    
    LWP::Simple                          0     6.13    
    MetaCPAN::Client                     2.017 2.026000
    Module::Load                         0     0.32    
    Parallel::ForkManager                0     1.12    
    perl                                 5.01  5.020001
    Plugin::Simple                       1.01  1.01    
    POSIX                                0     1.38_03 
    Proc::Background                     0     1.10    
    Test::BrewBuild::Plugin::Author      0.02  0.03    
    Test::BrewBuild::Plugin::TestAgainst 0.06  0.06    
    version                              0     0.9909  

build_requires:

    Module                               Need  Have    
    ------------------------------------ ----- --------
    Archive::Zip                         0     1.38    
    Mock::Sub                            1.07  1.09    

configure_requires:

    Module                               Need  Have    
    ------------------------------------ ----- --------
    ExtUtils::MakeMaker                  0     7.38    


------------------------------
ENVIRONMENT AND OTHER CONTEXT
------------------------------

Environment variables:

    AUTOMATED_TESTING = 1
    COMSPEC = C:\WINDOWS\system32\cmd.exe
    NUMBER_OF_PROCESSORS = 1
    PATH = C:\WINDOWS\system32;C:\WINDOWS;C:\WINDOWS\System32\Wbem;C:\Strawberry201\c\bin;C:\Strawberry201\perl\site\bin;C:\Strawberry201\perl\bin;C:\Git\cmd
    PERL5LIB = C:\STRAWB~1\cpan\build\MetaCPAN-Client-2.026000-Bcpbd8/blib/arch;C:\STRAWB~1\cpan\build\MetaCPAN-Client-2.026000-Bcpbd8/blib/lib;C:\STRAWB~1\cpan\build\HTTP-Tiny-0.076-5MSenj/blib/arch;C:\STRAWB~1\cpan\build\HTTP-Tiny-0.076-5MSenj/blib/lib;C:\STRAWB~1\cpan\build\Ref-Util-0.204-gbp8TM/blib/arch;C:\STRAWB~1\cpan\build\Ref-Util-0.204-gbp8TM/blib/lib;C:\STRAWB~1\cpan\build\Ref-Util-XS-0.117-jJjT_6/blib/arch;C:\STRAWB~1\cpan\build\Ref-Util-XS-0.117-jJjT_6/blib/lib;C:\STRAWB~1\cpan\build\Test-Needs-0.002006-i2j_tU/blib/arch;C:\STRAWB~1\cpan\build\Test-Needs-0.002006-i2j_tU/blib/lib;C:\STRAWB~1\cpan\build\ExtUtils-MakeMaker-7.38-cNCww5/blib/arch;C:\STRAWB~1\cpan\build\ExtUtils-MakeMaker-7.38-cNCww5/blib/lib;C:\STRAWB~1\cpan\build\Plugin-Simple-1.01-qdpPaD/blib/arch;C:\STRAWB~1\cpan\build\Plugin-Simple-1.01-qdpPaD/blib/lib;C:\STRAWB~1\cpan\build\Test-BrewBuild-Plugin-Author-0.03-NFvyCN/blib/arch;C:\STRAWB~1\cpan\build\Test-BrewBuild-Plugin-Author-0.03-NFvyCN/blib/lib;C:\STRAWB~1\cpan\build\Logging-Simple-1.04-RdhzdJ/blib/arch;C:\STRAWB~1\cpan\build\Logging-Simple-1.04-RdhzdJ/blib/lib;C:\STRAWB~1\cpan\build\Test-BrewBuild-Plugin-TestAgainst-0.06-Mwv5mF/blib/arch;C:\STRAWB~1\cpan\build\Test-BrewBuild-Plugin-TestAgainst-0.06-Mwv5mF/blib/lib;C:\STRAWB~1\cpan\build\Proc-Background-1.10-nZPC6F/blib/arch;C:\STRAWB~1\cpan\build\Proc-Background-1.10-nZPC6F/blib/lib;C:\STRAWB~1\cpan\build\Mock-Sub-1.09-lSbyRd/blib/arch;C:\STRAWB~1\cpan\build\Mock-Sub-1.09-lSbyRd/blib/lib
    PERL5OPT = 
    PERL5_CPANPLUS_IS_RUNNING = 1964
    PERL5_CPAN_IS_RUNNING = 1964
    PERL5_CPAN_IS_RUNNING_IN_RECURSION = 1704,1964
    PERL_CR_SMOKER_CURRENT = Test-BrewBuild-2.22
    PERL_CR_SMOKER_RUNONCE = 1
    PERL_EXTUTILS_AUTOINSTALL = --defaultdeps
    PERL_MM_USE_DEFAULT = 1
    PROCESSOR_IDENTIFIER = x86 Family 16 Model 5 Stepping 3, AuthenticAMD
    TEMP = C:\DOCUME~1\c\LOCALS~1\Temp

Perl special variables (and OS-specific diagnostics, for MSWin32):

    $^X = C:\Strawberry201\perl\bin\perl.exe
    $UID/$EUID = 0 / 0
    $GID = 0
    $EGID = 0
    Win32::GetOSName = WinXP/.Net
    Win32::GetOSVersion = Service Pack 3, 5, 1, 2600, 2, 3, 0, 256, 1
    Win32::FsType = NTFS
    Win32::IsAdminUser = 1

Perl module toolchain versions installed:

    Module              Have    
    ------------------- --------
    CPAN                2.05    
    CPAN::Meta          2.143240
    Cwd                 3.48    
    ExtUtils::CBuilder  0.280219
    ExtUtils::Command   7.38    
    ExtUtils::Install   2.06    
    ExtUtils::MakeMaker 7.38    
    ExtUtils::Manifest  1.70    
    ExtUtils::ParseXS   3.24    
    File::Spec          3.48    
    JSON                2.90    
    JSON::PP            2.27203 
    Module::Build       0.4211  
    Module::Signature   0.78    
    Parse::CPAN::Meta   1.4414  
    Test::Harness       3.33    
    Test::More          1.001006
    YAML                1.15    
    YAML::Syck          1.29    
    version             0.9909  


--

Summary of my perl5 (revision 5 version 20 subversion 1) configuration:
   
  Platform:
    osname=MSWin32, osvers=6.3, archname=MSWin32-x86-multi-thread-64int
    uname='Win32 strawberry-perl 5.20.1.1 #1 Mon Sep 15 18:25:23 2014 i386'
    config_args='undef'
    hint=recommended, useposix=true, d_sigaction=undef
    useithreads=define, usemultiplicity=define
    use64bitint=define, use64bitall=undef, uselongdouble=undef
    usemymalloc=n, bincompat5005=undef
  Compiler:
    cc='gcc', ccflags =' -s -O2 -DWIN32  -DPERL_TEXTMODE_SCRIPTS -DPERL_IMPLICIT_CONTEXT -DPERL_IMPLICIT_SYS -DUSE_PERLIO -fwrapv -fno-strict-aliasing -mms-bitfields',
    optimize='-s -O2',
    cppflags='-DWIN32'
    ccversion='', gccversion='4.8.3', gccosandvers=''
    intsize=4, longsize=4, ptrsize=4, doublesize=8, byteorder=12345678
    d_longlong=define, longlongsize=8, d_longdbl=define, longdblsize=12
    ivtype='long long', ivsize=8, nvtype='double', nvsize=8, Off_t='long long', lseeksize=8
    alignbytes=8, prototype=define
  Linker and Libraries:
    ld='g++', ldflags ='-s -L"C:\STRAWB~1\perl\lib\CORE" -L"C:\STRAWB~1\c\lib"'
    libpth=C:\STRAWB~1\c\lib C:\STRAWB~1\c\i686-w64-mingw32\lib C:\STRAWB~1\c\lib\gcc\i686-w64-mingw32\4.8.3
    libs=-lmoldname -lkernel32 -luser32 -lgdi32 -lwinspool -lcomdlg32 -ladvapi32 -lshell32 -lole32 -loleaut32 -lnetapi32 -luuid -lws2_32 -lmpr -lwinmm -lversion -lodbc32 -lodbccp32 -lcomctl32
    perllibs=-lmoldname -lkernel32 -luser32 -lgdi32 -lwinspool -lcomdlg32 -ladvapi32 -lshell32 -lole32 -loleaut32 -lnetapi32 -luuid -lws2_32 -lmpr -lwinmm -lversion -lodbc32 -lodbccp32 -lcomctl32
    libc=, so=dll, useshrplib=true, libperl=libperl520.a
    gnulibc_version=''
  Dynamic Linking:
    dlsrc=dl_win32.xs, dlext=xs.dll, d_dlsymun=undef, ccdlflags=' '
    cccdlflags=' ', lddlflags='-mdll -s -L"C:\STRAWB~1\perl\lib\CORE" -L"C:\STRAWB~1\c\lib"'


Characteristics of this binary (from libperl): 
  Compile-time options: HAS_TIMES HAVE_INTERP_INTERN MULTIPLICITY
                        PERLIO_LAYERS PERL_DONT_CREATE_GVSV
                        PERL_HASH_FUNC_ONE_AT_A_TIME_HARD
                        PERL_IMPLICIT_CONTEXT PERL_IMPLICIT_SYS
                        PERL_MALLOC_WRAP PERL_NEW_COPY_ON_WRITE
                        PERL_PRESERVE_IVUV USE_64_BIT_INT USE_ITHREADS
                        USE_LARGE_FILES USE_LOCALE USE_LOCALE_COLLATE
                        USE_LOCALE_CTYPE USE_LOCALE_NUMERIC USE_PERLIO
                        USE_PERL_ATOF
  Built under MSWin32
  Compiled at Sep 15 2014 18:29:20
  %ENV:
    PERL5LIB="C:\STRAWB~1\cpan\build\MetaCPAN-Client-2.026000-Bcpbd8/blib/arch;C:\STRAWB~1\cpan\build\MetaCPAN-Client-2.026000-Bcpbd8/blib/lib;C:\STRAWB~1\cpan\build\HTTP-Tiny-0.076-5MSenj/blib/arch;C:\STRAWB~1\cpan\build\HTTP-Tiny-0.076-5MSenj/blib/lib;C:\STRAWB~1\cpan\build\Ref-Util-0.204-gbp8TM/blib/arch;C:\STRAWB~1\cpan\build\Ref-Util-0.204-gbp8TM/blib/lib;C:\STRAWB~1\cpan\build\Ref-Util-XS-0.117-jJjT_6/blib/arch;C:\STRAWB~1\cpan\build\Ref-Util-XS-0.117-jJjT_6/blib/lib;C:\STRAWB~1\cpan\build\Test-Needs-0.002006-i2j_tU/blib/arch;C:\STRAWB~1\cpan\build\Test-Needs-0.002006-i2j_tU/blib/lib;C:\STRAWB~1\cpan\build\ExtUtils-MakeMaker-7.38-cNCww5/blib/arch;C:\STRAWB~1\cpan\build\ExtUtils-MakeMaker-7.38-cNCww5/blib/lib;C:\STRAWB~1\cpan\build\Plugin-Simple-1.01-qdpPaD/blib/arch;C:\STRAWB~1\cpan\build\Plugin-Simple-1.01-qdpPaD/blib/lib;C:\STRAWB~1\cpan\build\Test-BrewBuild-Plugin-Author-0.03-NFvyCN/blib/arch;C:\STRAWB~1\cpan\build\Test-BrewBuild-Plugin-Author-0.03-NFvyCN/blib/lib;C:\STRAWB~1\cpan\build\Logging-Simple-1.04-RdhzdJ/blib/arch;C:\STRAWB~1\cpan\build\Logging-Simple-1.04-RdhzdJ/blib/lib;C:\STRAWB~1\cpan\build\Test-BrewBuild-Plugin-TestAgainst-0.06-Mwv5mF/blib/arch;C:\STRAWB~1\cpan\build\Test-BrewBuild-Plugin-TestAgainst-0.06-Mwv5mF/blib/lib;C:\STRAWB~1\cpan\build\Proc-Background-1.10-nZPC6F/blib/arch;C:\STRAWB~1\cpan\build\Proc-Background-1.10-nZPC6F/blib/lib;C:\STRAWB~1\cpan\build\Mock-Sub-1.09-lSbyRd/blib/arch;C:\STRAWB~1\cpan\build\Mock-Sub-1.09-lSbyRd/blib/lib"
    PERL5_CPANPLUS_IS_RUNNING="1964"
    PERL5_CPAN_IS_RUNNING="1964"
    PERL5_CPAN_IS_RUNNING_IN_RECURSION="1704,1964"
    PERL_CR_SMOKER_CURRENT="Test-BrewBuild-2.22"
    PERL_CR_SMOKER_RUNONCE="1"
    PERL_EXTUTILS_AUTOINSTALL="--defaultdeps"
    PERL_MM_USE_DEFAULT="1"
  @INC:
    C:\STRAWB~1\cpan\build\MetaCPAN-Client-2.026000-Bcpbd8/blib/arch
    C:\STRAWB~1\cpan\build\MetaCPAN-Client-2.026000-Bcpbd8/blib/lib
    C:\STRAWB~1\cpan\build\HTTP-Tiny-0.076-5MSenj/blib/arch
    C:\STRAWB~1\cpan\build\HTTP-Tiny-0.076-5MSenj/blib/lib
    C:\STRAWB~1\cpan\build\Ref-Util-0.204-gbp8TM/blib/arch
    C:\STRAWB~1\cpan\build\Ref-Util-0.204-gbp8TM/blib/lib
    C:\STRAWB~1\cpan\build\Ref-Util-XS-0.117-jJjT_6/blib/arch
    C:\STRAWB~1\cpan\build\Ref-Util-XS-0.117-jJjT_6/blib/lib
    C:\STRAWB~1\cpan\build\Test-Needs-0.002006-i2j_tU/blib/arch
    C:\STRAWB~1\cpan\build\Test-Needs-0.002006-i2j_tU/blib/lib
    C:\STRAWB~1\cpan\build\ExtUtils-MakeMaker-7.38-cNCww5/blib/arch
    C:\STRAWB~1\cpan\build\ExtUtils-MakeMaker-7.38-cNCww5/blib/lib
    C:\STRAWB~1\cpan\build\Plugin-Simple-1.01-qdpPaD/blib/arch
    C:\STRAWB~1\cpan\build\Plugin-Simple-1.01-qdpPaD/blib/lib
    C:\STRAWB~1\cpan\build\Test-BrewBuild-Plugin-Author-0.03-NFvyCN/blib/arch
    C:\STRAWB~1\cpan\build\Test-BrewBuild-Plugin-Author-0.03-NFvyCN/blib/lib
    C:\STRAWB~1\cpan\build\Logging-Simple-1.04-RdhzdJ/blib/arch
    C:\STRAWB~1\cpan\build\Logging-Simple-1.04-RdhzdJ/blib/lib
    C:\STRAWB~1\cpan\build\Test-BrewBuild-Plugin-TestAgainst-0.06-Mwv5mF/blib/arch
    C:\STRAWB~1\cpan\build\Test-BrewBuild-Plugin-TestAgainst-0.06-Mwv5mF/blib/lib
    C:\STRAWB~1\cpan\build\Proc-Background-1.10-nZPC6F/blib/arch
    C:\STRAWB~1\cpan\build\Proc-Background-1.10-nZPC6F/blib/lib
    C:\STRAWB~1\cpan\build\Mock-Sub-1.09-lSbyRd/blib/arch
    C:\STRAWB~1\cpan\build\Mock-Sub-1.09-lSbyRd/blib/lib
    C:/Strawberry201/perl/site/lib
    C:/Strawberry201/perl/vendor/lib
    C:/Strawberry201/perl/lib
    .