Report for Business-CyberSource-0.010008

Back
From: metabase:user:320bfe00-2aae-11df-837a-5e0a49663a4f
Subject: PASS Business-CyberSource-0.010008 v5.25.8 GNU/Linux
Date: 2017-03-09T21:09:44Z

This distribution has been tested as part of the CPAN Testers
project, supporting the Perl programming language.  See
http://wiki.cpantesters.org/ for more information or email
questions to cpan-testers-discuss@perl.org


--
Dear Allie Gator,

This is a computer-generated report for Business-CyberSource-0.010008
on perl 5.25.8, created by CPAN-Reporter-1.2018.

Thank you for uploading your work to CPAN.  Congratulations!
All tests were successful.

Sections of this report:

    * Tester comments
    * Program output
    * Prerequisites
    * Environment and other context

------------------------------
TESTER COMMENTS
------------------------------

Additional comments from tester:

this report is from an automated smoke testing program
and was not reviewed by a human for accuracy

------------------------------
PROGRAM OUTPUT
------------------------------

Output from '/usr/bin/make test':

Skip blib/lib/auto/share/dist/Business-CyberSource/test/CyberSourceTransaction_1_71.xsd (unchanged)
Skip blib/lib/auto/share/dist/Business-CyberSource/production/CyberSourceTransaction_1_71.xsd (unchanged)
Skip blib/lib/auto/share/dist/Business-CyberSource/production/CyberSourceTransaction_1_71.wsdl (unchanged)
Skip blib/lib/auto/share/dist/Business-CyberSource/test/CyberSourceTransaction_1_71.wsdl (unchanged)
PERL_DL_NONLAZY=1 "/home/sand/src/perl/repoperls/installed-perls/host/k93msid/v5.25.8/276a/bin/perl" "-MExtUtils::Command::MM" "-MTest::Harness" "-e" "undef *Test::Harness::Switches; test_harness(0, 'blib/lib', 'blib/arch')" t/*.t
t/00-compile.t ............................. ok
# 
# Versions for all modules listed in MYMETA.json (including optional ones):
# 
# === Configure Requires ===
# 
#     Module                  Want Have
#     ----------------------- ---- ----
#     ExtUtils::MakeMaker      any 7.24
#     File::ShareDir::Install 0.06 0.11
# 
# === Build Requires ===
# 
#     Module              Want Have
#     ------------------- ---- ----
#     ExtUtils::MakeMaker  any 7.24
# 
# === Test Requires ===
# 
#     Module               Want     Have
#     -------------------- ---- --------
#     Business::CreditCard 0.32     0.36
#     DateTime              any     1.42
#     ExtUtils::MakeMaker   any     7.24
#     File::Spec            any     3.66
#     FindBin               any     1.51
#     IO::Handle            any     1.36
#     IPC::Open3            any     1.20
#     Test::Deep            any    1.126
#     Test::Fatal           any    0.014
#     Test::Method          any 0.001002
#     Test::Moose           any   2.2004
#     Test::More            any 1.302078
#     Test::Requires        any     0.10
#     blib                 1.01     1.06
#     lib                   any     0.63
# 
# === Test Recommends ===
# 
#     Module           Want     Have
#     ------------ -------- --------
#     Bread::Board     0.25     0.34
#     CPAN::Meta   2.120900 2.150010
# 
# === Runtime Requires ===
# 
#     Module                                           Want     Have
#     -------------------------------------------- -------- --------
#     Business::CreditCard                             0.32     0.36
#     DateTime::Format::W3CDTF                         0.06     0.06
#     File::ShareDir::ProjectDistDir                  1.000 1.000008
#     LWP::Protocol::https                              any     6.07
#     Module::Load                                      any     0.32
#     Module::Runtime                                   any    0.014
#     Moose                                             any   2.2004
#     Moose::Exception                                  any   2.2004
#     Moose::Exception::AttributeIsRequired             any   2.2004
#     Moose::Role                                       any   2.2004
#     Moose::Util                                       any   2.2004
#     Moose::Util::TypeConstraints                      any   2.2004
#     MooseX::AbstractFactory                           any 0.004003
#     MooseX::Aliases                                   any     0.11
#     MooseX::RemoteHelper                              any 0.001021
#     MooseX::RemoteHelper::CompositeSerialization      any 0.001021
#     MooseX::RemoteHelper::Types                       any 0.001021
#     MooseX::SetOnce                              0.200001 0.200002
#     MooseX::Types                                     any     0.49
#     MooseX::Types::Common::Numeric               0.001003 0.001014
#     MooseX::Types::Common::String                0.001005 0.001014
#     MooseX::Types::CreditCard                       0.002 0.002003
#     MooseX::Types::DateTime                           any     0.13
#     MooseX::Types::DateTime::W3C                      any 1.103360
#     MooseX::Types::Email                              any    0.007
#     MooseX::Types::Locale::Country                    any     0.05
#     MooseX::Types::Locale::Currency                   any 0.001005
#     MooseX::Types::Moose                              any     0.49
#     MooseX::Types::NetAddr::IP                        any     0.07
#     MooseY::RemoteHelper::MessagePart                 any 0.001021
#     MooseY::RemoteHelper::Role::Client                any 0.001021
#     Type::Params                                      any 1.000005
#     Type::Utils                                     0.040 1.000005
#     Types::Standard                                   any 1.000005
#     XML::Compile::SOAP11                              any     3.21
#     XML::Compile::SOAP::WSS                          1.04     1.13
#     XML::Compile::Transport::SOAPHTTP                 any     3.21
#     XML::Compile::WSDL11                              any     3.06
#     namespace::autoclean                              any     0.28
#     strict                                            any     1.11
#     warnings                                          any     1.37
# 
t/00-report-prereqs.t ...................... ok
t/auth-reversal.t .......................... ok
street deprecated check the perldoc for the actual attribute at /home/sand/src/perl/repoperls/installed-perls/host/k93msid/v5.25.8/276a/lib/site_perl/5.25.8/x86_64-linux-thread-multi/Class/MOP/Method/Wrapped.pm line 164.
street deprecated check the perldoc for the actual attribute at /home/sand/src/perl/repoperls/installed-perls/host/k93msid/v5.25.8/276a/lib/site_perl/5.25.8/x86_64-linux-thread-multi/Class/MOP/Method/Wrapped.pm line 164.
street deprecated check the perldoc for the actual attribute at /home/sand/src/perl/repoperls/installed-perls/host/k93msid/v5.25.8/276a/lib/site_perl/5.25.8/x86_64-linux-thread-multi/Class/MOP/Method/Wrapped.pm line 164.
t/authorization.t .......................... ok
street deprecated check the perldoc for the actual attribute at /home/sand/src/perl/repoperls/installed-perls/host/k93msid/v5.25.8/276a/lib/site_perl/5.25.8/x86_64-linux-thread-multi/Class/MOP/Method/Wrapped.pm line 164.
zip deprecated check the perldoc for the actual attribute at /home/sand/src/perl/repoperls/installed-perls/host/k93msid/v5.25.8/276a/lib/site_perl/5.25.8/x86_64-linux-thread-multi/Class/MOP/Method/Wrapped.pm line 164.
street deprecated check the perldoc for the actual attribute at /home/sand/src/perl/repoperls/installed-perls/host/k93msid/v5.25.8/276a/lib/site_perl/5.25.8/x86_64-linux-thread-multi/Class/MOP/Method/Wrapped.pm line 164.
street deprecated check the perldoc for the actual attribute at /home/sand/src/perl/repoperls/installed-perls/host/k93msid/v5.25.8/276a/lib/site_perl/5.25.8/x86_64-linux-thread-multi/Class/MOP/Method/Wrapped.pm line 164.
t/billto-exceptions.t ...................... ok
t/billto.t ................................. ok
t/business-rules.t ......................... ok
t/capture.t ................................ ok
t/card.t ................................... ok
t/client.t ................................. ok
street deprecated check the perldoc for the actual attribute at /home/sand/src/perl/repoperls/installed-perls/host/k93msid/v5.25.8/276a/lib/site_perl/5.25.8/x86_64-linux-thread-multi/Class/MOP/Method/Wrapped.pm line 164.
t/credit.t ................................. ok
t/dcc-autorization.t ....................... ok
t/dcc.t .................................... ok
t/error-exception.t ........................ ok
street deprecated check the perldoc for the actual attribute at /home/sand/src/perl/repoperls/installed-perls/host/k93msid/v5.25.8/276a/lib/site_perl/5.25.8/x86_64-linux-thread-multi/Class/MOP/Method/Wrapped.pm line 164.
t/exceptions.t ............................. ok
t/factory-request.t ........................ ok
t/invoiceheader.t .......................... ok
t/item-serialization.t ..................... ok
t/items.t .................................. ok
t/othertax.t ............................... ok
t/purchase-totals.t ........................ ok
t/response-removed-methods-successfully.t .. ok
t/response-sale.t .......................... ok
t/response.t ............................... ok
t/rule-expired-card.t ...................... skipped: Unable to send with fake credentials. Set both PERL_BUSINESS_CYBERSOURCE_USERNAME and PERL_BUSINESS_CYBERSOURCE_PASSWORD in the environment
t/rule-request-id-is-zero.t ................ skipped: Unable to send with fake credentials. Set both PERL_BUSINESS_CYBERSOURCE_USERNAME and PERL_BUSINESS_CYBERSOURCE_PASSWORD in the environment
t/service.t ................................ ok
t/shipfrom.t ............................... ok
t/shipto-exceptions.t ...................... ok
t/shipto.t ................................. ok
All tests successful.
Files=30, Tests=313, 129 wallclock secs ( 0.11 usr  0.18 sys + 63.73 cusr  8.16 csys = 72.18 CPU)
Result: PASS

------------------------------
PREREQUISITES
------------------------------

Prerequisite modules loaded:

requires:

    Module                                       Need     Have    
    -------------------------------------------- -------- --------
    Business::CreditCard                         0.32     0.36    
    DateTime::Format::W3CDTF                     0.06     0.06    
    File::ShareDir::ProjectDistDir               1.000    1.000008
    LWP::Protocol::https                         0        6.07    
    Module::Load                                 0        0.32    
    Module::Runtime                              0        0.014   
    Moose                                        0        2.2004  
    Moose::Exception                             0        2.2004  
    Moose::Exception::AttributeIsRequired        0        2.2004  
    Moose::Role                                  0        2.2004  
    Moose::Util                                  0        2.2004  
    Moose::Util::TypeConstraints                 0        2.2004  
    MooseX::AbstractFactory                      0        0.004003
    MooseX::Aliases                              0        0.11    
    MooseX::RemoteHelper                         0        0.001021
    MooseX::RemoteHelper::CompositeSerialization 0        0.001021
    MooseX::RemoteHelper::Types                  0        0.001021
    MooseX::SetOnce                              0.200001 0.200002
    MooseX::Types                                0        0.49    
    MooseX::Types::Common::Numeric               0.001003 0.001014
    MooseX::Types::Common::String                0.001005 0.001014
    MooseX::Types::CreditCard                    0.002    0.002003
    MooseX::Types::DateTime                      0        0.13    
    MooseX::Types::DateTime::W3C                 0        1.103360
    MooseX::Types::Email                         0        0.007   
    MooseX::Types::Locale::Country               0        0.05    
    MooseX::Types::Locale::Currency              0        0.001005
    MooseX::Types::Moose                         0        0.49    
    MooseX::Types::NetAddr::IP                   0        0.07    
    MooseY::RemoteHelper::MessagePart            0        0.001021
    MooseY::RemoteHelper::Role::Client           0        0.001021
    namespace::autoclean                         0        0.28    
    perl                                         5.010    5.025008
    strict                                       0        1.11    
    Type::Params                                 0        1.000005
    Type::Utils                                  0.040    1.000005
    Types::Standard                              0        1.000005
    warnings                                     0        1.37    
    XML::Compile::SOAP11                         0        3.21    
    XML::Compile::SOAP::WSS                      1.04     1.13    
    XML::Compile::Transport::SOAPHTTP            0        3.21    
    XML::Compile::WSDL11                         0        3.06    

build_requires:

    Module                                       Need     Have    
    -------------------------------------------- -------- --------
    blib                                         1.01     1.06    
    Business::CreditCard                         0.32     0.36    
    DateTime                                     0        1.42    
    ExtUtils::MakeMaker                          0        7.24    
    File::Spec                                   0        3.66    
    FindBin                                      0        1.51    
    IO::Handle                                   0        1.36    
    IPC::Open3                                   0        1.20    
    lib                                          0        0.63    
    Test::Deep                                   0        1.126   
    Test::Fatal                                  0        0.014   
    Test::Method                                 0        0.001002
    Test::Moose                                  0        2.2004  
    Test::More                                   0        1.302078
    Test::Requires                               0        0.10    

configure_requires:

    Module                                       Need     Have    
    -------------------------------------------- -------- --------
    ExtUtils::MakeMaker                          0        7.24    
    File::ShareDir::Install                      0.06     0.11    


------------------------------
ENVIRONMENT AND OTHER CONTEXT
------------------------------

Environment variables:

    AUTOMATED_TESTING = 1
    LANG = en_US.UTF-8
    PATH = /home/sand/bin:/usr/local/bin:/usr/bin:/bin:/usr/games:/usr/local/perl/bin:/usr/X11/bin:/sbin:/usr/sbin
    PERL5LIB = 
    PERL5OPT = 
    PERL5_CPANPLUS_IS_RUNNING = 16500
    PERL5_CPAN_IS_RUNNING = 16500
    PERL_CANARY_STABILITY_NOPROMPT = 1
    PERL_MM_USE_DEFAULT = 1
    PERL_USE_UNSAFE_INC = 1
    SHELL = /usr/bin/zsh
    TERM = screen

Perl special variables (and OS-specific diagnostics, for MSWin32):

    $^X = /home/sand/src/perl/repoperls/installed-perls/host/k93msid/v5.25.8/276a/bin/perl
    $UID/$EUID = 1005 / 1005
    $GID = 1005 1005
    $EGID = 1005 1005

Perl module toolchain versions installed:

    Module              Have      
    ------------------- ----------
    CPAN                2.17      
    CPAN::Meta          2.150010  
    Cwd                 3.66      
    ExtUtils::CBuilder  0.280225  
    ExtUtils::Command   7.24      
    ExtUtils::Install   2.04      
    ExtUtils::MakeMaker 7.24      
    ExtUtils::Manifest  1.70      
    ExtUtils::ParseXS   3.30      
    File::Spec          3.66      
    JSON                2.91_04   
    JSON::PP            2.27400_02
    Module::Build       0.4220    
    Module::Signature   0.81      
    Parse::CPAN::Meta   2.150010  
    Test::Harness       3.37_01   
    Test::More          1.302078  
    YAML                1.23      
    YAML::Syck          1.29      
    version             0.9917    


--

Summary of my perl5 (revision 5 version 25 subversion 8) configuration:
  Commit id: ee155a491947e3524243994320d7e60f9332bcaf
  Platform:
    osname=linux
    osvers=4.8.0-2-amd64
    archname=x86_64-linux-thread-multi
    uname='linux k93msid 4.8.0-2-amd64 #1 smp debian 4.8.11-1 (2016-12-02) x86_64 gnulinux '
    config_args='-Dprefix=/home/sand/src/perl/repoperls/installed-perls/host/k93msid/v5.25.8/276a -Dmyhostname=k93msid -Dinstallusrbinperl=n -Uversiononly -Dusedevel -des -Ui_db -Dlibswanted=cl pthread socket inet nsl gdbm dbm malloc dl ld sun m crypt sec util c cposix posix ucb BSD gdbm_compat -Duseithreads -Uuselongdouble -DDEBUGGING=both'
    hint=recommended
    useposix=true
    d_sigaction=define
    useithreads=define
    usemultiplicity=define
    use64bitint=define
    use64bitall=define
    uselongdouble=undef
    usemymalloc=n
    bincompat5005=undef
  Compiler:
    cc='cc'
    ccflags ='-D_REENTRANT -D_GNU_SOURCE -fwrapv -DDEBUGGING -fno-strict-aliasing -pipe -fstack-protector-strong -I/usr/local/include -D_LARGEFILE_SOURCE -D_FILE_OFFSET_BITS=64'
    optimize='-O2 -g'
    cppflags='-D_REENTRANT -D_GNU_SOURCE -fwrapv -DDEBUGGING -fno-strict-aliasing -pipe -fstack-protector-strong -I/usr/local/include'
    ccversion=''
    gccversion='6.2.1 20161124'
    gccosandvers=''
    intsize=4
    longsize=8
    ptrsize=8
    doublesize=8
    byteorder=12345678
    doublekind=3
    d_longlong=define
    longlongsize=8
    d_longdbl=define
    longdblsize=16
    longdblkind=3
    ivtype='long'
    ivsize=8
    nvtype='double'
    nvsize=8
    Off_t='off_t'
    lseeksize=8
    alignbytes=8
    prototype=define
  Linker and Libraries:
    ld='cc'
    ldflags =' -fstack-protector-strong -L/usr/local/lib'
    libpth=/usr/local/lib /usr/lib/gcc/x86_64-linux-gnu/6/include-fixed /usr/include/x86_64-linux-gnu /usr/lib /lib/x86_64-linux-gnu /lib/../lib /usr/lib/x86_64-linux-gnu /usr/lib/../lib /lib
    libs=-lpthread -lnsl -ldl -lm -lcrypt -lutil -lc
    perllibs=-lpthread -lnsl -ldl -lm -lcrypt -lutil -lc
    libc=libc-2.24.so
    so=so
    useshrplib=false
    libperl=libperl.a
    gnulibc_version='2.24'
  Dynamic Linking:
    dlsrc=dl_dlopen.xs
    dlext=so
    d_dlsymun=undef
    ccdlflags='-Wl,-E'
    cccdlflags='-fPIC'
    lddlflags='-shared -O2 -g -L/usr/local/lib -fstack-protector-strong'


Characteristics of this binary (from libperl): 
  Compile-time options:
    DEBUGGING
    HAS_TIMES
    MULTIPLICITY
    PERLIO_LAYERS
    PERL_COPY_ON_WRITE
    PERL_DONT_CREATE_GVSV
    PERL_IMPLICIT_CONTEXT
    PERL_MALLOC_WRAP
    PERL_OP_PARENT
    PERL_PRESERVE_IVUV
    PERL_TRACK_MEMPOOL
    PERL_USE_DEVEL
    USE_64_BIT_ALL
    USE_64_BIT_INT
    USE_ITHREADS
    USE_LARGE_FILES
    USE_LOCALE
    USE_LOCALE_COLLATE
    USE_LOCALE_CTYPE
    USE_LOCALE_NUMERIC
    USE_LOCALE_TIME
    USE_PERLIO
    USE_PERL_ATOF
    USE_REENTRANT_API
  Built under linux
  Compiled at Dec 22 2016 20:12:34
  %ENV:
    PERL5LIB=""
    PERL5OPT=""
    PERL5_CPANPLUS_IS_RUNNING="16500"
    PERL5_CPAN_IS_RUNNING="16500"
    PERL_CANARY_STABILITY_NOPROMPT="1"
    PERL_MM_USE_DEFAULT="1"
    PERL_USE_UNSAFE_INC="1"
  @INC:
    /home/sand/src/perl/repoperls/installed-perls/host/k93msid/v5.25.8/276a/lib/site_perl/5.25.8/x86_64-linux-thread-multi
    /home/sand/src/perl/repoperls/installed-perls/host/k93msid/v5.25.8/276a/lib/site_perl/5.25.8
    /home/sand/src/perl/repoperls/installed-perls/host/k93msid/v5.25.8/276a/lib/5.25.8/x86_64-linux-thread-multi
    /home/sand/src/perl/repoperls/installed-perls/host/k93msid/v5.25.8/276a/lib/5.25.8
    .