DBIx-Custom v0.41 Perl 5 v5.24.3 i86pc-solaris
- Status
- Pass
- From
- Serguei Trouchelle (STRO)
- Dist
-
DBIx-Custom v0.41
- Platform
- Perl 5 v5.24.3 i86pc-solaris
- Date
- 2018-02-05 08:22:34
- ID
- b79b1038-0a4d-11e8-a264-993a4b9d12ec
This distribution has been tested as part of the CPAN Testers
project, supporting the Perl programming language. See
http://wiki.cpantesters.org/ for more information or email
questions to cpan-testers-discuss@perl.org
--
Dear Yuki Kimoto,
This is a computer-generated report for DBIx-Custom-0.41
on perl 5.24.3, created by CPAN-Reporter-1.2018.
Thank you for uploading your work to CPAN. Congratulations!
All tests were successful.
Sections of this report:
* Tester comments
* Program output
* Prerequisites
* Environment and other context
------------------------------
TESTER COMMENTS
------------------------------
Additional comments from tester:
this report is from an automated smoke testing program
and was not reviewed by a human for accuracy
------------------------------
PROGRAM OUTPUT
------------------------------
Output from '/usr/bin/make test':
PERL_DL_NONLAZY=1 "/home/stro/perl/5.24.3/bin/perl" "-MExtUtils::Command::MM" "-MTest::Harness" "-e" "undef *Test::Harness::Switches; test_harness(0, 'blib/lib', 'blib/arch')" t/*.t t/next/*.t
t/access.t ....................... skipped: Microsoft access(ODBC, *.mdb) private test
t/access2007-accdb.t ............. skipped: Microsoft access(ODBC, *.accdb(2007)) private test
t/access2010-accdb.t ............. skipped: Microsoft access(ODBC, *.accdb(2010)) private test
t/common-mysql-fullqualified.t ... skipped: mysql private test
t/common-mysql.t ................. skipped: mysql private test
t/common-oracle.t ................ skipped: oracle private test
t/common-postgresql.t ............ skipped: postgresql private test
t/common-sqlite-fullqualified.t .. ok
DBI::db=HASH(0x8955fb0)->disconnect invalidates 1 active statement handle (either destroy statement handles or call finish on them before disconnecting) at /home/stro/perl/5.24.3/lib/site_perl/5.24.3/DBIx/Connector.pm line 141.
t/common-sqlite-quote.t .......... ok
t/common-sqlite.t ................ ok
t/common-sqlserver.t ............. skipped: sqlserver private test
t/common.t ....................... skipped: common.t is always skipped
t/mysql-async.t .................. skipped: mysql private test
t/mysql.t ........................ skipped: mysql private test
t/mysql2.t ....................... skipped: mysql private test
t/sqlite-quote.t ................. ok
t/sqlite.t ....................... ok
All tests successful.
Files=17, Tests=1296, 11 wallclock secs ( 0.38 usr 0.10 sys + 8.39 cusr 1.17 csys = 10.04 CPU)
Result: PASS
------------------------------
PREREQUISITES
------------------------------
Prerequisite modules loaded:
requires:
Module Need Have
------------------- ----- --------
DBD::SQLite 1.25 1.54
DBI 1.605 1.639
DBIx::Connector 0.56 0.56
Object::Simple 3.1 3.19
Test::More 0 1.302120
build_requires:
Module Need Have
------------------- ----- --------
ExtUtils::MakeMaker 0 7.30
configure_requires:
Module Need Have
------------------- ----- --------
ExtUtils::MakeMaker 0 7.30
------------------------------
ENVIRONMENT AND OTHER CONTEXT
------------------------------
Environment variables:
AUTOMATED_TESTING = 1
LANG = en_US.UTF-8
PATH = /usr/gnu/bin:/usr/bin:/usr/sbin:/sbin:/usr/sfw/bin:
PERL5LIB =
PERL5OPT =
PERL5_CPANPLUS_IS_RUNNING = 8589
PERL5_CPAN_IS_RUNNING = 8589
PERL5_CPAN_IS_RUNNING_IN_RECURSION = 1928,8589
PERL_CR_SMOKER_CURRENT = Mojolicious-Plugin-DBIxCustom-0.1.2
PERL_EXTUTILS_AUTOINSTALL = --defaultdeps
PERL_MM_USE_DEFAULT = 1
SHELL = /bin/bash
TERM = xterm-256color
Perl special variables (and OS-specific diagnostics, for MSWin32):
$^X = /home/stro/perl/5.24.3/bin/perl
$UID/$EUID = 101 / 101
$GID = 10 10
$EGID = 10 10
Perl module toolchain versions installed:
Module Have
------------------- ----------
CPAN 2.16
CPAN::Meta 2.150005
Cwd 3.63_01
ExtUtils::CBuilder 0.280225
ExtUtils::Command 7.30
ExtUtils::Install 2.06
ExtUtils::MakeMaker 7.30
ExtUtils::Manifest 1.70
ExtUtils::ParseXS 3.31
File::Spec 3.63_01
JSON 2.94
JSON::PP 2.94
Module::Build 0.4224
Module::Signature n/a
Parse::CPAN::Meta 1.4417_001
Test::Harness 3.36_01
Test::More 1.302120
YAML 1.23
YAML::Syck 1.30
version 0.9916
--
Summary of my perl5 (revision 5 version 24 subversion 3) configuration:
Platform:
osname=solaris, osvers=2.11, archname=i86pc-solaris
uname='sunos vm-openindiana-001 5.11 illumos-ed992b0aac i86pc i386 i86pc solaris '
config_args=''
hint=recommended, useposix=true, d_sigaction=define
useithreads=undef, usemultiplicity=undef
use64bitint=undef, use64bitall=undef, uselongdouble=undef
usemymalloc=n, bincompat5005=undef
Compiler:
cc='/opt/SUNWspro/bin/cc', ccflags ='-I/usr/gnu/include -D_LARGEFILE_SOURCE -D_FILE_OFFSET_BITS=64 -DPERL_USE_SAFE_PUTENV',
optimize='-O',
cppflags='-I/usr/gnu/include'
ccversion='Sun C 5.10 SunOS_i386 2009/06/03', gccversion='', gccosandvers=''
intsize=4, longsize=4, ptrsize=4, doublesize=8, byteorder=1234, doublekind=3
d_longlong=define, longlongsize=8, d_longdbl=define, longdblsize=12, longdblkind=3
ivtype='long', ivsize=4, nvtype='double', nvsize=8, Off_t='off_t', lseeksize=8
alignbytes=4, prototype=define
Linker and Libraries:
ld='/opt/SUNWspro/bin/cc', ldflags =' -L/usr/lib -L/usr/ccs/lib -L/opt/sunstudio12.1/prod/lib -L/lib -L/usr/gnu/lib '
libpth=/usr/lib /usr/ccs/lib /opt/sunstudio12.1/prod/lib /lib /usr/gnu/lib
libs=-lpthread -lsocket -lnsl -lgdbm -ldb -ldl -lm -lc
perllibs=-lpthread -lsocket -lnsl -ldl -lm -lc
libc=/lib/libc.so, so=so, useshrplib=true, libperl=libperl.so
gnulibc_version=''
Dynamic Linking:
dlsrc=dl_dlopen.xs, dlext=so, d_dlsymun=undef, ccdlflags=' -R /home/stro/perl/5.24.3/lib/5.24.3/i86pc-solaris/CORE'
cccdlflags='-KPIC', lddlflags='-G -L/usr/lib -L/usr/ccs/lib -L/opt/sunstudio12.1/prod/lib -L/lib -L/usr/gnu/lib'
Characteristics of this binary (from libperl):
Compile-time options: HAS_TIMES PERLIO_LAYERS PERL_COPY_ON_WRITE
PERL_DONT_CREATE_GVSV
PERL_HASH_FUNC_ONE_AT_A_TIME_HARD PERL_MALLOC_WRAP
PERL_PRESERVE_IVUV PERL_USE_SAFE_PUTENV
USE_LARGE_FILES USE_LOCALE USE_LOCALE_COLLATE
USE_LOCALE_CTYPE USE_LOCALE_NUMERIC USE_LOCALE_TIME
USE_PERLIO USE_PERL_ATOF
Built under solaris
Compiled at Sep 22 2017 19:07:15
%ENV:
PERL5LIB=""
PERL5OPT=""
PERL5_CPANPLUS_IS_RUNNING="8589"
PERL5_CPAN_IS_RUNNING="8589"
PERL5_CPAN_IS_RUNNING_IN_RECURSION="1928,8589"
PERL_CR_SMOKER_CURRENT="Mojolicious-Plugin-DBIxCustom-0.1.2"
PERL_EXTUTILS_AUTOINSTALL="--defaultdeps"
PERL_MM_USE_DEFAULT="1"
@INC:
/home/stro/perl/5.24.3/lib/site_perl/5.24.3/i86pc-solaris
/home/stro/perl/5.24.3/lib/site_perl/5.24.3
/home/stro/perl/5.24.3/lib/5.24.3/i86pc-solaris
/home/stro/perl/5.24.3/lib/5.24.3
.