SReview v0.5.1 Perl 5 v5.28.1 amd64-freebsd-ld
- Status
- Pass
- From
- Slaven Rezić (SREZIC)
- Dist
-
SReview v0.5.1
- Platform
- Perl 5 v5.28.1 amd64-freebsd-ld
- Date
- 2020-01-26 08:41:59
- ID
- b7719ba2-4017-11ea-b8c6-9c261f24ea8f
This distribution has been tested as part of the CPAN Testers
project, supporting the Perl programming language. See
http://wiki.cpantesters.org/ for more information or email
questions to cpan-testers-discuss@perl.org
--
Dear Wouter Verhelst,
This is a computer-generated report for SReview-0.5.1
on perl 5.28.1, created by CPAN-Reporter-1.2018.
Thank you for uploading your work to CPAN. Congratulations!
All tests were successful.
Sections of this report:
* Tester comments
* Program output
* Prerequisites
* Environment and other context
------------------------------
TESTER COMMENTS
------------------------------
Additional comments from tester:
none provided
------------------------------
PROGRAM OUTPUT
------------------------------
Output from '/usr/bin/make test':
PERL_DL_NONLAZY=1 "/usr/perl5.28.1Dp/bin/perl5.28.1" "-MExtUtils::Command::MM" "-MTest::Harness" "-e" "undef *Test::Harness::Switches; test_harness(0, 'blib/lib', 'blib/arch')" t/*.t
t/010-config.t ...... ok
t/020-convert.t ..... ok
t/030-copy.t ........ ok
Name "Devel::MAT::Dumper::HELPER_PER_MAGIC" used only once: possible typo at /usr/perl5.28.1Dp/lib/5.28.1/XSLoader.pm line 111.
t/040-db.t .......... ok
t/050-probe.t ....... ok
t/060-profiles.t .... ok
Codec AVOption speed () specified for output file #0 (t/testvids/out.ts) has not been used for any stream. The most likely reason is either wrong type (e.g. a video option with no video streams) or that it is a private option of some encoder which was not actually used for any stream.
t/070-reporting.t ... ok
Name "Devel::MAT::Dumper::HELPER_PER_MAGIC" used only once: possible typo at /usr/perl5.28.1Dp/lib/5.28.1/XSLoader.pm line 111.
t/080-runthrough.t .. ok
Name "Devel::MAT::Dumper::HELPER_PER_MAGIC" used only once: possible typo at /usr/perl5.28.1Dp/lib/5.28.1/XSLoader.pm line 111.
Warning: could not find configuration file /etc/sreview/config.pm, falling back to defaults at /usr/home/cpansand/.cpan/build/2020012608/SReview-0.5.1-3/blib/lib/SReview/Config/Common.pm line 30.
t/090-talk.t ........ ok
Name "Devel::MAT::Dumper::HELPER_PER_MAGIC" used only once: possible typo at /usr/perl5.28.1Dp/lib/5.28.1/XSLoader.pm line 111.
Warning: could not find configuration file /etc/sreview/config.pm, falling back to defaults at /usr/home/cpansand/.cpan/build/2020012608/SReview-0.5.1-3/blib/lib/SReview/Config/Common.pm line 30.
t/095-files.t ....... ok
Warning: could not find configuration file /etc/sreview/config.pm, falling back to defaults at /usr/home/cpansand/.cpan/build/2020012608/SReview-0.5.1-3/blib/lib/SReview/Config/Common.pm line 30.
Name "Devel::MAT::Dumper::HELPER_PER_MAGIC" used only once: possible typo at /usr/perl5.28.1Dp/lib/5.28.1/XSLoader.pm line 111.
t/100-mojo.t ........ ok
All tests successful.
Files=11, Tests=139, 18 wallclock secs ( 0.09 usr 0.05 sys + 20.48 cusr 2.63 csys = 23.25 CPU)
Result: PASS
------------------------------
PREREQUISITES
------------------------------
Prerequisite modules loaded:
requires:
Module Need Have
----------------------------------- ---- --------
DateTime 0 1.51
DateTime::Format::ISO8601 0 0.08
Mojo::JSON 0 0
Mojo::Pg 0 4.16
Mojolicious::Plugin::OAuth2::Server 0 0.44
Moose 0 2.2012
Net::Amazon::S3 0 0.87
build_requires:
Module Need Have
----------------------------------- ---- --------
ExtUtils::MakeMaker 0 7.42
Test::More 0 1.302171
configure_requires:
Module Need Have
----------------------------------- ---- --------
ExtUtils::MakeMaker 0 7.42
------------------------------
ENVIRONMENT AND OTHER CONTEXT
------------------------------
Environment variables:
PATH = /usr/local/bin:/usr/bin:/bin:/usr/local/sbin:/usr/sbin:/sbin:/home/cpansand/bin/sh:/home/cpansand/bin:/usr/games:/home/cpansand/devel:/usr/home/eserte/src/srezic-misc/scripts
PERL5LIB =
PERL5OPT =
PERL5_CPANPLUS_IS_RUNNING = 14806
PERL5_CPAN_IS_RUNNING = 14806
PERL5_CPAN_IS_RUNNING_IN_RECURSION = 9103,14806
PERL_BATCH = yes
PERL_CANARY_STABILITY_NOPROMPT = 1
PERL_CPAN_REPORTER_CONFIG = /var/tmp/cpansmoker-1023/2020012608/cpanreporter_000_config.ini
PERL_EXTUTILS_AUTOINSTALL = --defaultdeps
PERL_USE_UNSAFE_INC = 1
SHELL = /bin/sh
TMPDIR = /var/tmp/cpansmoker-1023/2020012608
Perl special variables (and OS-specific diagnostics, for MSWin32):
$^X = /usr/perl5.28.1Dp/bin/perl5.28.1
$UID/$EUID = 1023 / 1023
$GID = 1023 1023
$EGID = 1023 1023
Perl module toolchain versions installed:
Module Have
------------------- --------
CPAN 2.27
CPAN::Meta 2.150010
Cwd 3.75
ExtUtils::CBuilder 0.280231
ExtUtils::Command 7.42
ExtUtils::Install 2.14
ExtUtils::MakeMaker 7.42
ExtUtils::Manifest 1.70
ExtUtils::ParseXS 3.39
File::Spec 3.75
JSON 4.02
JSON::PP 4.04
Module::Build 0.4229
Module::Signature 0.83
Parse::CPAN::Meta 2.150010
Test::Harness 3.42
Test::More 1.302171
YAML 1.29
YAML::Syck 1.31
version 0.9923
--
Summary of my perl5 (revision 5 version 28 subversion 1) configuration:
Platform:
osname=freebsd
osvers=12.0-stable
archname=amd64-freebsd-ld
uname='freebsd cloud1.bbbike.org 12.0-stable freebsd 12.0-stable 851f4c1257c(stable12) generic amd64 '
config_args='-ds -e -Dprefix=/usr/perl5.28.1Dp -Duselongdouble -Dcf_email=srezic@cpan.org -Doptimize=-O2 -pipe'
hint=recommended
useposix=true
d_sigaction=define
useithreads=undef
usemultiplicity=undef
use64bitint=define
use64bitall=define
uselongdouble=define
usemymalloc=n
default_inc_excludes_dot=define
bincompat5005=undef
Compiler:
cc='cc'
ccflags ='-DHAS_FPSETMASK -DHAS_FLOATINGPOINT_H -fno-strict-aliasing -pipe -fstack-protector-strong -I/usr/local/include -D_FORTIFY_SOURCE=2'
optimize='-O2 -pipe'
cppflags='-DHAS_FPSETMASK -DHAS_FLOATINGPOINT_H -fno-strict-aliasing -pipe -fstack-protector-strong -I/usr/local/include'
ccversion=''
gccversion='4.2.1 Compatible FreeBSD Clang 7.0.1 (tags/RELEASE_701/final 349250)'
gccosandvers=''
intsize=4
longsize=8
ptrsize=8
doublesize=8
byteorder=12345678
doublekind=3
d_longlong=define
longlongsize=8
d_longdbl=define
longdblsize=16
longdblkind=3
ivtype='long'
ivsize=8
nvtype='long double'
nvsize=16
Off_t='off_t'
lseeksize=8
alignbytes=16
prototype=define
Linker and Libraries:
ld='cc'
ldflags ='-pthread -Wl,-E -fstack-protector-strong -L/usr/local/lib'
libpth=/usr/lib /usr/local/lib /usr/lib/clang/7.0.1/lib /usr/lib
libs=-lpthread -lgdbm -ldl -lm -lcrypt -lutil -lc
perllibs=-lpthread -ldl -lm -lcrypt -lutil -lc
libc=
so=so
useshrplib=false
libperl=libperl.a
gnulibc_version=''
Dynamic Linking:
dlsrc=dl_dlopen.xs
dlext=so
d_dlsymun=undef
ccdlflags=' '
cccdlflags='-DPIC -fPIC'
lddlflags='-shared -L/usr/local/lib -fstack-protector-strong'
Characteristics of this binary (from libperl):
Compile-time options:
HAS_TIMES
PERLIO_LAYERS
PERL_COPY_ON_WRITE
PERL_DONT_CREATE_GVSV
PERL_MALLOC_WRAP
PERL_OP_PARENT
PERL_PRESERVE_IVUV
USE_64_BIT_ALL
USE_64_BIT_INT
USE_LARGE_FILES
USE_LOCALE
USE_LOCALE_COLLATE
USE_LOCALE_CTYPE
USE_LOCALE_NUMERIC
USE_LOCALE_TIME
USE_LONG_DOUBLE
USE_PERLIO
USE_PERL_ATOF
Built under freebsd
Compiled at Mar 25 2019 22:00:02
%ENV:
PERL5LIB=""
PERL5OPT=""
PERL5_CPANPLUS_IS_RUNNING="14806"
PERL5_CPAN_IS_RUNNING="14806"
PERL5_CPAN_IS_RUNNING_IN_RECURSION="9103,14806"
PERL_BATCH="yes"
PERL_CANARY_STABILITY_NOPROMPT="1"
PERL_CPAN_REPORTER_CONFIG="/var/tmp/cpansmoker-1023/2020012608/cpanreporter_000_config.ini"
PERL_EXTUTILS_AUTOINSTALL="--defaultdeps"
PERL_USE_UNSAFE_INC="1"
@INC:
/usr/perl5.28.1Dp/lib/site_perl/5.28.1/amd64-freebsd-ld
/usr/perl5.28.1Dp/lib/site_perl/5.28.1
/usr/perl5.28.1Dp/lib/5.28.1/amd64-freebsd-ld
/usr/perl5.28.1Dp/lib/5.28.1
.