Report for Dist-Zilla-Plugin-CheckExtraTests-0.023

Back
From: metabase:user:30ae4450-2aae-11df-837a-5e0a49663a4f
Subject: PASS Dist-Zilla-Plugin-CheckExtraTests-0.023 v5.18.2 
Date: 2014-10-31T19:57:48Z

This distribution has been tested as part of the CPAN Testers
project, supporting the Perl programming language.  See
http://wiki.cpantesters.org/ for more information or email
questions to cpan-testers-discuss@perl.org


--
Dear David Golden,

This is a computer-generated report for Dist-Zilla-Plugin-CheckExtraTests-0.023
on perl 5.18.2, created by CPAN-Reporter-1.2010_01.

Thank you for uploading your work to CPAN.  Congratulations!
All tests were successful.

Sections of this report:

    * Tester comments
    * Program output
    * Prerequisites
    * Environment and other context

------------------------------
TESTER COMMENTS
------------------------------

Additional comments from tester:

this report is from an automated smoke testing program
and was not reviewed by a human for accuracy

------------------------------
PROGRAM OUTPUT
------------------------------

Output from 'C:\strawberry182\c\bin\dmake.exe test':

C:\strawberry182\perl\bin\perl.exe "-MExtUtils::Command::MM" "-MTest::Harness" "-e" "undef *Test::Harness::Switches; test_harness(0, 'blib\lib', 'blib\arch')" t/*.t
# 
# Versions for all modules listed in MYMETA.json (including optional ones):
# 
# === Configure Requires ===
# 
#     Module              Want Have
#     ------------------- ---- ----
#     ExtUtils::MakeMaker 6.17 6.84
# 
# === Build Requires ===
# 
#     Module              Want Have
#     ------------------- ---- ----
#     ExtUtils::MakeMaker  any 6.84
# 
# === Test Requires ===
# 
#     Module                   Want     Have
#     ------------------------ ---- --------
#     Capture::Tiny             any     0.23
#     Dist::Zilla::App::Tester  any    5.023
#     Dist::Zilla::Tester       any    5.023
#     ExtUtils::MakeMaker       any     6.84
#     File::Spec                any     3.40
#     Params::Util              any     1.07
#     Sub::Exporter             any    0.987
#     Test::More               0.88 1.001002
#     Test::Requires            any     0.07
#     Try::Tiny                 any     0.18
#     lib                       any     0.63
# 
# === Test Recommends ===
# 
#     Module         Want     Have
#     ---------- -------- --------
#     CPAN::Meta 2.120900 2.142690
# 
# === Runtime Requires ===
# 
#     Module                            Want   Have
#     -------------------------------- ----- ------
#     App::Prove                        3.00   3.30
#     Archive::Tar                       any   1.96
#     Dist::Zilla                        4.3  5.023
#     Dist::Zilla::App                   any  5.023
#     Dist::Zilla::Role::BeforeRelease   any  5.023
#     Dist::Zilla::Role::TestRunner      any  5.023
#     File::pushd                        any  1.005
#     Moose                                2 2.1204
#     Path::Iterator::Rule               any  1.008
#     Path::Tiny                       0.013  0.052
#     namespace::autoclean              0.09   0.15
#     strict                             any   1.07
#     warnings                           any   1.18
# 
t/00-report-prereqs.t .. ok
t/checkxt.t ............ ok
t/runxt.t .............. ok
t/withblib.t ........... ok
All tests successful.
Files=4, Tests=16, 33 wallclock secs ( 0.09 usr +  0.02 sys =  0.11 CPU)
Result: PASS

------------------------------
PREREQUISITES
------------------------------

Prerequisite modules loaded:

requires:

    Module                           Need  Have    
    -------------------------------- ----- --------
    App::Prove                       3.00  3.30    
    Archive::Tar                     0     1.96    
    Dist::Zilla                      4.3   5.023   
    Dist::Zilla::App                 0     5.023   
    Dist::Zilla::Role::BeforeRelease 0     5.023   
    Dist::Zilla::Role::TestRunner    0     5.023   
    File::pushd                      0     1.005   
    Moose                            2     2.1204  
    namespace::autoclean             0.09  0.15    
    Path::Iterator::Rule             0     1.008   
    Path::Tiny                       0.013 0.052   
    perl                             5.006 5.018002
    strict                           0     1.07    
    warnings                         0     1.18    

build_requires:

    Module                           Need  Have    
    -------------------------------- ----- --------
    Capture::Tiny                    0     0.23    
    Dist::Zilla::App::Tester         0     5.023   
    Dist::Zilla::Tester              0     5.023   
    ExtUtils::MakeMaker              0     6.84    
    File::Spec                       0     3.40    
    lib                              0     0.63    
    Params::Util                     0     1.07    
    Sub::Exporter                    0     0.987   
    Test::More                       0.88  1.001002
    Test::Requires                   0     0.07    
    Try::Tiny                        0     0.18    

configure_requires:

    Module                           Need  Have    
    -------------------------------- ----- --------
    ExtUtils::MakeMaker              6.17  6.84    
    perl                             5.006 5.018002


------------------------------
ENVIRONMENT AND OTHER CONTEXT
------------------------------

Environment variables:

    AUTOMATED_TESTING = 1
    COMSPEC = C:\WINDOWS\system32\cmd.exe
    NUMBER_OF_PROCESSORS = 1
    PATH = C:\Program Files\Far Manager\;C:\WINDOWS\system32;C:\WINDOWS;C:\WINDOWS\System32\Wbem;C:\strawberry182\c\bin;C:\strawberry182\perl\site\bin;C:\strawberry182\perl\bin
    PERL5LIB = C:\strawberry182\cpan\build\Dist-Zilla-5.023-2yrHm7/blib/arch;C:\strawberry182\cpan\build\Dist-Zilla-5.023-2yrHm7/blib/lib;C:\strawberry182\cpan\build\ExtUtils-Manifest-1.68-RNt6s8/blib/arch;C:\strawberry182\cpan\build\ExtUtils-Manifest-1.68-RNt6s8/blib/lib;C:\strawberry182\cpan\build\CPAN-Meta-2.142690-OIf3sh/blib/arch;C:\strawberry182\cpan\build\CPAN-Meta-2.142690-OIf3sh/blib/lib
    PERL5OPT = 
    PERL5_CPANPLUS_IS_RUNNING = 1096
    PERL5_CPAN_IS_RUNNING = 1096
    PERL5_CPAN_IS_RUNNING_IN_RECURSION = 1568,1096
    PERL_CR_SMOKER_CURRENT = Dist-Zilla-Plugin-CheckExtraTests-0.023
    PERL_EXTUTILS_AUTOINSTALL = --defaultdeps
    PERL_HASH_SEED = 0x11111111
    PERL_MM_USE_DEFAULT = 1
    PROCESSOR_IDENTIFIER = x86 Family 16 Model 5 Stepping 3, AuthenticAMD
    TEMP = C:\DOCUME~1\c\LOCALS~1\Temp
    TERM = dumb

Perl special variables (and OS-specific diagnostics, for MSWin32):

    $^X = C:\strawberry182\perl\bin\perl.exe
    $UID/$EUID = 0 / 0
    $GID = 0
    $EGID = 0
    Win32::GetOSName = WinXP/.Net
    Win32::GetOSVersion = Service Pack 3, 5, 1, 2600, 2, 3, 0, 256, 1
    Win32::FsType = NTFS
    Win32::IsAdminUser = 1

Perl module toolchain versions installed:

    Module              Have    
    ------------------- --------
    CPAN                2.00    
    CPAN::Meta          2.142690
    Cwd                 3.40    
    ExtUtils::CBuilder  0.280212
    ExtUtils::Command   1.18    
    ExtUtils::Install   1.59    
    ExtUtils::MakeMaker 6.84    
    ExtUtils::Manifest  1.68    
    ExtUtils::ParseXS   3.22    
    File::Spec          3.40    
    JSON                2.90    
    JSON::PP            2.27203 
    Module::Build       0.4203  
    Module::Signature   n/a     
    Parse::CPAN::Meta   1.4414  
    Test::Harness       3.30    
    Test::More          1.001002
    YAML                0.90    
    YAML::Syck          1.27    
    version             0.9904  


--

Summary of my perl5 (revision 5 version 18 subversion 2) configuration:
   
  Platform:
    osname=MSWin32, osvers=6.2, archname=MSWin32-x86-multi-thread-64int
    uname='Win32 strawberry-perl 5.18.2.1 #1 Tue Jan  7 16:30:36 2014 i386'
    config_args='undef'
    hint=recommended, useposix=true, d_sigaction=undef
    useithreads=define, usemultiplicity=define
    useperlio=define, d_sfio=undef, uselargefiles=define, usesocks=undef
    use64bitint=define, use64bitall=undef, uselongdouble=undef
    usemymalloc=n, bincompat5005=undef
  Compiler:
    cc='gcc', ccflags =' -s -O2 -DWIN32  -DPERL_TEXTMODE_SCRIPTS -DPERL_IMPLICIT_CONTEXT -DPERL_IMPLICIT_SYS -DUSE_PERLIO -fno-strict-aliasing -mms-bitfields',
    optimize='-s -O2',
    cppflags='-DWIN32'
    ccversion='', gccversion='4.7.3', gccosandvers=''
    intsize=4, longsize=4, ptrsize=4, doublesize=8, byteorder=12345678
    d_longlong=define, longlongsize=8, d_longdbl=define, longdblsize=12
    ivtype='long long', ivsize=8, nvtype='double', nvsize=8, Off_t='long long', lseeksize=8
    alignbytes=8, prototype=define
  Linker and Libraries:
    ld='g++', ldflags ='-s -L"C:\strawberry182\perl\lib\CORE" -L"C:\strawberry182\c\lib"'
    libpth=C:\strawberry182\c\lib C:\strawberry182\c\i686-w64-mingw32\lib C:\strawberry182\c\lib\gcc\i686-w64-mingw32\4.7.3
    libs=-lmoldname -lkernel32 -luser32 -lgdi32 -lwinspool -lcomdlg32 -ladvapi32 -lshell32 -lole32 -loleaut32 -lnetapi32 -luuid -lws2_32 -lmpr -lwinmm -lversion -lodbc32 -lodbccp32 -lcomctl32
    perllibs=-lmoldname -lkernel32 -luser32 -lgdi32 -lwinspool -lcomdlg32 -ladvapi32 -lshell32 -lole32 -loleaut32 -lnetapi32 -luuid -lws2_32 -lmpr -lwinmm -lversion -lodbc32 -lodbccp32 -lcomctl32
    libc=, so=dll, useshrplib=true, libperl=libperl518.a
    gnulibc_version=''
  Dynamic Linking:
    dlsrc=dl_win32.xs, dlext=dll, d_dlsymun=undef, ccdlflags=' '
    cccdlflags=' ', lddlflags='-mdll -s -L"C:\strawberry182\perl\lib\CORE" -L"C:\strawberry182\c\lib"'


Characteristics of this binary (from libperl): 
  Compile-time options: HAS_TIMES HAVE_INTERP_INTERN MULTIPLICITY
                        PERLIO_LAYERS PERL_DONT_CREATE_GVSV
                        PERL_HASH_FUNC_ONE_AT_A_TIME_HARD
                        PERL_IMPLICIT_CONTEXT PERL_IMPLICIT_SYS
                        PERL_MALLOC_WRAP PERL_PRESERVE_IVUV PERL_SAWAMPERSAND
                        USE_64_BIT_INT USE_ITHREADS USE_LARGE_FILES
                        USE_LOCALE USE_LOCALE_COLLATE USE_LOCALE_CTYPE
                        USE_LOCALE_NUMERIC USE_PERLIO USE_PERL_ATOF
  Built under MSWin32
  Compiled at Jan  7 2014 16:39:31
  %ENV:
    PERL5LIB="C:\strawberry182\cpan\build\Dist-Zilla-5.023-2yrHm7/blib/arch;C:\strawberry182\cpan\build\Dist-Zilla-5.023-2yrHm7/blib/lib;C:\strawberry182\cpan\build\ExtUtils-Manifest-1.68-RNt6s8/blib/arch;C:\strawberry182\cpan\build\ExtUtils-Manifest-1.68-RNt6s8/blib/lib;C:\strawberry182\cpan\build\CPAN-Meta-2.142690-OIf3sh/blib/arch;C:\strawberry182\cpan\build\CPAN-Meta-2.142690-OIf3sh/blib/lib"
    PERL5_CPANPLUS_IS_RUNNING="1096"
    PERL5_CPAN_IS_RUNNING="1096"
    PERL5_CPAN_IS_RUNNING_IN_RECURSION="1568,1096"
    PERL_CR_SMOKER_CURRENT="Dist-Zilla-Plugin-CheckExtraTests-0.023"
    PERL_EXTUTILS_AUTOINSTALL="--defaultdeps"
    PERL_HASH_SEED="0x11111111"
    PERL_MM_USE_DEFAULT="1"
  @INC:
    C:\strawberry182\cpan\build\Dist-Zilla-5.023-2yrHm7/blib/arch
    C:\strawberry182\cpan\build\Dist-Zilla-5.023-2yrHm7/blib/lib
    C:\strawberry182\cpan\build\ExtUtils-Manifest-1.68-RNt6s8/blib/arch
    C:\strawberry182\cpan\build\ExtUtils-Manifest-1.68-RNt6s8/blib/lib
    C:\strawberry182\cpan\build\CPAN-Meta-2.142690-OIf3sh/blib/arch
    C:\strawberry182\cpan\build\CPAN-Meta-2.142690-OIf3sh/blib/lib
    C:/strawberry182/perl/site/lib
    C:/strawberry182/perl/vendor/lib
    C:/strawberry182/perl/lib
    .