Const v0.002 Perl 5 v5.13.1 alpha-linux-thread-multi

Status
Pass
From
Chris Williams (BINGOS)
Dist
Const v0.002
Platform
Perl 5 v5.13.1 alpha-linux-thread-multi
Date
2010-07-14T01:32:50
ID
b70bd95c-8ee7-11df-a1aa-55996e8696e0
This distribution has been tested as part of the CPAN Testers
project, supporting the Perl programming language.  See
http://wiki.cpantesters.org/ for more information or email
questions to cpan-testers-discuss@perl.org


--

Dear LEONT,
    
This is a computer-generated error report created automatically by
CPANPLUS, version 0.9005. Testers personal comments may appear 
at the end of this report.

MAKE TEST passed:
# Testing Const 0.002, Perl 5.013001, /home/cpan/pit/rel/perl-5.13.1/bin/perl5.13.1
t/00-load.t ....... ok
t/10-basics.t ..... ok
t/pod-coverage.t .. skipped: Test::Pod::Coverage 1.08 required for testing POD coverage
t/pod.t ........... skipped: Test::Pod 1.22 required for testing POD
All tests successful.
Files=4, Tests=15,  1 wallclock secs ( 0.23 usr  0.04 sys +  0.78 cusr  0.12 csys =  1.16 CPU)
Result: PASS

[MSG] [Wed Jul 14 02:32:50 2010] Sending test report for 'Const-0.002'

This report was machine-generated by CPANPLUS::Dist::YACSmoke 0.58.
Powered by minismokebox version 0.26

------------------------------
ENVIRONMENT AND OTHER CONTEXT
------------------------------

Environment variables:

    AUTOMATED_TESTING = 1
    LANG = en_GB.UTF-8
    PATH = /usr/local/bin:/usr/bin:/bin:/usr/games
    PERL5LIB = :/home/cpan/pit/rel/conf/perl-5.13.1/.cpanplus/5.13.1/build/Sub-Uplevel-0.22/blib/lib:/home/cpan/pit/rel/conf/perl-5.13.1/.cpanplus/5.13.1/build/Sub-Uplevel-0.22/blib/arch:/home/cpan/pit/rel/conf/perl-5.13.1/.cpanplus/5.13.1/build/Test-Exception-0.29/blib/lib:/home/cpan/pit/rel/conf/perl-5.13.1/.cpanplus/5.13.1/build/Test-Exception-0.29/blib/arch:/home/cpan/pit/rel/conf/perl-5.13.1/.cpanplus/5.13.1/build/Const-0.002/blib/lib:/home/cpan/pit/rel/conf/perl-5.13.1/.cpanplus/5.13.1/build/Const-0.002/blib/arch
    PERL5_CPANPLUS_IS_RUNNING = 9425
    PERL5_CPANPLUS_IS_VERSION = 0.9005
    PERL5_MINISMOKEBOX = 0.26
    PERL5_YACSMOKE_BASE = /home/cpan/pit/rel/conf/perl-5.13.1
    PERL_EXTUTILS_AUTOINSTALL = --defaultdeps
    PERL_MM_USE_DEFAULT = 1
    SHELL = /bin/bash
    TERM = screen.linux

Perl special variables (and OS-specific diagnostics, for MSWin32):

    Perl: $^X = /home/cpan/pit/rel/perl-5.13.1/bin/perl5.13.1
    UID:  $<  = 1001
    EUID: $>  = 1001
    GID:  $(  = 1001 1001
    EGID: $)  = 1001 1001


-------------------------------


--

Summary of my perl5 (revision 5 version 13 subversion 1) configuration:
   
  Platform:
    osname=linux, osvers=2.6.26-2-alpha-generic, archname=alpha-linux-thread-multi
    uname='linux debauch 2.6.26-2-alpha-generic #1 tue mar 9 22:27:23 utc 2010 alpha gnulinux '
    config_args='-des -Dusedevel -Dprefix=/home/cpan/pit/rel/perl-5.13.1 -Dusethreads'
    hint=recommended, useposix=true, d_sigaction=define
    useithreads=define, usemultiplicity=define
    useperlio=define, d_sfio=undef, uselargefiles=define, usesocks=undef
    use64bitint=define, use64bitall=define, uselongdouble=undef
    usemymalloc=n, bincompat5005=undef
  Compiler:
    cc='cc', ccflags ='-D_REENTRANT -D_GNU_SOURCE -fno-strict-aliasing -pipe -I/usr/local/include -D_LARGEFILE_SOURCE -D_FILE_OFFSET_BITS=64',
    optimize='-O2',
    cppflags='-D_REENTRANT -D_GNU_SOURCE -fno-strict-aliasing -pipe -I/usr/local/include'
    ccversion='', gccversion='4.2.4 (Debian 4.2.4-6)', gccosandvers=''
    intsize=4, longsize=8, ptrsize=8, doublesize=8, byteorder=12345678
    d_longlong=define, longlongsize=8, d_longdbl=define, longdblsize=16
    ivtype='long', ivsize=8, nvtype='double', nvsize=8, Off_t='off_t', lseeksize=8
    alignbytes=8, prototype=define
  Linker and Libraries:
    ld='cc', ldflags =' -L/usr/local/lib'
    libpth=/usr/local/lib /lib /usr/lib
    libs=-lnsl -ldl -lm -lcrypt -lutil -lpthread -lc
    perllibs=-lnsl -ldl -lm -lcrypt -lutil -lpthread -lc
    libc=, so=so, useshrplib=false, libperl=libperl.a
    gnulibc_version='2.7'
  Dynamic Linking:
    dlsrc=dl_dlopen.xs, dlext=so, d_dlsymun=undef, ccdlflags='-Wl,-E'
    cccdlflags='-fPIC', lddlflags='-shared -O2 -L/usr/local/lib'


Characteristics of this binary (from libperl): 
  Compile-time options: MULTIPLICITY PERL_DONT_CREATE_GVSV
                        PERL_IMPLICIT_CONTEXT PERL_MALLOC_WRAP PERL_USE_DEVEL
                        USE_64_BIT_ALL USE_64_BIT_INT USE_ITHREADS
                        USE_LARGE_FILES USE_PERLIO USE_PERL_ATOF
                        USE_REENTRANT_API
  Built under linux
  Compiled at May 20 2010 15:50:02
  %ENV:
    PERL5LIB=":/home/cpan/pit/rel/conf/perl-5.13.1/.cpanplus/5.13.1/build/Sub-Uplevel-0.22/blib/lib:/home/cpan/pit/rel/conf/perl-5.13.1/.cpanplus/5.13.1/build/Sub-Uplevel-0.22/blib/arch:/home/cpan/pit/rel/conf/perl-5.13.1/.cpanplus/5.13.1/build/Test-Exception-0.29/blib/lib:/home/cpan/pit/rel/conf/perl-5.13.1/.cpanplus/5.13.1/build/Test-Exception-0.29/blib/arch:/home/cpan/pit/rel/conf/perl-5.13.1/.cpanplus/5.13.1/build/Const-0.002/blib/lib:/home/cpan/pit/rel/conf/perl-5.13.1/.cpanplus/5.13.1/build/Const-0.002/blib/arch"
    PERL5_CPANPLUS_IS_RUNNING="9425"
    PERL5_CPANPLUS_IS_VERSION="0.9005"
    PERL5_MINISMOKEBOX="0.26"
    PERL5_YACSMOKE_BASE="/home/cpan/pit/rel/conf/perl-5.13.1"
    PERL_EXTUTILS_AUTOINSTALL="--defaultdeps"
    PERL_MM_USE_DEFAULT="1"
  @INC:
    /home/cpan/pit/rel/conf/perl-5.13.1/.cpanplus/5.13.1/build/Sub-Uplevel-0.22/blib/lib
    /home/cpan/pit/rel/conf/perl-5.13.1/.cpanplus/5.13.1/build/Sub-Uplevel-0.22/blib/arch
    /home/cpan/pit/rel/conf/perl-5.13.1/.cpanplus/5.13.1/build/Test-Exception-0.29/blib/lib
    /home/cpan/pit/rel/conf/perl-5.13.1/.cpanplus/5.13.1/build/Test-Exception-0.29/blib/arch
    /home/cpan/pit/rel/conf/perl-5.13.1/.cpanplus/5.13.1/build/Const-0.002/blib/lib
    /home/cpan/pit/rel/conf/perl-5.13.1/.cpanplus/5.13.1/build/Const-0.002/blib/arch
    /home/cpan/pit/rel/perl-5.13.1/lib/site_perl/5.13.1/alpha-linux-thread-multi
    /home/cpan/pit/rel/perl-5.13.1/lib/site_perl/5.13.1
    /home/cpan/pit/rel/perl-5.13.1/lib/5.13.1/alpha-linux-thread-multi
    /home/cpan/pit/rel/perl-5.13.1/lib/5.13.1
    .