Back
From: metabase:user:1eed3a18-483e-11e2-a87b-a3931c712682
Subject: PASS Pod-Perldoc-3.28 v5.24.0 Mac OS X
Date: 2017-05-08T09:35:46Z
This distribution has been tested as part of the CPAN Testers
project, supporting the Perl programming language. See
http://wiki.cpantesters.org/ for more information or email
questions to cpan-testers-discuss@perl.org
--
Dear MALLEN,
This is a computer-generated report for Pod-Perldoc-3.28
on perl 5.24.0, created by App::cpanminus::reporter 0.17 (1.7042).
Thank you for uploading your work to CPAN. Congratulations!
All tests were successful.
Sections of this report:
* Tester comments
* Program output
* Prerequisites
* Environment and other context
------------------------------
TESTER COMMENTS
------------------------------
Additional comments from tester:
none provided
------------------------------
PROGRAM OUTPUT
------------------------------
Output from '':
Building and testing Pod-Perldoc-3.28
cp lib/Pod/Perldoc/ToPod.pm blib/lib/Pod/Perldoc/ToPod.pm
cp lib/Pod/Perldoc/ToMan.pm blib/lib/Pod/Perldoc/ToMan.pm
cp lib/Pod/Perldoc/ToXml.pm blib/lib/Pod/Perldoc/ToXml.pm
cp lib/Pod/Perldoc/ToChecker.pm blib/lib/Pod/Perldoc/ToChecker.pm
cp lib/Pod/Perldoc/ToRtf.pm blib/lib/Pod/Perldoc/ToRtf.pm
cp lib/Pod/Perldoc.pm blib/lib/Pod/Perldoc.pm
cp perldoc.pod blib/lib/perldoc.pod
cp lib/Pod/Perldoc/ToTk.pm blib/lib/Pod/Perldoc/ToTk.pm
cp lib/Pod/Perldoc/BaseTo.pm blib/lib/Pod/Perldoc/BaseTo.pm
cp lib/Pod/Perldoc/GetOptsOO.pm blib/lib/Pod/Perldoc/GetOptsOO.pm
cp lib/Pod/Perldoc/ToTerm.pm blib/lib/Pod/Perldoc/ToTerm.pm
cp lib/Pod/Perldoc/ToNroff.pm blib/lib/Pod/Perldoc/ToNroff.pm
cp lib/Pod/Perldoc/ToText.pm blib/lib/Pod/Perldoc/ToText.pm
cp lib/Pod/Perldoc/ToANSI.pm blib/lib/Pod/Perldoc/ToANSI.pm
cp perldoc blib/script/perldoc
"/Users/spoussep/perl5/perlbrew/perls/perl-5.24.0/bin/perl" -MExtUtils::MY -e 'MY->fixin(shift)' -- blib/script/perldoc
Manifying 1 pod document
Manifying 14 pod documents
PERL_DL_NONLAZY=1 "/Users/spoussep/perl5/perlbrew/perls/perl-5.24.0/bin/perl" "-MExtUtils::Command::MM" "-MTest::Harness" "-e" "undef *Test::Harness::Switches; test_harness(0, 'blib/lib', 'blib/arch')" t/*.t t/*/*.t
t/00_load.t ............... ok
t/01_about_verbose.t ...... ok
t/02_module_pod_output.t .. ok
t/man/_get_columns.t ...... ok
t/pod.t ................... skipped: Pod tests not required for installation.
All tests successful.
Files=5, Tests=56, 1 wallclock secs ( 0.02 usr 0.04 sys + 0.44 cusr 0.40 csys = 0.90 CPU)
Result: PASS
------------------------------
PREREQUISITES
------------------------------
Prerequisite modules loaded:
No requirements found
------------------------------
ENVIRONMENT AND OTHER CONTEXT
------------------------------
Environment variables:
LANG = en_US.UTF-8
LC_ALL = en_US.UTF-8
LC_CTYPE = UTF-8
PATH = /Users/spoussep/perl5/perlbrew/bin:/Users/spoussep/perl5/perlbrew/perls/perl-5.24.0/bin:/usr/local/bin:/usr/bin:/bin:/usr/sbin:/sbin:/opt/X11/bin:/Users/spoussep/.vim/bin:/Users/spoussep/bin:/Users/spoussep/node_modules/.bin
PERLBREW_BASHRC_VERSION = 0.78
PERLBREW_HOME = /Users/spoussep/.perlbrew
PERLBREW_MANPATH = /Users/spoussep/perl5/perlbrew/perls/perl-5.24.0/man
PERLBREW_PATH = /Users/spoussep/perl5/perlbrew/bin:/Users/spoussep/perl5/perlbrew/perls/perl-5.24.0/bin
PERLBREW_PERL = perl-5.24.0
PERLBREW_ROOT = /Users/spoussep/perl5/perlbrew
PERLBREW_VERSION = 0.78
PERL_MM_USE_DEFAULT = 1
SHELL = /usr/local/bin/zsh
TERM = screen
TMPDIR = /var/folders/56/qg9656q92m12dr1xqr6s2ftcmtxx4r/T/
Perl special variables (and OS-specific diagnostics, for MSWin32):
EGID = 697783653 697783653 59590085 97787274 131843966 217853254 270475963 272714219 285615533 314992649 345198435 382359928 407432394 427468235 519879656 566683779 631230739
EUID = 699331736
EXECUTABLE_NAME = /Users/spoussep/perl5/perlbrew/perls/perl-5.24.0/bin/perl
GID = 697783653 697783653 59590085 97787274 131843966 217853254 270475963 272714219 285615533 314992649 345198435 382359928 407432394 427468235 519879656 566683779 631230739
UID = 699331736
Perl module toolchain versions installed:
Module Have
------------------- --------
CPAN 2.16
CPAN::Meta 2.150010
Cwd 3.62
ExtUtils::CBuilder 0.280224
ExtUtils::Command 7.24
ExtUtils::Install 2.04
ExtUtils::MakeMaker 7.24
ExtUtils::Manifest 1.70
ExtUtils::ParseXS 3.30
File::Spec 3.62
JSON 2.90
JSON::PP 2.27400
Module::Build 0.4222
Module::Signature 0.81
Parse::CPAN::Meta 2.150010
Test::Harness 3.39
Test::More 1.302085
YAML 1.23
YAML::Syck 1.30
version 0.9918
--
Summary of my perl5 (revision 5 version 24 subversion 0) configuration:
Platform:
osname=darwin, osvers=15.5.0, archname=darwin-2level
uname='darwin ml906062 15.5.0 darwin kernel version 15.5.0: tue apr 19 18:36:36 pdt 2016; root:xnu-3248.50.21~8release_x86_64 x86_64 '
config_args='-de -Dprefix=/Users/spoussep/perl5/perlbrew/perls/perl-5.24.0 -Aeval:scriptdir=/Users/spoussep/perl5/perlbrew/perls/perl-5.24.0/bin'
hint=recommended, useposix=true, d_sigaction=define
useithreads=undef, usemultiplicity=undef
use64bitint=define, use64bitall=define, uselongdouble=undef
usemymalloc=n, bincompat5005=undef
Compiler:
cc='cc', ccflags ='-fno-common -DPERL_DARWIN -fno-strict-aliasing -pipe -fstack-protector-strong -I/usr/local/include',
optimize='-O3',
cppflags='-fno-common -DPERL_DARWIN -fno-strict-aliasing -pipe -fstack-protector-strong -I/usr/local/include'
ccversion='', gccversion='4.2.1 Compatible Apple LLVM 7.3.0 (clang-703.0.31)', gccosandvers=''
intsize=4, longsize=8, ptrsize=8, doublesize=8, byteorder=12345678, doublekind=3
d_longlong=define, longlongsize=8, d_longdbl=define, longdblsize=16, longdblkind=3
ivtype='long', ivsize=8, nvtype='double', nvsize=8, Off_t='off_t', lseeksize=8
alignbytes=8, prototype=define
Linker and Libraries:
ld='env MACOSX_DEPLOYMENT_TARGET=10.3 cc', ldflags =' -fstack-protector-strong -L/usr/local/lib'
libpth=/usr/local/lib /Library/Developer/CommandLineTools/usr/bin/../lib/clang/7.3.0/lib /Library/Developer/CommandLineTools/usr/lib /usr/lib
libs=-lpthread -lgdbm -ldbm -ldl -lm -lutil -lc
perllibs=-lpthread -ldl -lm -lutil -lc
libc=, so=dylib, useshrplib=false, libperl=libperl.a
gnulibc_version=''
Dynamic Linking:
dlsrc=dl_dlopen.xs, dlext=bundle, d_dlsymun=undef, ccdlflags=' '
cccdlflags=' ', lddlflags=' -bundle -undefined dynamic_lookup -L/usr/local/lib -fstack-protector-strong'
Characteristics of this binary (from libperl):
Compile-time options: HAS_TIMES PERLIO_LAYERS PERL_COPY_ON_WRITE
PERL_DONT_CREATE_GVSV
PERL_HASH_FUNC_ONE_AT_A_TIME_HARD PERL_MALLOC_WRAP
PERL_PRESERVE_IVUV USE_64_BIT_ALL USE_64_BIT_INT
USE_LARGE_FILES USE_LOCALE USE_LOCALE_COLLATE
USE_LOCALE_CTYPE USE_LOCALE_NUMERIC USE_LOCALE_TIME
USE_PERLIO USE_PERL_ATOF
Locally applied patches:
Devel::PatchPerl 1.38
Built under darwin
Compiled at May 24 2016 16:01:51
%ENV:
PERLBREW_BASHRC_VERSION="0.78"
PERLBREW_HOME="/Users/spoussep/.perlbrew"
PERLBREW_MANPATH="/Users/spoussep/perl5/perlbrew/perls/perl-5.24.0/man"
PERLBREW_PATH="/Users/spoussep/perl5/perlbrew/bin:/Users/spoussep/perl5/perlbrew/perls/perl-5.24.0/bin"
PERLBREW_PERL="perl-5.24.0"
PERLBREW_ROOT="/Users/spoussep/perl5/perlbrew"
PERLBREW_VERSION="0.78"
PERL_MM_USE_DEFAULT="1"
@INC:
/Users/spoussep/perl5/perlbrew/perls/perl-5.24.0/lib/site_perl/5.24.0/darwin-2level
/Users/spoussep/perl5/perlbrew/perls/perl-5.24.0/lib/site_perl/5.24.0
/Users/spoussep/perl5/perlbrew/perls/perl-5.24.0/lib/5.24.0/darwin-2level
/Users/spoussep/perl5/perlbrew/perls/perl-5.24.0/lib/5.24.0
.