Mo v0.40 Perl 5 v5.26.3 x86_64-linux-thread-multi
        
            - Status
 
            - Pass
 
            - From
 
            - Nigel Horne
 
            - Dist
 
            - 
                Mo v0.40
            
 
            - Platform
 
            - Perl 5 v5.26.3 x86_64-linux-thread-multi
 
            - Date
 
            - 2019-04-02 12:49:11
 
            - ID
 
            - b6878af2-5545-11e9-bf31-80c71e9d5857
 
        
        This distribution has been tested as part of the CPAN Testers
project, supporting the Perl programming language.  See
http://wiki.cpantesters.org/ for more information or email
questions to cpan-testers-discuss@perl.org
--
Dear Tina Muller,
This is a computer-generated report for Mo-0.40
on perl 5.26.3, created by CPAN-Reporter-1.2018.
Thank you for uploading your work to CPAN.  Congratulations!
All tests were successful.
Sections of this report:
    * Tester comments
    * Program output
    * Prerequisites
    * Environment and other context
------------------------------
TESTER COMMENTS
------------------------------
Additional comments from tester:
this report is from an automated smoke testing program
and was not reviewed by a human for accuracy
------------------------------
PROGRAM OUTPUT
------------------------------
Output from '/usr/bin/make test':
PERL_DL_NONLAZY=1 "/home/smoker/perl5/perlbrew/perls/perl-5.26.3-thread/bin/perl5.26.3" "-MExtUtils::Command::MM" "-MTest::Harness" "-e" "undef *Test::Harness::Switches; test_harness(0, 'blib/lib', 'blib/arch')" t/*.t
# 
# 
# Generated by Dist::Zilla::Plugin::ReportVersions::Tiny v1.12
# perl: 5.026003 (wanted v5.6.0) on linux from /home/smoker/perl5/perlbrew/perls/perl-5.26.3-thread/bin/perl5.26.3
# 
# Class::XSAccessor                             => module not found. (want any version)
# ExtUtils::MakeMaker                           => 7.34       (want any version)
# IO::All                                       => module not found. (want any version)
# Moose                                         => module not found. (want any version)
# Mouse                                         => module not found. (want any version)
# Test::More                                    => 1.302073   (want 0.96)   
# 
# Thanks for using my code.  I hope it works for you.
# If not, please try and include this output in the bug report.
# That will help me reproduce the issue and solve your problem.
# 
t/author-00-compile.t ......... skipped: these tests are for testing by the author
t/000-report-versions-tiny.t .. ok
t/author-pod-syntax.t ......... skipped: these tests are for testing by the author
t/author-pod-spell.t .......... skipped: these tests are for testing by the author
t/author-test-version.t ....... skipped: these tests are for testing by the author
t/build.t ..................... ok
t/builder.t ................... ok
t/chain.t ..................... ok
t/coerce.t .................... ok
t/combined.t .................. ok
t/default.t ................... ok
t/extends.t ................... ok
t/importer.t .................. ok
t/is.t ........................ ok
t/lazy-nonlazy.t .............. ok
t/main_sub.t .................. ok
t/Moose.t ..................... skipped: Moose is needed
t/Mouse.t ..................... skipped: Mouse is needed
t/object.t .................... ok
t/option.t .................... ok
t/release-correct-version.t ... skipped: these tests are for release candidate testing
t/release-distmeta.t .......... skipped: these tests are for release candidate testing
t/release-eol.t ............... skipped: these tests are for release candidate testing
t/release-no-tabs.t ........... skipped: these tests are for release candidate testing
t/required.t .................. ok
t/strict.t .................... ok
t/test.t ...................... ok
t/xs.t ........................ skipped: Class::XSAccessor is needed
All tests successful.
Files=28, Tests=144,  4 wallclock secs ( 0.13 usr  0.04 sys +  1.96 cusr  0.69 csys =  2.82 CPU)
Result: PASS
------------------------------
PREREQUISITES
------------------------------
Prerequisite modules loaded:
requires:
    Module              Need     Have    
    ------------------- -------- --------
    perl                5.006000 5.026003
build_requires:
    Module              Need     Have    
    ------------------- -------- --------
    ExtUtils::MakeMaker 0        7.34    
    Test::More          0.96     1.302073
configure_requires:
    Module              Need     Have    
    ------------------- -------- --------
    ExtUtils::MakeMaker 0        7.34    
------------------------------
ENVIRONMENT AND OTHER CONTEXT
------------------------------
Environment variables:
    AUTOMATED_TESTING = 1
    HARNESS_OPTIONS = j2
    NONINTERACTIVE_TESTING = 1
    PATH = /home/smoker/perl5/perlbrew/bin:/home/smoker/perl5/perlbrew/perls/perl-5.26.3-thread/bin:/usr/local/sbin:/usr/local/bin:/usr/sbin:/usr/bin:/sbin:/bin
    PERL5LIB = /tmp/build/Data-Sah-Normalize-0.050-0/blib/arch:/tmp/build/Data-Sah-Normalize-0.050-0/blib/lib:/tmp/build/Data-Sah-Coerce-0.033-0/blib/arch:/tmp/build/Data-Sah-Coerce-0.033-0/blib/lib:/tmp/build/subroutines-0.001-0/blib/arch:/tmp/build/subroutines-0.001-0/blib/lib:/tmp/build/Nodejs-Util-0.012-0/blib/arch:/tmp/build/Nodejs-Util-0.012-0/blib/lib:/tmp/build/Log-ger-0.025-0/blib/arch:/tmp/build/Log-ger-0.025-0/blib/lib:/tmp/build/IPC-System-Options-0.331-0/blib/arch:/tmp/build/IPC-System-Options-0.331-0/blib/lib:/tmp/build/String-ShellQuote-1.04-0/blib/arch:/tmp/build/String-ShellQuote-1.04-0/blib/lib:/tmp/build/Proc-ChildError-0.04-0/blib/arch:/tmp/build/Proc-ChildError-0.04-0/blib/lib:/tmp/build/Data-Dump-1.23-0/blib/arch:/tmp/build/Data-Dump-1.23-0/blib/lib:/tmp/build/Data-Dmp-0.23-0/blib/arch:/tmp/build/Data-Dmp-0.23-0/blib/lib:/tmp/build/Regexp-Stringify-0.06-0/blib/arch:/tmp/build/Regexp-Stringify-0.06-0/blib/lib
    PERL5OPT = 
    PERL5_CPANPLUS_IS_RUNNING = 2650
    PERL5_CPAN_IS_RUNNING = 2650
    PERLBREW_HOME = /home/smoker/.perlbrew
    PERLBREW_MANPATH = /home/smoker/perl5/perlbrew/perls/perl-5.26.3-thread/man
    PERLBREW_PATH = /home/smoker/perl5/perlbrew/bin:/home/smoker/perl5/perlbrew/perls/perl-5.26.3-thread/bin
    PERLBREW_PERL = perl-5.26.3-thread
    PERLBREW_ROOT = /home/smoker/perl5/perlbrew
    PERLBREW_SHELLRC_VERSION = 0.86
    PERLBREW_VERSION = 0.86
    PERL_MM_USE_DEFAULT = 1
    PERL_USE_UNSAFE_INC = 1
    SHELL = /bin/bash
    TERM = xterm
    TMPDIR = /tmp/testwrapper.2639
Perl special variables (and OS-specific diagnostics, for MSWin32):
    $^X = /home/smoker/perl5/perlbrew/perls/perl-5.26.3-thread/bin/perl5.26.3
    $UID/$EUID = 1000 / 1000
    $GID = 1000
    $EGID = 1000
Perl module toolchain versions installed:
    Module              Have      
    ------------------- ----------
    CPAN                2.22      
    CPAN::Meta          2.150010  
    Cwd                 3.75      
    ExtUtils::CBuilder  0.280225  
    ExtUtils::Command   7.34      
    ExtUtils::Install   2.06      
    ExtUtils::MakeMaker 7.34      
    ExtUtils::Manifest  1.70      
    ExtUtils::ParseXS   3.34      
    File::Spec          3.75      
    JSON                4.00      
    JSON::PP            2.27400_02
    Module::Build       0.4224    
    Module::Signature   n/a       
    Parse::CPAN::Meta   2.150010  
    Test::Harness       3.38      
    Test::More          1.302073  
    YAML                1.27      
    YAML::Syck          1.31      
    version             0.9917    
--
Summary of my perl5 (revision 5 version 26 subversion 3) configuration:
   
  Platform:
    osname=linux
    osvers=4.16.0-2-amd64
    archname=x86_64-linux-thread-multi
    uname='linux 1cf69434e8c1 4.16.0-2-amd64 #1 smp debian 4.16.16-2 (2018-06-22) x86_64 gnulinux '
    config_args='-de -Dprefix=/home/smoker/perl5/perlbrew/perls/perl-5.26.3-thread -Dusedevel -Dusethreads -Accflags=-O2 -pipe -Wall -Wextra -mtune=native -march=native -Aeval:scriptdir=/home/smoker/perl5/perlbrew/perls/perl-5.26.3-thread/bin'
    hint=recommended
    useposix=true
    d_sigaction=define
    useithreads=define
    usemultiplicity=define
    use64bitint=define
    use64bitall=define
    uselongdouble=undef
    usemymalloc=n
    default_inc_excludes_dot=define
    bincompat5005=undef
  Compiler:
    cc='cc'
    ccflags ='-D_REENTRANT -D_GNU_SOURCE -O2 -pipe -Wall -Wextra -mtune=native -march=native -fwrapv -fno-strict-aliasing -fstack-protector-strong -I/usr/local/include -D_LARGEFILE_SOURCE -D_FILE_OFFSET_BITS=64 -D_FORTIFY_SOURCE=2'
    optimize='-O2'
    cppflags='-D_REENTRANT -D_GNU_SOURCE -O2 -pipe -Wall -Wextra -mtune=native -march=native -fwrapv -fno-strict-aliasing -fstack-protector-strong -I/usr/local/include'
    ccversion=''
    gccversion='6.3.0 20170516'
    gccosandvers=''
    intsize=4
    longsize=8
    ptrsize=8
    doublesize=8
    byteorder=12345678
    doublekind=3
    d_longlong=define
    longlongsize=8
    d_longdbl=define
    longdblsize=16
    longdblkind=3
    ivtype='long'
    ivsize=8
    nvtype='double'
    nvsize=8
    Off_t='off_t'
    lseeksize=8
    alignbytes=8
    prototype=define
  Linker and Libraries:
    ld='cc'
    ldflags =' -fstack-protector-strong -L/usr/local/lib'
    libpth=/usr/local/lib /usr/lib/gcc/x86_64-linux-gnu/6/include-fixed /usr/include/x86_64-linux-gnu /usr/lib /lib/x86_64-linux-gnu /lib/../lib /usr/lib/x86_64-linux-gnu /usr/lib/../lib /lib
    libs=-lpthread -lnsl -ldl -lm -lcrypt -lutil -lc
    perllibs=-lpthread -lnsl -ldl -lm -lcrypt -lutil -lc
    libc=libc-2.24.so
    so=so
    useshrplib=false
    libperl=libperl.a
    gnulibc_version='2.24'
  Dynamic Linking:
    dlsrc=dl_dlopen.xs
    dlext=so
    d_dlsymun=undef
    ccdlflags='-Wl,-E'
    cccdlflags='-fPIC'
    lddlflags='-shared -O2 -L/usr/local/lib -fstack-protector-strong'
Characteristics of this binary (from libperl): 
  Compile-time options:
    HAS_TIMES
    MULTIPLICITY
    PERLIO_LAYERS
    PERL_COPY_ON_WRITE
    PERL_DONT_CREATE_GVSV
    PERL_IMPLICIT_CONTEXT
    PERL_MALLOC_WRAP
    PERL_OP_PARENT
    PERL_PRESERVE_IVUV
    PERL_USE_DEVEL
    USE_64_BIT_ALL
    USE_64_BIT_INT
    USE_ITHREADS
    USE_LARGE_FILES
    USE_LOCALE
    USE_LOCALE_COLLATE
    USE_LOCALE_CTYPE
    USE_LOCALE_NUMERIC
    USE_LOCALE_TIME
    USE_PERLIO
    USE_PERL_ATOF
    USE_REENTRANT_API
  Locally applied patches:
    Devel::PatchPerl 1.52
  Built under linux
  Compiled at Jan 19 2019 17:24:06
  %ENV:
    PERL5LIB="/tmp/build/Data-Sah-Normalize-0.050-0/blib/arch:/tmp/build/Data-Sah-Normalize-0.050-0/blib/lib:/tmp/build/Data-Sah-Coerce-0.033-0/blib/arch:/tmp/build/Data-Sah-Coerce-0.033-0/blib/lib:/tmp/build/subroutines-0.001-0/blib/arch:/tmp/build/subroutines-0.001-0/blib/lib:/tmp/build/Nodejs-Util-0.012-0/blib/arch:/tmp/build/Nodejs-Util-0.012-0/blib/lib:/tmp/build/Log-ger-0.025-0/blib/arch:/tmp/build/Log-ger-0.025-0/blib/lib:/tmp/build/IPC-System-Options-0.331-0/blib/arch:/tmp/build/IPC-System-Options-0.331-0/blib/lib:/tmp/build/String-ShellQuote-1.04-0/blib/arch:/tmp/build/String-ShellQuote-1.04-0/blib/lib:/tmp/build/Proc-ChildError-0.04-0/blib/arch:/tmp/build/Proc-ChildError-0.04-0/blib/lib:/tmp/build/Data-Dump-1.23-0/blib/arch:/tmp/build/Data-Dump-1.23-0/blib/lib:/tmp/build/Data-Dmp-0.23-0/blib/arch:/tmp/build/Data-Dmp-0.23-0/blib/lib:/tmp/build/Regexp-Stringify-0.06-0/blib/arch:/tmp/build/Regexp-Stringify-0.06-0/blib/lib"
    PERL5OPT=""
    PERL5_CPANPLUS_IS_RUNNING="2650"
    PERL5_CPAN_IS_RUNNING="2650"
    PERLBREW_HOME="/home/smoker/.perlbrew"
    PERLBREW_MANPATH="/home/smoker/perl5/perlbrew/perls/perl-5.26.3-thread/man"
    PERLBREW_PATH="/home/smoker/perl5/perlbrew/bin:/home/smoker/perl5/perlbrew/perls/perl-5.26.3-thread/bin"
    PERLBREW_PERL="perl-5.26.3-thread"
    PERLBREW_ROOT="/home/smoker/perl5/perlbrew"
    PERLBREW_SHELLRC_VERSION="0.86"
    PERLBREW_VERSION="0.86"
    PERL_MM_USE_DEFAULT="1"
    PERL_USE_UNSAFE_INC="1"
  @INC:
    /tmp/build/Data-Sah-Normalize-0.050-0/blib/arch
    /tmp/build/Data-Sah-Normalize-0.050-0/blib/lib
    /tmp/build/Data-Sah-Coerce-0.033-0/blib/arch
    /tmp/build/Data-Sah-Coerce-0.033-0/blib/lib
    /tmp/build/subroutines-0.001-0/blib/arch
    /tmp/build/subroutines-0.001-0/blib/lib
    /tmp/build/Nodejs-Util-0.012-0/blib/arch
    /tmp/build/Nodejs-Util-0.012-0/blib/lib
    /tmp/build/Log-ger-0.025-0/blib/arch
    /tmp/build/Log-ger-0.025-0/blib/lib
    /tmp/build/IPC-System-Options-0.331-0/blib/arch
    /tmp/build/IPC-System-Options-0.331-0/blib/lib
    /tmp/build/String-ShellQuote-1.04-0/blib/arch
    /tmp/build/String-ShellQuote-1.04-0/blib/lib
    /tmp/build/Proc-ChildError-0.04-0/blib/arch
    /tmp/build/Proc-ChildError-0.04-0/blib/lib
    /tmp/build/Data-Dump-1.23-0/blib/arch
    /tmp/build/Data-Dump-1.23-0/blib/lib
    /tmp/build/Data-Dmp-0.23-0/blib/arch
    /tmp/build/Data-Dmp-0.23-0/blib/lib
    /tmp/build/Regexp-Stringify-0.06-0/blib/arch
    /tmp/build/Regexp-Stringify-0.06-0/blib/lib
    /home/smoker/perl5/perlbrew/perls/perl-5.26.3-thread/lib/site_perl/5.26.3/x86_64-linux-thread-multi
    /home/smoker/perl5/perlbrew/perls/perl-5.26.3-thread/lib/site_perl/5.26.3
    /home/smoker/perl5/perlbrew/perls/perl-5.26.3-thread/lib/5.26.3/x86_64-linux-thread-multi
    /home/smoker/perl5/perlbrew/perls/perl-5.26.3-thread/lib/5.26.3
    .