Report for XML-Schema-0.07

Back
From: metabase:user:30ae4450-2aae-11df-837a-5e0a49663a4f
Subject: PASS XML-Schema-0.07 v5.8.9 
Date: 2012-12-03T10:14:57Z

This distribution has been tested as part of the CPAN Testers
project, supporting the Perl programming language.  See
http://wiki.cpantesters.org/ for more information or email
questions to cpan-testers-discuss@perl.org


--
Dear Andy Wardley,

This is a computer-generated report for XML-Schema-0.07
on perl 5.8.9, created by CPAN-Reporter-1.2006.

Thank you for uploading your work to CPAN.  Congratulations!
All tests were successful.

Sections of this report:

    * Tester comments
    * Program output
    * Prerequisites
    * Environment and other context

------------------------------
TESTER COMMENTS
------------------------------

Additional comments from tester:

this report is from an automated smoke testing program
and was not reviewed by a human for accuracy

------------------------------
PROGRAM OUTPUT
------------------------------

Output from 'C:\strawberry\c\bin\dmake.EXE test':

C:\strawberry\perl\bin\perl.exe "-MExtUtils::Command::MM" "-e" "test_harness(0, 'blib\lib', 'blib\arch')" t/*.t
Use of uninitialized value in length at lib/XML/Schema/Type/Builtin.pm line 197.
Use of uninitialized value in length at lib/XML/Schema/Type/Builtin.pm line 197.
Use of uninitialized value in length at lib/XML/Schema/Type/Builtin.pm line 197.
Use of uninitialized value in length at lib/XML/Schema/Type/Builtin.pm line 197.
Use of uninitialized value in length at lib/XML/Schema/Type/Builtin.pm line 197.
Use of uninitialized value in length at lib/XML/Schema/Type/Builtin.pm line 197.
Use of uninitialized value in length at lib/XML/Schema/Type/Builtin.pm line 197.
Use of uninitialized value in length at lib/XML/Schema/Type/Builtin.pm line 197.
Use of uninitialized value in length at lib/XML/Schema/Type/Builtin.pm line 197.
Use of uninitialized value in length at lib/XML/Schema/Type/Builtin.pm line 197.
Use of uninitialized value in length at lib/XML/Schema/Type/Builtin.pm line 197.
Use of uninitialized value in length at lib/XML/Schema/Type/Builtin.pm line 197.
Use of uninitialized value in length at lib/XML/Schema/Type/Builtin.pm line 197.
Use of uninitialized value in length at lib/XML/Schema/Type/Builtin.pm line 197.
Use of uninitialized value in length at lib/XML/Schema/Type/Builtin.pm line 197.
Use of uninitialized value in length at lib/XML/Schema/Type/Builtin.pm line 197.
Use of uninitialized value in length at lib/XML/Schema/Type/Builtin.pm line 197.
Use of uninitialized value in length at lib/XML/Schema/Type/Builtin.pm line 197.
Use of uninitialized value in length at lib/XML/Schema/Type/Builtin.pm line 197.
Use of uninitialized value in length at lib/XML/Schema/Type/Builtin.pm line 197.
Use of uninitialized value in length at lib/XML/Schema/Type/Builtin.pm line 197.
Use of uninitialized value in length at lib/XML/Schema/Type/Builtin.pm line 197.
Use of uninitialized value in length at lib/XML/Schema/Type/Builtin.pm line 197.
Use of uninitialized value in length at lib/XML/Schema/Type/Builtin.pm line 197.
Use of uninitialized value in length at lib/XML/Schema/Type/Builtin.pm line 197.
Use of uninitialized value in length at lib/XML/Schema/Type/Builtin.pm line 197.
Use of uninitialized value in length at lib/XML/Schema/Type/Builtin.pm line 197.
Use of uninitialized value in length at lib/XML/Schema/Type/Builtin.pm line 197.
Use of uninitialized value in length at lib/XML/Schema/Type/Builtin.pm line 197.
Use of uninitialized value in length at lib/XML/Schema/Type/Builtin.pm line 197.
Use of uninitialized value in length at lib/XML/Schema/Type/Builtin.pm line 197.
Use of uninitialized value in length at lib/XML/Schema/Type/Builtin.pm line 197.
Use of uninitialized value in length at lib/XML/Schema/Type/Builtin.pm line 197.
Use of uninitialized value in length at lib/XML/Schema/Type/Builtin.pm line 197.
Use of uninitialized value in length at lib/XML/Schema/Type/Builtin.pm line 197.
t/attrgroup.t .. ok
t/attribute.t .. ok
t/base.t ....... ok
Use of uninitialized value in length at lib/XML/Schema/Type/Builtin.pm line 197.
Use of uninitialized value in length at lib/XML/Schema/Type/Builtin.pm line 197.
Use of uninitialized value in length at lib/XML/Schema/Type/Builtin.pm line 197.
Use of uninitialized value in length at lib/XML/Schema/Type/Builtin.pm line 197.
Use of uninitialized value in length at lib/XML/Schema/Type/Builtin.pm line 197.
Use of uninitialized value in length at lib/XML/Schema/Type/Builtin.pm line 197.
Use of uninitialized value in length at lib/XML/Schema/Type/Builtin.pm line 197.
Use of uninitialized value in length at lib/XML/Schema/Type/Builtin.pm line 197.
Use of uninitialized value in length at lib/XML/Schema/Type/Builtin.pm line 197.
Use of uninitialized value in length at lib/XML/Schema/Type/Builtin.pm line 197.
Use of uninitialized value in length at lib/XML/Schema/Type/Builtin.pm line 197.
Use of uninitialized value in length at lib/XML/Schema/Type/Builtin.pm line 197.
Use of uninitialized value in length at lib/XML/Schema/Type/Builtin.pm line 197.
Use of uninitialized value in length at lib/XML/Schema/Type/Builtin.pm line 197.
Use of uninitialized value in length at lib/XML/Schema/Type/Builtin.pm line 197.
Use of uninitialized value in length at lib/XML/Schema/Type/Builtin.pm line 197.
Use of uninitialized value in length at lib/XML/Schema/Type/Builtin.pm line 197.
Use of uninitialized value in length at lib/XML/Schema/Type/Builtin.pm line 197.
Use of uninitialized value in length at lib/XML/Schema/Type/Builtin.pm line 197.
Use of uninitialized value in length at lib/XML/Schema/Type/Builtin.pm line 197.
Use of uninitialized value in length at lib/XML/Schema/Type/Builtin.pm line 197.
Use of uninitialized value in length at lib/XML/Schema/Type/Builtin.pm line 197.
Use of uninitialized value in length at lib/XML/Schema/Type/Builtin.pm line 197.
Use of uninitialized value in length at lib/XML/Schema/Type/Builtin.pm line 197.
Use of uninitialized value in length at lib/XML/Schema/Type/Builtin.pm line 197.
Use of uninitialized value in length at lib/XML/Schema/Type/Builtin.pm line 197.
Use of uninitialized value in length at lib/XML/Schema/Type/Builtin.pm line 197.
Use of uninitialized value in length at lib/XML/Schema/Type/Builtin.pm line 197.
Use of uninitialized value in length at lib/XML/Schema/Type/Builtin.pm line 197.
Use of uninitialized value in length at lib/XML/Schema/Type/Builtin.pm line 197.
Use of uninitialized value in length at lib/XML/Schema/Type/Builtin.pm line 197.
Use of uninitialized value in length at lib/XML/Schema/Type/Builtin.pm line 197.
Use of uninitialized value in length at lib/XML/Schema/Type/Builtin.pm line 197.
Use of uninitialized value in length at lib/XML/Schema/Type/Builtin.pm line 197.
Use of uninitialized value in length at lib/XML/Schema/Type/Builtin.pm line 197.
Use of uninitialized value in length at lib/XML/Schema/Type/Builtin.pm line 197.
Use of uninitialized value in length at lib/XML/Schema/Type/Builtin.pm line 197.
Use of uninitialized value in length at lib/XML/Schema/Type/Builtin.pm line 197.
Use of uninitialized value in length at lib/XML/Schema/Type/Builtin.pm line 197.
Use of uninitialized value in length at lib/XML/Schema/Type/Builtin.pm line 197.
Use of uninitialized value in length at lib/XML/Schema/Type/Builtin.pm line 197.
Use of uninitialized value in length at lib/XML/Schema/Type/Builtin.pm line 197.
Use of uninitialized value in length at lib/XML/Schema/Type/Builtin.pm line 197.
Use of uninitialized value in length at lib/XML/Schema/Type/Builtin.pm line 197.
Use of uninitialized value in length at lib/XML/Schema/Type/Builtin.pm line 197.
Use of uninitialized value in length at lib/XML/Schema/Type/Builtin.pm line 197.
Use of uninitialized value in length at lib/XML/Schema/Type/Builtin.pm line 197.
Use of uninitialized value in length at lib/XML/Schema/Type/Builtin.pm line 197.
Use of uninitialized value in length at lib/XML/Schema/Type/Builtin.pm line 197.
Use of uninitialized value in length at lib/XML/Schema/Type/Builtin.pm line 197.
Use of uninitialized value in length at lib/XML/Schema/Type/Builtin.pm line 197.
Use of uninitialized value in length at lib/XML/Schema/Type/Builtin.pm line 197.
Use of uninitialized value in length at lib/XML/Schema/Type/Builtin.pm line 197.
Use of uninitialized value in length at lib/XML/Schema/Type/Builtin.pm line 197.
Use of uninitialized value in length at lib/XML/Schema/Type/Builtin.pm line 197.
t/builtin.t .... ok
t/choice.t ..... ok
t/complex.t .... ok
t/constants.t .. ok
t/content.t .... ok
t/element.t .... ok
t/enum.t ....... ok
t/exception.t .. ok
t/facet.t ...... ok
t/handler.t .... ok
t/id.t ......... ok
t/instance.t ... ok
Use of uninitialized value in length at lib/XML/Schema/Type/Builtin.pm line 197.
Use of uninitialized value in length at lib/XML/Schema/Type/Builtin.pm line 197.
Use of uninitialized value in length at lib/XML/Schema/Type/Builtin.pm line 197.
Use of uninitialized value in length at lib/XML/Schema/Type/Builtin.pm line 197.
Use of uninitialized value in length at lib/XML/Schema/Type/Builtin.pm line 197.
Use of uninitialized value in length at lib/XML/Schema/Type/Builtin.pm line 197.
Use of uninitialized value in length at lib/XML/Schema/Type/Builtin.pm line 197.
Use of uninitialized value in length at lib/XML/Schema/Type/Builtin.pm line 197.
Use of uninitialized value in length at lib/XML/Schema/Type/Builtin.pm line 197.
Use of uninitialized value in length at lib/XML/Schema/Type/Builtin.pm line 197.
Use of uninitialized value in length at lib/XML/Schema/Type/Builtin.pm line 197.
Use of uninitialized value in length at lib/XML/Schema/Type/Builtin.pm line 197.
Use of uninitialized value in length at lib/XML/Schema/Type/Builtin.pm line 197.
Use of uninitialized value in length at lib/XML/Schema/Type/Builtin.pm line 197.
Use of uninitialized value in length at lib/XML/Schema/Type/Builtin.pm line 197.
Use of uninitialized value in length at lib/XML/Schema/Type/Builtin.pm line 197.
Use of uninitialized value in length at lib/XML/Schema/Type/Builtin.pm line 197.
Use of uninitialized value in length at lib/XML/Schema/Type/Builtin.pm line 197.
Use of uninitialized value in length at lib/XML/Schema/Type/Builtin.pm line 197.
Use of uninitialized value in length at lib/XML/Schema/Type/Builtin.pm line 197.
Use of uninitialized value in length at lib/XML/Schema/Type/Builtin.pm line 197.
t/list.t ....... ok
t/name.t ....... ok
t/names.t ...... ok
t/parser.t ..... ok
t/particle.t ... ok
t/person.t ..... ok
t/scheduler.t .. ok
Use of uninitialized value in length at lib/XML/Schema/Type/Builtin.pm line 197.
t/scope.t ...... ok
t/sequence.t ... ok
t/simple.t ..... ok
t/type.t ....... ok
Use of uninitialized value in length at lib/XML/Schema/Type/Builtin.pm line 197.
t/union.t ...... ok
t/wildcard.t ... ok
All tests successful.
Files=28, Tests=1466,  6 wallclock secs ( 0.24 usr +  0.16 sys =  0.40 CPU)
Result: PASS

------------------------------
PREREQUISITES
------------------------------

Prerequisite modules loaded:

build_requires:

    Module              Need Have
    ------------------- ---- ----
    ExtUtils::MakeMaker 0    6.62


------------------------------
ENVIRONMENT AND OTHER CONTEXT
------------------------------

Environment variables:

    AUTOMATED_TESTING = 1
    COMSPEC = C:\WINDOWS.0\system32\cmd.exe
    INCLUDE = ;C:\strawberry\c\include;C:\strawberry\perl\lib\CORE
    LIB = ;C:\strawberry\c\lib;C:\strawberry\perl\bin
    NUMBER_OF_PROCESSORS = 1
    PATH = C:\WINDOWS.0\system32;C:\WINDOWS.0;C:\WINDOWS.0\System32\Wbem;C:\strawberry\c\bin;C:\strawberry\perl\bin;C:\strawberry\perl\site\bin
    PERL5LIB = C:\strawberry\cpan\build\Class-Multimethods-1.70-laiG2F/blib/arch;C:\strawberry\cpan\build\Class-Multimethods-1.70-laiG2F/blib/lib;C:\strawberry\cpan\build\Business-UPC-0.04-GdU9r7/blib/arch;C:\strawberry\cpan\build\Business-UPC-0.04-GdU9r7/blib/lib;C:\strawberry\cpan\build\Business-CINS-1.13-iln1RE/blib/arch;C:\strawberry\cpan\build\Business-CINS-1.13-iln1RE/blib/lib;C:\strawberry\cpan\build\Algorithm-LUHN-1.00-3t6bUj/blib/arch;C:\strawberry\cpan\build\Algorithm-LUHN-1.00-3t6bUj/blib/lib;C:\strawberry\cpan\build\Business-CreditCard-0.31-Q5q5Yp/blib/arch;C:\strawberry\cpan\build\Business-CreditCard-0.31-Q5q5Yp/blib/lib;C:\strawberry\cpan\build\Attribute-Util-1.06-jjlOF9/blib/arch;C:\strawberry\cpan\build\Attribute-Util-1.06-jjlOF9/blib/lib;C:\strawberry\cpan\build\Locale-SubCountry-1.56-MkQWYU/blib/arch;C:\strawberry\cpan\build\Locale-SubCountry-1.56-MkQWYU/blib/lib;C:\strawberry\cpan\build\IO-Extended-0.16-FL0uxr/blib/arch;C:\strawberry\cpan\build\IO-Extended-0.16-FL0uxr/blib/lib;C:\strawberry\cpan\build\Tie-ListKeyedHash-1.02-tge547/blib/arch;C:\strawberry\cpan\build\Tie-ListKeyedHash-1.02-tge547/blib/lib;C:\strawberry\cpan\build\X500-DN-0.29-3R1gtv/blib/arch;C:\strawberry\cpan\build\X500-DN-0.29-3R1gtv/blib/lib;C:\strawberry\cpan\build\Business-ISSN-0.91-GtxVSn/blib/arch;C:\strawberry\cpan\build\Business-ISSN-0.91-GtxVSn/blib/lib;C:\strawberry\cpan\build\String-ExpandEscapes-0.01-CT5iuP/blib/arch;C:\strawberry\cpan\build\String-ExpandEscapes-0.01-CT5iuP/blib/lib;C:\strawberry\cpan\build\Text-TabularDisplay-1.33-giMhqe/blib/arch;C:\strawberry\cpan\build\Text-TabularDisplay-1.33-giMhqe/blib/lib
    PERL5OPT = 
    PERL5_CPANPLUS_IS_RUNNING = 624
    PERL5_CPAN_IS_RUNNING = 624
    PERL5_CPAN_IS_RUNNING_IN_RECURSION = 1968,624
    PERL_CR_SMOKER_CURRENT = Data-Type-0.02.02
    PERL_EXTUTILS_AUTOINSTALL = --defaultdeps
    PERL_MM_USE_DEFAULT = 1
    PROCESSOR_IDENTIFIER = x86 Family 16 Model 5 Stepping 3, AuthenticAMD
    TEMP = C:\DOCUME~1\Admin\LOCALS~1\Temp
    TERM = dumb

Perl special variables (and OS-specific diagnostics, for MSWin32):

    $^X = C:\strawberry\perl\bin\perl.exe
    $UID/$EUID = 0 / 0
    $GID = 0
    $EGID = 0
    Win32::GetOSName = WinXP/.Net
    Win32::GetOSVersion = Service Pack 2, 5, 1, 2600, 2, 2, 0, 256, 1
    Win32::FsType = NTFS
    Win32::IsAdminUser = 1

Perl module toolchain versions installed:

    Module              Have    
    ------------------- --------
    CPAN                1.9800  
    CPAN::Meta          2.120921
    Cwd                 3.33    
    ExtUtils::CBuilder  0.2703  
    ExtUtils::Command   1.16    
    ExtUtils::Install   1.54    
    ExtUtils::MakeMaker 6.62    
    ExtUtils::Manifest  1.58    
    ExtUtils::ParseXS   2.2205  
    File::Spec          3.33    
    JSON                2.21    
    JSON::PP            2.27200 
    Module::Build       0.4003  
    Module::Signature   0.63    
    Parse::CPAN::Meta   1.4404  
    Test::Harness       3.25    
    Test::More          0.98    
    YAML                0.84    
    YAML::Syck          1.21    
    version             0.9901  


--

Summary of my perl5 (revision 5 version 8 subversion 9) configuration:
  Platform:
    osname=MSWin32, osvers=5.1, archname=MSWin32-x86-multi-thread
    uname='Win32 strawberryperl 5.8.9.5 #1 Wed Apr 28 11:51:06 2010 i386'
    config_args='undef'
    hint=recommended, useposix=true, d_sigaction=undef
    usethreads=define use5005threads=undef useithreads=define usemultiplicity=define
    useperlio=define d_sfio=undef uselargefiles=define usesocks=undef
    use64bitint=undef use64bitall=undef uselongdouble=undef
    usemymalloc=n, bincompat5005=undef
  Compiler:
    cc='gcc', ccflags =' -s -O2 -DWIN32 -DHAVE_DES_FCRYPT  -DUSE_SITECUSTOMIZE -DPERL_IMPLICIT_CONTEXT -DPERL_IMPLICIT_SYS -fno-strict-aliasing -DPERL_MSVCRT_READFIX',
    optimize='-s -O2',
    cppflags='-DWIN32'
    ccversion='', gccversion='3.4.5', gccosandvers=''
    intsize=4, longsize=4, ptrsize=4, doublesize=8, byteorder=1234
    d_longlong=undef, longlongsize=8, d_longdbl=define, longdblsize=12
    ivtype='long', ivsize=4, nvtype='double', nvsize=8, Off_t='long long', lseeksize=8
    alignbytes=8, prototype=define
  Linker and Libraries:
    ld='g++', ldflags ='-s -L"C:\strawberry\perl\lib\CORE" -L"C:\strawberry\c\lib"'
    libpth=C:\strawberry\c\lib
    libs= -lmsvcrt -lmoldname -lkernel32 -luser32 -lgdi32 -lwinspool -lcomdlg32 -ladvapi32 -lshell32 -lole32 -loleaut32 -lnetapi32 -luuid -lws2_32 -lmpr -lwinmm -lversion -lodbc32 -lodbccp32
    perllibs= -lmsvcrt -lmoldname -lkernel32 -luser32 -lgdi32 -lwinspool -lcomdlg32 -ladvapi32 -lshell32 -lole32 -loleaut32 -lnetapi32 -luuid -lws2_32 -lmpr -lwinmm -lversion -lodbc32 -lodbccp32
    libc=-lmsvcrt, so=dll, useshrplib=true, libperl=libperl58.a
    gnulibc_version=''
  Dynamic Linking:
    dlsrc=dl_win32.xs, dlext=dll, d_dlsymun=undef, ccdlflags=' '
    cccdlflags=' ', lddlflags='-mdll -s -L"C:\strawberry\perl\lib\CORE" -L"C:\strawberry\c\lib"'


Characteristics of this binary (from libperl): 
  Compile-time options: MULTIPLICITY PERL_IMPLICIT_CONTEXT PERL_IMPLICIT_SYS
                        PERL_MALLOC_WRAP PL_OP_SLAB_ALLOC USE_FAST_STDIO
                        USE_ITHREADS USE_LARGE_FILES USE_PERLIO
                        USE_SITECUSTOMIZE
  Built under MSWin32
  Compiled at Apr 28 2010 11:57:55
  %ENV:
    PERL5LIB="C:\strawberry\cpan\build\Class-Multimethods-1.70-laiG2F/blib/arch;C:\strawberry\cpan\build\Class-Multimethods-1.70-laiG2F/blib/lib;C:\strawberry\cpan\build\Business-UPC-0.04-GdU9r7/blib/arch;C:\strawberry\cpan\build\Business-UPC-0.04-GdU9r7/blib/lib;C:\strawberry\cpan\build\Business-CINS-1.13-iln1RE/blib/arch;C:\strawberry\cpan\build\Business-CINS-1.13-iln1RE/blib/lib;C:\strawberry\cpan\build\Algorithm-LUHN-1.00-3t6bUj/blib/arch;C:\strawberry\cpan\build\Algorithm-LUHN-1.00-3t6bUj/blib/lib;C:\strawberry\cpan\build\Business-CreditCard-0.31-Q5q5Yp/blib/arch;C:\strawberry\cpan\build\Business-CreditCard-0.31-Q5q5Yp/blib/lib;C:\strawberry\cpan\build\Attribute-Util-1.06-jjlOF9/blib/arch;C:\strawberry\cpan\build\Attribute-Util-1.06-jjlOF9/blib/lib;C:\strawberry\cpan\build\Locale-SubCountry-1.56-MkQWYU/blib/arch;C:\strawberry\cpan\build\Locale-SubCountry-1.56-MkQWYU/blib/lib;C:\strawberry\cpan\build\IO-Extended-0.16-FL0uxr/blib/arch;C:\strawberry\cpan\build\IO-Extended-0.16-FL0uxr/blib/lib;C:\strawberry\cpan\build\Tie-ListKeyedHash-1.02-tge547/blib/arch;C:\strawberry\cpan\build\Tie-ListKeyedHash-1.02-tge547/blib/lib;C:\strawberry\cpan\build\X500-DN-0.29-3R1gtv/blib/arch;C:\strawberry\cpan\build\X500-DN-0.29-3R1gtv/blib/lib;C:\strawberry\cpan\build\Business-ISSN-0.91-GtxVSn/blib/arch;C:\strawberry\cpan\build\Business-ISSN-0.91-GtxVSn/blib/lib;C:\strawberry\cpan\build\String-ExpandEscapes-0.01-CT5iuP/blib/arch;C:\strawberry\cpan\build\String-ExpandEscapes-0.01-CT5iuP/blib/lib;C:\strawberry\cpan\build\Text-TabularDisplay-1.33-giMhqe/blib/arch;C:\strawberry\cpan\build\Text-TabularDisplay-1.33-giMhqe/blib/lib"
    PERL5_CPANPLUS_IS_RUNNING="624"
    PERL5_CPAN_IS_RUNNING="624"
    PERL5_CPAN_IS_RUNNING_IN_RECURSION="1968,624"
    PERL_CR_SMOKER_CURRENT="Data-Type-0.02.02"
    PERL_EXTUTILS_AUTOINSTALL="--defaultdeps"
    PERL_MM_USE_DEFAULT="1"
  @INC:
    C:\strawberry\cpan\build\Class-Multimethods-1.70-laiG2F/blib/arch
    C:\strawberry\cpan\build\Class-Multimethods-1.70-laiG2F/blib/lib
    C:\strawberry\cpan\build\Business-UPC-0.04-GdU9r7/blib/arch
    C:\strawberry\cpan\build\Business-UPC-0.04-GdU9r7/blib/lib
    C:\strawberry\cpan\build\Business-CINS-1.13-iln1RE/blib/arch
    C:\strawberry\cpan\build\Business-CINS-1.13-iln1RE/blib/lib
    C:\strawberry\cpan\build\Algorithm-LUHN-1.00-3t6bUj/blib/arch
    C:\strawberry\cpan\build\Algorithm-LUHN-1.00-3t6bUj/blib/lib
    C:\strawberry\cpan\build\Business-CreditCard-0.31-Q5q5Yp/blib/arch
    C:\strawberry\cpan\build\Business-CreditCard-0.31-Q5q5Yp/blib/lib
    C:\strawberry\cpan\build\Attribute-Util-1.06-jjlOF9/blib/arch
    C:\strawberry\cpan\build\Attribute-Util-1.06-jjlOF9/blib/lib
    C:\strawberry\cpan\build\Locale-SubCountry-1.56-MkQWYU/blib/arch
    C:\strawberry\cpan\build\Locale-SubCountry-1.56-MkQWYU/blib/lib
    C:\strawberry\cpan\build\IO-Extended-0.16-FL0uxr/blib/arch
    C:\strawberry\cpan\build\IO-Extended-0.16-FL0uxr/blib/lib
    C:\strawberry\cpan\build\Tie-ListKeyedHash-1.02-tge547/blib/arch
    C:\strawberry\cpan\build\Tie-ListKeyedHash-1.02-tge547/blib/lib
    C:\strawberry\cpan\build\X500-DN-0.29-3R1gtv/blib/arch
    C:\strawberry\cpan\build\X500-DN-0.29-3R1gtv/blib/lib
    C:\strawberry\cpan\build\Business-ISSN-0.91-GtxVSn/blib/arch
    C:\strawberry\cpan\build\Business-ISSN-0.91-GtxVSn/blib/lib
    C:\strawberry\cpan\build\String-ExpandEscapes-0.01-CT5iuP/blib/arch
    C:\strawberry\cpan\build\String-ExpandEscapes-0.01-CT5iuP/blib/lib
    C:\strawberry\cpan\build\Text-TabularDisplay-1.33-giMhqe/blib/arch
    C:\strawberry\cpan\build\Text-TabularDisplay-1.33-giMhqe/blib/lib
    C:/strawberry/perl/lib
    C:/strawberry/perl/site/lib
    C:\strawberry\perl\vendor\lib
    .