Mo v0.40 Perl 5 v5.26.2 x86_64-linux-ld
- Status
- Pass
- From
- Nigel Horne
- Dist
-
Mo v0.40
- Platform
- Perl 5 v5.26.2 x86_64-linux-ld
- Date
- 2019-06-07 12:35:19
- ID
- b62ea43c-8920-11e9-9997-9db8de51d2a1
This distribution has been tested as part of the CPAN Testers
project, supporting the Perl programming language. See
http://wiki.cpantesters.org/ for more information or email
questions to cpan-testers-discuss@perl.org
--
Dear Tina Muller,
This is a computer-generated report for Mo-0.40
on perl 5.26.2, created by CPAN-Reporter-1.2018.
Thank you for uploading your work to CPAN. Congratulations!
All tests were successful.
Sections of this report:
* Tester comments
* Program output
* Prerequisites
* Environment and other context
------------------------------
TESTER COMMENTS
------------------------------
Additional comments from tester:
none provided
------------------------------
PROGRAM OUTPUT
------------------------------
Output from '/usr/bin/make test':
PERL_DL_NONLAZY=1 "/home/njh/perl5/perlbrew/perls/perl-5.26.2-ld/bin/perl5.26.2" "-MExtUtils::Command::MM" "-MTest::Harness" "-e" "undef *Test::Harness::Switches; test_harness(0, 'blib/lib', 'blib/arch')" t/*.t
t/author-00-compile.t ......... skipped: these tests are for testing by the author
t/author-pod-spell.t .......... skipped: these tests are for testing by the author
t/author-pod-syntax.t ......... skipped: these tests are for testing by the author
t/author-test-version.t ....... skipped: these tests are for testing by the author
t/build.t ..................... ok
t/builder.t ................... ok
#
#
# Generated by Dist::Zilla::Plugin::ReportVersions::Tiny v1.12
# perl: 5.026002 (wanted v5.6.0) on linux from /home/njh/perl5/perlbrew/perls/perl-5.26.2-ld/bin/perl5.26.2
#
# Class::XSAccessor => 1.19 (want any version)
# ExtUtils::MakeMaker => 7.34 (want any version)
# IO::All => module not found. (want any version)
# Moose => 2.2011 (want any version)
# Mouse => module not found. (want any version)
# Test::More => 1.302136 (want 0.96)
#
# Thanks for using my code. I hope it works for you.
# If not, please try and include this output in the bug report.
# That will help me reproduce the issue and solve your problem.
#
t/importer.t .................. ok
t/000-report-versions-tiny.t .. ok
t/is.t ........................ ok
t/extends.t ................... ok
t/main_sub.t .................. ok
t/coerce.t .................... ok
t/combined.t .................. ok
t/chain.t ..................... ok
t/default.t ................... ok
t/lazy-nonlazy.t .............. ok
t/Mouse.t ..................... skipped: Mouse is needed
t/object.t .................... ok
t/option.t .................... ok
t/release-correct-version.t ... skipped: these tests are for release candidate testing
t/release-distmeta.t .......... skipped: these tests are for release candidate testing
t/release-eol.t ............... skipped: these tests are for release candidate testing
t/release-no-tabs.t ........... skipped: these tests are for release candidate testing
t/required.t .................. ok
t/strict.t .................... ok
t/test.t ...................... ok
t/xs.t ........................ ok
t/Moose.t ..................... ok
All tests successful.
Files=28, Tests=153, 0 wallclock secs ( 0.04 usr 0.02 sys + 1.27 cusr 0.16 csys = 1.49 CPU)
Result: PASS
------------------------------
PREREQUISITES
------------------------------
Prerequisite modules loaded:
requires:
Module Need Have
------------------- -------- --------
perl 5.006000 5.026002
build_requires:
Module Need Have
------------------- -------- --------
ExtUtils::MakeMaker 0 7.34
Test::More 0.96 1.302136
configure_requires:
Module Need Have
------------------- -------- --------
ExtUtils::MakeMaker 0 7.34
------------------------------
ENVIRONMENT AND OTHER CONTEXT
------------------------------
Environment variables:
HARNESS_OPTIONS = j10:c
LANG = en_GB.UTF-8
LD_LIBRARY_PATH = /usr/local/lib::
NONINTERACTIVE_TESTING = 1
PATH = /home/njh/perl5/perlbrew/bin:/home/njh/perl5/perlbrew/perls/perl-5.26.2-ld/bin:/home/njh/perl5/perlbrew/bin:/usr/local/bin:/usr/bin:/bin:/usr/games:/home/njh/bin:/sbin:/home/njh/.cargo/bin
PERL5LIB =
PERL5OPT =
PERL5_CPANPLUS_IS_RUNNING = 29528
PERL5_CPAN_IS_RUNNING = 29528
PERLBREW_HOME = /home/njh/.perlbrew
PERLBREW_LIB =
PERLBREW_MANPATH = /home/njh/perl5/perlbrew/perls/perl-5.26.2-ld/man
PERLBREW_PATH = /home/njh/perl5/perlbrew/bin:/home/njh/perl5/perlbrew/perls/perl-5.26.2-ld/bin
PERLBREW_PERL = perl-5.26.2-ld
PERLBREW_ROOT = /home/njh/perl5/perlbrew
PERLBREW_SHELLRC_VERSION = 0.86
PERLBREW_VERSION = 0.86
PERL_LOCAL_LIB_ROOT =
PERL_MM_USE_DEFAULT = 1
PERL_USE_UNSAFE_INC = 1
SHELL = /bin/bash
TEMP = /tmp/user/1000
TMPDIR = /tmp/user/1000
Perl special variables (and OS-specific diagnostics, for MSWin32):
$^X = /home/njh/perl5/perlbrew/perls/perl-5.26.2-ld/bin/perl5.26.2
$UID/$EUID = 1000 / 1000
$GID = 1000 4 24 25 29 30 44 46 107 112 118 996 1000
$EGID = 1000 4 24 25 29 30 44 46 107 112 118 996 1000
Perl module toolchain versions installed:
Module Have
------------------- --------
CPAN 2.25
CPAN::Meta 2.150010
Cwd 3.75
ExtUtils::CBuilder 0.280230
ExtUtils::Command 7.34
ExtUtils::Install 2.14
ExtUtils::MakeMaker 7.34
ExtUtils::Manifest 1.72
ExtUtils::ParseXS 3.35
File::Spec 3.75
JSON 4.02
JSON::PP 2.97001
Module::Build 0.4224
Module::Signature n/a
Parse::CPAN::Meta 2.150010
Test::Harness 3.42
Test::More 1.302136
YAML 1.29
YAML::Syck 1.31
version 0.9924
--
Summary of my perl5 (revision 5 version 26 subversion 2) configuration:
Platform:
osname=linux
osvers=4.15.0-2-amd64
archname=x86_64-linux-ld
uname='linux microcenter 4.15.0-2-amd64 #1 smp debian 4.15.11-1 (2018-03-20) x86_64 gnulinux '
config_args='-de -Dprefix=/home/njh/perl5/perlbrew/perls/perl-5.26.2-ld -Dusedevel -Duselongdouble -Accflags= -Aeval:scriptdir=/home/njh/perl5/perlbrew/perls/perl-5.26.2-ld/bin'
hint=recommended
useposix=true
d_sigaction=define
useithreads=undef
usemultiplicity=undef
use64bitint=define
use64bitall=define
uselongdouble=define
usemymalloc=n
default_inc_excludes_dot=define
bincompat5005=undef
Compiler:
cc='cc'
ccflags ='-fwrapv -fno-strict-aliasing -pipe -fstack-protector-strong -I/usr/local/include -D_LARGEFILE_SOURCE -D_FILE_OFFSET_BITS=64 -D_FORTIFY_SOURCE=2'
optimize='-O2'
cppflags='-fwrapv -fno-strict-aliasing -pipe -fstack-protector-strong -I/usr/local/include'
ccversion=''
gccversion='7.3.0'
gccosandvers=''
intsize=4
longsize=8
ptrsize=8
doublesize=8
byteorder=12345678
doublekind=3
d_longlong=define
longlongsize=8
d_longdbl=define
longdblsize=16
longdblkind=3
ivtype='long'
ivsize=8
nvtype='long double'
nvsize=16
Off_t='off_t'
lseeksize=8
alignbytes=16
prototype=define
Linker and Libraries:
ld='cc'
ldflags =' -fstack-protector-strong -L/usr/local/lib'
libpth=/usr/local/lib /usr/lib/gcc/x86_64-linux-gnu/7/include-fixed /usr/include/x86_64-linux-gnu /usr/lib /lib/x86_64-linux-gnu /lib/../lib /usr/lib/x86_64-linux-gnu /usr/lib/../lib /lib
libs=-lpthread -lnsl -lgdbm -ldb -ldl -lm -lcrypt -lutil -lc
perllibs=-lpthread -lnsl -ldl -lm -lcrypt -lutil -lc
libc=libc-2.27.so
so=so
useshrplib=false
libperl=libperl.a
gnulibc_version='2.27'
Dynamic Linking:
dlsrc=dl_dlopen.xs
dlext=so
d_dlsymun=undef
ccdlflags='-Wl,-E'
cccdlflags='-fPIC'
lddlflags='-shared -O2 -L/usr/local/lib -fstack-protector-strong'
Characteristics of this binary (from libperl):
Compile-time options:
HAS_TIMES
PERLIO_LAYERS
PERL_COPY_ON_WRITE
PERL_DONT_CREATE_GVSV
PERL_MALLOC_WRAP
PERL_OP_PARENT
PERL_PRESERVE_IVUV
PERL_USE_DEVEL
USE_64_BIT_ALL
USE_64_BIT_INT
USE_LARGE_FILES
USE_LOCALE
USE_LOCALE_COLLATE
USE_LOCALE_CTYPE
USE_LOCALE_NUMERIC
USE_LOCALE_TIME
USE_LONG_DOUBLE
USE_PERLIO
USE_PERL_ATOF
Built under linux
Compiled at Apr 23 2018 06:22:30
%ENV:
PERL5LIB=""
PERL5OPT=""
PERL5_CPANPLUS_IS_RUNNING="29528"
PERL5_CPAN_IS_RUNNING="29528"
PERLBREW_HOME="/home/njh/.perlbrew"
PERLBREW_LIB=""
PERLBREW_MANPATH="/home/njh/perl5/perlbrew/perls/perl-5.26.2-ld/man"
PERLBREW_PATH="/home/njh/perl5/perlbrew/bin:/home/njh/perl5/perlbrew/perls/perl-5.26.2-ld/bin"
PERLBREW_PERL="perl-5.26.2-ld"
PERLBREW_ROOT="/home/njh/perl5/perlbrew"
PERLBREW_SHELLRC_VERSION="0.86"
PERLBREW_VERSION="0.86"
PERL_LOCAL_LIB_ROOT=""
PERL_MM_USE_DEFAULT="1"
PERL_USE_UNSAFE_INC="1"
@INC:
/home/njh/perl5/perlbrew/perls/perl-5.26.2-ld/lib/site_perl/5.26.2/x86_64-linux-ld
/home/njh/perl5/perlbrew/perls/perl-5.26.2-ld/lib/site_perl/5.26.2
/home/njh/perl5/perlbrew/perls/perl-5.26.2-ld/lib/5.26.2/x86_64-linux-ld
/home/njh/perl5/perlbrew/perls/perl-5.26.2-ld/lib/5.26.2
.