Back
From: metabase:user:30ae4450-2aae-11df-837a-5e0a49663a4f
Subject: PASS Net-Braintree-0.27.0 v5.16.2
Date: 2015-03-12T16:57:08Z
This distribution has been tested as part of the CPAN Testers
project, supporting the Perl programming language. See
http://wiki.cpantesters.org/ for more information or email
questions to cpan-testers-discuss@perl.org
--
Dear Braintree Devs,
This is a computer-generated report for Net-Braintree-0.27.0
on perl 5.16.2, created by CPAN-Reporter-1.2010_01.
Thank you for uploading your work to CPAN. Congratulations!
All tests were successful.
Sections of this report:
* Tester comments
* Program output
* Prerequisites
* Environment and other context
------------------------------
TESTER COMMENTS
------------------------------
Additional comments from tester:
this report is from an automated smoke testing program
and was not reviewed by a human for accuracy
------------------------------
PROGRAM OUTPUT
------------------------------
Output from 'C:\strawberry5162\c\bin\dmake.exe test':
C:\strawberry5162\perl\bin\perl.exe "-MExtUtils::Command::MM" "-e" "test_harness(0, 'inc', 'blib\lib', 'blib\arch'); " t/*t
# Testing Net::Braintree 0.27.0, Perl 5.016002, C:\strawberry5162\perl\bin\perl.exe
t/00-load.t ............................ ok
t/address.t ............................ ok
t/advanced_search.t .................... ok
t/boilerplate.t ........................ ok
t/client_token.t ....................... ok
t/configuration.t ...................... ok
t/credit_card.t ........................ ok
t/customer.t ........................... ok
t/digest.t ............................. ok
t/inflate_xml.t ........................ ok
t/manifest.t ........................... skipped: Author tests not required for installation
t/merchant_account.t ................... ok
t/pod.t ................................ ok
t/resource_collection.t ................ ok
t/result.t ............................. ok
t/subscription.t ....................... ok
t/transaction.t ........................ ok
t/transparent_redirect.t ............... ok
t/transparent_redirect_query_string.t .. ok
t/util.t ............................... ok
t/validation_error.t ................... ok
t/validation_error_collection.t ........ ok
t/validations_test.t ................... ok
t/webhook_notification.t ............... ok
t/xml.t ................................ ok
t/xml_builder.t ........................ ok
All tests successful.
Test Summary Report
-------------------
t/boilerplate.t (Wstat: 0 Tests: 3 Failed: 0)
TODO passed: 2-3
Files=26, Tests=212, 49 wallclock secs ( 0.21 usr + 0.12 sys = 0.33 CPU)
Result: PASS
------------------------------
PREREQUISITES
------------------------------
Prerequisite modules loaded:
requires:
Module Need Have
--------------------------- ----- --------
Data::GUID 0 0.046
DateTime 0 0.77
DateTime::Format::Atom 0 v1.0.2
DateTime::Format::Strptime 0 1.52
Digest 0 1.17
Digest::HMAC_SHA1 0 1.03
Digest::SHA1 0 2.13
Digest::SHA256 0 0.01
File::Spec 0.80 3.39_02
Hash::Inflator 0 1.100820
JSON 0 2.53
local::lib 0 1.008004
LWP 6.02 6.04
LWP::Protocol::https 0 6.03
MIME::Base64 0 3.13
Module::Install::TestTarget 0 0.19
Moose 0 2.0604
Mozilla::CA 0 20120823
perl 5.006 5.016002
Test::More 0 0.98
Test::Pod 0 1.45
Test::Warn 0 0.24
Try::Tiny 0 0.12
URI::Query 0 0.10
XML::LibXML 0 2.0014
XML::Simple 0 2.20
build_requires:
Module Need Have
--------------------------- ----- --------
ExtUtils::MakeMaker 6.42 6.63_02
Test::More 0 0.98
Test::Pod 0 1.45
Test::Warn 0 0.24
Try::Tiny 0 0.12
------------------------------
ENVIRONMENT AND OTHER CONTEXT
------------------------------
Environment variables:
AUTOMATED_TESTING = 1
COMSPEC = C:\WINDOWS\system32\cmd.exe
NUMBER_OF_PROCESSORS = 1
PATH = C:\Program Files\Far Manager\;C:\P\ImageMagick-6.8.0-Q8;C:\WINDOWS\system32;C:\WINDOWS;C:\WINDOWS\System32\Wbem;C:\strawberry5162\c\bin;C:\strawberry5162\perl\site\bin;C:\strawberry5162\perl\bin
PERL5LIB = C:\strawberry5162\cpan\build\SHA256-0.01-Oqjk2V/blib/arch;C:\strawberry5162\cpan\build\SHA256-0.01-Oqjk2V/blib/lib;C:\strawberry5162\cpan\build\URI-Query-0.10-_zDYU9/blib/arch;C:\strawberry5162\cpan\build\URI-Query-0.10-_zDYU9/blib/lib;C:\strawberry5162\cpan\build\Hash-Inflator-1.100820-XWWyfE/blib/arch;C:\strawberry5162\cpan\build\Hash-Inflator-1.100820-XWWyfE/blib/lib;C:\strawberry5162\cpan\build\Module-Install-TestTarget-0.19-DmERUX/blib/arch;C:\strawberry5162\cpan\build\Module-Install-TestTarget-0.19-DmERUX/blib/lib
PERL5OPT =
PERL5_CPANPLUS_IS_RUNNING = 276
PERL5_CPAN_IS_RUNNING = 276
PERL5_CPAN_IS_RUNNING_IN_RECURSION = 1876,276
PERL_CR_SMOKER_CURRENT = Business-OnlinePayment-Braintree-0.010
PERL_EXTUTILS_AUTOINSTALL = --defaultdeps
PERL_MM_USE_DEFAULT = 1
PROCESSOR_IDENTIFIER = x86 Family 18 Model 1 Stepping 0, AuthenticAMD
TEMP = C:\DOCUME~1\c\LOCALS~1\Temp
TERM = dumb
Perl special variables (and OS-specific diagnostics, for MSWin32):
$^X = C:\strawberry5162\perl\bin\perl.exe
$UID/$EUID = 0 / 0
$GID = 0
$EGID = 0
Win32::GetOSName = WinXP/.Net
Win32::GetOSVersion = Service Pack 3, 5, 1, 2600, 2, 3, 0, 256, 1
Win32::FsType = NTFS
Win32::IsAdminUser = 1
Perl module toolchain versions installed:
Module Have
------------------- --------
CPAN 1.9800
CPAN::Meta 2.120921
Cwd 3.39_02
ExtUtils::CBuilder 0.280206
ExtUtils::Command 1.17
ExtUtils::Install 1.58
ExtUtils::MakeMaker 6.63_02
ExtUtils::Manifest 1.61
ExtUtils::ParseXS 3.16
File::Spec 3.39_02
JSON 2.53
JSON::PP 2.27200
Module::Build 0.4003
Module::Signature 0.68
Parse::CPAN::Meta 1.4404
Test::Harness 3.25
Test::More 0.98
YAML 0.84
YAML::Syck 1.22
version 0.9901
--
Summary of my perl5 (revision 5 version 16 subversion 2) configuration:
Platform:
osname=MSWin32, osvers=4.0, archname=MSWin32-x86-multi-thread
uname='Win32 strawberry-perl 5.16.2.1 #1 Fri Nov 2 00:33:54 2012 i386'
config_args='undef'
hint=recommended, useposix=true, d_sigaction=undef
useithreads=define, usemultiplicity=define
useperlio=define, d_sfio=undef, uselargefiles=define, usesocks=undef
use64bitint=undef, use64bitall=undef, uselongdouble=undef
usemymalloc=n, bincompat5005=undef
Compiler:
cc='gcc', ccflags =' -s -O2 -DWIN32 -DPERL_TEXTMODE_SCRIPTS -DPERL_IMPLICIT_CONTEXT -DPERL_IMPLICIT_SYS -fno-strict-aliasing -mms-bitfields',
optimize='-s -O2',
cppflags='-DWIN32'
ccversion='', gccversion='4.6.3', gccosandvers=''
intsize=4, longsize=4, ptrsize=4, doublesize=8, byteorder=1234
d_longlong=undef, longlongsize=8, d_longdbl=define, longdblsize=12
ivtype='long', ivsize=4, nvtype='double', nvsize=8, Off_t='long long', lseeksize=8
alignbytes=8, prototype=define
Linker and Libraries:
ld='g++', ldflags ='-s -L"C:\strawberry5162\perl\lib\CORE" -L"C:\strawberry5162\c\lib"'
libpth=C:\strawberry5162\c\lib C:\strawberry5162\c\i686-w64-mingw32\lib
libs=-lmoldname -lkernel32 -luser32 -lgdi32 -lwinspool -lcomdlg32 -ladvapi32 -lshell32 -lole32 -loleaut32 -lnetapi32 -luuid -lws2_32 -lmpr -lwinmm -lversion -lodbc32 -lodbccp32 -lcomctl32
perllibs=-lmoldname -lkernel32 -luser32 -lgdi32 -lwinspool -lcomdlg32 -ladvapi32 -lshell32 -lole32 -loleaut32 -lnetapi32 -luuid -lws2_32 -lmpr -lwinmm -lversion -lodbc32 -lodbccp32 -lcomctl32
libc=, so=dll, useshrplib=true, libperl=libperl516.a
gnulibc_version=''
Dynamic Linking:
dlsrc=dl_win32.xs, dlext=dll, d_dlsymun=undef, ccdlflags=' '
cccdlflags=' ', lddlflags='-mdll -s -L"C:\strawberry5162\perl\lib\CORE" -L"C:\strawberry5162\c\lib"'
Characteristics of this binary (from libperl):
Compile-time options: HAS_TIMES HAVE_INTERP_INTERN MULTIPLICITY
PERLIO_LAYERS PERL_DONT_CREATE_GVSV
PERL_IMPLICIT_CONTEXT PERL_IMPLICIT_SYS
PERL_MALLOC_WRAP PERL_PRESERVE_IVUV PL_OP_SLAB_ALLOC
USE_ITHREADS USE_LARGE_FILES USE_LOCALE
USE_LOCALE_COLLATE USE_LOCALE_CTYPE
USE_LOCALE_NUMERIC USE_PERLIO USE_PERL_ATOF
Built under MSWin32
Compiled at Nov 2 2012 00:44:17
%ENV:
PERL5LIB="C:\strawberry5162\cpan\build\SHA256-0.01-Oqjk2V/blib/arch;C:\strawberry5162\cpan\build\SHA256-0.01-Oqjk2V/blib/lib;C:\strawberry5162\cpan\build\URI-Query-0.10-_zDYU9/blib/arch;C:\strawberry5162\cpan\build\URI-Query-0.10-_zDYU9/blib/lib;C:\strawberry5162\cpan\build\Hash-Inflator-1.100820-XWWyfE/blib/arch;C:\strawberry5162\cpan\build\Hash-Inflator-1.100820-XWWyfE/blib/lib;C:\strawberry5162\cpan\build\Module-Install-TestTarget-0.19-DmERUX/blib/arch;C:\strawberry5162\cpan\build\Module-Install-TestTarget-0.19-DmERUX/blib/lib"
PERL5_CPANPLUS_IS_RUNNING="276"
PERL5_CPAN_IS_RUNNING="276"
PERL5_CPAN_IS_RUNNING_IN_RECURSION="1876,276"
PERL_CR_SMOKER_CURRENT="Business-OnlinePayment-Braintree-0.010"
PERL_EXTUTILS_AUTOINSTALL="--defaultdeps"
PERL_MM_USE_DEFAULT="1"
@INC:
C:\strawberry5162\cpan\build\SHA256-0.01-Oqjk2V/blib/arch
C:\strawberry5162\cpan\build\SHA256-0.01-Oqjk2V/blib/lib
C:\strawberry5162\cpan\build\URI-Query-0.10-_zDYU9/blib/arch
C:\strawberry5162\cpan\build\URI-Query-0.10-_zDYU9/blib/lib
C:\strawberry5162\cpan\build\Hash-Inflator-1.100820-XWWyfE/blib/arch
C:\strawberry5162\cpan\build\Hash-Inflator-1.100820-XWWyfE/blib/lib
C:\strawberry5162\cpan\build\Module-Install-TestTarget-0.19-DmERUX/blib/arch
C:\strawberry5162\cpan\build\Module-Install-TestTarget-0.19-DmERUX/blib/lib
C:/strawberry5162/perl/site/lib
C:/strawberry5162/perl/vendor/lib
C:/strawberry5162/perl/lib
.