Back
From: metabase:user:60651cf0-6bfc-1014-bf7d-2dce959c0ded
Subject: PASS MouseX-NativeTraits-1.09 v5.16.2
Date: 2013-03-05T00:34:35Z
This distribution has been tested as part of the CPAN Testers
project, supporting the Perl programming language. See
http://wiki.cpantesters.org/ for more information or email
questions to cpan-testers-discuss@perl.org
--
Dear Goro Fuji,
This is a computer-generated report for MouseX-NativeTraits-1.09
on perl 5.16.2, created by CPAN-Reporter-1.2009.
Thank you for uploading your work to CPAN. Congratulations!
All tests were successful.
Sections of this report:
* Tester comments
* Program output
* Prerequisites
* Environment and other context
------------------------------
TESTER COMMENTS
------------------------------
Additional comments from tester:
this report is from an automated smoke testing program
and was not reviewed by a human for accuracy
------------------------------
PROGRAM OUTPUT
------------------------------
Output from 'E:\apps\strawberry\c\bin\dmake.exe test':
E:\apps\strawberry\perl\bin\perl.exe "-MExtUtils::Command::MM" "-e" "$ENV{q{ANY_MOOSE}} = q{Mouse}; test_harness(0, 'inc', 'blib\lib', 'blib\arch'); " t/*.t t/070_native_traits/*.t
# Testing MouseX::NativeTraits/1.09
# Dependencies:
# Mouse/1.05
t/00_load.t ...................................... ok
t/01_basic.t ..................................... ok
t/02_meta.t ...................................... ok
t/03_extra.t ..................................... ok
t/04_counter.t ................................... ok
t/05_remain_tied.t ............................... ok
t/070_native_traits/010_trait_array.t ............ ok
t/070_native_traits/011_array_subtypes.t ......... ok
t/070_native_traits/012_array_trigger.t .......... ok
t/070_native_traits/013_array_coerce.t ........... skipped: Not supported by MouseX::NativeTraits
t/070_native_traits/020_trait_bool.t ............. ok
t/070_native_traits/030_trait_code.t ............. ok
t/070_native_traits/040_trait_counter.t .......... ok
t/070_native_traits/050_trait_hash.t ............. ok
t/070_native_traits/051_hash_subtypes.t .......... ok
t/070_native_traits/052_hash_trigger.t ........... ok
t/070_native_traits/053_hash_coerce.t ............ skipped: Not supported by MouseX::NativeTraits
t/070_native_traits/060_trait_number.t ........... ok
t/070_native_traits/070_trait_string.t ........... ok
t/070_native_traits/100_array_from_role.t ........ ok
t/070_native_traits/101_remove_attribute.t ....... skipped: Not supported by MouseX::NativeTraits
t/070_native_traits/102_collection_with_roles.t .. ok
t/070_native_traits/103_custom_instance.t ........ skipped: not supproted by MouseX::NativeTraits
All tests successful.
Files=23, Tests=3482, 5 wallclock secs ( 0.19 usr + 0.16 sys = 0.34 CPU)
Result: PASS
------------------------------
PREREQUISITES
------------------------------
Prerequisite modules loaded:
requires:
Module Need Have
------------------- -------- --------
Mouse 0.82 1.05
perl 5.006002 5.016002
build_requires:
Module Need Have
------------------- -------- --------
Any::Moose 0.13 0.21
ExtUtils::MakeMaker 6.59 6.64
Test::Fatal 0.003 0.010
Test::More 0.88 0.98
configure_requires:
Module Need Have
------------------- -------- --------
ExtUtils::MakeMaker 6.59 6.64
------------------------------
ENVIRONMENT AND OTHER CONTEXT
------------------------------
Environment variables:
AUTOMATED_TESTING = 1
COMSPEC = C:\Windows\system32\cmd.exe
NUMBER_OF_PROCESSORS = 2
PATH = C:\Windows\system32;C:\Windows;C:\Windows\System32\Wbem;C:\Windows\System32\WindowsPowerShell\v1.0\;E:\apps\strawberry\c\bin;E:\apps\strawberry\perl\site\bin;E:\apps\strawberry\perl\bin;e:\apps\Git\cmd;C:\Windows\system32;C:\Windows;C:\Windows\System32\Wbem;C:\Windows\System32\WindowsPowerShell\v1.0\;E:\apps\strawberry\c\bin;E:\apps\strawberry\perl\site\bin;E:\apps\strawberry\perl\bin;e:\apps\Git\cmd;C:\Users\alceu\Downloads\GetGnuWin32\gnuwin32\bin;C:\Users\alceu\Downloads\GetGnuWin32\gnuwin32\sbin
PERL5LIB = E:\apps\strawberry\cpan\build\Any-Moose-0.21-0TnTLk/blib/arch;E:\apps\strawberry\cpan\build\Any-Moose-0.21-0TnTLk/blib/lib;E:\apps\strawberry\cpan\build\Mouse-1.05-Bm1f7f/blib/arch;E:\apps\strawberry\cpan\build\Mouse-1.05-Bm1f7f/blib/lib
PERL5OPT =
PERL5_CPANPLUS_IS_RUNNING = 2756
PERL5_CPAN_IS_RUNNING = 2756
PERL5_CPAN_IS_RUNNING_IN_RECURSION = 3992,2756
PERL_CR_SMOKER_CURRENT = URL-List-0.01
PERL_CR_SMOKER_RUNONCE = 1
PERL_EXTUTILS_AUTOINSTALL = --defaultdeps
PERL_MM_USE_DEFAULT = 1
PROCESSOR_IDENTIFIER = x86 Family 6 Model 37 Stepping 5, GenuineIntel
TEMP = C:\Users\alceu\AppData\Local\Temp
TERM = dumb
Perl special variables (and OS-specific diagnostics, for MSWin32):
$^X = E:\apps\strawberry\perl\bin\perl.exe
$UID/$EUID = 0 / 0
$GID = 0
$EGID = 0
Win32::GetOSName = Win7
Win32::GetOSVersion = Service Pack 1, 6, 1, 7601, 2, 1, 0, 256, 1
Win32::FsType = NTFS
Win32::IsAdminUser = 0
Perl module toolchain versions installed:
Module Have
------------------- --------
CPAN 1.9800
CPAN::Meta 2.120921
Cwd 3.40
ExtUtils::CBuilder 0.280206
ExtUtils::Command 1.17
ExtUtils::Install 1.58
ExtUtils::MakeMaker 6.64
ExtUtils::Manifest 1.61
ExtUtils::ParseXS 3.18
File::Spec 3.40
JSON 2.53
JSON::PP 2.27200
Module::Build 0.4003
Module::Signature 0.70
Parse::CPAN::Meta 1.4404
Test::Harness 3.26
Test::More 0.98
YAML 0.84
YAML::Syck 1.22
version 0.9901
--
Summary of my perl5 (revision 5 version 16 subversion 2) configuration:
Platform:
osname=MSWin32, osvers=4.0, archname=MSWin32-x86-multi-thread
uname='Win32 strawberry-perl 5.16.2.2 #1 Sat Feb 23 20:32:29 2013 i386'
config_args='undef'
hint=recommended, useposix=true, d_sigaction=undef
useithreads=define, usemultiplicity=define
useperlio=define, d_sfio=undef, uselargefiles=define, usesocks=undef
use64bitint=undef, use64bitall=undef, uselongdouble=undef
usemymalloc=n, bincompat5005=undef
Compiler:
cc='gcc', ccflags =' -s -O2 -DWIN32 -DPERL_TEXTMODE_SCRIPTS -DPERL_IMPLICIT_CONTEXT -DPERL_IMPLICIT_SYS -fno-strict-aliasing -mms-bitfields',
optimize='-s -O2',
cppflags='-DWIN32'
ccversion='', gccversion='4.6.3', gccosandvers=''
intsize=4, longsize=4, ptrsize=4, doublesize=8, byteorder=1234
d_longlong=undef, longlongsize=8, d_longdbl=define, longdblsize=12
ivtype='long', ivsize=4, nvtype='double', nvsize=8, Off_t='long long', lseeksize=8
alignbytes=8, prototype=define
Linker and Libraries:
ld='g++', ldflags ='-s -L"E:\apps\strawberry\perl\lib\CORE" -L"E:\apps\strawberry\c\lib"'
libpth=E:\apps\strawberry\c\lib E:\apps\strawberry\c\i686-w64-mingw32\lib
libs=-lmoldname -lkernel32 -luser32 -lgdi32 -lwinspool -lcomdlg32 -ladvapi32 -lshell32 -lole32 -loleaut32 -lnetapi32 -luuid -lws2_32 -lmpr -lwinmm -lversion -lodbc32 -lodbccp32 -lcomctl32
perllibs=-lmoldname -lkernel32 -luser32 -lgdi32 -lwinspool -lcomdlg32 -ladvapi32 -lshell32 -lole32 -loleaut32 -lnetapi32 -luuid -lws2_32 -lmpr -lwinmm -lversion -lodbc32 -lodbccp32 -lcomctl32
libc=, so=dll, useshrplib=true, libperl=libperl516.a
gnulibc_version=''
Dynamic Linking:
dlsrc=dl_win32.xs, dlext=dll, d_dlsymun=undef, ccdlflags=' '
cccdlflags=' ', lddlflags='-mdll -s -L"E:\apps\strawberry\perl\lib\CORE" -L"E:\apps\strawberry\c\lib"'
Characteristics of this binary (from libperl):
Compile-time options: HAS_TIMES HAVE_INTERP_INTERN MULTIPLICITY
PERLIO_LAYERS PERL_DONT_CREATE_GVSV
PERL_IMPLICIT_CONTEXT PERL_IMPLICIT_SYS
PERL_MALLOC_WRAP PERL_PRESERVE_IVUV PL_OP_SLAB_ALLOC
USE_ITHREADS USE_LARGE_FILES USE_LOCALE
USE_LOCALE_COLLATE USE_LOCALE_CTYPE
USE_LOCALE_NUMERIC USE_PERLIO USE_PERL_ATOF
Built under MSWin32
Compiled at Feb 23 2013 20:39:51
%ENV:
PERL5LIB="E:\apps\strawberry\cpan\build\Any-Moose-0.21-0TnTLk/blib/arch;E:\apps\strawberry\cpan\build\Any-Moose-0.21-0TnTLk/blib/lib;E:\apps\strawberry\cpan\build\Mouse-1.05-Bm1f7f/blib/arch;E:\apps\strawberry\cpan\build\Mouse-1.05-Bm1f7f/blib/lib"
PERL5_CPANPLUS_IS_RUNNING="2756"
PERL5_CPAN_IS_RUNNING="2756"
PERL5_CPAN_IS_RUNNING_IN_RECURSION="3992,2756"
PERL_CR_SMOKER_CURRENT="URL-List-0.01"
PERL_CR_SMOKER_RUNONCE="1"
PERL_EXTUTILS_AUTOINSTALL="--defaultdeps"
PERL_MM_USE_DEFAULT="1"
@INC:
E:\apps\strawberry\cpan\build\Any-Moose-0.21-0TnTLk/blib/arch
E:\apps\strawberry\cpan\build\Any-Moose-0.21-0TnTLk/blib/lib
E:\apps\strawberry\cpan\build\Mouse-1.05-Bm1f7f/blib/arch
E:\apps\strawberry\cpan\build\Mouse-1.05-Bm1f7f/blib/lib
E:/apps/strawberry/perl/site/lib
E:/apps/strawberry/perl/vendor/lib
E:/apps/strawberry/perl/lib
.