Project2-Gantt v0.010 Perl 5 v5.30.3 x86_64-linux-quadmath
- Status
- Pass
- From
- David Cantrell (DCANTRELL)
- Dist
-
Project2-Gantt v0.010
- Platform
- Perl 5 v5.30.3 x86_64-linux-quadmath
- Date
- 2024-02-05 23:38:48
- ID
- b5b7cf8e-c47f-11ee-bb8e-c92027c51b20
This distribution has been tested as part of the CPAN Testers
project, supporting the Perl programming language. See
http://wiki.cpantesters.org/ for more information or email
questions to cpan-testers-discuss@perl.org
--
Dear Bruno Ramos,
This is a computer-generated report for Project2-Gantt-0.010
on perl 5.30.3, created by CPAN-Reporter-1.2018.
Thank you for uploading your work to CPAN. Congratulations!
All tests were successful.
Sections of this report:
* Tester comments
* Program output
* Prerequisites
* Environment and other context
------------------------------
TESTER COMMENTS
------------------------------
Additional comments from tester:
this report is from an automated smoke testing program
and was not reviewed by a human for accuracy
------------------------------
PROGRAM OUTPUT
------------------------------
Output from '/usr/bin/make test':
PERL_DL_NONLAZY=1 "/home/david/cpantesting/perl-5.30.3-quadmath/bin/perl" "-MExtUtils::Command::MM" "-MTest::Harness" "-e" "undef *Test::Harness::Switches; test_harness(0, 'blib/lib', 'blib/arch')" t/*.t
#
# Versions for all modules listed in MYMETA.json (including optional ones):
#
# === Configure Requires ===
#
# Module Want Have
# ------------------- ---- ----
# ExtUtils::MakeMaker any 7.70
#
# === Build Requires ===
#
# Module Want Have
# ------------------- ---- ----
# ExtUtils::MakeMaker any 7.70
#
# === Test Requires ===
#
# Module Want Have
# ------------------- ---- --------
# ExtUtils::MakeMaker any 7.70
# File::Find::Rule any 0.34
# File::Spec any 3.75
# Test::Directory any 0.052
# Test::More any 1.302198
#
# === Test Recommends ===
#
# Module Want Have
# ---------- -------- --------
# CPAN::Meta 2.120900 2.150010
#
# === Runtime Requires ===
#
# Module Want Have
# ----------------- ----- --------
# Alien::Font::Vera 0.013 0.014
# Imager 1.019 1.023
# Mojolicious 9.31 9.35
# Time::Piece 1.33 1.3401
# perl 5.020 5.030003
#
t/00-report-prereqs.t .. ok
# Project2::Gantt
# Project2::Gantt::Resource
# Project2::Gantt::Skin
# Project2::Gantt::Task
# Project2::Gantt::Globals
# Project2::Gantt::TimeSpan
# Project2::Gantt::ImageWriter
# Project2::Gantt::SpanInfo
# Project2::Gantt::DateUtils
# Project2::Gantt::TextUtils
# Project2::Gantt::GanttHeader
# Project2::Gantt::Skin::Medium
# Project2::Gantt::Skin::Small
# Project2::Gantt::Skin::Large
t/compile.t ............ ok
# $VAR1 = bless( {
# 'dir' => 'test-directory-tmp-gdFYk'
# }, 'Test::Directory' );
# $VAR1 = 'test-directory-tmp-gdFYk/gantt-hours.png';
t/gantt-hours.t ........ ok
t/project2_gantt.t ..... ok
t/time_piece.t ......... ok
All tests successful.
Files=5, Tests=25, 18 wallclock secs ( 0.07 usr 0.03 sys + 2.82 cusr 0.43 csys = 3.35 CPU)
Result: PASS
------------------------------
PREREQUISITES
------------------------------
Prerequisite modules loaded:
requires:
Module Need Have
------------------- ----- --------
Alien::Font::Vera 0.013 0.014
Imager 1.019 1.023
Mojolicious 9.31 9.35
perl 5.020 5.030003
Time::Piece 1.33 1.3401
build_requires:
Module Need Have
------------------- ----- --------
ExtUtils::MakeMaker 0 7.70
File::Find::Rule 0 0.34
File::Spec 0 3.75
Test::Directory 0 0.052
Test::More 0 1.302198
configure_requires:
Module Need Have
------------------- ----- --------
ExtUtils::MakeMaker 0 7.70
------------------------------
ENVIRONMENT AND OTHER CONTEXT
------------------------------
Environment variables:
AUTOMATED_TESTING = 1
LANG = en_GB.UTF-8
LANGUAGE = en_GB:en
LC_TERMINAL = iTerm2
LC_TERMINAL_VERSION = 3.4.23
NONINTERACTIVE_TESTING = 1
PATH = /home/david/.nvm/versions/node/v20.11.0/bin:/home/david/.cargo/bin:/home/david/perl5/perlbrew/bin:/home/david/perl5/perlbrew/perls/perl-5.30.2/bin:/home/david/bin:/usr/local/bin:/usr/bin:/bin:/usr/local/games:/usr/games
PERL = 5.30.3-quadmath
PERL5LIB =
PERL5OPT =
PERL5_CPANPLUS_IS_RUNNING = 2159341
PERL5_CPAN_IS_RUNNING = 2159341
PERLBREW_HOME = /home/david/.perlbrew
PERLBREW_MANPATH = /home/david/perl5/perlbrew/perls/perl-5.30.2/man
PERLBREW_PATH = /home/david/perl5/perlbrew/bin:/home/david/perl5/perlbrew/perls/perl-5.30.2/bin
PERLBREW_PERL = perl-5.30.2
PERLBREW_ROOT = /home/david/perl5/perlbrew
PERLBREW_SHELLRC_VERSION = 0.98
PERLBREW_VERSION = 0.98
PERLVER = 5.30.3-quadmath
PERL_INLINE_DIRECTORY = /home/david/.Inline-5.30.3-quadmath
PERL_MM_USE_DEFAULT = 1
PERL_USE_UNSAFE_INC = 0
SHELL = /bin/bash
TERM = screen
Perl special variables (and OS-specific diagnostics, for MSWin32):
$^X = /home/david/cpantesting/perl-5.30.3-quadmath/bin/perl
$UID/$EUID = 1000 / 1000
$GID = 1000 24 25 27 29 30 44 46 109 1000
$EGID = 1000 24 25 27 29 30 44 46 109 1000
Perl module toolchain versions installed:
Module Have
------------------- --------
CPAN 2.22
CPAN::Meta 2.150010
Cwd 3.75
ExtUtils::CBuilder 0.280236
ExtUtils::Command 7.70
ExtUtils::Install 2.22
ExtUtils::MakeMaker 7.70
ExtUtils::Manifest 1.75
ExtUtils::ParseXS 3.51
File::Spec 3.75
JSON 4.10
JSON::PP 4.16
Module::Build 0.4234
Module::Signature n/a
Parse::CPAN::Meta 2.150010
Test::Harness 3.48
Test::More 1.302198
YAML 1.30
YAML::Syck n/a
version 0.9930
--
Summary of my perl5 (revision 5 version 30 subversion 3) configuration:
Platform:
osname=linux
osvers=5.10.0-11-amd64
archname=x86_64-linux-quadmath
uname='linux cpantesting-linux-utm 5.10.0-11-amd64 #1 smp debian 5.10.92-1 (2022-01-18) x86_64 gnulinux '
config_args='-de -Dusequadmath -Dprefix=/home/david/cpantesting/perl-5.30.3-quadmath'
hint=recommended
useposix=true
d_sigaction=define
useithreads=undef
usemultiplicity=undef
use64bitint=define
use64bitall=define
uselongdouble=undef
usemymalloc=n
default_inc_excludes_dot=define
bincompat5005=undef
Compiler:
cc='cc'
ccflags ='-fwrapv -fno-strict-aliasing -pipe -fstack-protector-strong -I/usr/local/include -D_LARGEFILE_SOURCE -D_FILE_OFFSET_BITS=64 -D_FORTIFY_SOURCE=2'
optimize='-O2'
cppflags='-fwrapv -fno-strict-aliasing -pipe -fstack-protector-strong -I/usr/local/include'
ccversion=''
gccversion='10.2.1 20210110'
gccosandvers=''
intsize=4
longsize=8
ptrsize=8
doublesize=8
byteorder=12345678
doublekind=3
d_longlong=define
longlongsize=8
d_longdbl=define
longdblsize=16
longdblkind=3
ivtype='long'
ivsize=8
nvtype='__float128'
nvsize=16
Off_t='off_t'
lseeksize=8
alignbytes=16
prototype=define
Linker and Libraries:
ld='cc'
ldflags =' -fstack-protector-strong -L/usr/local/lib'
libpth=/usr/local/lib /usr/include/x86_64-linux-gnu /usr/lib /lib/x86_64-linux-gnu /lib/../lib /usr/lib/x86_64-linux-gnu /usr/lib/../lib /lib /lib64 /usr/lib64
libs=-lpthread -lnsl -ldl -lm -lcrypt -lutil -lc -lquadmath
perllibs=-lpthread -lnsl -ldl -lm -lcrypt -lutil -lc -lquadmath
libc=libc-2.31.so
so=so
useshrplib=false
libperl=libperl.a
gnulibc_version='2.31'
Dynamic Linking:
dlsrc=dl_dlopen.xs
dlext=so
d_dlsymun=undef
ccdlflags='-Wl,-E'
cccdlflags='-fPIC'
lddlflags='-shared -O2 -L/usr/local/lib -fstack-protector-strong'
Characteristics of this binary (from libperl):
Compile-time options:
HAS_TIMES
PERLIO_LAYERS
PERL_COPY_ON_WRITE
PERL_DONT_CREATE_GVSV
PERL_MALLOC_WRAP
PERL_OP_PARENT
PERL_PRESERVE_IVUV
USE_64_BIT_ALL
USE_64_BIT_INT
USE_LARGE_FILES
USE_LOCALE
USE_LOCALE_COLLATE
USE_LOCALE_CTYPE
USE_LOCALE_NUMERIC
USE_LOCALE_TIME
USE_PERLIO
USE_PERL_ATOF
USE_QUADMATH
Locally applied patches:
Devel::PatchPerl 2.08
Built under linux
Compiled at Feb 5 2022 23:00:34
%ENV:
PERL="5.30.3-quadmath"
PERL5LIB=""
PERL5OPT=""
PERL5_CPANPLUS_IS_RUNNING="2159341"
PERL5_CPAN_IS_RUNNING="2159341"
PERLBREW_HOME="/home/david/.perlbrew"
PERLBREW_MANPATH="/home/david/perl5/perlbrew/perls/perl-5.30.2/man"
PERLBREW_PATH="/home/david/perl5/perlbrew/bin:/home/david/perl5/perlbrew/perls/perl-5.30.2/bin"
PERLBREW_PERL="perl-5.30.2"
PERLBREW_ROOT="/home/david/perl5/perlbrew"
PERLBREW_SHELLRC_VERSION="0.98"
PERLBREW_VERSION="0.98"
PERLVER="5.30.3-quadmath"
PERL_INLINE_DIRECTORY="/home/david/.Inline-5.30.3-quadmath"
PERL_MM_USE_DEFAULT="1"
PERL_USE_UNSAFE_INC="0"
@INC:
/home/david/cpantesting/perl-5.30.3-quadmath/lib/site_perl/5.30.3/x86_64-linux-quadmath
/home/david/cpantesting/perl-5.30.3-quadmath/lib/site_perl/5.30.3
/home/david/cpantesting/perl-5.30.3-quadmath/lib/5.30.3/x86_64-linux-quadmath
/home/david/cpantesting/perl-5.30.3-quadmath/lib/5.30.3