Archive-Tar-Wrapper v0.33 Perl 5 v5.26.2 aarch64-linux

Status
Pass
From
Nigel Horne
Dist
Archive-Tar-Wrapper v0.33
Platform
Perl 5 v5.26.2 aarch64-linux
Date
2018-07-17 11:44:05
ID
b5a413e0-89b6-11e8-9cdc-7d4e454c6bdc
This distribution has been tested as part of the CPAN Testers
project, supporting the Perl programming language.  See
http://wiki.cpantesters.org/ for more information or email
questions to cpan-testers-discuss@perl.org


--
Dear Alceu Rodrigues de Freitas Junior,

This is a computer-generated report for Archive-Tar-Wrapper-0.33
on perl 5.26.2, created by CPAN-Reporter-1.2018.

Thank you for uploading your work to CPAN.  Congratulations!
All tests were successful.

Sections of this report:

    * Tester comments
    * Program output
    * Prerequisites
    * Environment and other context

------------------------------
TESTER COMMENTS
------------------------------

Additional comments from tester:

this report is from an automated smoke testing program
and was not reviewed by a human for accuracy

------------------------------
PROGRAM OUTPUT
------------------------------

Output from '/usr/bin/make test':

PERL_DL_NONLAZY=1 "/home/njh/perl5/perlbrew/perls/perl-5.26.2/bin/perl" "-MExtUtils::Command::MM" "-MTest::Harness" "-e" "undef *Test::Harness::Switches; test_harness(0, 'blib/lib', 'blib/arch')" t/*.t
t/003Dirs.t ............... ok
t/002Mult.t ............... ok
t/004Utf8.t ............... ok
t/001Basic.t .............. ok
t/005Cwd.t ................ ok
t/006DirPerms.t ........... ok
t/007bzip.t ............... ok
# with grep: Ran 1274 iterations (241 outliers).
# with grep: Rounded run time per iteration: 0.000131 +/- 0.000000 (0.1%)
# with grep and compiled regex: Ran 1274 iterations (274 outliers).
# with grep and compiled regex: Rounded run time per iteration: 0.000157 +/- 0.000000 (0.1%)
# with eq: Ran 1157 iterations (122 outliers).
# with eq: Rounded run time per iteration: 0.000110 +/- 0.000000 (0.1%)
# with enhanced eq: Ran 1157 iterations (125 outliers).
# with enhanced eq: Rounded run time per iteration: 0.000109 +/- 0.000000 (0.1%)
# with enhanced eq mark2: Ran 1337 iterations (315 outliers).
# with enhanced eq mark2: Rounded run time per iteration: 0.000114 +/- 0.000000 (0.1%)
# with enhanced eq mark3: Ran 1157 iterations (118 outliers).
# with enhanced eq mark3: Rounded run time per iteration: 0.000110 +/- 0.000000 (0.1%)
# sort and shift: Ran 1214 iterations (186 outliers).
# sort and shift: Rounded run time per iteration: 0.000099 +/- 0.000000 (0.1%)
t/009performance-small.t .. ok
# with grep: Ran 1214 iterations (193 outliers).
# with grep: Rounded run time per iteration: 0.003910 +/- 0.000001 (0.0%)
# with grep and compiled regex: Ran 1337 iterations (313 outliers).
# with grep and compiled regex: Rounded run time per iteration: 0.005593 +/- 0.000003 (0.0%)
# with eq: Ran 1214 iterations (195 outliers).
# with eq: Rounded run time per iteration: 0.003223 +/- 0.000001 (0.0%)
# with enhanced eq: Ran 1337 iterations (333 outliers).
# with enhanced eq: Rounded run time per iteration: 0.003089 +/- 0.000001 (0.0%)
# with enhanced eq mark2: Ran 1157 iterations (122 outliers).
# with enhanced eq mark2: Rounded run time per iteration: 0.002493 +/- 0.000001 (0.0%)
# with enhanced eq mark3: Ran 1214 iterations (159 outliers).
# with enhanced eq mark3: Rounded run time per iteration: 0.002202 +/- 0.000001 (0.1%)
# sort and shift: Ran 1403 iterations (332 outliers).
# sort and shift: Rounded run time per iteration: 0.003244 +/- 0.000001 (0.0%)
t/008performance.t ........ ok
All tests successful.

Test Summary Report
-------------------
t/009performance-small.t (Wstat: 0 Tests: 1 Failed: 0)
  TODO passed:   1
t/008performance.t      (Wstat: 0 Tests: 1 Failed: 0)
  TODO passed:   1
Files=9, Tests=54, 42 wallclock secs ( 0.18 usr  0.06 sys + 41.62 cusr 12.35 csys = 54.21 CPU)
Result: PASS

------------------------------
PREREQUISITES
------------------------------

Prerequisite modules loaded:

requires:

    Module              Need     Have    
    ------------------- -------- --------
    Cwd                 0        3.67    
    File::Temp          0        0.2304  
    File::Which         0        1.22    
    IPC::Run            0        0.99    
    Log::Log4perl       0        1.49    
    perl                5.008001 5.026002

build_requires:

    Module              Need     Have    
    ------------------- -------- --------
    Dumbbench           0.111    0.111   
    ExtUtils::MakeMaker 0        7.34    
    Test::Simple        1.302073 1.302136

configure_requires:

    Module              Need     Have    
    ------------------- -------- --------
    ExtUtils::MakeMaker 0        7.34    
    File::Which         0        1.22    


------------------------------
ENVIRONMENT AND OTHER CONTEXT
------------------------------

Environment variables:

    AUTOMATED_TESTING = 1
    HARNESS_OPTIONS = j4
    LANG = en_US.UTF-8
    LANGUAGE = en_US.UTF-8
    LC_ALL = en_US.UTF-8
    PATH = /home/njh/perl5/perlbrew/bin:/home/njh/perl5/perlbrew/perls/perl-5.26.2/bin:/home/njh/src/njh/smoker/bin:/usr/bin:/bin
    PERL5LIB = /home/njh/.cpan/build/Log-Log4perl-1.49-0/blib/arch:/home/njh/.cpan/build/Log-Log4perl-1.49-0/blib/lib:/home/njh/.cpan/build/Dumbbench-0.111-0/blib/arch:/home/njh/.cpan/build/Dumbbench-0.111-0/blib/lib:/home/njh/.cpan/build/Statistics-CaseResampling-0.15-0/blib/arch:/home/njh/.cpan/build/Statistics-CaseResampling-0.15-0/blib/lib:/home/njh/.cpan/build/Number-WithError-1.01-0/blib/arch:/home/njh/.cpan/build/Number-WithError-1.01-0/blib/lib:/home/njh/.cpan/build/Test-LectroTest-0.5001-0/blib/arch:/home/njh/.cpan/build/Test-LectroTest-0.5001-0/blib/lib:/home/njh/.cpan/build/Devel-CheckOS-1.81-0/blib/arch:/home/njh/.cpan/build/Devel-CheckOS-1.81-0/blib/lib:/home/njh/.cpan/build/Data-Compare-1.25-0/blib/arch:/home/njh/.cpan/build/Data-Compare-1.25-0/blib/lib
    PERL5OPT = 
    PERL5_CPANPLUS_IS_RUNNING = 1492
    PERL5_CPAN_IS_RUNNING = 1492
    PERLBREW_HOME = /home/njh/.perlbrew
    PERLBREW_MANPATH = /home/njh/perl5/perlbrew/perls/perl-5.26.2/man
    PERLBREW_PATH = /home/njh/perl5/perlbrew/bin:/home/njh/perl5/perlbrew/perls/perl-5.26.2/bin
    PERLBREW_PERL = perl-5.26.2
    PERLBREW_ROOT = /home/njh/perl5/perlbrew
    PERLBREW_SHELLRC_VERSION = 0.83
    PERLBREW_VERSION = 0.83
    PERL_USE_UNSAFE_INC = 1
    SHELL = /bin/sh
    TMPDIR = /tmp/testwrapper.1480

Perl special variables (and OS-specific diagnostics, for MSWin32):

    $^X = /home/njh/perl5/perlbrew/perls/perl-5.26.2/bin/perl
    $UID/$EUID = 1000 / 1000
    $GID = 1000 1000
    $EGID = 1000 1000

Perl module toolchain versions installed:

    Module              Have      
    ------------------- ----------
    CPAN                2.18      
    CPAN::Meta          2.150010  
    Cwd                 3.67      
    ExtUtils::CBuilder  0.280225  
    ExtUtils::Command   7.34      
    ExtUtils::Install   2.06      
    ExtUtils::MakeMaker 7.34      
    ExtUtils::Manifest  1.70      
    ExtUtils::ParseXS   3.34      
    File::Spec          3.67      
    JSON                2.97001   
    JSON::PP            2.27400_02
    Module::Build       0.4224    
    Module::Signature   n/a       
    Parse::CPAN::Meta   2.150010  
    Test::Harness       3.38      
    Test::More          1.302136  
    YAML                1.26      
    YAML::Syck          1.30      
    version             0.9917    


--

Summary of my perl5 (revision 5 version 26 subversion 2) configuration:
   
  Platform:
    osname=linux
    osvers=4.15.9-mainline-rev1
    archname=aarch64-linux
    uname='linux scaleway 4.15.9-mainline-rev1 #1 smp sun mar 11 16:39:20 utc 2018 aarch64 gnulinux '
    config_args='-de -Dprefix=/home/njh/perl5/perlbrew/perls/perl-5.26.2 -Aeval:scriptdir=/home/njh/perl5/perlbrew/perls/perl-5.26.2/bin'
    hint=recommended
    useposix=true
    d_sigaction=define
    useithreads=undef
    usemultiplicity=undef
    use64bitint=define
    use64bitall=define
    uselongdouble=undef
    usemymalloc=n
    default_inc_excludes_dot=define
    bincompat5005=undef
  Compiler:
    cc='cc'
    ccflags ='-fwrapv -fno-strict-aliasing -pipe -fstack-protector-strong -I/usr/local/include -D_LARGEFILE_SOURCE -D_FILE_OFFSET_BITS=64 -D_FORTIFY_SOURCE=2'
    optimize='-O2'
    cppflags='-fwrapv -fno-strict-aliasing -pipe -fstack-protector-strong -I/usr/local/include'
    ccversion=''
    gccversion='6.3.0 20170516'
    gccosandvers=''
    intsize=4
    longsize=8
    ptrsize=8
    doublesize=8
    byteorder=12345678
    doublekind=3
    d_longlong=define
    longlongsize=8
    d_longdbl=define
    longdblsize=16
    longdblkind=1
    ivtype='long'
    ivsize=8
    nvtype='double'
    nvsize=8
    Off_t='off_t'
    lseeksize=8
    alignbytes=8
    prototype=define
  Linker and Libraries:
    ld='cc'
    ldflags =' -fstack-protector-strong -L/usr/local/lib'
    libpth=/usr/local/lib /usr/lib/gcc/aarch64-linux-gnu/6/include-fixed /usr/include/aarch64-linux-gnu /usr/lib /lib/aarch64-linux-gnu /lib/../lib /usr/lib/aarch64-linux-gnu /usr/lib/../lib /lib
    libs=-lpthread -lnsl -lgdbm -ldb -ldl -lm -lcrypt -lutil -lc -lgdbm_compat
    perllibs=-lpthread -lnsl -ldl -lm -lcrypt -lutil -lc
    libc=libc-2.24.so
    so=so
    useshrplib=false
    libperl=libperl.a
    gnulibc_version='2.24'
  Dynamic Linking:
    dlsrc=dl_dlopen.xs
    dlext=so
    d_dlsymun=undef
    ccdlflags='-Wl,-E'
    cccdlflags='-fPIC'
    lddlflags='-shared -O2 -L/usr/local/lib -fstack-protector-strong'


Characteristics of this binary (from libperl): 
  Compile-time options:
    HAS_TIMES
    PERLIO_LAYERS
    PERL_COPY_ON_WRITE
    PERL_DONT_CREATE_GVSV
    PERL_MALLOC_WRAP
    PERL_OP_PARENT
    PERL_PRESERVE_IVUV
    USE_64_BIT_ALL
    USE_64_BIT_INT
    USE_LARGE_FILES
    USE_LOCALE
    USE_LOCALE_COLLATE
    USE_LOCALE_CTYPE
    USE_LOCALE_NUMERIC
    USE_LOCALE_TIME
    USE_PERLIO
    USE_PERL_ATOF
  Locally applied patches:
    Devel::PatchPerl 1.48
  Built under linux
  Compiled at Apr 22 2018 11:38:14
  %ENV:
    PERL5LIB="/home/njh/.cpan/build/Log-Log4perl-1.49-0/blib/arch:/home/njh/.cpan/build/Log-Log4perl-1.49-0/blib/lib:/home/njh/.cpan/build/Dumbbench-0.111-0/blib/arch:/home/njh/.cpan/build/Dumbbench-0.111-0/blib/lib:/home/njh/.cpan/build/Statistics-CaseResampling-0.15-0/blib/arch:/home/njh/.cpan/build/Statistics-CaseResampling-0.15-0/blib/lib:/home/njh/.cpan/build/Number-WithError-1.01-0/blib/arch:/home/njh/.cpan/build/Number-WithError-1.01-0/blib/lib:/home/njh/.cpan/build/Test-LectroTest-0.5001-0/blib/arch:/home/njh/.cpan/build/Test-LectroTest-0.5001-0/blib/lib:/home/njh/.cpan/build/Devel-CheckOS-1.81-0/blib/arch:/home/njh/.cpan/build/Devel-CheckOS-1.81-0/blib/lib:/home/njh/.cpan/build/Data-Compare-1.25-0/blib/arch:/home/njh/.cpan/build/Data-Compare-1.25-0/blib/lib"
    PERL5OPT=""
    PERL5_CPANPLUS_IS_RUNNING="1492"
    PERL5_CPAN_IS_RUNNING="1492"
    PERLBREW_HOME="/home/njh/.perlbrew"
    PERLBREW_MANPATH="/home/njh/perl5/perlbrew/perls/perl-5.26.2/man"
    PERLBREW_PATH="/home/njh/perl5/perlbrew/bin:/home/njh/perl5/perlbrew/perls/perl-5.26.2/bin"
    PERLBREW_PERL="perl-5.26.2"
    PERLBREW_ROOT="/home/njh/perl5/perlbrew"
    PERLBREW_SHELLRC_VERSION="0.83"
    PERLBREW_VERSION="0.83"
    PERL_USE_UNSAFE_INC="1"
  @INC:
    /home/njh/.cpan/build/Log-Log4perl-1.49-0/blib/arch
    /home/njh/.cpan/build/Log-Log4perl-1.49-0/blib/lib
    /home/njh/.cpan/build/Dumbbench-0.111-0/blib/arch
    /home/njh/.cpan/build/Dumbbench-0.111-0/blib/lib
    /home/njh/.cpan/build/Statistics-CaseResampling-0.15-0/blib/arch
    /home/njh/.cpan/build/Statistics-CaseResampling-0.15-0/blib/lib
    /home/njh/.cpan/build/Number-WithError-1.01-0/blib/arch
    /home/njh/.cpan/build/Number-WithError-1.01-0/blib/lib
    /home/njh/.cpan/build/Test-LectroTest-0.5001-0/blib/arch
    /home/njh/.cpan/build/Test-LectroTest-0.5001-0/blib/lib
    /home/njh/.cpan/build/Devel-CheckOS-1.81-0/blib/arch
    /home/njh/.cpan/build/Devel-CheckOS-1.81-0/blib/lib
    /home/njh/.cpan/build/Data-Compare-1.25-0/blib/arch
    /home/njh/.cpan/build/Data-Compare-1.25-0/blib/lib
    /home/njh/perl5/perlbrew/perls/perl-5.26.2/lib/site_perl/5.26.2/aarch64-linux
    /home/njh/perl5/perlbrew/perls/perl-5.26.2/lib/site_perl/5.26.2
    /home/njh/perl5/perlbrew/perls/perl-5.26.2/lib/5.26.2/aarch64-linux
    /home/njh/perl5/perlbrew/perls/perl-5.26.2/lib/5.26.2
    .