ExtUtils-MakeMaker v7.74 Perl 5 v5.41.13 darwin-2level
- Status
- Pass
- From
- David Cantrell (DCANTRELL)
- Dist
-
ExtUtils-MakeMaker v7.74
- Platform
- Perl 5 v5.41.13 darwin-2level
- Date
- 2025-05-16 23:51:38
- ID
- b58b4964-32b0-11f0-9921-ba375bd43f17
This distribution has been tested as part of the CPAN Testers
project, supporting the Perl programming language. See
http://wiki.cpantesters.org/ for more information or email
questions to cpan-testers-discuss@perl.org
--
Dear Chris Williams,
This is a computer-generated report for ExtUtils-MakeMaker-7.74
on perl 5.41.13, created by CPAN-Reporter-1.2020.
Thank you for uploading your work to CPAN. Congratulations!
All tests were successful.
Sections of this report:
* Tester comments
* Program output
* Prerequisites
* Environment and other context
------------------------------
TESTER COMMENTS
------------------------------
Additional comments from tester:
this report is from an automated smoke testing program
and was not reviewed by a human for accuracy
------------------------------
PROGRAM OUTPUT
------------------------------
Output from '/usr/bin/make test':
PERL_DL_NONLAZY=1 "/Users/cpantesting/cpantesting/perl-blead/bin/perl5.41.13" "-Iblib/arch" "-Iblib/lib" "-MExtUtils::Command::MM" "-MTest::Harness" "-e" "undef *Test::Harness::Switches; test_harness(0, 'blib/lib', 'blib/arch')" t/*.t
t/00compile.t ............. ok
t/01perl_bugs.t ........... ok
t/02-xsdynamic.t .......... ok
t/03-xsstatic.t ........... skipped: darwin
Warning: -L./mylib changed to -L/Users/cpantesting/cpantesting/perl-blead/.cpan/build/ExtUtils-MakeMaker-7.74-0/t/8WQl0Pt1cj/./mylib
t/04-xs-rpath-darwin.t .... ok
t/arch_check.t ............ ok
t/backwards.t ............. ok
t/basic.t ................. ok
t/build_man.t ............. ok
t/cd.t .................... ok
t/config.t ................ ok
t/cp.t .................... ok
t/dir_target.t ............ ok
t/echo.t .................. ok
t/eu_command.t ............ ok
t/FIRST_MAKEFILE.t ........ ok
t/fix_libs.t .............. ok
t/fixin.t ................. ok
t/hints.t ................. ok
t/INST.t .................. ok
t/INST_PREFIX.t ........... ok
t/INSTALL_BASE.t .......... ok
t/installed_file.t ........ ok
t/is_of_type.t ............ ok
t/Liblist.t ............... ok
t/Liblist_Kid.t ........... ok
t/make.t .................. ok
t/MakeMaker_Parameters.t .. ok
t/maketext_filter.t ....... ok
t/meta_convert.t .......... ok
t/metafile_data.t ......... ok
t/metafile_file.t ......... ok
t/min_perl_version.t ...... ok
t/miniperl.t .............. skipped: miniperl test only necessary for the perl core
t/Mkbootstrap.t ........... ok
t/MM_Any.t ................ ok
t/MM_BeOS.t ............... skipped: This is not BeOS
t/MM_Cygwin.t ............. skipped: This is not cygwin
t/MM_NW5.t ................ skipped: This is not NW5
t/MM_OS2.t ................ skipped: This is not OS/2
t/MM_Unix.t ............... ok
t/MM_VMS.t ................ skipped: This is not VMS
t/MM_Win32.t .............. skipped: This is not Win32
t/oneliner.t .............. ok
t/os_unsupported.t ........ ok
t/parse_abstract.t ........ ok
t/parse_version.t ......... ok
t/PL_FILES.t .............. ok
t/pm.t .................... ok
t/pm_to_blib.t ............ ok
t/pod2man.t ............... ok
t/postamble.t ............. ok
t/prefixify.t ............. ok
t/prereq.t ................ ok
t/prereq_print.t .......... ok
t/problems.t .............. ok
t/prompt.t ................ ok
t/rec_att_keys.t .......... ok
t/recurs.t ................ ok
t/revision.t .............. ok
t/several_authors.t ....... ok
t/split_command.t ......... ok
t/test_boilerplate.t ...... ok
t/testlib.t ............... ok
t/unicode.t ............... ok
t/VERSION_FROM.t .......... ok
t/vstrings.t .............. ok
t/WriteEmptyMakefile.t .... ok
t/writemakefile_args.t .... ok
All tests successful.
Files=69, Tests=1442, 148 wallclock secs ( 0.44 usr 0.22 sys + 78.72 cusr 44.13 csys = 123.51 CPU)
Result: PASS
------------------------------
PREREQUISITES
------------------------------
Prerequisite modules loaded:
requires:
Module Need Have
-------------- ----- --------
Data::Dumper 0 2.183
Encode 0 3.21
File::Basename 0 2.86
File::Spec 0.8 3.94
perl 5.006 5.041013
Pod::Man 0 v6.0.2
------------------------------
ENVIRONMENT AND OTHER CONTEXT
------------------------------
Environment variables:
AUTOMATED_TESTING = 1
LANG = en_GB.UTF-8
LC_TERMINAL = iTerm2
LC_TERMINAL_VERSION = 3.5.13
NONINTERACTIVE_TESTING = 1
PATH = /Users/cpantesting/perl5/perlbrew/bin:/Users/cpantesting/perl5/perlbrew/perls/perl-5.32.0/bin:/usr/local/bin:/System/Cryptexes/App/usr/bin:/usr/bin:/bin:/usr/sbin:/sbin:/var/run/com.apple.security.cryptexd/codex.system/bootstrap/usr/local/bin:/var/run/com.apple.security.cryptexd/codex.system/bootstrap/usr/bin:/var/run/com.apple.security.cryptexd/codex.system/bootstrap/usr/appleinternal/bin:/opt/X11/bin:/Library/Apple/usr/bin:/Applications/VMware Fusion.app/Contents/Public:/usr/local/zfs/bin:/Users/cpantesting/.cargo/bin
PERL = blead
PERL5LIB =
PERL5OPT =
PERL5_CPANPLUS_IS_RUNNING = 19962
PERL5_CPAN_IS_RUNNING = 19962
PERLBREW_HOME = /Users/cpantesting/.perlbrew
PERLBREW_MANPATH = /Users/cpantesting/perl5/perlbrew/perls/perl-5.32.0/man
PERLBREW_PATH = /Users/cpantesting/perl5/perlbrew/bin:/Users/cpantesting/perl5/perlbrew/perls/perl-5.32.0/bin
PERLBREW_PERL = perl-5.32.0
PERLBREW_ROOT = /Users/cpantesting/perl5/perlbrew
PERLBREW_SHELLRC_VERSION = 0.94
PERLBREW_VERSION = 0.94
PERLVER = blead
PERL_INLINE_DIRECTORY = /Users/cpantesting/.Inline-blead
PERL_MM_USE_DEFAULT = 1
PERL_USE_UNSAFE_INC = 0
SHELL = /bin/bash
TERM = screen
TMPDIR = /var/folders/zy/47mkymr176b35xhyp425tk7h0000gq/T/
Perl special variables (and OS-specific diagnostics, for MSWin32):
$^X = /Users/cpantesting/cpantesting/perl-blead/bin/perl5.41.13
$UID/$EUID = 503 / 503
$GID = 20 20 12 61 399 703 702 701 100
$EGID = 20 20 12 61 399 703 702 701 100
Perl module toolchain versions installed:
Module Have
------------------- --------
CPAN 2.38
CPAN::Meta 2.150010
Cwd 3.94
ExtUtils::CBuilder 0.280241
ExtUtils::Command 7.74
ExtUtils::Install 2.22
ExtUtils::MakeMaker 7.74
ExtUtils::Manifest 1.75
ExtUtils::ParseXS 3.57
File::Spec 3.94
JSON n/a
JSON::PP 4.16
Module::Build 0.4234
Module::Signature n/a
Parse::CPAN::Meta 2.150010
Test2 1.302211
Test::Harness 3.50
Test::More 1.302211
YAML n/a
YAML::Syck n/a
version 0.9933
--
Summary of my perl5 (revision 5 version 41 subversion 13) configuration:
Commit id: 482fd30fb27ae01e0305c037bd35dda662dc8de9
Platform:
osname=darwin
osvers=24.4.0
archname=darwin-2level
uname='darwin harrow.home 24.4.0 darwin kernel version 24.4.0: fri apr 11 18:28:23 pdt 2025; root:xnu-11417.101.15~117release_x86_64 x86_64 '
config_args='-de -Dprefix=/Users/cpantesting/cpantesting/perl-blead -Dusedevel'
hint=recommended
useposix=true
d_sigaction=define
useithreads=undef
usemultiplicity=undef
use64bitint=define
use64bitall=define
uselongdouble=undef
usemymalloc=n
default_inc_excludes_dot=define
Compiler:
cc='cc'
ccflags ='-fno-common -DPERL_DARWIN -mmacosx-version-min=15.4 -DNO_THREAD_SAFE_QUERYLOCALE -DNO_POSIX_2008_LOCALE -DHAS_BROKEN_LANGINFO_CODESET -DNO_LOCALE_COLLATE -fno-strict-aliasing -pipe -fstack-protector-strong -I/usr/local/include'
optimize='-O3'
cppflags='-fno-common -DPERL_DARWIN -mmacosx-version-min=15.4 -DNO_THREAD_SAFE_QUERYLOCALE -DNO_POSIX_2008_LOCALE -DHAS_BROKEN_LANGINFO_CODESET -DNO_LOCALE_COLLATE -fno-strict-aliasing -pipe -fstack-protector-strong -I/usr/local/include'
ccversion=''
gccversion='Apple LLVM 17.0.0 (clang-1700.0.13.3)'
gccosandvers=''
intsize=4
longsize=8
ptrsize=8
doublesize=8
byteorder=12345678
doublekind=3
d_longlong=define
longlongsize=8
d_longdbl=define
longdblsize=16
longdblkind=3
ivtype='long'
ivsize=8
nvtype='double'
nvsize=8
Off_t='off_t'
lseeksize=8
alignbytes=8
prototype=define
Linker and Libraries:
ld='cc'
ldflags =' -mmacosx-version-min=15.4 -fstack-protector-strong -L/usr/local/lib'
libpth=/usr/local/lib /Applications/Xcode.app/Contents/Developer/Toolchains/XcodeDefault.xctoolchain/usr/lib/clang/17/lib /Applications/Xcode.app/Contents/Developer/Platforms/MacOSX.platform/Developer/SDKs/MacOSX.sdk/usr/lib /Applications/Xcode.app/Contents/Developer/Toolchains/XcodeDefault.xctoolchain/usr/lib /usr/lib
libs=-lgdbm
perllibs=
libc=
so=dylib
useshrplib=false
libperl=libperl.a
gnulibc_version=''
Dynamic Linking:
dlsrc=dl_dlopen.xs
dlext=bundle
d_dlsymun=undef
ccdlflags=' '
cccdlflags=' '
lddlflags=' -mmacosx-version-min=15.4 -bundle -undefined dynamic_lookup -L/usr/local/lib -fstack-protector-strong'
Characteristics of this binary (from libperl):
Compile-time options:
HAS_LONG_DOUBLE
HAS_STRTOLD
HAS_TIMES
PERLIO_LAYERS
PERL_COPY_ON_WRITE
PERL_DONT_CREATE_GVSV
PERL_HASH_FUNC_SIPHASH13
PERL_HASH_USE_SBOX32
PERL_MALLOC_WRAP
PERL_OP_PARENT
PERL_PRESERVE_IVUV
PERL_USE_DEVEL
PERL_USE_SAFE_PUTENV
USE_64_BIT_ALL
USE_64_BIT_INT
USE_LARGE_FILES
USE_LOCALE
USE_LOCALE_CTYPE
USE_LOCALE_NUMERIC
USE_LOCALE_TIME
USE_PERLIO
USE_PERL_ATOF
Built under darwin
Compiled at May 16 2025 01:38:26
%ENV:
PERL="blead"
PERL5LIB=""
PERL5OPT=""
PERL5_CPANPLUS_IS_RUNNING="19962"
PERL5_CPAN_IS_RUNNING="19962"
PERLBREW_HOME="/Users/cpantesting/.perlbrew"
PERLBREW_MANPATH="/Users/cpantesting/perl5/perlbrew/perls/perl-5.32.0/man"
PERLBREW_PATH="/Users/cpantesting/perl5/perlbrew/bin:/Users/cpantesting/perl5/perlbrew/perls/perl-5.32.0/bin"
PERLBREW_PERL="perl-5.32.0"
PERLBREW_ROOT="/Users/cpantesting/perl5/perlbrew"
PERLBREW_SHELLRC_VERSION="0.94"
PERLBREW_VERSION="0.94"
PERLVER="blead"
PERL_INLINE_DIRECTORY="/Users/cpantesting/.Inline-blead"
PERL_MM_USE_DEFAULT="1"
PERL_USE_UNSAFE_INC="0"
@INC:
/Users/cpantesting/cpantesting/perl-blead/lib/site_perl/5.41.13/darwin-2level
/Users/cpantesting/cpantesting/perl-blead/lib/site_perl/5.41.13
/Users/cpantesting/cpantesting/perl-blead/lib/5.41.13/darwin-2level
/Users/cpantesting/cpantesting/perl-blead/lib/5.41.13