Slurm-Sacctmgr v1.1.0 Perl 5 v5.26.1 OpenBSD.amd64-openbsd

Status
Pass
From
Alceu Rodrigues de Freitas Junior
Dist
Slurm-Sacctmgr v1.1.0
Platform
Perl 5 v5.26.1 OpenBSD.amd64-openbsd
Date
2017-12-28 19:02:52
ID
b46de62a-ec01-11e7-9fa7-c83a1a413131
This distribution has been tested as part of the CPAN Testers
project, supporting the Perl programming language.  See
http://wiki.cpantesters.org/ for more information or email
questions to cpan-testers-discuss@perl.org


--
Dear Tom Payerle,

This is a computer-generated report for Slurm-Sacctmgr-1.1.0
on perl 5.26.1, created by CPAN-Reporter-1.2018.

Thank you for uploading your work to CPAN.  Congratulations!
All tests were successful.

Sections of this report:

    * Tester comments
    * Program output
    * Prerequisites
    * Environment and other context

------------------------------
TESTER COMMENTS
------------------------------

Additional comments from tester:

this report is from an automated smoke testing program
and was not reviewed by a human for accuracy

------------------------------
PROGRAM OUTPUT
------------------------------

Output from '/usr/bin/make test':

PERL_DL_NONLAZY=1 "/home/goku/perl5/perlbrew/perls/perl-5.26.1/bin/perl" "-MExtUtils::Command::MM" "-MTest::Harness" "-e" "undef *Test::Harness::Switches; test_harness(0, 'blib/lib', 'blib/arch')" t/*.t
t/000_Slurm-Sacctmgr-use.t .......... ok
t/050_pod.t ......................... skipped: Author tests not required for installation
[VERBOSE] /mnt/cpan_build_dir/goku/Slurm-Sacctmgr-1.1.0-0/t/helpers/echo_cmdline_to_stderr create cluster test-cluster
[VERBOSE] /mnt/cpan_build_dir/goku/Slurm-Sacctmgr-1.1.0-0/t/helpers/echo_cmdline_to_stderr show user cluster='test-cluster' --readonly
[VERBOSE] /mnt/cpan_build_dir/goku/Slurm-Sacctmgr-1.1.0-0/t/helpers/echo_cmdline_to_stderr show user cluster='test-cluster' --parsable2 --noheader --readonly
[DRYRUN] /mnt/cpan_build_dir/goku/Slurm-Sacctmgr-1.1.0-0/t/helpers/echo_cmdline_to_stderr create cluster test-cluster
t/100_Slurm-Sacctmgr-basic.t ........ ok
t/110_lowlevel-utilities.t .......... ok
t/150_Slurm-Sacctmgr-taint.t ........ ok
[DRYRUN] /mnt/cpan_build_dir/goku/Slurm-Sacctmgr-1.1.0-0/t/helpers/echo_cmdline -i add account cluster=yottascale name=abc124 organization=nsa parent=special
[DRYRUN] /mnt/cpan_build_dir/goku/Slurm-Sacctmgr-1.1.0-0/t/helpers/echo_cmdline -i modify account where account=abc124 cluster=yottascale organization=nsa set parent=topsecret rawusage=0
[DRYRUN] /mnt/cpan_build_dir/goku/Slurm-Sacctmgr-1.1.0-0/t/helpers/echo_cmdline -i delete account where account=abc124 cluster=yottascale
[DRYRUN] /mnt/cpan_build_dir/goku/Slurm-Sacctmgr-1.1.0-0/t/helpers/echo_cmdline -i add account cluster=yottascale name=abc124 organization=nsa parent=special
[DRYRUN] /mnt/cpan_build_dir/goku/Slurm-Sacctmgr-1.1.0-0/t/helpers/echo_cmdline -i modify account where account=abc124 cluster=yottascale organization=nsa set parent=topsecret rawusage=0
[DRYRUN] /mnt/cpan_build_dir/goku/Slurm-Sacctmgr-1.1.0-0/t/helpers/echo_cmdline -i delete account where account=abc124 cluster=yottascale
t/200_Slurm-SAAccount-echo.t ........ ok
t/205_Slurm-SAAssoc-echo.t .......... ok
[DRYRUN] /mnt/cpan_build_dir/goku/Slurm-Sacctmgr-1.1.0-0/t/helpers/echo_cmdline -i add cluster cluster=yottascale controlhost=ys-master1 controlport=6817 cpucount=20000000 nodecount=1000000 nodenames=compute-[0-99999] rpc=7168
[DRYRUN] /mnt/cpan_build_dir/goku/Slurm-Sacctmgr-1.1.0-0/t/helpers/echo_cmdline -i add cluster cluster=yottascale controlhost=ys-master1 controlport=6817 nodenames=compute-[0-99999] rpc=7168 tres=cpu=20000000,node=1000000
[DRYRUN] /mnt/cpan_build_dir/goku/Slurm-Sacctmgr-1.1.0-0/t/helpers/echo_cmdline -i add cluster cluster=yottascale controlhost=ys-master1 controlport=6817 nodenames=compute-[0-99999] rpc=7168 tres=cpu=20000000,node=1000000
[DRYRUN] /mnt/cpan_build_dir/goku/Slurm-Sacctmgr-1.1.0-0/t/helpers/echo_cmdline -i modify cluster where cluster=yottascale set classificiation=virtual
[DRYRUN] /mnt/cpan_build_dir/goku/Slurm-Sacctmgr-1.1.0-0/t/helpers/echo_cmdline -i modify cluster where cluster=yottascale set cpucount=20000010
[DRYRUN] /mnt/cpan_build_dir/goku/Slurm-Sacctmgr-1.1.0-0/t/helpers/echo_cmdline -i modify cluster where cluster=yottascale set tres=cpu=20000020,node=1000001
[DRYRUN] /mnt/cpan_build_dir/goku/Slurm-Sacctmgr-1.1.0-0/t/helpers/echo_cmdline -i delete cluster where cluster=yottascale
[DRYRUN] /mnt/cpan_build_dir/goku/Slurm-Sacctmgr-1.1.0-0/t/helpers/echo_cmdline -i add cluster cluster=yottascale controlhost=ys-master1 controlport=6817 cpucount=20000000 nodecount=1000000 nodenames=compute-[0-99999] rpc=7168
[DRYRUN] /mnt/cpan_build_dir/goku/Slurm-Sacctmgr-1.1.0-0/t/helpers/echo_cmdline -i add cluster cluster=yottascale controlhost=ys-master1 controlport=6817 nodenames=compute-[0-99999] rpc=7168 tres=cpu=20000000,node=1000000
[DRYRUN] /mnt/cpan_build_dir/goku/Slurm-Sacctmgr-1.1.0-0/t/helpers/echo_cmdline -i add cluster cluster=yottascale controlhost=ys-master1 controlport=6817 nodenames=compute-[0-99999] rpc=7168 tres=cpu=20000000,node=1000000
[DRYRUN] /mnt/cpan_build_dir/goku/Slurm-Sacctmgr-1.1.0-0/t/helpers/echo_cmdline -i modify cluster where cluster=yottascale set classificiation=virtual
[DRYRUN] /mnt/cpan_build_dir/goku/Slurm-Sacctmgr-1.1.0-0/t/helpers/echo_cmdline -i modify cluster where cluster=yottascale set cpucount=20000010
[DRYRUN] /mnt/cpan_build_dir/goku/Slurm-Sacctmgr-1.1.0-0/t/helpers/echo_cmdline -i modify cluster where cluster=yottascale set tres=cpu=20000020,node=1000001
[DRYRUN] /mnt/cpan_build_dir/goku/Slurm-Sacctmgr-1.1.0-0/t/helpers/echo_cmdline -i delete cluster where cluster=yottascale
t/210_Slurm-SACluster-echo.t ........ ok
t/230_Slurm-SAEvent-echo.t .......... ok
[DRYRUN] /mnt/cpan_build_dir/goku/Slurm-Sacctmgr-1.1.0-0/t/helpers/echo_cmdline -i add qos 'description=high-priority qos' gracetime=10 grpcpumins=60000 grpcpus=1000 grpjobs=200 grpnodes=100 grpsubmitjobs=150 grpwall=40000 maxcpumins=120000 maxcpus=2000 maxjobs=400 maxnodes=300 maxsubmitjobs=275 maxwall=80000 name=high-priority preempt=scavenger,normal preemptmode=cluster priority=10 usagefactor=2
[DRYRUN] /mnt/cpan_build_dir/goku/Slurm-Sacctmgr-1.1.0-0/t/helpers/echo_cmdline -i delete qos where name=high-priority
[DRYRUN] /mnt/cpan_build_dir/goku/Slurm-Sacctmgr-1.1.0-0/t/helpers/echo_cmdline -i modify qos where name=high-priority set priority=75
[DRYRUN] /mnt/cpan_build_dir/goku/Slurm-Sacctmgr-1.1.0-0/t/helpers/echo_cmdline -i add qos 'description=high-priority qos' gracetime=10 grpcpumins=60000 grpcpus=1000 grpjobs=200 grpnodes=100 grpsubmitjobs=150 grpwall=40000 maxcpumins=120000 maxcpus=2000 maxjobs=400 maxnodes=300 maxsubmitjobs=275 maxwall=80000 name=high-priority preempt=scavenger,normal preemptmode=cluster priority=10 usagefactor=2
[DRYRUN] /mnt/cpan_build_dir/goku/Slurm-Sacctmgr-1.1.0-0/t/helpers/echo_cmdline -i delete qos where name=high-priority
[DRYRUN] /mnt/cpan_build_dir/goku/Slurm-Sacctmgr-1.1.0-0/t/helpers/echo_cmdline -i modify qos where name=high-priority set priority=75
t/260_Slurm-SACQos-echo.t ........... ok
[DRYRUN] /mnt/cpan_build_dir/goku/Slurm-Sacctmgr-1.1.0-0/t/helpers/echo_cmdline -i add resource allocated=100 cluster=yottascale count=10 description=test name=abaqus percentallowed=100 server=flexlm.umd.edu servertype=flexlm type=License
[DRYRUN] /mnt/cpan_build_dir/goku/Slurm-Sacctmgr-1.1.0-0/t/helpers/echo_cmdline -i modify resource where name=abaqus set count=20
[DRYRUN] /mnt/cpan_build_dir/goku/Slurm-Sacctmgr-1.1.0-0/t/helpers/echo_cmdline -i delete resource where name=abaqus
[DRYRUN] /mnt/cpan_build_dir/goku/Slurm-Sacctmgr-1.1.0-0/t/helpers/echo_cmdline -i add resource allocated=100 cluster=yottascale count=10 description=test name=abaqus percentallowed=100 server=flexlm.umd.edu servertype=flexlm type=License
[DRYRUN] /mnt/cpan_build_dir/goku/Slurm-Sacctmgr-1.1.0-0/t/helpers/echo_cmdline -i modify resource where name=abaqus set count=20
[DRYRUN] /mnt/cpan_build_dir/goku/Slurm-Sacctmgr-1.1.0-0/t/helpers/echo_cmdline -i delete resource where name=abaqus
t/262_Slurm-SAResource-echo.t ....... ok
t/265_Slurm-SATransaction-echo.t .... ok
t/267_Slurm-SATres-echo.t ........... ok
[DRYRUN] /mnt/cpan_build_dir/goku/Slurm-Sacctmgr-1.1.0-0/t/helpers/echo_cmdline -i add user adminlevel=Admin defaultaccount=nsa user=george
[DRYRUN] /mnt/cpan_build_dir/goku/Slurm-Sacctmgr-1.1.0-0/t/helpers/echo_cmdline -i modify user where user=george set defaultaccount=abc124 rawusage=0
[DRYRUN] /mnt/cpan_build_dir/goku/Slurm-Sacctmgr-1.1.0-0/t/helpers/echo_cmdline -i delete user where name=george
[DRYRUN] /mnt/cpan_build_dir/goku/Slurm-Sacctmgr-1.1.0-0/t/helpers/echo_cmdline -i add user adminlevel=Admin defaultaccount=nsa user=george
[DRYRUN] /mnt/cpan_build_dir/goku/Slurm-Sacctmgr-1.1.0-0/t/helpers/echo_cmdline -i modify user where user=george set defaultaccount=abc124 rawusage=0
[DRYRUN] /mnt/cpan_build_dir/goku/Slurm-Sacctmgr-1.1.0-0/t/helpers/echo_cmdline -i delete user where name=george
t/270_Slurm-SAUser-echo.t ........... ok
t/280_Slurm-SAWCKey-echo.t .......... ok
t/500_Slurm-SAAccount-parse.t ....... ok
t/505_Slurm-SAAssoc-parse.t ......... ok
t/510_Slurm-SACluster-parse.t ....... ok
t/530_Slurm-SAEvent-parse.t ......... ok
t/560_Slurm-SAQos-parse.t ........... ok
t/562_Slurm-SAResource-parse.t ...... ok
t/565_Slurm-SATransaction-parse.t ... ok
t/567_Slurm-SATres-parse.t .......... ok
t/570_Slurm-SAUser-parse.t .......... ok
t/580_Slurm-SAWCKey-parse.t ......... ok
[DRYRUN] /mnt/cpan_build_dir/goku/Slurm-Sacctmgr-1.1.0-0/t/helpers/fake_sacctmgr_show+echo -i add account account=xxx 'description=new account' organization=xx
[DRYRUN] /mnt/cpan_build_dir/goku/Slurm-Sacctmgr-1.1.0-0/t/helpers/fake_sacctmgr_show+echo -i delete account where account=aaa
[DRYRUN] /mnt/cpan_build_dir/goku/Slurm-Sacctmgr-1.1.0-0/t/helpers/fake_sacctmgr_show+echo -i delete account where account=aab
[DRYRUN] /mnt/cpan_build_dir/goku/Slurm-Sacctmgr-1.1.0-0/t/helpers/fake_sacctmgr_show+echo -i delete account where account=bbb
[DRYRUN] /mnt/cpan_build_dir/goku/Slurm-Sacctmgr-1.1.0-0/t/helpers/fake_sacctmgr_show+echo -i delete account where account=ccc
[DRYRUN] /mnt/cpan_build_dir/goku/Slurm-Sacctmgr-1.1.0-0/t/helpers/fake_sacctmgr_show+echo -i modify account where account=aaa set 'description=new desc' 'organization=new org'
[DRYRUN] /mnt/cpan_build_dir/goku/Slurm-Sacctmgr-1.1.0-0/t/helpers/fake_sacctmgr_show+echo -i modify account where account=aab set 'description=new desc' 'organization=new org'
[DRYRUN] /mnt/cpan_build_dir/goku/Slurm-Sacctmgr-1.1.0-0/t/helpers/fake_sacctmgr_show+echo -i modify account where account=bbb set 'description=new desc' 'organization=new org'
[DRYRUN] /mnt/cpan_build_dir/goku/Slurm-Sacctmgr-1.1.0-0/t/helpers/fake_sacctmgr_show+echo -i modify account where account=ccc set 'description=new desc' 'organization=new org'
[DRYRUN] /mnt/cpan_build_dir/goku/Slurm-Sacctmgr-1.1.0-0/t/helpers/fake_sacctmgr_show+echo -i add account account=xxx 'description=new account' extra_flag=772 organization=xx
[DRYRUN] /mnt/cpan_build_dir/goku/Slurm-Sacctmgr-1.1.0-0/t/helpers/fake_sacctmgr_show+echo -i modify account where account=aaa set extra_flag=772
[DRYRUN] /mnt/cpan_build_dir/goku/Slurm-Sacctmgr-1.1.0-0/t/helpers/fake_sacctmgr_show+echo -i modify account where account=aab set extra_flag=772 'organization=new org'
[DRYRUN] /mnt/cpan_build_dir/goku/Slurm-Sacctmgr-1.1.0-0/t/helpers/fake_sacctmgr_show+echo -i modify account where account=bbb set 'description=new desc' extra_flag=772
[DRYRUN] /mnt/cpan_build_dir/goku/Slurm-Sacctmgr-1.1.0-0/t/helpers/fake_sacctmgr_show+echo -i modify account where account=ccc set 'description=new desc' extra_flag=772 'organization=new org'
[DRYRUN] /mnt/cpan_build_dir/goku/Slurm-Sacctmgr-1.1.0-0/t/helpers/fake_sacctmgr_show+echo -i modify account where account=aab set 'organization=new org'
[DRYRUN] /mnt/cpan_build_dir/goku/Slurm-Sacctmgr-1.1.0-0/t/helpers/fake_sacctmgr_show+echo -i modify account where account=bbb set 'description=new desc'
[DRYRUN] /mnt/cpan_build_dir/goku/Slurm-Sacctmgr-1.1.0-0/t/helpers/fake_sacctmgr_show+echo -i modify account where account=ccc set 'description=new desc' 'organization=new org'
[DRYRUN] /mnt/cpan_build_dir/goku/Slurm-Sacctmgr-1.1.0-0/t/helpers/fake_sacctmgr_show+echo -i add account account=xxx 'description=new account' organization=xx
[DRYRUN] /mnt/cpan_build_dir/goku/Slurm-Sacctmgr-1.1.0-0/t/helpers/fake_sacctmgr_show+echo -i delete account where account=aaa
[DRYRUN] /mnt/cpan_build_dir/goku/Slurm-Sacctmgr-1.1.0-0/t/helpers/fake_sacctmgr_show+echo -i delete account where account=aab
[DRYRUN] /mnt/cpan_build_dir/goku/Slurm-Sacctmgr-1.1.0-0/t/helpers/fake_sacctmgr_show+echo -i delete account where account=bbb
[DRYRUN] /mnt/cpan_build_dir/goku/Slurm-Sacctmgr-1.1.0-0/t/helpers/fake_sacctmgr_show+echo -i delete account where account=ccc
[DRYRUN] /mnt/cpan_build_dir/goku/Slurm-Sacctmgr-1.1.0-0/t/helpers/fake_sacctmgr_show+echo -i modify account where account=aaa set 'description=new desc' 'organization=new org'
[DRYRUN] /mnt/cpan_build_dir/goku/Slurm-Sacctmgr-1.1.0-0/t/helpers/fake_sacctmgr_show+echo -i modify account where account=aab set 'description=new desc' 'organization=new org'
[DRYRUN] /mnt/cpan_build_dir/goku/Slurm-Sacctmgr-1.1.0-0/t/helpers/fake_sacctmgr_show+echo -i modify account where account=bbb set 'description=new desc' 'organization=new org'
[DRYRUN] /mnt/cpan_build_dir/goku/Slurm-Sacctmgr-1.1.0-0/t/helpers/fake_sacctmgr_show+echo -i modify account where account=ccc set 'description=new desc' 'organization=new org'
[DRYRUN] /mnt/cpan_build_dir/goku/Slurm-Sacctmgr-1.1.0-0/t/helpers/fake_sacctmgr_show+echo -i add account account=xxx 'description=new account' extra_flag=772 organization=xx
[DRYRUN] /mnt/cpan_build_dir/goku/Slurm-Sacctmgr-1.1.0-0/t/helpers/fake_sacctmgr_show+echo -i modify account where account=aaa set extra_flag=772
[DRYRUN] /mnt/cpan_build_dir/goku/Slurm-Sacctmgr-1.1.0-0/t/helpers/fake_sacctmgr_show+echo -i modify account where account=aab set extra_flag=772 'organization=new org'
[DRYRUN] /mnt/cpan_build_dir/goku/Slurm-Sacctmgr-1.1.0-0/t/helpers/fake_sacctmgr_show+echo -i modify account where account=bbb set 'description=new desc' extra_flag=772
[DRYRUN] /mnt/cpan_build_dir/goku/Slurm-Sacctmgr-1.1.0-0/t/helpers/fake_sacctmgr_show+echo -i modify account where account=ccc set 'description=new desc' extra_flag=772 'organization=new org'
[DRYRUN] /mnt/cpan_build_dir/goku/Slurm-Sacctmgr-1.1.0-0/t/helpers/fake_sacctmgr_show+echo -i modify account where account=aab set 'organization=new org'
[DRYRUN] /mnt/cpan_build_dir/goku/Slurm-Sacctmgr-1.1.0-0/t/helpers/fake_sacctmgr_show+echo -i modify account where account=bbb set 'description=new desc'
[DRYRUN] /mnt/cpan_build_dir/goku/Slurm-Sacctmgr-1.1.0-0/t/helpers/fake_sacctmgr_show+echo -i modify account where account=ccc set 'description=new desc' 'organization=new org'
t/600_Slurm-SAAccount-foo_me.t ...... ok
t/605_Slurm-SAAssoc-foo_me.t ........ ok
[DRYRUN] /mnt/cpan_build_dir/goku/Slurm-Sacctmgr-1.1.0-0/t/helpers/fake_sacctmgr_show+echo -i add cluster classification=new cluster=newcluster controlhost=new-master controlport=6818 cpucount=1600 flags=virtual nodecount=100 rpc=7169
[DRYRUN] /mnt/cpan_build_dir/goku/Slurm-Sacctmgr-1.1.0-0/t/helpers/fake_sacctmgr_show+echo -i delete cluster where cluster=test1
[DRYRUN] /mnt/cpan_build_dir/goku/Slurm-Sacctmgr-1.1.0-0/t/helpers/fake_sacctmgr_show+echo -i delete cluster where cluster=yottascale
[DRYRUN] /mnt/cpan_build_dir/goku/Slurm-Sacctmgr-1.1.0-0/t/helpers/fake_sacctmgr_show+echo -i modify cluster where cluster=test1 set 'classification=newer class' flags=deprecated
[DRYRUN] /mnt/cpan_build_dir/goku/Slurm-Sacctmgr-1.1.0-0/t/helpers/fake_sacctmgr_show+echo -i modify cluster where cluster=yottascale set 'classification=newer class' flags=deprecated
[DRYRUN] /mnt/cpan_build_dir/goku/Slurm-Sacctmgr-1.1.0-0/t/helpers/fake_sacctmgr_show+echo -i add cluster classification=new cluster=newcluster controlhost=new-master controlport=6818 cpucount=1600 extra_flag=772 flags=virtual nodecount=100 rpc=7169
[DRYRUN] /mnt/cpan_build_dir/goku/Slurm-Sacctmgr-1.1.0-0/t/helpers/fake_sacctmgr_show+echo -i modify cluster where cluster=test1 set extra_flag=772
[DRYRUN] /mnt/cpan_build_dir/goku/Slurm-Sacctmgr-1.1.0-0/t/helpers/fake_sacctmgr_show+echo -i modify cluster where cluster=yottascale set extra_flag=772 flags=updated
[DRYRUN] /mnt/cpan_build_dir/goku/Slurm-Sacctmgr-1.1.0-0/t/helpers/fake_sacctmgr_show+echo -i modify cluster where cluster=yottascale set flags=updated
[DRYRUN] /mnt/cpan_build_dir/goku/Slurm-Sacctmgr-1.1.0-0/t/helpers/fake_sacctmgr_show+echo -i add cluster classification=new cluster=newcluster controlhost=new-master controlport=6818 flags=virtual rpc=7169 tres=cpu=1600,mem=12800000,node=100
[DRYRUN] /mnt/cpan_build_dir/goku/Slurm-Sacctmgr-1.1.0-0/t/helpers/fake_sacctmgr_show+echo -i delete cluster where cluster=test1
[DRYRUN] /mnt/cpan_build_dir/goku/Slurm-Sacctmgr-1.1.0-0/t/helpers/fake_sacctmgr_show+echo -i delete cluster where cluster=yottascale
[DRYRUN] /mnt/cpan_build_dir/goku/Slurm-Sacctmgr-1.1.0-0/t/helpers/fake_sacctmgr_show+echo -i modify cluster where cluster=test1 set 'classification=newer class' flags=deprecated
[DRYRUN] /mnt/cpan_build_dir/goku/Slurm-Sacctmgr-1.1.0-0/t/helpers/fake_sacctmgr_show+echo -i modify cluster where cluster=yottascale set 'classification=newer class' flags=deprecated
[DRYRUN] /mnt/cpan_build_dir/goku/Slurm-Sacctmgr-1.1.0-0/t/helpers/fake_sacctmgr_show+echo -i add cluster classification=new cluster=newcluster controlhost=new-master controlport=6818 extra_flag=772 flags=virtual rpc=7169 tres=cpu=1600,mem=12800000,node=100
[DRYRUN] /mnt/cpan_build_dir/goku/Slurm-Sacctmgr-1.1.0-0/t/helpers/fake_sacctmgr_show+echo -i modify cluster where cluster=test1 set extra_flag=772
[DRYRUN] /mnt/cpan_build_dir/goku/Slurm-Sacctmgr-1.1.0-0/t/helpers/fake_sacctmgr_show+echo -i modify cluster where cluster=yottascale set extra_flag=772 flags=updated
[DRYRUN] /mnt/cpan_build_dir/goku/Slurm-Sacctmgr-1.1.0-0/t/helpers/fake_sacctmgr_show+echo -i modify cluster where cluster=yottascale set flags=updated
t/610_Slurm_SACluster-foo_me.t ...... ok
t/630_Slurm-SAEvent-foo_me.t ........ ok
[DRYRUN] /mnt/cpan_build_dir/goku/Slurm-Sacctmgr-1.1.0-0/t/helpers/fake_sacctmgr_show+echo -i add qos 'description=GPU qos' gracetime=57 grpcpumins=1000000 grpcpus=1000 grpjobs=200 grpnodes=50 grpsubmitjobs=100 id=4 maxcpumins=60000 maxcpus=2000 maxcpusperuser=500 maxjobs=300 maxnodes=100 maxnodesperuser=25 maxsubmitjobs=150 maxwall=6000 mincpus=10 name=gpu preempt=scavenger preemptmode=cluster priority=25 usagefactor=3
[DRYRUN] /mnt/cpan_build_dir/goku/Slurm-Sacctmgr-1.1.0-0/t/helpers/fake_sacctmgr_show+echo -i delete qos where name=high-priority
[DRYRUN] /mnt/cpan_build_dir/goku/Slurm-Sacctmgr-1.1.0-0/t/helpers/fake_sacctmgr_show+echo -i delete qos where name=scavenger
[DRYRUN] /mnt/cpan_build_dir/goku/Slurm-Sacctmgr-1.1.0-0/t/helpers/fake_sacctmgr_show+echo -i delete qos where name=standard
[DRYRUN] /mnt/cpan_build_dir/goku/Slurm-Sacctmgr-1.1.0-0/t/helpers/fake_sacctmgr_show+echo -i modify qos where name=high-priority set 'description=new desc' 'organization=new org'
[DRYRUN] /mnt/cpan_build_dir/goku/Slurm-Sacctmgr-1.1.0-0/t/helpers/fake_sacctmgr_show+echo -i modify qos where name=scavenger set 'description=new desc' 'organization=new org'
[DRYRUN] /mnt/cpan_build_dir/goku/Slurm-Sacctmgr-1.1.0-0/t/helpers/fake_sacctmgr_show+echo -i modify qos where name=standard set 'description=new desc' 'organization=new org'
[DRYRUN] /mnt/cpan_build_dir/goku/Slurm-Sacctmgr-1.1.0-0/t/helpers/fake_sacctmgr_show+echo -i add qos 'description=GPU qos' gracetime=57 grpjobs=200 grpsubmitjobs=100 grptres=cpu=1000,node=50 grptresmins=cpu=1000000 id=4 maxjobs=300 maxsubmitjobs=150 maxtresmins=cpu=60000 maxtresperjob=cpu=2000,node=100 maxtresperuser=cpu=500,node=25 maxwall=6000 mintresperjob=cpu=10,node=1 name=gpu preempt=scavenger preemptmode=cluster priority=25 usagefactor=3
[DRYRUN] /mnt/cpan_build_dir/goku/Slurm-Sacctmgr-1.1.0-0/t/helpers/fake_sacctmgr_show+echo -i delete qos where name=high-priority
[DRYRUN] /mnt/cpan_build_dir/goku/Slurm-Sacctmgr-1.1.0-0/t/helpers/fake_sacctmgr_show+echo -i delete qos where name=scavenger
[DRYRUN] /mnt/cpan_build_dir/goku/Slurm-Sacctmgr-1.1.0-0/t/helpers/fake_sacctmgr_show+echo -i delete qos where name=standard
[DRYRUN] /mnt/cpan_build_dir/goku/Slurm-Sacctmgr-1.1.0-0/t/helpers/fake_sacctmgr_show+echo -i modify qos where name=high-priority set 'description=new desc' 'organization=new org'
[DRYRUN] /mnt/cpan_build_dir/goku/Slurm-Sacctmgr-1.1.0-0/t/helpers/fake_sacctmgr_show+echo -i modify qos where name=scavenger set 'description=new desc' 'organization=new org'
[DRYRUN] /mnt/cpan_build_dir/goku/Slurm-Sacctmgr-1.1.0-0/t/helpers/fake_sacctmgr_show+echo -i modify qos where name=standard set 'description=new desc' 'organization=new org'
t/660_Slurm-SAQos-foo_me.t .......... ok
[DRYRUN] /mnt/cpan_build_dir/goku/Slurm-Sacctmgr-1.1.0-0/t/helpers/fake_sacctmgr_show+echo -i add resource cluster=yottascale count=10 description=test name=abaqus percentallowed=100 server=flexlm.umd.edu servertype=flexlm type=License
[DRYRUN] /mnt/cpan_build_dir/goku/Slurm-Sacctmgr-1.1.0-0/t/helpers/fake_sacctmgr_show+echo -i delete resource where cluster=yottascale name=foo
[DRYRUN] /mnt/cpan_build_dir/goku/Slurm-Sacctmgr-1.1.0-0/t/helpers/fake_sacctmgr_show+echo -i delete resource where cluster=yottascale name=matlab
[DRYRUN] /mnt/cpan_build_dir/goku/Slurm-Sacctmgr-1.1.0-0/t/helpers/fake_sacctmgr_show+echo -i delete resource where cluster=testcluster name=matlab
[DRYRUN] /mnt/cpan_build_dir/goku/Slurm-Sacctmgr-1.1.0-0/t/helpers/fake_sacctmgr_show+echo -i modify resource where cluster=yottascale name=foo set count=999
[DRYRUN] /mnt/cpan_build_dir/goku/Slurm-Sacctmgr-1.1.0-0/t/helpers/fake_sacctmgr_show+echo -i modify resource where cluster=yottascale name=matlab set count=999
[DRYRUN] /mnt/cpan_build_dir/goku/Slurm-Sacctmgr-1.1.0-0/t/helpers/fake_sacctmgr_show+echo -i modify resource where cluster=testcluster name=matlab set count=999
[DRYRUN] /mnt/cpan_build_dir/goku/Slurm-Sacctmgr-1.1.0-0/t/helpers/fake_sacctmgr_show+echo -i add resource cluster=yottascale count=10 description=test extra_flag=772 name=abaqus percentallowed=100 server=flexlm.umd.edu servertype=flexlm type=License
[DRYRUN] /mnt/cpan_build_dir/goku/Slurm-Sacctmgr-1.1.0-0/t/helpers/fake_sacctmgr_show+echo -i modify resource where cluster=yottascale name=foo set extra_flag=772
[DRYRUN] /mnt/cpan_build_dir/goku/Slurm-Sacctmgr-1.1.0-0/t/helpers/fake_sacctmgr_show+echo -i modify resource where cluster=yottascale name=matlab set count=999 extra_flag=772
[DRYRUN] /mnt/cpan_build_dir/goku/Slurm-Sacctmgr-1.1.0-0/t/helpers/fake_sacctmgr_show+echo -i modify resource where cluster=testcluster name=matlab set count=999 'description=new descr' extra_flag=772
[DRYRUN] /mnt/cpan_build_dir/goku/Slurm-Sacctmgr-1.1.0-0/t/helpers/fake_sacctmgr_show+echo -i modify resource where cluster=yottascale name=matlab set count=999
[DRYRUN] /mnt/cpan_build_dir/goku/Slurm-Sacctmgr-1.1.0-0/t/helpers/fake_sacctmgr_show+echo -i modify resource where cluster=testcluster name=matlab set count=999 'description=new descr'
[DRYRUN] /mnt/cpan_build_dir/goku/Slurm-Sacctmgr-1.1.0-0/t/helpers/fake_sacctmgr_show+echo -i add resource cluster=yottascale count=10 description=test name=abaqus percentallowed=100 server=flexlm.umd.edu servertype=flexlm type=License
[DRYRUN] /mnt/cpan_build_dir/goku/Slurm-Sacctmgr-1.1.0-0/t/helpers/fake_sacctmgr_show+echo -i delete resource where cluster=yottascale name=foo
[DRYRUN] /mnt/cpan_build_dir/goku/Slurm-Sacctmgr-1.1.0-0/t/helpers/fake_sacctmgr_show+echo -i delete resource where cluster=yottascale name=matlab
[DRYRUN] /mnt/cpan_build_dir/goku/Slurm-Sacctmgr-1.1.0-0/t/helpers/fake_sacctmgr_show+echo -i delete resource where cluster=testcluster name=matlab
[DRYRUN] /mnt/cpan_build_dir/goku/Slurm-Sacctmgr-1.1.0-0/t/helpers/fake_sacctmgr_show+echo -i modify resource where cluster=yottascale name=foo set count=999
[DRYRUN] /mnt/cpan_build_dir/goku/Slurm-Sacctmgr-1.1.0-0/t/helpers/fake_sacctmgr_show+echo -i modify resource where cluster=yottascale name=matlab set count=999
[DRYRUN] /mnt/cpan_build_dir/goku/Slurm-Sacctmgr-1.1.0-0/t/helpers/fake_sacctmgr_show+echo -i modify resource where cluster=testcluster name=matlab set count=999
[DRYRUN] /mnt/cpan_build_dir/goku/Slurm-Sacctmgr-1.1.0-0/t/helpers/fake_sacctmgr_show+echo -i add resource cluster=yottascale count=10 description=test extra_flag=772 name=abaqus percentallowed=100 server=flexlm.umd.edu servertype=flexlm type=License
[DRYRUN] /mnt/cpan_build_dir/goku/Slurm-Sacctmgr-1.1.0-0/t/helpers/fake_sacctmgr_show+echo -i modify resource where cluster=yottascale name=foo set extra_flag=772
[DRYRUN] /mnt/cpan_build_dir/goku/Slurm-Sacctmgr-1.1.0-0/t/helpers/fake_sacctmgr_show+echo -i modify resource where cluster=yottascale name=matlab set count=999 extra_flag=772
[DRYRUN] /mnt/cpan_build_dir/goku/Slurm-Sacctmgr-1.1.0-0/t/helpers/fake_sacctmgr_show+echo -i modify resource where cluster=testcluster name=matlab set count=999 'description=new descr' extra_flag=772
[DRYRUN] /mnt/cpan_build_dir/goku/Slurm-Sacctmgr-1.1.0-0/t/helpers/fake_sacctmgr_show+echo -i modify resource where cluster=yottascale name=matlab set count=999
[DRYRUN] /mnt/cpan_build_dir/goku/Slurm-Sacctmgr-1.1.0-0/t/helpers/fake_sacctmgr_show+echo -i modify resource where cluster=testcluster name=matlab set count=999 'description=new descr'
t/662_Slurm-SAResource-foo_me.t ..... ok
t/665_Slurm-SATransaction-foo_me.t .. ok
t/667_Slurm-SATres-foo_me.t ......... ok
[DRYRUN] /mnt/cpan_build_dir/goku/Slurm-Sacctmgr-1.1.0-0/t/helpers/fake_sacctmgr_show+echo -i add user adminlevel=Administrator defaultaccount=abc124 user=xxx
[DRYRUN] /mnt/cpan_build_dir/goku/Slurm-Sacctmgr-1.1.0-0/t/helpers/fake_sacctmgr_show+echo -i delete user where user=aaa
[DRYRUN] /mnt/cpan_build_dir/goku/Slurm-Sacctmgr-1.1.0-0/t/helpers/fake_sacctmgr_show+echo -i delete user where user=bbb
[DRYRUN] /mnt/cpan_build_dir/goku/Slurm-Sacctmgr-1.1.0-0/t/helpers/fake_sacctmgr_show+echo -i delete user where user=ccc
[DRYRUN] /mnt/cpan_build_dir/goku/Slurm-Sacctmgr-1.1.0-0/t/helpers/fake_sacctmgr_show+echo -i delete user where user=ddd
[DRYRUN] /mnt/cpan_build_dir/goku/Slurm-Sacctmgr-1.1.0-0/t/helpers/fake_sacctmgr_show+echo -i modify user where user=aaa set adminlevel=Admin defaultaccount=newacct
[DRYRUN] /mnt/cpan_build_dir/goku/Slurm-Sacctmgr-1.1.0-0/t/helpers/fake_sacctmgr_show+echo -i modify user where user=bbb set adminlevel=Admin defaultaccount=newacct
[DRYRUN] /mnt/cpan_build_dir/goku/Slurm-Sacctmgr-1.1.0-0/t/helpers/fake_sacctmgr_show+echo -i modify user where user=ccc set adminlevel=Admin defaultaccount=newacct
[DRYRUN] /mnt/cpan_build_dir/goku/Slurm-Sacctmgr-1.1.0-0/t/helpers/fake_sacctmgr_show+echo -i modify user where user=ddd set adminlevel=Admin defaultaccount=newacct
[DRYRUN] /mnt/cpan_build_dir/goku/Slurm-Sacctmgr-1.1.0-0/t/helpers/fake_sacctmgr_show+echo -i add user adminlevel=Administrator defaultaccount=abc124 extra_flag=772 user=xxx
[DRYRUN] /mnt/cpan_build_dir/goku/Slurm-Sacctmgr-1.1.0-0/t/helpers/fake_sacctmgr_show+echo -i modify user where user=aaa set extra_flag=772
[DRYRUN] /mnt/cpan_build_dir/goku/Slurm-Sacctmgr-1.1.0-0/t/helpers/fake_sacctmgr_show+echo -i modify user where user=bbb set defaultaccount=newacct extra_flag=772
[DRYRUN] /mnt/cpan_build_dir/goku/Slurm-Sacctmgr-1.1.0-0/t/helpers/fake_sacctmgr_show+echo -i modify user where user=ccc set adminlevel=SuperUser defaultaccount=newacct extra_flag=772
[DRYRUN] /mnt/cpan_build_dir/goku/Slurm-Sacctmgr-1.1.0-0/t/helpers/fake_sacctmgr_show+echo -i modify user where user=ddd set extra_flag=772
[DRYRUN] /mnt/cpan_build_dir/goku/Slurm-Sacctmgr-1.1.0-0/t/helpers/fake_sacctmgr_show+echo -i modify user where user=bbb set defaultaccount=newacct
[DRYRUN] /mnt/cpan_build_dir/goku/Slurm-Sacctmgr-1.1.0-0/t/helpers/fake_sacctmgr_show+echo -i modify user where user=ccc set adminlevel=SuperUser defaultaccount=newacct
[DRYRUN] /mnt/cpan_build_dir/goku/Slurm-Sacctmgr-1.1.0-0/t/helpers/fake_sacctmgr_show+echo -i add user adminlevel=Administrator defaultaccount=abc124 user=xxx
[DRYRUN] /mnt/cpan_build_dir/goku/Slurm-Sacctmgr-1.1.0-0/t/helpers/fake_sacctmgr_show+echo -i delete user where user=aaa
[DRYRUN] /mnt/cpan_build_dir/goku/Slurm-Sacctmgr-1.1.0-0/t/helpers/fake_sacctmgr_show+echo -i delete user where user=bbb
[DRYRUN] /mnt/cpan_build_dir/goku/Slurm-Sacctmgr-1.1.0-0/t/helpers/fake_sacctmgr_show+echo -i delete user where user=ccc
[DRYRUN] /mnt/cpan_build_dir/goku/Slurm-Sacctmgr-1.1.0-0/t/helpers/fake_sacctmgr_show+echo -i delete user where user=ddd
[DRYRUN] /mnt/cpan_build_dir/goku/Slurm-Sacctmgr-1.1.0-0/t/helpers/fake_sacctmgr_show+echo -i modify user where user=aaa set adminlevel=Admin defaultaccount=newacct
[DRYRUN] /mnt/cpan_build_dir/goku/Slurm-Sacctmgr-1.1.0-0/t/helpers/fake_sacctmgr_show+echo -i modify user where user=bbb set adminlevel=Admin defaultaccount=newacct
[DRYRUN] /mnt/cpan_build_dir/goku/Slurm-Sacctmgr-1.1.0-0/t/helpers/fake_sacctmgr_show+echo -i modify user where user=ccc set adminlevel=Admin defaultaccount=newacct
[DRYRUN] /mnt/cpan_build_dir/goku/Slurm-Sacctmgr-1.1.0-0/t/helpers/fake_sacctmgr_show+echo -i modify user where user=ddd set adminlevel=Admin defaultaccount=newacct
[DRYRUN] /mnt/cpan_build_dir/goku/Slurm-Sacctmgr-1.1.0-0/t/helpers/fake_sacctmgr_show+echo -i add user adminlevel=Administrator defaultaccount=abc124 extra_flag=772 user=xxx
[DRYRUN] /mnt/cpan_build_dir/goku/Slurm-Sacctmgr-1.1.0-0/t/helpers/fake_sacctmgr_show+echo -i modify user where user=aaa set extra_flag=772
[DRYRUN] /mnt/cpan_build_dir/goku/Slurm-Sacctmgr-1.1.0-0/t/helpers/fake_sacctmgr_show+echo -i modify user where user=bbb set defaultaccount=newacct extra_flag=772
[DRYRUN] /mnt/cpan_build_dir/goku/Slurm-Sacctmgr-1.1.0-0/t/helpers/fake_sacctmgr_show+echo -i modify user where user=ccc set adminlevel=SuperUser defaultaccount=newacct extra_flag=772
[DRYRUN] /mnt/cpan_build_dir/goku/Slurm-Sacctmgr-1.1.0-0/t/helpers/fake_sacctmgr_show+echo -i modify user where user=ddd set extra_flag=772
[DRYRUN] /mnt/cpan_build_dir/goku/Slurm-Sacctmgr-1.1.0-0/t/helpers/fake_sacctmgr_show+echo -i modify user where user=bbb set defaultaccount=newacct
[DRYRUN] /mnt/cpan_build_dir/goku/Slurm-Sacctmgr-1.1.0-0/t/helpers/fake_sacctmgr_show+echo -i modify user where user=ccc set adminlevel=SuperUser defaultaccount=newacct
t/670_Slurm-SAUser-foo_me.t ......... ok
t/680_Slurm-SAWCKey-foo_me.t ........ ok
[DRYRUN] /mnt/cpan_build_dir/goku/Slurm-Sacctmgr-1.1.0-0/t/helpers/fake_sacctmgr_show+echo -i modify account where cluster=yottascale name=abc124 set rawusage=0
[DRYRUN] /mnt/cpan_build_dir/goku/Slurm-Sacctmgr-1.1.0-0/t/helpers/fake_sacctmgr_show+echo -i modify account where cluster=test-cluster name=test-account set rawusage=0
[DRYRUN] /mnt/cpan_build_dir/goku/Slurm-Sacctmgr-1.1.0-0/t/helpers/fake_sacctmgr_show+echo -i modify account where cluster=yottascale name=abc124 set grpcpumins=13571024
[DRYRUN] /mnt/cpan_build_dir/goku/Slurm-Sacctmgr-1.1.0-0/t/helpers/fake_sacctmgr_show+echo -i modify account where cluster=yottascale name=abc124 set grpcpumins=13571025
[DRYRUN] /mnt/cpan_build_dir/goku/Slurm-Sacctmgr-1.1.0-0/t/helpers/fake_sacctmgr_show+echo -i modify account where cluster=yottascale name=abc124 set grpcpumins=13571026
[DRYRUN] /mnt/cpan_build_dir/goku/Slurm-Sacctmgr-1.1.0-0/t/helpers/fake_sacctmgr_show+echo -i modify account where cluster=yottascale name=abc124 set grpcpumins=13571027
[DRYRUN] /mnt/cpan_build_dir/goku/Slurm-Sacctmgr-1.1.0-0/t/helpers/fake_sacctmgr_show+echo -i modify account where cluster=yottascale name=abc124 set rawusage=0
[DRYRUN] /mnt/cpan_build_dir/goku/Slurm-Sacctmgr-1.1.0-0/t/helpers/fake_sacctmgr_show+echo -i modify account where cluster=test-cluster name=test-account set rawusage=0
[DRYRUN] /mnt/cpan_build_dir/goku/Slurm-Sacctmgr-1.1.0-0/t/helpers/fake_sacctmgr_show+echo -i modify account where cluster=yottascale name=abc124 set grptresmins=cpu=13571024
[DRYRUN] /mnt/cpan_build_dir/goku/Slurm-Sacctmgr-1.1.0-0/t/helpers/fake_sacctmgr_show+echo -i modify account where cluster=yottascale name=abc124 set grptresmins=cpu=13571025
[DRYRUN] /mnt/cpan_build_dir/goku/Slurm-Sacctmgr-1.1.0-0/t/helpers/fake_sacctmgr_show+echo -i modify account where cluster=yottascale name=abc124 set grptresmins=cpu=13571026
[DRYRUN] /mnt/cpan_build_dir/goku/Slurm-Sacctmgr-1.1.0-0/t/helpers/fake_sacctmgr_show+echo -i modify account where cluster=yottascale name=abc124 set grptresmins=cpu=13571027,mem=100000
t/800_Slurm-SAAccount-extra.t ....... ok
All tests successful.
Files=36, Tests=886, 73 wallclock secs ( 0.27 usr  0.87 sys +  6.47 cusr 41.44 csys = 49.05 CPU)
Result: PASS

------------------------------
PREREQUISITES
------------------------------

Prerequisite modules loaded:

requires:

    Module              Need  Have    
    ------------------- ----- --------
    base                0     2.26    
    Carp                0     1.42    
    Class::Accessor     0     0.51    
    perl                5.006 5.026001
    POSIX               0     1.76    
    strict              0     1.11    
    version             0     0.9918  
    warnings            0     1.37    

build_requires:

    Module              Need  Have    
    ------------------- ----- --------
    Cwd                 0     3.67    
    File::Basename      0     2.85    
    Test::More          0     1.302120

configure_requires:

    Module              Need  Have    
    ------------------- ----- --------
    ExtUtils::MakeMaker 0     7.31_05 


------------------------------
ENVIRONMENT AND OTHER CONTEXT
------------------------------

Environment variables:

    AUTOMATED_TESTING = 1
    DBD_MYSQL_TESTDB = test
    DBD_MYSQL_TESTHOST = localhost
    DBD_MYSQL_TESTPASSWORD = 
    DBD_MYSQL_TESTPORT = 3306
    DBD_MYSQL_TESTUSER = goku
    EXTENDED_TESTING = 1
    PATH = /home/goku/perl5/perlbrew/bin:/home/goku/perl5/perlbrew/perls/perl-5.26.1/bin:/home/goku/bin:/usr/bin:/bin:/usr/sbin:/sbin:/usr/X11R6/bin:/usr/local/bin:/usr/local/sbin
    PERL5LIB = 
    PERL5OPT = 
    PERL5_CPANPLUS_IS_RUNNING = 92690
    PERL5_CPAN_IS_RUNNING = 92690
    PERL5_CPAN_IS_RUNNING_IN_RECURSION = 3222,92690
    PERLBREW_HOME = /home/goku/.perlbrew
    PERLBREW_MANPATH = /home/goku/perl5/perlbrew/perls/perl-5.26.1/man
    PERLBREW_PATH = /home/goku/perl5/perlbrew/bin:/home/goku/perl5/perlbrew/perls/perl-5.26.1/bin
    PERLBREW_PERL = perl-5.26.1
    PERLBREW_ROOT = /home/goku/perl5/perlbrew
    PERLBREW_SHELLRC_VERSION = 0.82
    PERLBREW_VERSION = 0.82
    PERL_CR_SMOKER_CURRENT = Slurm-Sacctmgr-1.1.0
    PERL_EXTUTILS_AUTOINSTALL = --defaultdeps
    PERL_MM_USE_DEFAULT = 1
    SHELL = /usr/local/bin/bash
    TERM = xterm

Perl special variables (and OS-specific diagnostics, for MSWin32):

    $^X = /home/goku/perl5/perlbrew/perls/perl-5.26.1/bin/perl
    $UID/$EUID = 1001 / 1001
    $GID = 998 998 1001
    $EGID = 998 998 1001

Perl module toolchain versions installed:

    Module              Have    
    ------------------- --------
    CPAN                2.16    
    CPAN::Meta          2.150010
    Cwd                 3.67    
    ExtUtils::CBuilder  0.280230
    ExtUtils::Command   7.31_05 
    ExtUtils::Install   2.14    
    ExtUtils::MakeMaker 7.31_05 
    ExtUtils::Manifest  1.70    
    ExtUtils::ParseXS   3.35    
    File::Spec          3.67    
    JSON                2.97001 
    JSON::PP            2.97001 
    Module::Build       0.4224  
    Module::Signature   n/a     
    Parse::CPAN::Meta   2.150010
    Test::Harness       3.39    
    Test::More          1.302120
    YAML                1.24    
    YAML::Syck          1.30    
    version             0.9918  


--

Summary of my perl5 (revision 5 version 26 subversion 1) configuration:
   
  Platform:
    osname=openbsd
    osvers=6.2
    archname=OpenBSD.amd64-openbsd
    uname='openbsd cpan-smoker-openbsd 6.2 generic.mp#134 amd64 '
    config_args='-de -Dprefix=/home/goku/perl5/perlbrew/perls/perl-5.26.1 -Aeval:scriptdir=/home/goku/perl5/perlbrew/perls/perl-5.26.1/bin'
    hint=recommended
    useposix=true
    d_sigaction=define
    useithreads=undef
    usemultiplicity=undef
    use64bitint=define
    use64bitall=define
    uselongdouble=undef
    usemymalloc=n
    default_inc_excludes_dot=define
    bincompat5005=undef
  Compiler:
    cc='cc'
    ccflags ='-fno-strict-aliasing -pipe -fstack-protector-strong -I/usr/local/include -D_FORTIFY_SOURCE=2'
    optimize='-O2'
    cppflags='-fno-strict-aliasing -pipe -fstack-protector-strong -I/usr/local/include'
    ccversion=''
    gccversion='4.2.1 Compatible OpenBSD Clang 4.0.0 (tags/RELEASE_400/final)'
    gccosandvers=''
    intsize=4
    longsize=8
    ptrsize=8
    doublesize=8
    byteorder=12345678
    doublekind=3
    d_longlong=define
    longlongsize=8
    d_longdbl=define
    longdblsize=16
    longdblkind=3
    ivtype='long'
    ivsize=8
    nvtype='double'
    nvsize=8
    Off_t='off_t'
    lseeksize=8
    alignbytes=8
    prototype=define
  Linker and Libraries:
    ld='cc'
    ldflags ='-Wl,-E  -fstack-protector-strong -L/usr/local/lib'
    libpth=/usr/lib /usr/local/lib
    libs=-lpthread -lm -lutil -lc
    perllibs=-lpthread -lm -lutil -lc
    libc=/usr/lib/libc.so.90.0
    so=so
    useshrplib=false
    libperl=libperl.a
    gnulibc_version=''
  Dynamic Linking:
    dlsrc=dl_dlopen.xs
    dlext=so
    d_dlsymun=undef
    ccdlflags=' '
    cccdlflags='-DPIC -fPIC '
    lddlflags='-shared -fPIC  -L/usr/local/lib -fstack-protector-strong'


Characteristics of this binary (from libperl): 
  Compile-time options:
    HAS_TIMES
    PERLIO_LAYERS
    PERL_COPY_ON_WRITE
    PERL_DONT_CREATE_GVSV
    PERL_MALLOC_WRAP
    PERL_OP_PARENT
    PERL_PRESERVE_IVUV
    USE_64_BIT_ALL
    USE_64_BIT_INT
    USE_LARGE_FILES
    USE_LOCALE
    USE_LOCALE_COLLATE
    USE_LOCALE_CTYPE
    USE_LOCALE_NUMERIC
    USE_LOCALE_TIME
    USE_PERLIO
    USE_PERL_ATOF
  Locally applied patches:
    Devel::PatchPerl 1.48
  Built under openbsd
  Compiled at Dec 20 2017 18:45:59
  %ENV:
    PERL5LIB=""
    PERL5OPT=""
    PERL5_CPANPLUS_IS_RUNNING="92690"
    PERL5_CPAN_IS_RUNNING="92690"
    PERL5_CPAN_IS_RUNNING_IN_RECURSION="3222,92690"
    PERLBREW_HOME="/home/goku/.perlbrew"
    PERLBREW_MANPATH="/home/goku/perl5/perlbrew/perls/perl-5.26.1/man"
    PERLBREW_PATH="/home/goku/perl5/perlbrew/bin:/home/goku/perl5/perlbrew/perls/perl-5.26.1/bin"
    PERLBREW_PERL="perl-5.26.1"
    PERLBREW_ROOT="/home/goku/perl5/perlbrew"
    PERLBREW_SHELLRC_VERSION="0.82"
    PERLBREW_VERSION="0.82"
    PERL_CR_SMOKER_CURRENT="Slurm-Sacctmgr-1.1.0"
    PERL_EXTUTILS_AUTOINSTALL="--defaultdeps"
    PERL_MM_USE_DEFAULT="1"
  @INC:
    /home/goku/perl5/perlbrew/perls/perl-5.26.1/lib/site_perl/5.26.1/OpenBSD.amd64-openbsd
    /home/goku/perl5/perlbrew/perls/perl-5.26.1/lib/site_perl/5.26.1
    /home/goku/perl5/perlbrew/perls/perl-5.26.1/lib/5.26.1/OpenBSD.amd64-openbsd
    /home/goku/perl5/perlbrew/perls/perl-5.26.1/lib/5.26.1