Test-Moose-More v0.050 Perl 5 v5.29.9 amd64-freebsd
- Status
- Pass
- From
- Slaven Rezić (SREZIC)
- Dist
-
Test-Moose-More v0.050
- Platform
- Perl 5 v5.29.9 amd64-freebsd
- Date
- 2019-03-31 20:29:37
- ID
- b424cebc-53f3-11e9-b8ef-ab6e1f24ea8f
This distribution has been tested as part of the CPAN Testers
project, supporting the Perl programming language. See
http://wiki.cpantesters.org/ for more information or email
questions to cpan-testers-discuss@perl.org
--
Dear Chris Weyl,
This is a computer-generated report for Test-Moose-More-0.050
on perl 5.29.9, created by CPAN-Reporter-1.2018.
Thank you for uploading your work to CPAN. Congratulations!
All tests were successful.
Sections of this report:
* Tester comments
* Program output
* Prerequisites
* Environment and other context
------------------------------
TESTER COMMENTS
------------------------------
Additional comments from tester:
none provided
------------------------------
PROGRAM OUTPUT
------------------------------
Output from '/usr/bin/make test':
PERL_DL_NONLAZY=1 "/usr/perl5.29.9p/bin/perl5.29.9" "-MExtUtils::Command::MM" "-MTest::Harness" "-e" "undef *Test::Harness::Switches; test_harness(0, 'blib/lib', 'blib/arch')" t/*.t t/attribute_options_ok/*.t t/is_class_ok/*.t t/validate_attribute/*.t t/validate_class/*.t t/validate_role/*.t t/validate_thing/*.t t/wrapped/*.t
t/00-check-deps.t ...................................... ok
t/00-compile.t ......................................... ok
#
# Versions for all modules listed in MYMETA.json (including optional ones):
#
# === Configure Requires ===
#
# Module Want Have
# ------------------- ---- ----
# ExtUtils::MakeMaker any 7.34
#
# === Build Requires ===
#
# Module Want Have
# ------------------- ---- ----
# ExtUtils::MakeMaker any 7.34
#
# === Test Requires ===
#
# Module Want Have
# ---------------------- ----- --------
# ExtUtils::MakeMaker any 7.34
# File::Spec any 3.77
# IO::Handle any 1.40
# IPC::Open3 any 1.20
# List::Util 1.45 1.50
# Moose any 2.2011
# Moose::Meta::Attribute any 2.2011
# Moose::Role any 2.2011
# Moose::Util::MetaRole any 2.2011
# TAP::SimpleOutput 0.009 0.009
# Test::Builder::Tester any 1.302162
# Test::CheckDeps 0.010 0.010
# Test::More 0.94 1.302162
# namespace::autoclean any 0.28
#
# === Test Recommends ===
#
# Module Want Have
# ---------- -------- --------
# CPAN::Meta 2.120900 2.150010
#
# === Runtime Requires ===
#
# Module Want Have
# ---------------------------- ---- --------
# Carp any 1.50
# Data::OptList any 0.110
# List::MoreUtils any 0.428
# List::Util 1.45 1.50
# Moose::Util any 2.2011
# Moose::Util::TypeConstraints any 2.2011
# Scalar::Util any 1.50
# Sub::Exporter::Progressive any 0.001013
# Syntax::Keyword::Junction any 0.003008
# Test::Builder any 1.302162
# Test::Moose any 2.2011
# Test::More 0.94 1.302162
# strict any 1.11
# warnings any 1.44
#
t/00-report-prereqs.t .................................. ok
t/attribute_options_ok/basic.t ......................... ok
t/attribute_options_ok/subtest-wrapper.t ............... ok
t/check_sugar.t ........................................ ok
t/definition_context.t ................................. ok
t/does_metaroles_ok.t .................................. ok
t/does_not_metaroles_ok.t .............................. ok
t/does_not_ok.t ........................................ ok
t/does_ok.t ............................................ ok
t/has_attribute_ok.t ................................... ok
t/is_anon_ok.t ......................................... ok
t/is_class_ok/basic.t .................................. ok
t/is_class_ok/moose-meta-attribute-should-be-moosey.t .. ok
t/is_immutable_ok.t .................................... ok
t/is_not_anon_ok.t ..................................... ok
t/is_role_ok.t ......................................... ok
t/meta_ok.t ............................................ ok
t/method_from_pkg_ok.t ................................. ok
t/method_is_accessor_ok.t .............................. ok
t/method_is_not_accessor_ok.t .......................... ok
t/method_not_from_pkg_ok.t ............................. ok
t/method_ok.t .......................................... ok
t/no_meta_ok.t ......................................... ok
t/pristine_ok.t ........................................ ok
t/requires_method_ok.t ................................. ok
t/subtest-1.t .......................................... ok
t/validate_attribute/basic.t ........................... ok
t/validate_attribute/coerce.t .......................... ok
t/validate_attribute/in_roles.t ........................ ok
t/validate_attribute/lazy.t ............................ ok
t/validate_attribute/required.t ........................ ok
t/validate_class/basic.t ............................... ok
t/validate_class/metaclasses.t ......................... ok
t/validate_class/metaroles.t ........................... ok
t/validate_class/methods.t ............................. ok
t/validate_role/basic.t ................................ ok
t/validate_role/compose.t .............................. ok
t/validate_role/metaclasses.t .......................... ok
t/validate_role/metaroles.t ............................ ok
t/validate_thing/metaclasses.t ......................... ok
t/validate_thing/methods.t ............................. ok
t/validate_thing/sugar.t ............................... ok
t/wrapped/in_roles.t ................................... ok
All tests successful.
Test Summary Report
-------------------
t/00-check-deps.t (Wstat: 0 Tests: 32 Failed: 0)
TODO passed: 32
Files=45, Tests=235, 26 wallclock secs ( 0.30 usr 0.18 sys + 20.69 cusr 5.80 csys = 26.97 CPU)
Result: PASS
------------------------------
PREREQUISITES
------------------------------
Prerequisite modules loaded:
requires:
Module Need Have
---------------------------- ----- --------
Carp 0 1.50
Data::OptList 0 0.110
List::MoreUtils 0 0.428
List::Util 1.45 1.50
Moose::Util 0 2.2011
Moose::Util::TypeConstraints 0 2.2011
perl 5.006 5.029009
Scalar::Util 0 1.50
strict 0 1.11
Sub::Exporter::Progressive 0 0.001013
Syntax::Keyword::Junction 0 0.003008
Test::Builder 0 1.302162
Test::Moose 0 2.2011
Test::More 0.94 1.302162
warnings 0 1.44
build_requires:
Module Need Have
---------------------------- ----- --------
ExtUtils::MakeMaker 0 7.34
File::Spec 0 3.77
IO::Handle 0 1.40
IPC::Open3 0 1.20
List::Util 1.45 1.50
! Moose 0 broken
! Moose::Meta::Attribute 0 broken
! Moose::Role 0 broken
Moose::Util::MetaRole 0 2.2011
namespace::autoclean 0 0.28
TAP::SimpleOutput 0.009 0.009
Test::Builder::Tester 0 1.302162
Test::CheckDeps 0.010 0.010
Test::More 0.94 1.302162
configure_requires:
Module Need Have
---------------------------- ----- --------
ExtUtils::MakeMaker 0 7.34
perl 5.006 5.029009
------------------------------
ENVIRONMENT AND OTHER CONTEXT
------------------------------
Environment variables:
PATH = /usr/local/bin:/usr/bin:/bin:/usr/local/sbin:/usr/sbin:/sbin:/home/cpansand/bin/sh:/home/cpansand/bin:/usr/games:/home/cpansand/devel:/usr/home/eserte/src/srezic-misc/scripts
PERL5LIB = /home/cpansand/.cpan/build/2019033120/TAP-SimpleOutput-0.009-0/blib/arch:/home/cpansand/.cpan/build/2019033120/TAP-SimpleOutput-0.009-0/blib/lib:/home/cpansand/.cpan/build/2019033120/Perl-Version-1.013-0/blib/arch:/home/cpansand/.cpan/build/2019033120/Perl-Version-1.013-0/blib/lib:/home/cpansand/.cpan/build/2019033120/File-Slurp-Tiny-0.004-0/blib/arch:/home/cpansand/.cpan/build/2019033120/File-Slurp-Tiny-0.004-0/blib/lib:/home/cpansand/.cpan/build/2019033120/MooseX-AttributeDocumented-0.1004-1/blib/arch:/home/cpansand/.cpan/build/2019033120/MooseX-AttributeDocumented-0.1004-1/blib/lib:/home/cpansand/.cpan/build/2019033120/IO-Interactive-1.022-1/blib/arch:/home/cpansand/.cpan/build/2019033120/IO-Interactive-1.022-1/blib/lib:/home/cpansand/.cpan/build/2019033120/Eponymous-Hash-0.02-1/blib/arch:/home/cpansand/.cpan/build/2019033120/Eponymous-Hash-0.02-1/blib/lib
PERL5OPT =
PERL5_CPANPLUS_IS_RUNNING = 77814
PERL5_CPAN_IS_RUNNING = 77814
PERL5_CPAN_IS_RUNNING_IN_RECURSION = 76814,77814
PERL_BATCH = yes
PERL_CANARY_STABILITY_NOPROMPT = 1
PERL_CPAN_REPORTER_CONFIG = /var/tmp/cpansmoker-1023/2019033120/cpanreporter_000_config.ini
PERL_EXTUTILS_AUTOINSTALL = --defaultdeps
PERL_USE_UNSAFE_INC = 1
SHELL = /bin/sh
TMPDIR = /var/tmp/cpansmoker-1023/2019033120
Perl special variables (and OS-specific diagnostics, for MSWin32):
$^X = /usr/perl5.29.9p/bin/perl5.29.9
$UID/$EUID = 1023 / 1023
$GID = 1023 1023
$EGID = 1023 1023
Perl module toolchain versions installed:
Module Have
------------------- --------
CPAN 2.22
CPAN::Meta 2.150010
Cwd 3.77
ExtUtils::CBuilder 0.280230
ExtUtils::Command 7.34
ExtUtils::Install 2.14
ExtUtils::MakeMaker 7.34
ExtUtils::Manifest 1.72
ExtUtils::ParseXS 3.40
File::Spec 3.77
JSON 4.02
JSON::PP 4.02
Module::Build 0.4224
Module::Signature n/a
Parse::CPAN::Meta 2.150010
Test::Harness 3.42
Test::More 1.302162
YAML 1.27
YAML::Syck 1.31
version 0.9924
--
Summary of my perl5 (revision 5 version 29 subversion 9) configuration:
Platform:
osname=freebsd
osvers=13.0-current
archname=amd64-freebsd
uname='freebsd cloud2.bbbike.org 13.0-current freebsd 13.0-current 29c1497fb78(master) generic-nodebug amd64 '
config_args='-ds -e -Dprefix=/usr/perl5.29.9p -Dusedevel -Dusemallocwrap=no -Dcf_email=srezic@cpan.org -Doptimize=-O2 -pipe'
hint=recommended
useposix=true
d_sigaction=define
useithreads=undef
usemultiplicity=undef
use64bitint=define
use64bitall=define
uselongdouble=undef
usemymalloc=n
default_inc_excludes_dot=define
bincompat5005=undef
Compiler:
cc='cc'
ccflags ='-DHAS_FPSETMASK -DHAS_FLOATINGPOINT_H -fno-strict-aliasing -pipe -fstack-protector-strong -I/usr/local/include -D_FORTIFY_SOURCE=2'
optimize='-O2 -pipe'
cppflags='-DHAS_FPSETMASK -DHAS_FLOATINGPOINT_H -fno-strict-aliasing -pipe -fstack-protector-strong -I/usr/local/include'
ccversion=''
gccversion='4.2.1 Compatible FreeBSD Clang 8.0.0 (branches/release_80 356034)'
gccosandvers=''
intsize=4
longsize=8
ptrsize=8
doublesize=8
byteorder=12345678
doublekind=3
d_longlong=define
longlongsize=8
d_longdbl=define
longdblsize=16
longdblkind=3
ivtype='long'
ivsize=8
nvtype='double'
nvsize=8
Off_t='off_t'
lseeksize=8
alignbytes=8
prototype=define
Linker and Libraries:
ld='cc'
ldflags ='-pthread -Wl,-E -fstack-protector-strong -L/usr/local/lib'
libpth=/usr/lib /usr/local/lib /usr/lib/clang/8.0.0/lib /usr/lib
libs=-lpthread -lgdbm -ldl -lm -lcrypt -lutil -lc
perllibs=-lpthread -ldl -lm -lcrypt -lutil -lc
libc=
so=so
useshrplib=false
libperl=libperl.a
gnulibc_version=''
Dynamic Linking:
dlsrc=dl_dlopen.xs
dlext=so
d_dlsymun=undef
ccdlflags=' '
cccdlflags='-DPIC -fPIC'
lddlflags='-shared -L/usr/local/lib -fstack-protector-strong'
Characteristics of this binary (from libperl):
Compile-time options:
HAS_TIMES
PERLIO_LAYERS
PERL_COPY_ON_WRITE
PERL_DONT_CREATE_GVSV
PERL_OP_PARENT
PERL_PRESERVE_IVUV
PERL_USE_DEVEL
USE_64_BIT_ALL
USE_64_BIT_INT
USE_LARGE_FILES
USE_LOCALE
USE_LOCALE_COLLATE
USE_LOCALE_CTYPE
USE_LOCALE_NUMERIC
USE_LOCALE_TIME
USE_PERLIO
USE_PERL_ATOF
Built under freebsd
Compiled at Mar 21 2019 21:15:46
%ENV:
PERL5LIB="/home/cpansand/.cpan/build/2019033120/TAP-SimpleOutput-0.009-0/blib/arch:/home/cpansand/.cpan/build/2019033120/TAP-SimpleOutput-0.009-0/blib/lib:/home/cpansand/.cpan/build/2019033120/Perl-Version-1.013-0/blib/arch:/home/cpansand/.cpan/build/2019033120/Perl-Version-1.013-0/blib/lib:/home/cpansand/.cpan/build/2019033120/File-Slurp-Tiny-0.004-0/blib/arch:/home/cpansand/.cpan/build/2019033120/File-Slurp-Tiny-0.004-0/blib/lib:/home/cpansand/.cpan/build/2019033120/MooseX-AttributeDocumented-0.1004-1/blib/arch:/home/cpansand/.cpan/build/2019033120/MooseX-AttributeDocumented-0.1004-1/blib/lib:/home/cpansand/.cpan/build/2019033120/IO-Interactive-1.022-1/blib/arch:/home/cpansand/.cpan/build/2019033120/IO-Interactive-1.022-1/blib/lib:/home/cpansand/.cpan/build/2019033120/Eponymous-Hash-0.02-1/blib/arch:/home/cpansand/.cpan/build/2019033120/Eponymous-Hash-0.02-1/blib/lib"
PERL5OPT=""
PERL5_CPANPLUS_IS_RUNNING="77814"
PERL5_CPAN_IS_RUNNING="77814"
PERL5_CPAN_IS_RUNNING_IN_RECURSION="76814,77814"
PERL_BATCH="yes"
PERL_CANARY_STABILITY_NOPROMPT="1"
PERL_CPAN_REPORTER_CONFIG="/var/tmp/cpansmoker-1023/2019033120/cpanreporter_000_config.ini"
PERL_EXTUTILS_AUTOINSTALL="--defaultdeps"
PERL_USE_UNSAFE_INC="1"
@INC:
/home/cpansand/.cpan/build/2019033120/TAP-SimpleOutput-0.009-0/blib/arch
/home/cpansand/.cpan/build/2019033120/TAP-SimpleOutput-0.009-0/blib/lib
/home/cpansand/.cpan/build/2019033120/Perl-Version-1.013-0/blib/arch
/home/cpansand/.cpan/build/2019033120/Perl-Version-1.013-0/blib/lib
/home/cpansand/.cpan/build/2019033120/File-Slurp-Tiny-0.004-0/blib/arch
/home/cpansand/.cpan/build/2019033120/File-Slurp-Tiny-0.004-0/blib/lib
/home/cpansand/.cpan/build/2019033120/MooseX-AttributeDocumented-0.1004-1/blib/arch
/home/cpansand/.cpan/build/2019033120/MooseX-AttributeDocumented-0.1004-1/blib/lib
/home/cpansand/.cpan/build/2019033120/IO-Interactive-1.022-1/blib/arch
/home/cpansand/.cpan/build/2019033120/IO-Interactive-1.022-1/blib/lib
/home/cpansand/.cpan/build/2019033120/Eponymous-Hash-0.02-1/blib/arch
/home/cpansand/.cpan/build/2019033120/Eponymous-Hash-0.02-1/blib/lib
/usr/perl5.29.9p/lib/site_perl/5.29.9/amd64-freebsd
/usr/perl5.29.9p/lib/site_perl/5.29.9
/usr/perl5.29.9p/lib/5.29.9/amd64-freebsd
/usr/perl5.29.9p/lib/5.29.9
.