Dpkg v1.22.16 Perl 5 v5.32.1 OpenBSD.amd64-openbsd
- Status
- Pass
- From
- David Cantrell (DCANTRELL)
- Dist
-
Dpkg v1.22.16
- Platform
- Perl 5 v5.32.1 OpenBSD.amd64-openbsd
- Date
- 2025-03-08 00:45:59
- ID
- b409b868-fbb6-11ef-8cc3-cac3894e384b
This distribution has been tested as part of the CPAN Testers
project, supporting the Perl programming language. See
http://wiki.cpantesters.org/ for more information or email
questions to cpan-testers-discuss@perl.org
--
Dear Guillem Jover,
This is a computer-generated report for Dpkg-1.22.16
on perl 5.32.1, created by CPAN-Reporter-1.2020.
Thank you for uploading your work to CPAN. Congratulations!
All tests were successful.
Sections of this report:
* Tester comments
* Program output
* Prerequisites
* Environment and other context
------------------------------
TESTER COMMENTS
------------------------------
Additional comments from tester:
this report is from an automated smoke testing program
and was not reviewed by a human for accuracy
------------------------------
PROGRAM OUTPUT
------------------------------
Output from './Build test':
t/Dpkg_Arch.t ................ ok
t/Dpkg_BuildAPI.t ............ ok
t/Dpkg_BuildEnv.t ............ ok
t/Dpkg_BuildFlags.t .......... ok
t/Dpkg_BuildFlags_Ubuntu.t ... ok
t/Dpkg_BuildInfo.t ........... ok
t/Dpkg_BuildOptions.t ........ ok
t/Dpkg_BuildProfiles.t ....... ok
t/Dpkg_BuildTree.t ........... ok
t/Dpkg_BuildTypes.t .......... ok
t/Dpkg_Changelog.t ........... ok
t/Dpkg_Changelog_Ubuntu.t .... ok
t/Dpkg_Checksums.t ........... ok
t/Dpkg_Compression.t ......... ok
t/Dpkg_Conf.t ................ ok
t/Dpkg_Control.t ............. ok
t/Dpkg_Control_Fields.t ...... ok
t/Dpkg_Control_Tests.t ....... ok
t/Dpkg_Deps.t ................ ok
t/Dpkg_Dist_Files.t .......... ok
t/Dpkg_ErrorHandling.t ....... ok
t/Dpkg_Exit.t ................ ok
t/Dpkg_File.t ................ ok
t/Dpkg_Getopt.t .............. ok
t/Dpkg_Gettext.t ............. ok
t/Dpkg_IPC.t ................. ok
t/Dpkg_Index.t ............... ok
t/Dpkg_Interface_Storable.t .. ok
t/Dpkg_Lock.t ................ ok
Use of uninitialized value $_ in string ne at /home/david/cpantesting/perl-5.32.1/.cpan/build/Dpkg-1.22.16-0/blib/lib/Test/Dpkg.pm line 277.
Use of uninitialized value $_ in string ne at /home/david/cpantesting/perl-5.32.1/.cpan/build/Dpkg-1.22.16-0/blib/lib/Test/Dpkg.pm line 277.
Use of uninitialized value $cmds[12] in join or string at /home/david/cpantesting/perl-5.32.1/.cpan/build/Dpkg-1.22.16-0/blib/lib/Test/Dpkg.pm line 281.
Use of uninitialized value $cmds[14] in join or string at /home/david/cpantesting/perl-5.32.1/.cpan/build/Dpkg-1.22.16-0/blib/lib/Test/Dpkg.pm line 281.
t/Dpkg_OpenPGP.t ............. skipped: requires >= 1 openpgp command: gpg-sq gpgv-sq gpg gpgv sq sop sopv sqop sqopv rsop rsopv gosop pgpainless-cli
t/Dpkg_OpenPGP_KeyHandle.t ... ok
t/Dpkg_Package.t ............. ok
t/Dpkg_Path.t ................ ok
t/Dpkg_Shlibs.t .............. ok
t/Dpkg_Shlibs_Cppfilt.t ...... ok
t/Dpkg_Source_Archive.t ...... ok
t/Dpkg_Source_Format.t ....... ok
t/Dpkg_Source_Functions.t .... ok
Use of uninitialized value $_ in string ne at /home/david/cpantesting/perl-5.32.1/.cpan/build/Dpkg-1.22.16-0/blib/lib/Test/Dpkg.pm line 277.
Use of uninitialized value $_ in string ne at /home/david/cpantesting/perl-5.32.1/.cpan/build/Dpkg-1.22.16-0/blib/lib/Test/Dpkg.pm line 277.
Use of uninitialized value $cmds[12] in join or string at /home/david/cpantesting/perl-5.32.1/.cpan/build/Dpkg-1.22.16-0/blib/lib/Test/Dpkg.pm line 281.
Use of uninitialized value $cmds[14] in join or string at /home/david/cpantesting/perl-5.32.1/.cpan/build/Dpkg-1.22.16-0/blib/lib/Test/Dpkg.pm line 281.
t/Dpkg_Source_Package.t ...... skipped: requires >= 1 openpgp command: gpg-sq gpgv-sq gpg gpgv sq sop sopv sqop sqopv rsop rsopv gosop pgpainless-cli
patch: **** can't find symlink/index-file
t/Dpkg_Source_Patch.t ........ ok
t/Dpkg_Source_Quilt.t ........ ok
t/Dpkg_Substvars.t ........... ok
t/Dpkg_Vendor.t .............. ok
t/Dpkg_Version.t ............. ok
t/codespell.t ................ skipped: author test
t/cppcheck.t ................. skipped: author test
t/critic.t ................... skipped: author test
t/minimum-version.t .......... skipped: author test
t/module-version.t ........... ok
t/po.t ....................... skipped: author test
t/pod-coverage.t ............. skipped: author test
t/pod-spell.t ................ skipped: author test
t/pod.t ...................... ok
t/shellcheck.t ............... skipped: author test
t/strict.t ................... skipped: requires module Test::Strict
t/synopsis.t ................. skipped: author test
t/syntax.t ................... ok
All tests successful.
Files=57, Tests=13098, 194 wallclock secs ( 3.78 usr 2.07 sys + 56.45 cusr 15.15 csys = 77.45 CPU)
Result: PASS
------------------------------
PREREQUISITES
------------------------------
Prerequisite modules loaded:
requires:
Module Need Have
------------- ------- --------
perl v5.32.1 5.032001
build_requires:
Module Need Have
------------- ------- --------
TAP::Harness 0 3.50
Test::More 0 1.302207
configure_requires:
Module Need Have
------------- ------- --------
Module::Build 0.4004 0.4234
------------------------------
ENVIRONMENT AND OTHER CONTEXT
------------------------------
Environment variables:
AUTOMATED_TESTING = 1
NONINTERACTIVE_TESTING = 1
PATH = /home/david/perl5/perlbrew/bin:/home/david/perl5/perlbrew/perls/perl-5.32.0/bin:/home/david/bin:/bin:/sbin:/usr/bin:/usr/sbin:/usr/X11R6/bin:/usr/local/bin:/usr/local/sbin:/usr/games:/home/david/.fzf/bin
PERL = 5.32.1
PERL5LIB =
PERL5OPT =
PERL5_CPANPLUS_IS_RUNNING = 25216
PERL5_CPAN_IS_RUNNING = 25216
PERLBREW_HOME = /home/david/.perlbrew
PERLBREW_MANPATH = /home/david/perl5/perlbrew/perls/perl-5.32.0/man
PERLBREW_PATH = /home/david/perl5/perlbrew/bin:/home/david/perl5/perlbrew/perls/perl-5.32.0/bin
PERLBREW_PERL = perl-5.32.0
PERLBREW_ROOT = /home/david/perl5/perlbrew
PERLBREW_SHELLRC_VERSION = 1.00
PERLBREW_VERSION = 1.00
PERLVER = 5.32.1
PERL_INLINE_DIRECTORY = /home/david/.Inline-5.32.1
PERL_MM_USE_DEFAULT = 1
PERL_USE_UNSAFE_INC = 0
SHELL = /usr/local/bin/bash
TERM = screen
Perl special variables (and OS-specific diagnostics, for MSWin32):
$^X = /home/david/cpantesting/perl-5.32.1/bin/perl
$UID/$EUID = 1000 / 1000
$GID = 1000 1000 0
$EGID = 1000 1000 0
Perl module toolchain versions installed:
Module Have
------------------- --------
CPAN 2.37
CPAN::Meta 2.150010
Cwd 3.75
ExtUtils::CBuilder 0.280236
ExtUtils::Command 7.70
ExtUtils::Install 2.22
ExtUtils::MakeMaker 7.70
ExtUtils::Manifest 1.75
ExtUtils::ParseXS 3.51
File::Spec 3.75
JSON 4.10
JSON::PP 4.16
Module::Build 0.4234
Module::Signature n/a
Parse::CPAN::Meta 2.150010
Test2 1.302207
Test::Harness 3.50
Test::More 1.302207
YAML 1.31
YAML::Syck n/a
version 0.9933
--
Summary of my perl5 (revision 5 version 32 subversion 1) configuration:
Platform:
osname=openbsd
osvers=7.6
archname=OpenBSD.amd64-openbsd
uname='openbsd cpantesting-openbsd 7.6 generic#332 amd64 '
config_args='-de -Dprefix=/home/david/cpantesting/perl-5.32.1'
hint=recommended
useposix=true
d_sigaction=define
useithreads=undef
usemultiplicity=undef
use64bitint=define
use64bitall=define
uselongdouble=undef
usemymalloc=n
default_inc_excludes_dot=define
bincompat5005=undef
Compiler:
cc='cc'
ccflags ='-fno-strict-aliasing -pipe -fstack-protector-strong -I/usr/local/include'
optimize='-O2'
cppflags='-fno-strict-aliasing -pipe -fstack-protector-strong -I/usr/local/include'
ccversion=''
gccversion='OpenBSD Clang 16.0.6'
gccosandvers=''
intsize=4
longsize=8
ptrsize=8
doublesize=8
byteorder=12345678
doublekind=3
d_longlong=define
longlongsize=8
d_longdbl=define
longdblsize=16
longdblkind=3
ivtype='long'
ivsize=8
nvtype='double'
nvsize=8
Off_t='off_t'
lseeksize=8
alignbytes=8
prototype=define
Linker and Libraries:
ld='cc'
ldflags ='-Wl,-E -fstack-protector-strong -L/usr/local/lib'
libpth=/usr/lib/clang/16/lib /usr/lib /usr/local/lib
libs=-lpthread -lm -lutil -lc
perllibs=-lpthread -lm -lutil -lc
libc=/usr/lib/libc.so.100.3
so=so
useshrplib=false
libperl=libperl.a
gnulibc_version=''
Dynamic Linking:
dlsrc=dl_dlopen.xs
dlext=so
d_dlsymun=undef
ccdlflags=' '
cccdlflags='-DPIC -fPIC '
lddlflags='-shared -fPIC -L/usr/local/lib -fstack-protector-strong'
Characteristics of this binary (from libperl):
Compile-time options:
HAS_TIMES
PERLIO_LAYERS
PERL_COPY_ON_WRITE
PERL_DONT_CREATE_GVSV
PERL_MALLOC_WRAP
PERL_OP_PARENT
PERL_PRESERVE_IVUV
USE_64_BIT_ALL
USE_64_BIT_INT
USE_LARGE_FILES
USE_LOCALE
USE_LOCALE_COLLATE
USE_LOCALE_CTYPE
USE_LOCALE_NUMERIC
USE_LOCALE_TIME
USE_PERLIO
USE_PERL_ATOF
Built under openbsd
Compiled at Oct 31 2024 21:39:36
%ENV:
PERL="5.32.1"
PERL5LIB=""
PERL5OPT=""
PERL5_CPANPLUS_IS_RUNNING="25216"
PERL5_CPAN_IS_RUNNING="25216"
PERLBREW_HOME="/home/david/.perlbrew"
PERLBREW_MANPATH="/home/david/perl5/perlbrew/perls/perl-5.32.0/man"
PERLBREW_PATH="/home/david/perl5/perlbrew/bin:/home/david/perl5/perlbrew/perls/perl-5.32.0/bin"
PERLBREW_PERL="perl-5.32.0"
PERLBREW_ROOT="/home/david/perl5/perlbrew"
PERLBREW_SHELLRC_VERSION="1.00"
PERLBREW_VERSION="1.00"
PERLVER="5.32.1"
PERL_INLINE_DIRECTORY="/home/david/.Inline-5.32.1"
PERL_MM_USE_DEFAULT="1"
PERL_USE_UNSAFE_INC="0"
@INC:
/home/david/cpantesting/perl-5.32.1/lib/site_perl/5.32.1/OpenBSD.amd64-openbsd
/home/david/cpantesting/perl-5.32.1/lib/site_perl/5.32.1
/home/david/cpantesting/perl-5.32.1/lib/5.32.1/OpenBSD.amd64-openbsd
/home/david/cpantesting/perl-5.32.1/lib/5.32.1