Params-Util v1.102 Perl 5 v5.32.0 x86_64-linux

Status
Pass
From
Dan Book
Dist
Params-Util v1.102
Platform
Perl 5 v5.32.0 x86_64-linux
Date
2020-11-19 02:26:59
ID
b3d10014-2a0e-11eb-8b69-b2bba1c555de
This distribution has been tested as part of the CPAN Testers
project, supporting the Perl programming language.  See
http://wiki.cpantesters.org/ for more information or email
questions to cpan-testers-discuss@perl.org


--
Dear REHSACK,

This is a computer-generated report for Params-Util-1.102
on perl 5.32.0, created by App::cpanminus::reporter 0.17 (1.7044).

Thank you for uploading your work to CPAN.  Congratulations!
All tests were successful.

Sections of this report:

    * Tester comments
    * Program output
    * Prerequisites
    * Environment and other context

------------------------------
TESTER COMMENTS
------------------------------

Additional comments from tester:

none provided

------------------------------
PROGRAM OUTPUT
------------------------------

Output from '':

Building and testing Params-Util-1.102
cp lib/Params/Util.pm blib/lib/Params/Util.pm
cp lib/Params/Util/PP.pm blib/lib/Params/Util/PP.pm
Running Mkbootstrap for Util ()
chmod 644 "Util.bs"
"/home/grinnz/.plenv/versions/5.32.0/bin/perl5.32.0" -MExtUtils::Command::MM -e 'cp_nonempty' -- Util.bs blib/arch/auto/Params/Util/Util.bs 644
"/home/grinnz/.plenv/versions/5.32.0/bin/perl5.32.0" "/home/grinnz/.plenv/versions/5.32.0/lib/perl5/5.32.0/ExtUtils/xsubpp"  -typemap '/home/grinnz/.plenv/versions/5.32.0/lib/perl5/5.32.0/ExtUtils/typemap'  Util.xs > Util.xsc
mv Util.xsc Util.c
cc -c   -fwrapv -fno-strict-aliasing -pipe -fstack-protector-strong -I/usr/local/include -D_LARGEFILE_SOURCE -D_FILE_OFFSET_BITS=64 -D_FORTIFY_SOURCE=2 -O2   -DVERSION=\"1.102\" -DXS_VERSION=\"1.102\" -fPIC "-I/home/grinnz/.plenv/versions/5.32.0/lib/perl5/5.32.0/x86_64-linux/CORE"   Util.c
rm -f blib/arch/auto/Params/Util/Util.so
cc  -shared -O2 -L/usr/local/lib -fstack-protector-strong  Util.o  -o blib/arch/auto/Params/Util/Util.so  \
      \
  
chmod 755 blib/arch/auto/Params/Util/Util.so
Manifying 2 pod documents
"/home/grinnz/.plenv/versions/5.32.0/bin/perl5.32.0" -MExtUtils::Command::MM -e 'cp_nonempty' -- Util.bs blib/arch/auto/Params/Util/Util.bs 644
PERL_DL_NONLAZY=1 "/home/grinnz/.plenv/versions/5.32.0/bin/perl5.32.0" "-MExtUtils::Command::MM" "-MTest::Harness" "-e" "undef *Test::Harness::Switches; test_harness(0, 'blib/lib', 'blib/arch')" t/pp/*.t t/xs/*.t xt/*.t
t/pp/01_compile.t .... ok
t/pp/02_main.t ....... ok
t/pp/03_all.t ........ ok
t/pp/04_codelike.t ... ok
t/pp/05_typelike.t ... ok
t/pp/06_invocant.t ... ok
t/pp/07_handle.t ..... ok
t/pp/08_driver.t ..... ok
t/pp/09_insideout.t .. ok
t/xs/01_compile.t .... ok
t/xs/02_main.t ....... ok
t/xs/03_all.t ........ ok
t/xs/04_codelike.t ... ok
t/xs/05_typelike.t ... ok
t/xs/06_invocant.t ... ok
t/xs/07_handle.t ..... ok
t/xs/08_driver.t ..... ok
t/xs/09_insideout.t .. ok
All tests successful.
Files=18, Tests=1864,  2 wallclock secs ( 0.29 usr  0.04 sys +  1.39 cusr  0.18 csys =  1.90 CPU)
Result: PASS

------------------------------
PREREQUISITES
------------------------------

Prerequisite modules loaded:

    No requirements found

------------------------------
ENVIRONMENT AND OTHER CONTEXT
------------------------------

Environment variables:

    LANG = en_US.UTF-8
    PATH = /home/grinnz/.plenv/versions/5.32.0/bin:/home/grinnz/.plenv/libexec:/home/grinnz/.plenv/plugins/perl-build/bin:/home/grinnz/.plenv/plugins/plenv-contrib/bin:/home/grinnz/.plenv/shims:/home/grinnz/.plenv/bin:/usr/local/cuda/bin:/home/grinnz/.plenv/bin:/usr/local/cuda/bin:/usr/local/bin:/usr/bin:/usr/local/sbin:/usr/sbin
    SHELL = /usr/bin/fish
    TERM = screen

Perl special variables (and OS-specific diagnostics, for MSWin32):

    EGID = 1000 10 26 135 974 1000
    EUID = 1000
    EXECUTABLE_NAME = /home/grinnz/.plenv/versions/5.32.0/bin/perl5.32.0
    GID = 1000 10 26 135 974 1000
    UID = 1000

Perl module toolchain versions installed:

    Module              Have    
    ------------------- --------
    CPAN                2.28    
    CPAN::Meta          2.150010
    Cwd                 3.78    
    ExtUtils::CBuilder  0.280235
    ExtUtils::Command   7.54    
    ExtUtils::Install   2.18    
    ExtUtils::MakeMaker 7.54    
    ExtUtils::Manifest  1.72    
    ExtUtils::ParseXS   3.40    
    File::Spec          3.78    
    JSON                4.02    
    JSON::PP            4.05    
    Module::Build       0.4231  
    Module::Signature   0.87    
    Parse::CPAN::Meta   2.150010
    Test::Harness       3.42    
    Test::More          1.302183
    YAML                1.30    
    YAML::Syck          n/a     
    version             0.9928  


--

Summary of my perl5 (revision 5 version 32 subversion 0) configuration:
   
  Platform:
    osname=linux
    osvers=5.8.6-201.fc32.x86_64
    archname=x86_64-linux
    uname='linux home.grinnz.com 5.8.6-201.fc32.x86_64 #1 smp fri sep 4 03:27:03 utc 2020 x86_64 x86_64 x86_64 gnulinux '
    config_args='-Dprefix=/home/grinnz/.plenv/versions/5.32.0 -de -Dversiononly -A'eval:scriptdir=/home/grinnz/.plenv/versions/5.32.0/bin''
    hint=recommended
    useposix=true
    d_sigaction=define
    useithreads=undef
    usemultiplicity=undef
    use64bitint=define
    use64bitall=define
    uselongdouble=undef
    usemymalloc=n
    default_inc_excludes_dot=define
    bincompat5005=undef
  Compiler:
    cc='cc'
    ccflags ='-fwrapv -fno-strict-aliasing -pipe -fstack-protector-strong -I/usr/local/include -D_LARGEFILE_SOURCE -D_FILE_OFFSET_BITS=64 -D_FORTIFY_SOURCE=2'
    optimize='-O2'
    cppflags='-fwrapv -fno-strict-aliasing -pipe -fstack-protector-strong -I/usr/local/include'
    ccversion=''
    gccversion='10.2.1 20200723 (Red Hat 10.2.1-1)'
    gccosandvers=''
    intsize=4
    longsize=8
    ptrsize=8
    doublesize=8
    byteorder=12345678
    doublekind=3
    d_longlong=define
    longlongsize=8
    d_longdbl=define
    longdblsize=16
    longdblkind=3
    ivtype='long'
    ivsize=8
    nvtype='double'
    nvsize=8
    Off_t='off_t'
    lseeksize=8
    alignbytes=8
    prototype=define
  Linker and Libraries:
    ld='cc'
    ldflags =' -fstack-protector-strong -L/usr/local/lib'
    libpth=/usr/local/lib /usr/lib /lib/../lib64 /usr/lib/../lib64 /lib /lib64 /usr/lib64 /usr/local/lib64
    libs=-lpthread -lgdbm -ldb -ldl -lm -lcrypt -lutil -lc -lgdbm_compat
    perllibs=-lpthread -ldl -lm -lcrypt -lutil -lc
    libc=libc-2.31.so
    so=so
    useshrplib=false
    libperl=libperl.a
    gnulibc_version='2.31'
  Dynamic Linking:
    dlsrc=dl_dlopen.xs
    dlext=so
    d_dlsymun=undef
    ccdlflags='-Wl,-E'
    cccdlflags='-fPIC'
    lddlflags='-shared -O2 -L/usr/local/lib -fstack-protector-strong'


Characteristics of this binary (from libperl): 
  Compile-time options:
    HAS_TIMES
    PERLIO_LAYERS
    PERL_COPY_ON_WRITE
    PERL_DONT_CREATE_GVSV
    PERL_MALLOC_WRAP
    PERL_OP_PARENT
    PERL_PRESERVE_IVUV
    USE_64_BIT_ALL
    USE_64_BIT_INT
    USE_LARGE_FILES
    USE_LOCALE
    USE_LOCALE_COLLATE
    USE_LOCALE_CTYPE
    USE_LOCALE_NUMERIC
    USE_LOCALE_TIME
    USE_PERLIO
    USE_PERL_ATOF
  Locally applied patches:
    Devel::PatchPerl 1.52
  Built under linux
  Compiled at Sep 10 2020 16:40:30
  @INC:
    /home/grinnz/.plenv/versions/5.32.0/lib/perl5/site_perl/5.32.0/x86_64-linux
    /home/grinnz/.plenv/versions/5.32.0/lib/perl5/site_perl/5.32.0
    /home/grinnz/.plenv/versions/5.32.0/lib/perl5/5.32.0/x86_64-linux
    /home/grinnz/.plenv/versions/5.32.0/lib/perl5/5.32.0