ExtUtils-MakeMaker v7.72 Perl 5 v5.40.1 x86_64-cygwin-threads-multi

Status
Pass
From
Chris Williams (BINGOS)
Dist
ExtUtils-MakeMaker v7.72
Platform
Perl 5 v5.40.1 x86_64-cygwin-threads-multi
Date
2025-03-15 15:18:08
ID
b349b7ac-01b0-11f0-98b0-b3c3213a625c
This distribution has been tested as part of the CPAN Testers
project, supporting the Perl programming language.  See
http://wiki.cpantesters.org/ for more information or email
questions to cpan-testers-discuss@perl.org


--

Dear BINGOS,

This is a computer-generated error report created automatically by
CPANPLUS, version 0.9916. Testers personal comments may appear
at the end of this report.


Thank you for uploading your work to CPAN.  Congratulations!
All tests were successful.

TEST RESULTS:

Below is the error stack from stage 'make test':

PERL_DL_NONLAZY=1 "/usr/bin/perl.exe" "-Iblib/arch" "-Iblib/lib" "-MExtUtils::Command::MM" "-MTest::Harness" "-e" "undef *Test::Harness::Switches; test_harness(0, 'blib/lib', 'blib/arch')" t/*.t
t/00compile.t ............. ok
t/01perl_bugs.t ........... ok
t/02-xsdynamic.t .......... ok
t/03-xsstatic.t ........... skipped: Shared perl library
t/04-xs-rpath-darwin.t .... skipped: Not darwin platform
t/arch_check.t ............ ok
t/backwards.t ............. ok
t/basic.t ................. ok
t/build_man.t ............. ok
t/cd.t .................... ok
t/config.t ................ ok
t/cp.t .................... ok
t/dir_target.t ............ ok
t/echo.t .................. ok
t/eu_command.t ............ ok
t/FIRST_MAKEFILE.t ........ ok
t/fix_libs.t .............. ok
t/fixin.t ................. ok
t/hints.t ................. ok
t/INST.t .................. ok
t/INST_PREFIX.t ........... ok
t/INSTALL_BASE.t .......... ok
t/installed_file.t ........ ok
t/is_of_type.t ............ ok
t/Liblist.t ............... ok
t/Liblist_Kid.t ........... ok
t/make.t .................. ok
t/MakeMaker_Parameters.t .. ok
t/maketext_filter.t ....... ok
t/meta_convert.t .......... ok
t/metafile_data.t ......... ok
t/metafile_file.t ......... ok
t/min_perl_version.t ...... ok
t/miniperl.t .............. skipped: miniperl test only necessary for the perl core
t/Mkbootstrap.t ........... ok
t/MM_Any.t ................ ok
t/MM_BeOS.t ............... skipped: This is not BeOS
t/MM_Cygwin.t ............. ok
t/MM_NW5.t ................ skipped: This is not NW5
t/MM_OS2.t ................ skipped: This is not OS/2
t/MM_Unix.t ............... skipped: Non-Unix platform
t/MM_VMS.t ................ skipped: This is not VMS
t/MM_Win32.t .............. skipped: This is not Win32
t/oneliner.t .............. ok
t/os_unsupported.t ........ ok
t/parse_abstract.t ........ ok
t/parse_version.t ......... ok
t/PL_FILES.t .............. ok
t/pm.t .................... ok
t/pm_to_blib.t ............ ok
t/pod2man.t ............... ok
t/postamble.t ............. ok
t/prefixify.t ............. ok
t/prereq.t ................ ok
t/prereq_print.t .......... ok
t/problems.t .............. ok
t/prompt.t ................ ok
t/rec_att_keys.t .......... ok
t/recurs.t ................ ok
t/revision.t .............. ok
t/several_authors.t ....... ok
t/split_command.t ......... ok
t/test_boilerplate.t ...... ok
t/testlib.t ............... ok
t/unicode.t ............... ok
t/VERSION_FROM.t .......... ok
t/vstrings.t .............. ok
t/WriteEmptyMakefile.t .... ok
t/writemakefile_args.t .... ok
All tests successful.
Files=69, Tests=1333, 316 wallclock secs ( 0.30 usr  0.56 sys + 81.15 cusr 107.41 csys = 189.42 CPU)
Result: PASS


PREREQUISITES:

Here is a list of prerequisites you specified and versions we
managed to load:

	  Module Name                        Have     Want
	  Data::Dumper                      2.189        0
	  Encode                             3.21        0
	  File::Basename                     2.86        0
	  File::Spec                         3.91      0.8
	  Pod::Man                        5.01_02        0

Perl module toolchain versions installed:
	Module Name                        Have
	CPANPLUS                         0.9916
	CPANPLUS::Dist::Build              0.90
	Cwd                                3.91
	ExtUtils::CBuilder             0.280240
	ExtUtils::Command                  7.72
	ExtUtils::Install                  2.22
	ExtUtils::MakeMaker                7.72
	ExtUtils::Manifest                 1.75
	ExtUtils::ParseXS                  3.51
	File::Spec                         3.91
	Module::Build                    0.4234
	Pod::Parser                           0
	Pod::Simple                        3.45
	Test2                          1.302209
	Test::Harness                      3.50
	Test::More                     1.302209
	version                          0.9930

******************************** NOTE ********************************
The comments above are created mechanically, possibly without manual
checking by the sender.  As there are many people performing automatic
tests on each upload to CPAN, it is likely that you will receive
identical messages about the same problem.

If you believe that the message is mistaken, please reply to the first
one with correction and/or additional informations, and do not take
it personally.  We appreciate your patience. :)
**********************************************************************

Additional comments:


This report was machine-generated by CPANPLUS::Dist::YACSmoke 1.08.

CPANPLUS is prefering Build.PL

------------------------------
ENVIRONMENT AND OTHER CONTEXT
------------------------------

Environment variables:

    AUTOMATED_TESTING = 1
    COMSPEC = C:\WINDOWS\system32\cmd.exe
    LC_CTYPE = en_US.UTF-8
    NUMBER_OF_PROCESSORS = 1
    PATH = /home/Administrator/build/cpanidx/.cpanplus/5.40.1/build/Lm8gJggT2b/ExtUtils-MakeMaker-7.72/blib/script:/home/Administrator/perl5/bin:/usr/local/bin:/usr/bin:/cygdrive/c/WINDOWS/system32:/cygdrive/c/WINDOWS:/cygdrive/c/WINDOWS/System32/Wbem:/cygdrive/c/WINDOWS/System32/WindowsPowerShell/v1.0:/cygdrive/c/WINDOWS/System32/OpenSSH:/cygdrive/c/Users/Administrator/AppData/Local/Microsoft/WindowsApps
    PERL5LIB = /home/Administrator/perl5/lib/perl5:/home/Administrator/build/cpanidx/.cpanplus/5.40.1/build/Lm8gJggT2b/ExtUtils-MakeMaker-7.72/blib/lib:/home/Administrator/build/cpanidx/.cpanplus/5.40.1/build/Lm8gJggT2b/ExtUtils-MakeMaker-7.72/blib/arch
    PERL5_CPANIDX_URL = http://cpan.mirror.local/cpanidx/
    PERL5_CPANPLUS_HOME = /home/Administrator/build/cpanidx
    PERL5_CPANPLUS_IS_RUNNING = 5814
    PERL5_CPANPLUS_IS_VERSION = 0.9916
    PERL_EXTUTILS_AUTOINSTALL = --defaultdeps
    PERL_INSTALL_QUIET = 1
    PERL_LOCAL_LIB_ROOT = /home/Administrator/perl5
    PERL_MB_OPT = --install_base "/home/Administrator/perl5"
    PERL_MM_OPT = INSTALL_BASE=/home/Administrator/perl5
    PERL_MM_USE_DEFAULT = 1
    PROCESSOR_IDENTIFIER = AMD64 Family 25 Model 80 Stepping 0, AuthenticAMD
    SHELL = /bin/bash
    TERM = xterm

Perl special variables (and OS-specific diagnostics, for MSWin32):

    Perl: $^X = /usr/bin/perl
    UID:  $<  = 197108
    EUID: $>  = 197108
    GID:  $(  = 197121 197121 114 544 545 4 66049 11 15 113 4095 66048 262154 405504
    EGID: $)  = 197121 197121 114 544 545 4 66049 11 15 113 4095 66048 262154 405504


-------------------------------


--

Summary of my perl5 (revision 5 version 40 subversion 1) configuration:
   
  Platform:
    osname=cygwin
    osvers=3.5.4-1.x86_64
    archname=x86_64-cygwin-threads-multi
    uname='cygwin_nt-10.0-26100 walter 3.5.4-1.x86_64 2024-08-25 16:52 utc x86_64 cygwin '
    config_args='-des -Dprefix=/usr -Dmksymlinks -Darchname=x86_64-cygwin-threads -Dlibperl=cygperl5_40.dll -Dcc=gcc -Dld=g++ -Accflags=-ggdb -O2 -pipe -Wall -Werror=format-security -D_FORTIFY_SOURCE=3 -fstack-protector-strong --param=ssp-buffer-size=4 -ffile-prefix-map=/mnt/share/cygpkgs/perl/perl.x86_64/build=/usr/src/debug/perl-5.40.1-1 -ffile-prefix-map=/mnt/share/cygpkgs/perl/perl.x86_64/src/perl-5.40.1=/usr/src/debug/perl-5.40.1-1 -fwrapv'
    hint=recommended
    useposix=true
    d_sigaction=define
    useithreads=define
    usemultiplicity=define
    use64bitint=define
    use64bitall=define
    uselongdouble=undef
    usemymalloc=n
    default_inc_excludes_dot=define
  Compiler:
    cc='gcc'
    ccflags ='-U__STRICT_ANSI__ -D_GNU_SOURCE -ggdb -O2 -pipe -Wall -Werror=format-security -D_FORTIFY_SOURCE=3 -fstack-protector-strong --param=ssp-buffer-size=4 -ffile-prefix-map=/mnt/share/cygpkgs/perl/perl.x86_64/build=/usr/src/debug/perl-5.40.1-1 -ffile-prefix-map=/mnt/share/cygpkgs/perl/perl.x86_64/src/perl-5.40.1=/usr/src/debug/perl-5.40.1-1 -fwrapv -fno-strict-aliasing'
    optimize='-O3'
    cppflags='-U__STRICT_ANSI__ -D_GNU_SOURCE -ggdb -O2 -pipe -Wall -Werror=format-security -D_FORTIFY_SOURCE=3 -fstack-protector-strong --param=ssp-buffer-size=4 -ffile-prefix-map=/mnt/share/cygpkgs/perl/perl.x86_64/build=/usr/src/debug/perl-5.40.1-1 -ffile-prefix-map=/mnt/share/cygpkgs/perl/perl.x86_64/src/perl-5.40.1=/usr/src/debug/perl-5.40.1-1 -fwrapv -fno-strict-aliasing'
    ccversion=''
    gccversion='12.4.0'
    gccosandvers=''
    intsize=4
    longsize=8
    ptrsize=8
    doublesize=8
    byteorder=12345678
    doublekind=3
    d_longlong=define
    longlongsize=8
    d_longdbl=define
    longdblsize=16
    longdblkind=3
    ivtype='long'
    ivsize=8
    nvtype='double'
    nvsize=8
    Off_t='off_t'
    lseeksize=8
    alignbytes=8
    prototype=define
  Linker and Libraries:
    ld='g++'
    ldflags =' -Wl,--enable-auto-import -Wl,--export-all-symbols -Wl,--enable-auto-image-base -fstack-protector-strong'
    libpth=/usr/lib
    libs=-lpthread -lgdbm -ldb -ldl -lcrypt -lgdbm_compat
    perllibs=-lpthread -ldl -lcrypt
    libc=/usr/lib/libcygwin.a
    so=dll
    useshrplib=true
    libperl=cygperl5_40.dll
    gnulibc_version=''
  Dynamic Linking:
    dlsrc=dl_dlopen.xs
    dlext=dll
    d_dlsymun=undef
    ccdlflags=' '
    cccdlflags=' '
    lddlflags=' --shared  -Wl,--enable-auto-import -Wl,--export-all-symbols -Wl,--enable-auto-image-base -fstack-protector-strong'


Characteristics of this binary (from libperl): 
  Compile-time options:
    HAS_LONG_DOUBLE
    HAS_STRTOLD
    HAS_TIMES
    MULTIPLICITY
    PERLIO_LAYERS
    PERL_COPY_ON_WRITE
    PERL_DONT_CREATE_GVSV
    PERL_HASH_FUNC_SIPHASH13
    PERL_HASH_USE_SBOX32
    PERL_OP_PARENT
    PERL_PRESERVE_IVUV
    PERL_USE_SAFE_PUTENV
    USE_64_BIT_ALL
    USE_64_BIT_INT
    USE_ITHREADS
    USE_LARGE_FILES
    USE_LOCALE
    USE_LOCALE_COLLATE
    USE_LOCALE_CTYPE
    USE_LOCALE_NUMERIC
    USE_LOCALE_TIME
    USE_PERLIO
    USE_PERL_ATOF
    USE_REENTRANT_API
    USE_THREAD_SAFE_LOCALE
  Locally applied patches:
    Cygwin: README
    Cygwin: modify hints
    Cygwin: Win32 correct UTF8 handling for tests
  Built under cygwin
  Compiled at Jan 19 2025 08:53:10
  %ENV:
    PERL5LIB="/home/Administrator/perl5/lib/perl5:/home/Administrator/build/cpanidx/.cpanplus/5.40.1/build/Lm8gJggT2b/ExtUtils-MakeMaker-7.72/blib/lib:/home/Administrator/build/cpanidx/.cpanplus/5.40.1/build/Lm8gJggT2b/ExtUtils-MakeMaker-7.72/blib/arch"
    PERL5_CPANIDX_URL="http://cpan.mirror.local/cpanidx/"
    PERL5_CPANPLUS_HOME="/home/Administrator/build/cpanidx"
    PERL5_CPANPLUS_IS_RUNNING="5814"
    PERL5_CPANPLUS_IS_VERSION="0.9916"
    PERL_EXTUTILS_AUTOINSTALL="--defaultdeps"
    PERL_INSTALL_QUIET="1"
    PERL_LOCAL_LIB_ROOT="/home/Administrator/perl5"
    PERL_MB_OPT="--install_base "/home/Administrator/perl5""
    PERL_MM_OPT="INSTALL_BASE=/home/Administrator/perl5"
    PERL_MM_USE_DEFAULT="1"
  @INC:
    /home/Administrator/perl5/lib/perl5/5.40.1/x86_64-cygwin-threads-multi
    /home/Administrator/perl5/lib/perl5/5.40.1
    /home/Administrator/perl5/lib/perl5/x86_64-cygwin-threads-multi
    /home/Administrator/perl5/lib/perl5
    /home/Administrator/build/cpanidx/.cpanplus/5.40.1/build/Lm8gJggT2b/ExtUtils-MakeMaker-7.72/blib/lib
    /home/Administrator/build/cpanidx/.cpanplus/5.40.1/build/Lm8gJggT2b/ExtUtils-MakeMaker-7.72/blib/arch
    /usr/local/lib/perl5/site_perl/5.40/x86_64-cygwin-threads
    /usr/local/share/perl5/site_perl/5.40
    /usr/lib/perl5/vendor_perl/5.40/x86_64-cygwin-threads
    /usr/share/perl5/vendor_perl/5.40
    /usr/lib/perl5/5.40/x86_64-cygwin-threads
    /usr/share/perl5/5.40