Back
From: metabase:user:320bfe00-2aae-11df-837a-5e0a49663a4f
Subject: PASS HTML-Shakan-2.00 v5.21.11 GNU/Linux
Date: 2015-03-24T06:19:16Z
This distribution has been tested as part of the CPAN Testers
project, supporting the Perl programming language. See
http://wiki.cpantesters.org/ for more information or email
questions to cpan-testers-discuss@perl.org
--
Dear Masayuki Matsuki,
This is a computer-generated report for HTML-Shakan-2.00
on perl 5.21.11, created by CPAN-Reporter-1.2011.
Thank you for uploading your work to CPAN. Congratulations!
All tests were successful.
Sections of this report:
* Tester comments
* Program output
* Prerequisites
* Environment and other context
------------------------------
TESTER COMMENTS
------------------------------
Additional comments from tester:
this report is from an automated smoke testing program
and was not reviewed by a human for accuracy
------------------------------
PROGRAM OUTPUT
------------------------------
Output from './Build test':
Constants from lexical variables potentially modified elsewhere are deprecated at /home/sand/src/perl/repoperls/installed-perls/perl/v5.21.10-8-g2e4abf2/165a/lib/site_perl/5.21.11/x86_64-linux/Mouse/Util.pm line 79.
t/00_compile.t ............................. ok
Constants from lexical variables potentially modified elsewhere are deprecated at /home/sand/src/perl/repoperls/installed-perls/perl/v5.21.10-8-g2e4abf2/165a/lib/site_perl/5.21.11/x86_64-linux/Mouse/Util.pm line 79.
CGI::param called in list context from package HTML::Shakan line 253, this can lead to vulnerabilities. See the warning in "Fetching the value or values of a single named parameter" at /home/sand/src/perl/repoperls/installed-perls/perl/v5.21.10-8-g2e4abf2/165a/lib/site_perl/5.21.11/CGI.pm line 437.
t/010_core/001_render.t .................... ok
Constants from lexical variables potentially modified elsewhere are deprecated at /home/sand/src/perl/repoperls/installed-perls/perl/v5.21.10-8-g2e4abf2/165a/lib/site_perl/5.21.11/x86_64-linux/Mouse/Util.pm line 79.
# FVL: 0.38
CGI::param called in list context from package HTML::Shakan line 253, this can lead to vulnerabilities. See the warning in "Fetching the value or values of a single named parameter" at /home/sand/src/perl/repoperls/installed-perls/perl/v5.21.10-8-g2e4abf2/165a/lib/site_perl/5.21.11/CGI.pm line 437.
CGI::param called in list context from package HTML::Shakan line 253, this can lead to vulnerabilities. See the warning in "Fetching the value or values of a single named parameter" at /home/sand/src/perl/repoperls/installed-perls/perl/v5.21.10-8-g2e4abf2/165a/lib/site_perl/5.21.11/CGI.pm line 437.
CGI::param called in list context from package HTML::Shakan line 253, this can lead to vulnerabilities. See the warning in "Fetching the value or values of a single named parameter" at /home/sand/src/perl/repoperls/installed-perls/perl/v5.21.10-8-g2e4abf2/165a/lib/site_perl/5.21.11/CGI.pm line 437.
CGI::param called in list context from package HTML::Shakan line 253, this can lead to vulnerabilities. See the warning in "Fetching the value or values of a single named parameter" at /home/sand/src/perl/repoperls/installed-perls/perl/v5.21.10-8-g2e4abf2/165a/lib/site_perl/5.21.11/CGI.pm line 437.
CGI::param called in list context from package HTML::Shakan line 253, this can lead to vulnerabilities. See the warning in "Fetching the value or values of a single named parameter" at /home/sand/src/perl/repoperls/installed-perls/perl/v5.21.10-8-g2e4abf2/165a/lib/site_perl/5.21.11/CGI.pm line 437.
CGI::param called in list context from package HTML::Shakan line 253, this can lead to vulnerabilities. See the warning in "Fetching the value or values of a single named parameter" at /home/sand/src/perl/repoperls/installed-perls/perl/v5.21.10-8-g2e4abf2/165a/lib/site_perl/5.21.11/CGI.pm line 437.
CGI::param called in list context from package HTML::Shakan line 253, this can lead to vulnerabilities. See the warning in "Fetching the value or values of a single named parameter" at /home/sand/src/perl/repoperls/installed-perls/perl/v5.21.10-8-g2e4abf2/165a/lib/site_perl/5.21.11/CGI.pm line 437.
CGI::param called in list context from package HTML::Shakan line 253, this can lead to vulnerabilities. See the warning in "Fetching the value or values of a single named parameter" at /home/sand/src/perl/repoperls/installed-perls/perl/v5.21.10-8-g2e4abf2/165a/lib/site_perl/5.21.11/CGI.pm line 437.
CGI::param called in list context from package HTML::Shakan line 253, this can lead to vulnerabilities. See the warning in "Fetching the value or values of a single named parameter" at /home/sand/src/perl/repoperls/installed-perls/perl/v5.21.10-8-g2e4abf2/165a/lib/site_perl/5.21.11/CGI.pm line 437.
CGI::param called in list context from package HTML::Shakan line 253, this can lead to vulnerabilities. See the warning in "Fetching the value or values of a single named parameter" at /home/sand/src/perl/repoperls/installed-perls/perl/v5.21.10-8-g2e4abf2/165a/lib/site_perl/5.21.11/CGI.pm line 437.
CGI::param called in list context from package HTML::Shakan line 253, this can lead to vulnerabilities. See the warning in "Fetching the value or values of a single named parameter" at /home/sand/src/perl/repoperls/installed-perls/perl/v5.21.10-8-g2e4abf2/165a/lib/site_perl/5.21.11/CGI.pm line 437.
CGI::param called in list context from package HTML::Shakan line 253, this can lead to vulnerabilities. See the warning in "Fetching the value or values of a single named parameter" at /home/sand/src/perl/repoperls/installed-perls/perl/v5.21.10-8-g2e4abf2/165a/lib/site_perl/5.21.11/CGI.pm line 437.
CGI::param called in list context from package HTML::Shakan line 253, this can lead to vulnerabilities. See the warning in "Fetching the value or values of a single named parameter" at /home/sand/src/perl/repoperls/installed-perls/perl/v5.21.10-8-g2e4abf2/165a/lib/site_perl/5.21.11/CGI.pm line 437.
CGI::param called in list context from package HTML::Shakan line 253, this can lead to vulnerabilities. See the warning in "Fetching the value or values of a single named parameter" at /home/sand/src/perl/repoperls/installed-perls/perl/v5.21.10-8-g2e4abf2/165a/lib/site_perl/5.21.11/CGI.pm line 437.
CGI::param called in list context from package HTML::Shakan line 253, this can lead to vulnerabilities. See the warning in "Fetching the value or values of a single named parameter" at /home/sand/src/perl/repoperls/installed-perls/perl/v5.21.10-8-g2e4abf2/165a/lib/site_perl/5.21.11/CGI.pm line 437.
CGI::param called in list context from package HTML::Shakan line 253, this can lead to vulnerabilities. See the warning in "Fetching the value or values of a single named parameter" at /home/sand/src/perl/repoperls/installed-perls/perl/v5.21.10-8-g2e4abf2/165a/lib/site_perl/5.21.11/CGI.pm line 437.
CGI::param called in list context from package HTML::Shakan line 253, this can lead to vulnerabilities. See the warning in "Fetching the value or values of a single named parameter" at /home/sand/src/perl/repoperls/installed-perls/perl/v5.21.10-8-g2e4abf2/165a/lib/site_perl/5.21.11/CGI.pm line 437.
CGI::param called in list context from package HTML::Shakan line 253, this can lead to vulnerabilities. See the warning in "Fetching the value or values of a single named parameter" at /home/sand/src/perl/repoperls/installed-perls/perl/v5.21.10-8-g2e4abf2/165a/lib/site_perl/5.21.11/CGI.pm line 437.
CGI::param called in list context from package HTML::Shakan line 253, this can lead to vulnerabilities. See the warning in "Fetching the value or values of a single named parameter" at /home/sand/src/perl/repoperls/installed-perls/perl/v5.21.10-8-g2e4abf2/165a/lib/site_perl/5.21.11/CGI.pm line 437.
CGI::param called in list context from package HTML::Shakan line 253, this can lead to vulnerabilities. See the warning in "Fetching the value or values of a single named parameter" at /home/sand/src/perl/repoperls/installed-perls/perl/v5.21.10-8-g2e4abf2/165a/lib/site_perl/5.21.11/CGI.pm line 437.
CGI::param called in list context from package HTML::Shakan line 253, this can lead to vulnerabilities. See the warning in "Fetching the value or values of a single named parameter" at /home/sand/src/perl/repoperls/installed-perls/perl/v5.21.10-8-g2e4abf2/165a/lib/site_perl/5.21.11/CGI.pm line 437.
t/010_core/002_validator.t ................. ok
Constants from lexical variables potentially modified elsewhere are deprecated at /home/sand/src/perl/repoperls/installed-perls/perl/v5.21.10-8-g2e4abf2/165a/lib/site_perl/5.21.11/x86_64-linux/Mouse/Util.pm line 79.
CGI::param called in list context from package HTML::Shakan line 169, this can lead to vulnerabilities. See the warning in "Fetching the value or values of a single named parameter" at /home/sand/src/perl/repoperls/installed-perls/perl/v5.21.10-8-g2e4abf2/165a/lib/site_perl/5.21.11/CGI.pm line 437.
CGI::param called in list context from package HTML::Shakan line 169, this can lead to vulnerabilities. See the warning in "Fetching the value or values of a single named parameter" at /home/sand/src/perl/repoperls/installed-perls/perl/v5.21.10-8-g2e4abf2/165a/lib/site_perl/5.21.11/CGI.pm line 437.
CGI::param called in list context from package HTML::Shakan line 169, this can lead to vulnerabilities. See the warning in "Fetching the value or values of a single named parameter" at /home/sand/src/perl/repoperls/installed-perls/perl/v5.21.10-8-g2e4abf2/165a/lib/site_perl/5.21.11/CGI.pm line 437.
CGI::param called in list context from package HTML::Shakan line 169, this can lead to vulnerabilities. See the warning in "Fetching the value or values of a single named parameter" at /home/sand/src/perl/repoperls/installed-perls/perl/v5.21.10-8-g2e4abf2/165a/lib/site_perl/5.21.11/CGI.pm line 437.
CGI::param called in list context from package HTML::Shakan line 169, this can lead to vulnerabilities. See the warning in "Fetching the value or values of a single named parameter" at /home/sand/src/perl/repoperls/installed-perls/perl/v5.21.10-8-g2e4abf2/165a/lib/site_perl/5.21.11/CGI.pm line 437.
t/010_core/003_widgets.t ................... ok
Constants from lexical variables potentially modified elsewhere are deprecated at /home/sand/src/perl/repoperls/installed-perls/perl/v5.21.10-8-g2e4abf2/165a/lib/site_perl/5.21.11/x86_64-linux/Mouse/Util.pm line 79.
t/010_core/004_filter.t .................... ok
Constants from lexical variables potentially modified elsewhere are deprecated at /home/sand/src/perl/repoperls/installed-perls/perl/v5.21.10-8-g2e4abf2/165a/lib/site_perl/5.21.11/x86_64-linux/Mouse/Util.pm line 79.
t/010_core/005_bind_filter.t ............... skipped: Test requires module 'Lingua::JA::Regular::Unicode' but it's not found
Constants from lexical variables potentially modified elsewhere are deprecated at /home/sand/src/perl/repoperls/installed-perls/perl/v5.21.10-8-g2e4abf2/165a/lib/site_perl/5.21.11/x86_64-linux/Mouse/Util.pm line 79.
CGI::param called in list context from package HTML::Shakan line 253, this can lead to vulnerabilities. See the warning in "Fetching the value or values of a single named parameter" at /home/sand/src/perl/repoperls/installed-perls/perl/v5.21.10-8-g2e4abf2/165a/lib/site_perl/5.21.11/CGI.pm line 437.
CGI::param called in list context from package HTML::Shakan line 169, this can lead to vulnerabilities. See the warning in "Fetching the value or values of a single named parameter" at /home/sand/src/perl/repoperls/installed-perls/perl/v5.21.10-8-g2e4abf2/165a/lib/site_perl/5.21.11/CGI.pm line 437.
CGI::param called in list context from package HTML::Shakan line 253, this can lead to vulnerabilities. See the warning in "Fetching the value or values of a single named parameter" at /home/sand/src/perl/repoperls/installed-perls/perl/v5.21.10-8-g2e4abf2/165a/lib/site_perl/5.21.11/CGI.pm line 437.
CGI::param called in list context from package HTML::Shakan line 169, this can lead to vulnerabilities. See the warning in "Fetching the value or values of a single named parameter" at /home/sand/src/perl/repoperls/installed-perls/perl/v5.21.10-8-g2e4abf2/165a/lib/site_perl/5.21.11/CGI.pm line 437.
CGI::param called in list context from package HTML::Shakan line 253, this can lead to vulnerabilities. See the warning in "Fetching the value or values of a single named parameter" at /home/sand/src/perl/repoperls/installed-perls/perl/v5.21.10-8-g2e4abf2/165a/lib/site_perl/5.21.11/CGI.pm line 437.
CGI::param called in list context from package HTML::Shakan line 169, this can lead to vulnerabilities. See the warning in "Fetching the value or values of a single named parameter" at /home/sand/src/perl/repoperls/installed-perls/perl/v5.21.10-8-g2e4abf2/165a/lib/site_perl/5.21.11/CGI.pm line 437.
t/010_core/006_fillin_form.t ............... ok
Constants from lexical variables potentially modified elsewhere are deprecated at /home/sand/src/perl/repoperls/installed-perls/perl/v5.21.10-8-g2e4abf2/165a/lib/site_perl/5.21.11/x86_64-linux/Mouse/Util.pm line 79.
CGI::param called in list context from package HTML::Shakan line 253, this can lead to vulnerabilities. See the warning in "Fetching the value or values of a single named parameter" at /home/sand/src/perl/repoperls/installed-perls/perl/v5.21.10-8-g2e4abf2/165a/lib/site_perl/5.21.11/CGI.pm line 437.
CGI::param called in list context from package HTML::Shakan line 169, this can lead to vulnerabilities. See the warning in "Fetching the value or values of a single named parameter" at /home/sand/src/perl/repoperls/installed-perls/perl/v5.21.10-8-g2e4abf2/165a/lib/site_perl/5.21.11/CGI.pm line 437.
CGI::param called in list context from package HTML::Shakan line 169, this can lead to vulnerabilities. See the warning in "Fetching the value or values of a single named parameter" at /home/sand/src/perl/repoperls/installed-perls/perl/v5.21.10-8-g2e4abf2/165a/lib/site_perl/5.21.11/CGI.pm line 437.
CGI::param called in list context from package HTML::Shakan line 169, this can lead to vulnerabilities. See the warning in "Fetching the value or values of a single named parameter" at /home/sand/src/perl/repoperls/installed-perls/perl/v5.21.10-8-g2e4abf2/165a/lib/site_perl/5.21.11/CGI.pm line 437.
t/010_core/007_fillin_date.t ............... ok
Constants from lexical variables potentially modified elsewhere are deprecated at /home/sand/src/perl/repoperls/installed-perls/perl/v5.21.10-8-g2e4abf2/165a/lib/site_perl/5.21.11/x86_64-linux/Mouse/Util.pm line 79.
CGI::param called in list context from package HTML::Shakan line 253, this can lead to vulnerabilities. See the warning in "Fetching the value or values of a single named parameter" at /home/sand/src/perl/repoperls/installed-perls/perl/v5.21.10-8-g2e4abf2/165a/lib/site_perl/5.21.11/CGI.pm line 437.
CGI::param called in list context from package HTML::Shakan line 253, this can lead to vulnerabilities. See the warning in "Fetching the value or values of a single named parameter" at /home/sand/src/perl/repoperls/installed-perls/perl/v5.21.10-8-g2e4abf2/165a/lib/site_perl/5.21.11/CGI.pm line 437.
t/010_core/008_declare.t ................... ok
Constants from lexical variables potentially modified elsewhere are deprecated at /home/sand/src/perl/repoperls/installed-perls/perl/v5.21.10-8-g2e4abf2/165a/lib/site_perl/5.21.11/x86_64-linux/Mouse/Util.pm line 79.
CGI::param called in list context from package HTML::Shakan line 253, this can lead to vulnerabilities. See the warning in "Fetching the value or values of a single named parameter" at /home/sand/src/perl/repoperls/installed-perls/perl/v5.21.10-8-g2e4abf2/165a/lib/site_perl/5.21.11/CGI.pm line 437.
t/010_core/009_validator_message.t ......... ok
Constants from lexical variables potentially modified elsewhere are deprecated at /home/sand/src/perl/repoperls/installed-perls/perl/v5.21.10-8-g2e4abf2/165a/lib/site_perl/5.21.11/x86_64-linux/Mouse/Util.pm line 79.
CGI::param called in list context from package HTML::Shakan line 253, this can lead to vulnerabilities. See the warning in "Fetching the value or values of a single named parameter" at /home/sand/src/perl/repoperls/installed-perls/perl/v5.21.10-8-g2e4abf2/165a/lib/site_perl/5.21.11/CGI.pm line 437.
CGI::param called in list context from package HTML::Shakan line 253, this can lead to vulnerabilities. See the warning in "Fetching the value or values of a single named parameter" at /home/sand/src/perl/repoperls/installed-perls/perl/v5.21.10-8-g2e4abf2/165a/lib/site_perl/5.21.11/CGI.pm line 437.
CGI::param called in list context from package HTML::Shakan line 253, this can lead to vulnerabilities. See the warning in "Fetching the value or values of a single named parameter" at /home/sand/src/perl/repoperls/installed-perls/perl/v5.21.10-8-g2e4abf2/165a/lib/site_perl/5.21.11/CGI.pm line 437.
CGI::param called in list context from package HTML::Shakan line 253, this can lead to vulnerabilities. See the warning in "Fetching the value or values of a single named parameter" at /home/sand/src/perl/repoperls/installed-perls/perl/v5.21.10-8-g2e4abf2/165a/lib/site_perl/5.21.11/CGI.pm line 437.
CGI::param called in list context from package HTML::Shakan line 253, this can lead to vulnerabilities. See the warning in "Fetching the value or values of a single named parameter" at /home/sand/src/perl/repoperls/installed-perls/perl/v5.21.10-8-g2e4abf2/165a/lib/site_perl/5.21.11/CGI.pm line 437.
CGI::param called in list context from package HTML::Shakan line 253, this can lead to vulnerabilities. See the warning in "Fetching the value or values of a single named parameter" at /home/sand/src/perl/repoperls/installed-perls/perl/v5.21.10-8-g2e4abf2/165a/lib/site_perl/5.21.11/CGI.pm line 437.
t/010_core/010_submitted.t ................. ok
Constants from lexical variables potentially modified elsewhere are deprecated at /home/sand/src/perl/repoperls/installed-perls/perl/v5.21.10-8-g2e4abf2/165a/lib/site_perl/5.21.11/x86_64-linux/Mouse/Util.pm line 79.
CGI::param called in list context from package HTML::Shakan line 253, this can lead to vulnerabilities. See the warning in "Fetching the value or values of a single named parameter" at /home/sand/src/perl/repoperls/installed-perls/perl/v5.21.10-8-g2e4abf2/165a/lib/site_perl/5.21.11/CGI.pm line 437.
CGI::param called in list context from package HTML::Shakan line 253, this can lead to vulnerabilities. See the warning in "Fetching the value or values of a single named parameter" at /home/sand/src/perl/repoperls/installed-perls/perl/v5.21.10-8-g2e4abf2/165a/lib/site_perl/5.21.11/CGI.pm line 437.
CGI::param called in list context from package HTML::Shakan line 253, this can lead to vulnerabilities. See the warning in "Fetching the value or values of a single named parameter" at /home/sand/src/perl/repoperls/installed-perls/perl/v5.21.10-8-g2e4abf2/165a/lib/site_perl/5.21.11/CGI.pm line 437.
CGI::param called in list context from package HTML::Shakan line 253, this can lead to vulnerabilities. See the warning in "Fetching the value or values of a single named parameter" at /home/sand/src/perl/repoperls/installed-perls/perl/v5.21.10-8-g2e4abf2/165a/lib/site_perl/5.21.11/CGI.pm line 437.
t/010_core/011_custom_validation_form.t .... ok
Constants from lexical variables potentially modified elsewhere are deprecated at /home/sand/src/perl/repoperls/installed-perls/perl/v5.21.10-8-g2e4abf2/165a/lib/site_perl/5.21.11/x86_64-linux/Mouse/Util.pm line 79.
CGI::param called in list context from package HTML::Shakan line 253, this can lead to vulnerabilities. See the warning in "Fetching the value or values of a single named parameter" at /home/sand/src/perl/repoperls/installed-perls/perl/v5.21.10-8-g2e4abf2/165a/lib/site_perl/5.21.11/CGI.pm line 437.
CGI::param called in list context from package HTML::Shakan line 253, this can lead to vulnerabilities. See the warning in "Fetching the value or values of a single named parameter" at /home/sand/src/perl/repoperls/installed-perls/perl/v5.21.10-8-g2e4abf2/165a/lib/site_perl/5.21.11/CGI.pm line 437.
t/010_core/012_custom_validation_field.t ... ok
Constants from lexical variables potentially modified elsewhere are deprecated at /home/sand/src/perl/repoperls/installed-perls/perl/v5.21.10-8-g2e4abf2/165a/lib/site_perl/5.21.11/x86_64-linux/Mouse/Util.pm line 79.
CGI::param called in list context from package HTML::Shakan line 253, this can lead to vulnerabilities. See the warning in "Fetching the value or values of a single named parameter" at /home/sand/src/perl/repoperls/installed-perls/perl/v5.21.10-8-g2e4abf2/165a/lib/site_perl/5.21.11/CGI.pm line 437.
CGI::param called in list context from package HTML::Shakan line 253, this can lead to vulnerabilities. See the warning in "Fetching the value or values of a single named parameter" at /home/sand/src/perl/repoperls/installed-perls/perl/v5.21.10-8-g2e4abf2/165a/lib/site_perl/5.21.11/CGI.pm line 437.
CGI::param called in list context from package HTML::Shakan line 253, this can lead to vulnerabilities. See the warning in "Fetching the value or values of a single named parameter" at /home/sand/src/perl/repoperls/installed-perls/perl/v5.21.10-8-g2e4abf2/165a/lib/site_perl/5.21.11/CGI.pm line 437.
t/010_core/013_render_field.t .............. ok
Constants from lexical variables potentially modified elsewhere are deprecated at /home/sand/src/perl/repoperls/installed-perls/perl/v5.21.10-8-g2e4abf2/165a/lib/site_perl/5.21.11/x86_64-linux/Mouse/Util.pm line 79.
CGI::param called in list context from package HTML::Shakan line 253, this can lead to vulnerabilities. See the warning in "Fetching the value or values of a single named parameter" at /home/sand/src/perl/repoperls/installed-perls/perl/v5.21.10-8-g2e4abf2/165a/lib/site_perl/5.21.11/CGI.pm line 437.
t/010_core/014_multi_value.t ............... ok
t/020_inflator/001_datetime.t .............. skipped: Test requires module 'DateTime::Format::HTTP' but it's not found
Constants from lexical variables potentially modified elsewhere are deprecated at /home/sand/src/perl/repoperls/installed-perls/perl/v5.21.10-8-g2e4abf2/165a/lib/site_perl/5.21.11/x86_64-linux/Mouse/Util.pm line 79.
t/020_inflator/002_dt_join.t ............... skipped: Test requires module 'DateTime::Format::HTTP' but it's not found
Constants from lexical variables potentially modified elsewhere are deprecated at /home/sand/src/perl/repoperls/installed-perls/perl/v5.21.10-8-g2e4abf2/165a/lib/site_perl/5.21.11/x86_64-linux/Mouse/Util.pm line 79.
# FVL: 0.38
CGI::param called in list context from package HTML::Shakan line 253, this can lead to vulnerabilities. See the warning in "Fetching the value or values of a single named parameter" at /home/sand/src/perl/repoperls/installed-perls/perl/v5.21.10-8-g2e4abf2/165a/lib/site_perl/5.21.11/CGI.pm line 437.
CGI::param called in list context from package HTML::Shakan line 253, this can lead to vulnerabilities. See the warning in "Fetching the value or values of a single named parameter" at /home/sand/src/perl/repoperls/installed-perls/perl/v5.21.10-8-g2e4abf2/165a/lib/site_perl/5.21.11/CGI.pm line 437.
CGI::param called in list context from package HTML::Shakan line 253, this can lead to vulnerabilities. See the warning in "Fetching the value or values of a single named parameter" at /home/sand/src/perl/repoperls/installed-perls/perl/v5.21.10-8-g2e4abf2/165a/lib/site_perl/5.21.11/CGI.pm line 437.
t/030_field/001_file.t ..................... ok
Constants from lexical variables potentially modified elsewhere are deprecated at /home/sand/src/perl/repoperls/installed-perls/perl/v5.21.10-8-g2e4abf2/165a/lib/site_perl/5.21.11/x86_64-linux/Mouse/Util.pm line 79.
# FVL: 0.38
CGI::param called in list context from package HTML::Shakan line 253, this can lead to vulnerabilities. See the warning in "Fetching the value or values of a single named parameter" at /home/sand/src/perl/repoperls/installed-perls/perl/v5.21.10-8-g2e4abf2/165a/lib/site_perl/5.21.11/CGI.pm line 437.
CGI::param called in list context from package HTML::Shakan line 253, this can lead to vulnerabilities. See the warning in "Fetching the value or values of a single named parameter" at /home/sand/src/perl/repoperls/installed-perls/perl/v5.21.10-8-g2e4abf2/165a/lib/site_perl/5.21.11/CGI.pm line 437.
t/030_field/002_image.t .................... ok
Constants from lexical variables potentially modified elsewhere are deprecated at /home/sand/src/perl/repoperls/installed-perls/perl/v5.21.10-8-g2e4abf2/165a/lib/site_perl/5.21.11/x86_64-linux/Mouse/Util.pm line 79.
CGI::param called in list context from package HTML::Shakan line 253, this can lead to vulnerabilities. See the warning in "Fetching the value or values of a single named parameter" at /home/sand/src/perl/repoperls/installed-perls/perl/v5.21.10-8-g2e4abf2/165a/lib/site_perl/5.21.11/CGI.pm line 437.
CGI::param called in list context from package HTML::Shakan line 253, this can lead to vulnerabilities. See the warning in "Fetching the value or values of a single named parameter" at /home/sand/src/perl/repoperls/installed-perls/perl/v5.21.10-8-g2e4abf2/165a/lib/site_perl/5.21.11/CGI.pm line 437.
CGI::param called in list context from package HTML::Shakan line 253, this can lead to vulnerabilities. See the warning in "Fetching the value or values of a single named parameter" at /home/sand/src/perl/repoperls/installed-perls/perl/v5.21.10-8-g2e4abf2/165a/lib/site_perl/5.21.11/CGI.pm line 437.
CGI::param called in list context from package HTML::Shakan line 253, this can lead to vulnerabilities. See the warning in "Fetching the value or values of a single named parameter" at /home/sand/src/perl/repoperls/installed-perls/perl/v5.21.10-8-g2e4abf2/165a/lib/site_perl/5.21.11/CGI.pm line 437.
t/030_field/003_duplication.t .............. ok
Constants from lexical variables potentially modified elsewhere are deprecated at /home/sand/src/perl/repoperls/installed-perls/perl/v5.21.10-8-g2e4abf2/165a/lib/site_perl/5.21.11/x86_64-linux/Mouse/Util.pm line 79.
t/040_model/001_datamodel.t ................ skipped: Test requires module 'Data::Model' but it's not found
Constants from lexical variables potentially modified elsewhere are deprecated at /home/sand/src/perl/repoperls/installed-perls/perl/v5.21.10-8-g2e4abf2/165a/lib/site_perl/5.21.11/x86_64-linux/Mouse/Util.pm line 79.
t/040_model/002_skinny.t ................... skipped: Test requires module 'DBIx::Skinny' but it's not found
Constants from lexical variables potentially modified elsewhere are deprecated at /home/sand/src/perl/repoperls/installed-perls/perl/v5.21.10-8-g2e4abf2/165a/lib/site_perl/5.21.11/x86_64-linux/Mouse/Util.pm line 79.
CGI::param called in list context from package HTML::Shakan line 253, this can lead to vulnerabilities. See the warning in "Fetching the value or values of a single named parameter" at /home/sand/src/perl/repoperls/installed-perls/perl/v5.21.10-8-g2e4abf2/165a/lib/site_perl/5.21.11/CGI.pm line 437.
CGI::param called in list context from package HTML::Shakan line 253, this can lead to vulnerabilities. See the warning in "Fetching the value or values of a single named parameter" at /home/sand/src/perl/repoperls/installed-perls/perl/v5.21.10-8-g2e4abf2/165a/lib/site_perl/5.21.11/CGI.pm line 437.
CGI::param called in list context from package HTML::Shakan line 253, this can lead to vulnerabilities. See the warning in "Fetching the value or values of a single named parameter" at /home/sand/src/perl/repoperls/installed-perls/perl/v5.21.10-8-g2e4abf2/165a/lib/site_perl/5.21.11/CGI.pm line 437.
CGI::param called in list context from package HTML::Shakan line 253, this can lead to vulnerabilities. See the warning in "Fetching the value or values of a single named parameter" at /home/sand/src/perl/repoperls/installed-perls/perl/v5.21.10-8-g2e4abf2/165a/lib/site_perl/5.21.11/CGI.pm line 437.
t/999_regression/001_destructive_widget.t .. ok
Constants from lexical variables potentially modified elsewhere are deprecated at /home/sand/src/perl/repoperls/installed-perls/perl/v5.21.10-8-g2e4abf2/165a/lib/site_perl/5.21.11/x86_64-linux/Mouse/Util.pm line 79.
t/upload_submitted.t ....................... ok
All tests successful.
Files=24, Tests=83, 5 wallclock secs ( 0.07 usr 0.16 sys + 4.12 cusr 0.82 csys = 5.17 CPU)
Result: PASS
------------------------------
PREREQUISITES
------------------------------
Prerequisite modules loaded:
requires:
Module Need Have
------------------- -------- --------
Email::Valid::Loose 0.05 0.05
FormValidator::Lite 0.24 0.38
Hash::MultiValue 0 0.16
HTML::Escape 0 1.09
List::MoreUtils 0.22 0.408
List::Util 1.32 1.41
Mouse 0.9 2.4.1
parent 0 0.232
perl 5.008001 5.021011
build_requires:
Module Need Have
------------------- -------- --------
CGI 0 4.13
ExtUtils::CBuilder 0 0.280221
Test::More 0.98 1.001014
Test::Requires 0.06 0.08
configure_requires:
Module Need Have
------------------- -------- --------
CPAN::Meta 0 2.150001
CPAN::Meta::Prereqs 0 2.150001
Module::Build 0.38 0.4211
------------------------------
ENVIRONMENT AND OTHER CONTEXT
------------------------------
Environment variables:
AUTOMATED_TESTING = 1
LANG = en_US.UTF-8
LANGUAGE = en_US:en
PATH = /home/sand/bin:/usr/local/bin:/usr/bin:/bin:/usr/games:/usr/local/perl/bin:/usr/X11/bin:/sbin:/usr/sbin
PERL5LIB =
PERL5OPT =
PERL5_CPANPLUS_IS_RUNNING = 19800
PERL5_CPAN_IS_RUNNING = 19800
PERL_MM_USE_DEFAULT = 1
SHELL = /usr/bin/zsh
TERM = screen
Perl special variables (and OS-specific diagnostics, for MSWin32):
$^X = /tmp/basesmoker-reloperl-1CHq/bin/perl
$UID/$EUID = 1005 / 1005
$GID = 1005 1005
$EGID = 1005 1005
Perl module toolchain versions installed:
Module Have
------------------- --------
CPAN 2.10
CPAN::Meta 2.150001
Cwd 3.56
ExtUtils::CBuilder 0.280221
ExtUtils::Command 1.20
ExtUtils::Install 2.04
ExtUtils::MakeMaker 7.04
ExtUtils::Manifest 1.70
ExtUtils::ParseXS 3.27
File::Spec 3.56
JSON 2.90
JSON::PP 2.27300
Module::Build 0.4211
Module::Signature 0.73
Parse::CPAN::Meta 1.4414
Test::Harness 3.35
Test::More 1.001014
YAML 1.14
YAML::Syck 1.29
version 0.9909
--
Summary of my perl5 (revision 5 version 21 subversion 11) configuration:
Commit id: 2e4abf26cb063448238056754343185a65d15b21
Platform:
osname=linux, osvers=3.16.0-4-amd64, archname=x86_64-linux
uname='linux k83 3.16.0-4-amd64 #1 smp debian 3.16.7-ckt7-1 (2015-03-01) x86_64 gnulinux '
config_args='-Dprefix=/home/sand/src/perl/repoperls/installed-perls/perl/v5.21.10-8-g2e4abf2/165a -Dmyhostname=k83 -Dinstallusrbinperl=n -Uversiononly -Dusedevel -des -Ui_db -Uuseithreads -Uuselongdouble -DDEBUGGING=-g'
hint=recommended, useposix=true, d_sigaction=define
useithreads=undef, usemultiplicity=undef
use64bitint=define, use64bitall=define, uselongdouble=undef
usemymalloc=n, bincompat5005=undef
Compiler:
cc='cc', ccflags ='-fwrapv -fno-strict-aliasing -pipe -fstack-protector-strong -I/usr/local/include -D_LARGEFILE_SOURCE -D_FILE_OFFSET_BITS=64 -D_FORTIFY_SOURCE=2',
optimize='-O2 -g',
cppflags='-fwrapv -fno-strict-aliasing -pipe -fstack-protector-strong -I/usr/local/include'
ccversion='', gccversion='4.9.2', gccosandvers=''
intsize=4, longsize=8, ptrsize=8, doublesize=8, byteorder=12345678, doublekind=3
d_longlong=define, longlongsize=8, d_longdbl=define, longdblsize=16, longdblkind=3
ivtype='long', ivsize=8, nvtype='double', nvsize=8, Off_t='off_t', lseeksize=8
alignbytes=8, prototype=define
Linker and Libraries:
ld='cc', ldflags =' -fstack-protector-strong -L/usr/local/lib'
libpth=/usr/local/lib /usr/lib/gcc/x86_64-linux-gnu/4.9/include-fixed /usr/include/x86_64-linux-gnu /usr/lib /lib/x86_64-linux-gnu /lib/../lib /usr/lib/x86_64-linux-gnu /usr/lib/../lib /lib
libs=-lpthread -lnsl -lgdbm -ldb -ldl -lm -lcrypt -lutil -lc -lgdbm_compat
perllibs=-lpthread -lnsl -ldl -lm -lcrypt -lutil -lc
libc=libc-2.19.so, so=so, useshrplib=false, libperl=libperl.a
gnulibc_version='2.19'
Dynamic Linking:
dlsrc=dl_dlopen.xs, dlext=so, d_dlsymun=undef, ccdlflags='-Wl,-E'
cccdlflags='-fPIC', lddlflags='-shared -O2 -g -L/usr/local/lib -fstack-protector-strong'
Characteristics of this binary (from libperl):
Compile-time options: HAS_TIMES PERLIO_LAYERS PERL_DONT_CREATE_GVSV
PERL_HASH_FUNC_ONE_AT_A_TIME_HARD PERL_MALLOC_WRAP
PERL_NEW_COPY_ON_WRITE PERL_PRESERVE_IVUV
PERL_USE_DEVEL USE_64_BIT_ALL USE_64_BIT_INT
USE_LARGE_FILES USE_LOCALE USE_LOCALE_COLLATE
USE_LOCALE_CTYPE USE_LOCALE_NUMERIC USE_LOCALE_TIME
USE_PERLIO USE_PERL_ATOF
Built under linux
Compiled at Mar 23 2015 20:05:45
%ENV:
PERL5LIB=""
PERL5OPT=""
PERL5_CPANPLUS_IS_RUNNING="19800"
PERL5_CPAN_IS_RUNNING="19800"
PERL_MM_USE_DEFAULT="1"
@INC:
/home/sand/src/perl/repoperls/installed-perls/perl/v5.21.10-8-g2e4abf2/165a/lib/site_perl/5.21.11/x86_64-linux
/home/sand/src/perl/repoperls/installed-perls/perl/v5.21.10-8-g2e4abf2/165a/lib/site_perl/5.21.11
/home/sand/src/perl/repoperls/installed-perls/perl/v5.21.10-8-g2e4abf2/165a/lib/5.21.11/x86_64-linux
/home/sand/src/perl/repoperls/installed-perls/perl/v5.21.10-8-g2e4abf2/165a/lib/5.21.11
.