Back
From: metabase:user:9820532a-708b-1014-9a05-b18a96298da1
Subject: PASS Data-Conveyor-1.101690 v5.14.1 GNU/Linux
Date: 2011-09-16T13:35:09Z
This distribution has been tested as part of the CPAN Testers
project, supporting the Perl programming language. See
http://wiki.cpantesters.org/ for more information or email
questions to cpan-testers-discuss@perl.org
--
Dear Marcel Gruenauer,
This is a computer-generated report for Data-Conveyor-1.101690
on perl 5.14.1, created by CPAN-Reporter-1.2002.
Thank you for uploading your work to CPAN. Congratulations!
All tests were successful.
Sections of this report:
* Tester comments
* Program output
* Prerequisites
* Environment and other context
------------------------------
TESTER COMMENTS
------------------------------
Additional comments from tester:
this report is from an automated smoke testing program
and was not reviewed by a human for accuracy
------------------------------
PROGRAM OUTPUT
------------------------------
Output from '/usr/bin/make test':
PERL_DL_NONLAZY=1 /home/test/perl5/perlbrew/perls/perl-5.14.1/bin/perl "-MExtUtils::Command::MM" "-e" "test_harness(0, 'blib/lib', 'blib/arch')" t/*.t
t/00-compile.t ............... ok
# Testing with Perl 5.014001, /home/test/perl5/perlbrew/perls/perl-5.14.1/bin/perl
# Carp version is 1.23
# Class::Accessor::Complex version is 1.100880
# Class::Scaffold::Accessor version is 1.102280
# Class::Scaffold::App::CommandLine version is 1.102280
# Class::Scaffold::App::Test::Classes version is 1.102280
# Class::Scaffold::App::Test::YAMLDriven version is 1.102280
# Class::Scaffold::Base version is 1.102280
# Class::Scaffold::ConstantImporter version is 1.102280
# Class::Scaffold::Delegate::Mixin version is 1.102280
# Class::Scaffold::Environment version is 1.102280
# Class::Scaffold::Exception version is 1.102280
# Class::Scaffold::Exception::Business version is 1.102280
# Class::Scaffold::Exception::Container version is 1.102280
# Class::Scaffold::Exception::Util version is 1.102280
# Class::Scaffold::Factory version is 1.102280
# Class::Scaffold::Factory::Type version is 1.102280
# Class::Scaffold::HierarchicalDirty version is 1.102280
# Class::Scaffold::Log version is 1.102280
# Class::Scaffold::Storable version is 1.102280
# Class::Scaffold::Test version is 1.102280
# Class::Scaffold::Test::Inherited version is 1.102280
# Class::Scaffold::Test::UtilLoader version is 1.102280
# Class::Scaffold::Util version is 1.102280
# Class::Scaffold::YAML::Active version is 1.102280
# Class::Scaffold::YAML::Active::Hash version is 1.102280
# Class::Scaffold::YAML::Marshall version is 1.102280
# Class::Value version is 1.100840
# Class::Value::Enum version is 1.100840
# Class::Value::Exception::Base version is 1.100840
# Class::Value::Exception::NotWellFormedValue version is 1.100840
# Class::Value::String version is 1.100840
# Compress::Zlib version is 2.037
# DBI version is 1.616
# Data::Container version is 1.100840
# Data::Dumper version is 2.131
# Data::Inherited version is 1.100860
# Data::Miscellany version is 1.100850
# Data::Storage::DBI::Mock version is 1.101700
# Data::Storage::DBI::Oracle version is 1.101700
# Data::Storage::DBI::Postgres version is 1.101700
# Data::Storage::DBI::SQLite version is 1.101700
# Data::Storage::Memory version is 1.101700
# Data::Storage::Null version is 1.101700
# Date::Calc version is 6.3
# English version is 1.04
# Error version is 0.17016
# Error::Hierarchy version is 1.103530
# Error::Hierarchy::Internal version is 1.103530
# Error::Hierarchy::Internal::CustomMessage version is 1.103530
# Error::Hierarchy::Internal::DBI::STH version is 1.103530
# Error::Hierarchy::Test version is 1.103530
# Error::Hierarchy::Util version is 1.103530
# Exporter version is 5.65
# ExtUtils::MakeMaker version is 6.59
# Fcntl version is 1.11
# File::Find version is 1.19
# File::Temp version is 0.22
# FindBin version is 1.50
# Getopt::Long version is 2.38
# Hash::Flatten version is 1.19
# Hook::Modular version is 1.101050
# Hook::Modular::Plugin version is 1.101050
# IO::Handle version is 1.31
# IO::Pager version is 0.05
# Pod::Text version is 3.15
# Scalar::Util version is 1.23
# Storable version is 2.30
# String::FlexMatch::Test version is 1.100820
# Sys::Hostname version is 1.16
# Term::Shell::Enhanced version is 1.101420
# Test::Builder version is 0.98
# Test::Class version is 0.36
# Test::More version is 0.98
# Text::Table version is 1.124
# Time::HiRes version is 1.9724
# YAML version is 0.73
# YAML::Active version is 1.100810
# YAML::Marshall version is 0.72
# charnames version is 1.18
# constant version is 1.21
# once version is 1.101420
# overload version is 1.13
# parent version is 0.225
t/000-report-versions.t ...... ok
t/01_companion_classes.t ..... ok
t/author-critic.t ............ skipped: these tests are for testing by the author
t/release-check-changes.t .... skipped: these tests are for release candidate testing
t/release-dist-manifest.t .... skipped: these tests are for release candidate testing
t/release-distmeta.t ......... skipped: these tests are for release candidate testing
t/release-has-version.t ...... skipped: these tests are for release candidate testing
t/release-kwalitee.t ......... skipped: these tests are for release candidate testing
t/release-minimum-version.t .. skipped: these tests are for release candidate testing
t/release-pod-coverage.t ..... skipped: these tests are for release candidate testing
t/release-pod-spell.t ........ skipped: these tests are for release candidate testing
t/release-pod-syntax.t ....... skipped: these tests are for release candidate testing
t/release-portability.t ...... skipped: these tests are for release candidate testing
t/release-synopsis.t ......... skipped: these tests are for release candidate testing
t/release-unused-vars.t ...... skipped: these tests are for release candidate testing
All tests successful.
Files=16, Tests=239, 20 wallclock secs ( 0.14 usr 0.02 sys + 8.34 cusr 2.60 csys = 11.10 CPU)
Result: PASS
------------------------------
PREREQUISITES
------------------------------
Prerequisite modules loaded:
requires:
Module Need Have
------------------------------------------- ---- --------
charnames 0 1.18
Class::Accessor::Complex 0 1.100880
Class::Scaffold::Accessor 0 1.102280
Class::Scaffold::App::CommandLine 0 1.102280
Class::Scaffold::App::Test::YAMLDriven 0 1.102280
Class::Scaffold::Base 0 1.102280
Class::Scaffold::ConstantImporter 0 1.102280
Class::Scaffold::Delegate::Mixin 0 1.102280
Class::Scaffold::Environment 0 1.102280
Class::Scaffold::Exception 0 1.102280
Class::Scaffold::Exception::Business 0 1.102280
Class::Scaffold::Exception::Container 0 1.102280
Class::Scaffold::Exception::Util 0 1.102280
Class::Scaffold::Factory 0 1.102280
Class::Scaffold::Factory::Type 0 1.102280
Class::Scaffold::HierarchicalDirty 0 1.102280
Class::Scaffold::Log 0 1.102280
Class::Scaffold::Storable 0 1.102280
Class::Scaffold::Test 0 1.102280
Class::Scaffold::Test::Inherited 0 1.102280
Class::Scaffold::Test::UtilLoader 0 1.102280
Class::Scaffold::Util 0 1.102280
Class::Scaffold::YAML::Active 0 1.102280
Class::Scaffold::YAML::Active::Hash 0 1.102280
Class::Scaffold::YAML::Marshall 0 1.102280
Class::Value 0 1.100840
Class::Value::Enum 0 1.100840
Class::Value::Exception::Base 0 1.100840
Class::Value::Exception::NotWellFormedValue 0 1.100840
Class::Value::String 0 1.100840
Compress::Zlib 0 2.037
constant 0 1.21
Data::Container 0 1.100840
Data::Dumper 0 2.131
Data::Inherited 0 1.100860
Data::Miscellany 0 1.100850
Data::Storage::DBI::Mock 0 1.101700
Data::Storage::DBI::Oracle 0 1.101700
Data::Storage::DBI::Postgres 0 1.101700
Data::Storage::DBI::SQLite 0 1.101700
Data::Storage::Memory 0 1.101700
Data::Storage::Null 0 1.101700
Date::Calc 0 6.3
DBI 0 1.616
Error 0 0.17016
Error::Hierarchy 0 1.103530
Error::Hierarchy::Internal 0 1.103530
Error::Hierarchy::Internal::CustomMessage 0 1.103530
Error::Hierarchy::Internal::DBI::STH 0 1.103530
Error::Hierarchy::Test 0 1.103530
Error::Hierarchy::Util 0 1.103530
Exporter 0 5.65
Fcntl 0 1.11
FindBin 0 1.50
Getopt::Long 0 2.38
Hash::Flatten 0 1.19
Hook::Modular 0 1.101050
Hook::Modular::Plugin 0 1.101050
IO::Handle 0 1.31
IO::Pager 0 0.05
once 0 1.101420
overload 0 1.13
parent 0 0.225
Pod::Text 0 3.15
Storable 0 2.30
String::FlexMatch::Test 0 1.100820
Sys::Hostname 0 1.16
Term::Shell::Enhanced 0 1.101420
Test::Builder 0 0.98
Test::Class 0 0.36
Test::More 0 0.98
Text::Table 0 1.124
Time::HiRes 0 1.9724
YAML 0 0.73
YAML::Active 0 1.100810
YAML::Marshall 0 0.72
build_requires:
Module Need Have
------------------------------------------- ---- --------
Carp 0 1.23
Class::Scaffold::App::Test::Classes 0 1.102280
English 0 1.04
File::Find 0 1.19
File::Temp 0 0.22
Scalar::Util 0 1.23
Test::More 0.94 0.98
configure_requires:
Module Need Have
------------------------------------------- ---- --------
ExtUtils::MakeMaker 6.31 6.59
------------------------------
ENVIRONMENT AND OTHER CONTEXT
------------------------------
Environment variables:
AUTOMATED_TESTING = 1
LANG = C
LC_ALL = C
PATH = /home/test/perl5/perlbrew/bin:/home/test/perl5/perlbrew/perls/perl-5.14.1/bin:/home/test/bin:~/bin:/usr/bin:/bin
PATH_WITHOUT_PERLBREW = /home/test/bin:~/bin:/usr/bin:/bin
PERL5LIB =
PERL5OPT =
PERL5_CPANPLUS_IS_RUNNING = 24355
PERL5_CPAN_IS_RUNNING = 24355
PERL5_CPAN_IS_RUNNING_IN_RECURSION = 2819,24355
PERLBREW_HOME = /home/test/.perlbrew
PERLBREW_PATH = /home/test/perl5/perlbrew/bin:/home/test/perl5/perlbrew/perls/perl-5.14.1/bin
PERLBREW_PERL = perl-5.14.1
PERLBREW_ROOT = /home/test/perl5/perlbrew
PERLBREW_VERSION = 0.28
PERL_CR_SMOKER_CURRENT = Data-Conveyor-1.101690
PERL_EXTUTILS_AUTOINSTALL = --defaultdeps
PERL_MM_USE_DEFAULT = 1
SHELL = /bin/bash
TERM = linux
Perl special variables (and OS-specific diagnostics, for MSWin32):
$^X = /home/test/perl5/perlbrew/perls/perl-5.14.1/bin/perl
$UID/$EUID = 1001 / 1001
$GID = 1001 1001
$EGID = 1001 1001
Perl module toolchain versions installed:
Module Have
------------------- --------
CPAN 1.9800
CPAN::Meta 2.112580
Cwd 3.33
ExtUtils::CBuilder 0.280203
ExtUtils::Command 1.17
ExtUtils::Install 1.56
ExtUtils::MakeMaker 6.59
ExtUtils::Manifest 1.60
ExtUtils::ParseXS 3.04
File::Spec 3.33
JSON 2.53
JSON::PP 2.27008
Module::Build 0.3800
Module::Signature n/a
Parse::CPAN::Meta 1.4401
Test::Harness 3.23
Test::More 0.98
YAML 0.73
YAML::Syck 1.17
version 0.94
--
Summary of my perl5 (revision 5 version 14 subversion 1) configuration:
Platform:
osname=linux, osvers=2.6.35-28-generic, archname=x86_64-linux
uname='linux zippy 2.6.35-28-generic #50-ubuntu smp fri mar 18 18:42:20 utc 2011 x86_64 gnulinux '
config_args='-de -Dprefix=/home/test/perl5/perlbrew/perls/perl-5.14.1'
hint=recommended, useposix=true, d_sigaction=define
useithreads=undef, usemultiplicity=undef
useperlio=define, d_sfio=undef, uselargefiles=define, usesocks=undef
use64bitint=define, use64bitall=define, uselongdouble=undef
usemymalloc=n, bincompat5005=undef
Compiler:
cc='cc', ccflags ='-fno-strict-aliasing -pipe -fstack-protector -I/usr/local/include -D_LARGEFILE_SOURCE -D_FILE_OFFSET_BITS=64',
optimize='-O2',
cppflags='-fno-strict-aliasing -pipe -fstack-protector -I/usr/local/include'
ccversion='', gccversion='4.4.5', gccosandvers=''
intsize=4, longsize=8, ptrsize=8, doublesize=8, byteorder=12345678
d_longlong=define, longlongsize=8, d_longdbl=define, longdblsize=16
ivtype='long', ivsize=8, nvtype='double', nvsize=8, Off_t='off_t', lseeksize=8
alignbytes=8, prototype=define
Linker and Libraries:
ld='cc', ldflags =' -fstack-protector -L/usr/local/lib'
libpth=/usr/local/lib /lib/../lib /usr/lib/../lib /lib /usr/lib /usr/lib/x86_64-linux-gnu /lib64 /usr/lib64
libs=-lnsl -ldl -lm -lcrypt -lutil -lc
perllibs=-lnsl -ldl -lm -lcrypt -lutil -lc
libc=/lib/libc-2.12.1.so, so=so, useshrplib=false, libperl=libperl.a
gnulibc_version='2.12.1'
Dynamic Linking:
dlsrc=dl_dlopen.xs, dlext=so, d_dlsymun=undef, ccdlflags='-Wl,-E'
cccdlflags='-fPIC', lddlflags='-shared -O2 -L/usr/local/lib -fstack-protector'
Characteristics of this binary (from libperl):
Compile-time options: PERL_DONT_CREATE_GVSV PERL_MALLOC_WRAP
PERL_PRESERVE_IVUV USE_64_BIT_ALL USE_64_BIT_INT
USE_LARGE_FILES USE_PERLIO USE_PERL_ATOF
Built under linux
Compiled at Sep 14 2011 14:22:49
%ENV:
PERL5LIB=""
PERL5OPT=""
PERL5_CPANPLUS_IS_RUNNING="24355"
PERL5_CPAN_IS_RUNNING="24355"
PERL5_CPAN_IS_RUNNING_IN_RECURSION="2819,24355"
PERLBREW_HOME="/home/test/.perlbrew"
PERLBREW_PATH="/home/test/perl5/perlbrew/bin:/home/test/perl5/perlbrew/perls/perl-5.14.1/bin"
PERLBREW_PERL="perl-5.14.1"
PERLBREW_ROOT="/home/test/perl5/perlbrew"
PERLBREW_VERSION="0.28"
PERL_CR_SMOKER_CURRENT="Data-Conveyor-1.101690"
PERL_EXTUTILS_AUTOINSTALL="--defaultdeps"
PERL_MM_USE_DEFAULT="1"
@INC:
/home/test/perl5/perlbrew/perls/perl-5.14.1/lib/site_perl/5.14.1/x86_64-linux
/home/test/perl5/perlbrew/perls/perl-5.14.1/lib/site_perl/5.14.1
/home/test/perl5/perlbrew/perls/perl-5.14.1/lib/5.14.1/x86_64-linux
/home/test/perl5/perlbrew/perls/perl-5.14.1/lib/5.14.1
.