Archive-Tar-Wrapper v0.34 Perl 5 v5.12.5 x86_64-linux

Status
Pass
From
Alceu Rodrigues de Freitas Junior
Dist
Archive-Tar-Wrapper v0.34
Platform
Perl 5 v5.12.5 x86_64-linux
Date
2019-04-06 16:40:32
ID
b1fc3ba2-588a-11e9-bc30-98d823f1c0c4
This distribution has been tested as part of the CPAN Testers
project, supporting the Perl programming language.  See
http://wiki.cpantesters.org/ for more information or email
questions to cpan-testers-discuss@perl.org


--
Dear Alceu Rodrigues de Freitas Junior,

This is a computer-generated report for Archive-Tar-Wrapper-0.34
on perl 5.12.5, created by CPAN-Reporter-1.2018.

Thank you for uploading your work to CPAN.  Congratulations!
All tests were successful.

Sections of this report:

    * Tester comments
    * Program output
    * Prerequisites
    * Environment and other context

------------------------------
TESTER COMMENTS
------------------------------

Additional comments from tester:

this report is from an automated smoke testing program
and was not reviewed by a human for accuracy

------------------------------
PROGRAM OUTPUT
------------------------------

Output from '/usr/bin/make test':

PERL_DL_NONLAZY=1 "/home/alceu/perl5/perlbrew/perls/perl-5.12.5/bin/perl" "-MExtUtils::Command::MM" "-MTest::Harness" "-e" "undef *Test::Harness::Switches; test_harness(0, 'blib/lib', 'blib/arch')" t/*.t
t/001Basic.t ........ ok
t/002Mult.t ......... ok
t/003Dirs.t ......... ok
t/004Utf8.t ......... ok
t/005Cwd.t .......... ok
t/006DirPerms.t ..... ok
t/007bzip.t ......... ok
# with grep: Ran 1274 iterations (243 outliers).
# with grep: Rounded run time per iteration: 0.000639 +/- 0.000000 (0.0%)
# with grep and compiled regex: Ran 1337 iterations (308 outliers).
# with grep and compiled regex: Rounded run time per iteration: 0.000735 +/- 0.000000 (0.0%)
# with eq: Ran 1337 iterations (295 outliers).
# with eq: Rounded run time per iteration: 0.000663 +/- 0.000000 (0.0%)
# with enhanced eq: Ran 1157 iterations (73 outliers).
# with enhanced eq: Rounded run time per iteration: 0.000645 +/- 0.000000 (0.0%)
# with enhanced eq mark2: Ran 1214 iterations (197 outliers).
# with enhanced eq mark2: Rounded run time per iteration: 0.000526 +/- 0.000000 (0.0%)
# with enhanced eq mark3: Ran 1274 iterations (238 outliers).
# with enhanced eq mark3: Rounded run time per iteration: 0.000488 +/- 0.000000 (0.0%)
# sort and shift: Ran 1274 iterations (258 outliers).
# sort and shift: Rounded run time per iteration: 0.000680 +/- 0.000000 (0.0%)
t/008performance.t .. ok
t/009compressed.t ... ok
t/010openbsd.t ...... ok
All tests successful.
Files=10, Tests=65, 16 wallclock secs ( 0.03 usr  0.00 sys + 12.66 cusr  2.39 csys = 15.08 CPU)
Result: PASS

------------------------------
PREREQUISITES
------------------------------

Prerequisite modules loaded:

requires:

    Module              Need     Have      
    ------------------- -------- ----------
    Cwd                 0        3.47      
    File::Temp          0        0.2309    
    File::Which         0        1.23      
    IPC::Run            0        20180523.0
    Log::Log4perl       0        1.49      
    perl                5.008001 5.012005  

build_requires:

    Module              Need     Have      
    ------------------- -------- ----------
    Dumbbench           0.111    0.111     
    ExtUtils::MakeMaker 0        7.34      
    Test::Simple        1.302073 1.302162  

configure_requires:

    Module              Need     Have      
    ------------------- -------- ----------
    ExtUtils::MakeMaker 0        7.34      
    File::Which         0        1.23      


------------------------------
ENVIRONMENT AND OTHER CONTEXT
------------------------------

Environment variables:

    AUTOMATED_TESTING = 1
    LANG = pt_BR.UTF-8
    LANGUAGE = pt_BR:pt:en
    NONINTERACTIVE_TESTING = 1
    PATH = /home/alceu/perl5/perlbrew/bin:/home/alceu/perl5/perlbrew/perls/perl-5.12.5/bin:/home/alceu/.sdkman/candidates/groovy/current/bin:/home/alceu/.sdkman/candidates/gradle/current/bin:/home/alceu/bin:/usr/local/sbin:/usr/local/bin:/usr/sbin:/usr/bin:/sbin:/bin:/usr/games:/usr/local/games:/snap/bin
    PERL5LIB = 
    PERL5OPT = 
    PERL5_CPANPLUS_IS_RUNNING = 6615
    PERL5_CPAN_IS_RUNNING = 6615
    PERLBREW_HOME = /home/alceu/.perlbrew
    PERLBREW_MANPATH = /home/alceu/perl5/perlbrew/perls/perl-5.12.5/man
    PERLBREW_PATH = /home/alceu/perl5/perlbrew/bin:/home/alceu/perl5/perlbrew/perls/perl-5.12.5/bin
    PERLBREW_PERL = perl-5.12.5
    PERLBREW_ROOT = /home/alceu/perl5/perlbrew
    PERLBREW_SHELLRC_VERSION = 0.84
    PERLBREW_VERSION = 0.84
    PERL_MM_USE_DEFAULT = 1
    PERL_USE_UNSAFE_INC = 1
    SHELL = /bin/bash
    TERM = xterm-256color

Perl special variables (and OS-specific diagnostics, for MSWin32):

    $^X = /home/alceu/perl5/perlbrew/perls/perl-5.12.5/bin/perl
    $UID/$EUID = 1000 / 1000
    $GID = 1000 4 24 27 29 30 44 46 108 122 123 124 129 142 1000 1002
    $EGID = 1000 4 24 27 29 30 44 46 108 122 123 124 129 142 1000 1002

Perl module toolchain versions installed:

    Module              Have    
    ------------------- --------
    CPAN                2.26    
    CPAN::Meta          2.150010
    Cwd                 3.47    
    ExtUtils::CBuilder  0.280231
    ExtUtils::Command   7.34    
    ExtUtils::Install   2.14    
    ExtUtils::MakeMaker 7.34    
    ExtUtils::Manifest  1.72    
    ExtUtils::ParseXS   3.35    
    File::Spec          3.47    
    JSON                4.02    
    JSON::PP            4.02    
    Module::Build       0.4224  
    Module::Signature   n/a     
    Parse::CPAN::Meta   2.150010
    Test::Harness       3.35    
    Test::More          1.302162
    YAML                1.14    
    YAML::Syck          1.29    
    version             0.9912  


--

Summary of my perl5 (revision 5 version 12 subversion 5) configuration:
   
  Platform:
    osname=linux, osvers=3.13.0-43-generic, archname=x86_64-linux
    uname='linux yggdrasil 3.13.0-43-generic #72-ubuntu smp mon dec 8 19:35:06 utc 2014 x86_64 x86_64 x86_64 gnulinux '
    config_args='-de -Dprefix=/home/alceu/perl5/perlbrew/perls/perl-5.12.5 -Aeval:scriptdir=/home/alceu/perl5/perlbrew/perls/perl-5.12.5/bin'
    hint=recommended, useposix=true, d_sigaction=define
    useithreads=undef, usemultiplicity=undef
    useperlio=define, d_sfio=undef, uselargefiles=define, usesocks=undef
    use64bitint=define, use64bitall=define, uselongdouble=undef
    usemymalloc=n, bincompat5005=undef
  Compiler:
    cc='cc', ccflags ='-fno-strict-aliasing -pipe -fstack-protector -I/usr/local/include -D_LARGEFILE_SOURCE -D_FILE_OFFSET_BITS=64',
    optimize='-O2',
    cppflags='-fno-strict-aliasing -pipe -fstack-protector -I/usr/local/include'
    ccversion='', gccversion='4.8.2', gccosandvers=''
    intsize=4, longsize=8, ptrsize=8, doublesize=8, byteorder=12345678
    d_longlong=define, longlongsize=8, d_longdbl=define, longdblsize=16
    ivtype='long', ivsize=8, nvtype='double', nvsize=8, Off_t='off_t', lseeksize=8
    alignbytes=8, prototype=define
  Linker and Libraries:
    ld='cc', ldflags =' -fstack-protector -L/usr/local/lib'
    libpth=/usr/local/lib /lib/x86_64-linux-gnu /lib/../lib /usr/lib/x86_64-linux-gnu /usr/lib/../lib /lib /usr/lib
    libs=-lnsl -ldl -lm -lcrypt -lutil -lc
    perllibs=-lnsl -ldl -lm -lcrypt -lutil -lc
    libc=libc-2.19.so, so=so, useshrplib=false, libperl=libperl.a
    gnulibc_version='2.19'
  Dynamic Linking:
    dlsrc=dl_dlopen.xs, dlext=so, d_dlsymun=undef, ccdlflags='-Wl,-E'
    cccdlflags='-fPIC', lddlflags='-shared -O2 -L/usr/local/lib -fstack-protector'


Characteristics of this binary (from libperl): 
  Compile-time options: PERL_DONT_CREATE_GVSV PERL_MALLOC_WRAP USE_64_BIT_ALL
                        USE_64_BIT_INT USE_LARGE_FILES USE_PERLIO
                        USE_PERL_ATOF
  Built under linux
  Compiled at Dec 22 2014 14:51:02
  %ENV:
    PERL5LIB=""
    PERL5OPT=""
    PERL5_CPANPLUS_IS_RUNNING="6615"
    PERL5_CPAN_IS_RUNNING="6615"
    PERLBREW_HOME="/home/alceu/.perlbrew"
    PERLBREW_MANPATH="/home/alceu/perl5/perlbrew/perls/perl-5.12.5/man"
    PERLBREW_PATH="/home/alceu/perl5/perlbrew/bin:/home/alceu/perl5/perlbrew/perls/perl-5.12.5/bin"
    PERLBREW_PERL="perl-5.12.5"
    PERLBREW_ROOT="/home/alceu/perl5/perlbrew"
    PERLBREW_SHELLRC_VERSION="0.84"
    PERLBREW_VERSION="0.84"
    PERL_MM_USE_DEFAULT="1"
    PERL_USE_UNSAFE_INC="1"
  @INC:
    /home/alceu/perl5/perlbrew/perls/perl-5.12.5/lib/site_perl/5.12.5/x86_64-linux
    /home/alceu/perl5/perlbrew/perls/perl-5.12.5/lib/site_perl/5.12.5
    /home/alceu/perl5/perlbrew/perls/perl-5.12.5/lib/5.12.5/x86_64-linux
    /home/alceu/perl5/perlbrew/perls/perl-5.12.5/lib/5.12.5
    .