Template-Tiny-Strict v1.17 Perl 5 v5.8.9 amd64-freebsd

Status
Fail
From
David Cantrell (DCANTRELL)
Dist
Template-Tiny-Strict v1.17
Platform
Perl 5 v5.8.9 amd64-freebsd
Date
2021-05-05 05:28:16
ID
b1f08d1e-ad62-11eb-b41f-830c7d482270
This distribution has been tested as part of the CPAN Testers
project, supporting the Perl programming language.  See
http://wiki.cpantesters.org/ for more information or email
questions to cpan-testers-discuss@perl.org


--
Dear Curtis 'Ovid' Poe,

This is a computer-generated report for Template-Tiny-Strict-1.17
on perl 5.8.9, created by CPAN-Reporter-1.2018.

Thank you for uploading your work to CPAN.  However, there was a problem
testing your distribution.

If you think this report is invalid, please consult the CPAN Testers Wiki
for suggestions on how to avoid getting FAIL reports for missing library
or binary dependencies, unsupported operating systems, and so on:

http://wiki.cpantesters.org/wiki/CPANAuthorNotes

Sections of this report:

    * Tester comments
    * Program output
    * Prerequisites
    * Environment and other context

------------------------------
TESTER COMMENTS
------------------------------

Additional comments from tester:

this report is from an automated smoke testing program
and was not reviewed by a human for accuracy

------------------------------
PROGRAM OUTPUT
------------------------------

Output from '/usr/bin/make test':

PERL_DL_NONLAZY=1 "/home/david/cpantesting/perl-5.8.9/bin/perl" "-MExtUtils::Command::MM" "-MTest::Harness" "-e" "undef *Test::Harness::Switches; test_harness(0, 'blib/lib', 'blib/arch')" t/*.t
t/00-report-prereqs....# 
# Versions for all modules listed in MYMETA.json (including optional ones):
# 
# === Configure Requires ===
# 
#     Module              Want Have
#     ------------------- ---- ----
#     ExtUtils::MakeMaker  any 7.56
# 
# === Build Requires ===
# 
#     Module              Want Have
#     ------------------- ---- ----
#     ExtUtils::MakeMaker  any 7.56
# 
# === Test Requires ===
# 
#     Module              Want     Have
#     ------------------- ---- --------
#     ExtUtils::MakeMaker  any     7.56
#     File::Spec           any     3.75
#     Test::More           any 1.302183
# 
# === Test Recommends ===
# 
#     Module         Want     Have
#     ---------- -------- --------
#     CPAN::Meta 2.120900 2.150010
# 
ok
t/02_trivial...........Possible unintended interpolation of @unused in string at /usr/home/david/cpantesting/perl-5.8.9/.cpan/build/Template-Tiny-Strict-1.17-QZAWUa/blib/lib/Template/Tiny/Strict.pm line 78.
Possible unintended interpolation of @unused in string at /usr/home/david/cpantesting/perl-5.8.9/.cpan/build/Template-Tiny-Strict-1.17-QZAWUa/blib/lib/Template/Tiny/Strict.pm line 78.
Possible unintended interpolation of @unused in string at /usr/home/david/cpantesting/perl-5.8.9/.cpan/build/Template-Tiny-Strict-1.17-QZAWUa/blib/lib/Template/Tiny/Strict.pm line 78.
Scalar found where operator expected at /usr/home/david/cpantesting/perl-5.8.9/.cpan/build/Template-Tiny-Strict-1.17-QZAWUa/blib/lib/Template/Tiny/Strict.pm line 162, near "$PREPARSE"
  (Might be a runaway multi-line // string starting on line 78)
Global symbol "$self" requires explicit package name at /usr/home/david/cpantesting/perl-5.8.9/.cpan/build/Template-Tiny-Strict-1.17-QZAWUa/blib/lib/Template/Tiny/Strict.pm line 78.
Global symbol "$text" requires explicit package name at /usr/home/david/cpantesting/perl-5.8.9/.cpan/build/Template-Tiny-Strict-1.17-QZAWUa/blib/lib/Template/Tiny/Strict.pm line 78.
Global symbol "$self" requires explicit package name at /usr/home/david/cpantesting/perl-5.8.9/.cpan/build/Template-Tiny-Strict-1.17-QZAWUa/blib/lib/Template/Tiny/Strict.pm line 78.
Global symbol "$text" requires explicit package name at /usr/home/david/cpantesting/perl-5.8.9/.cpan/build/Template-Tiny-Strict-1.17-QZAWUa/blib/lib/Template/Tiny/Strict.pm line 78.
Global symbol "$self" requires explicit package name at /usr/home/david/cpantesting/perl-5.8.9/.cpan/build/Template-Tiny-Strict-1.17-QZAWUa/blib/lib/Template/Tiny/Strict.pm line 78.
Global symbol "$copy" requires explicit package name at /usr/home/david/cpantesting/perl-5.8.9/.cpan/build/Template-Tiny-Strict-1.17-QZAWUa/blib/lib/Template/Tiny/Strict.pm line 78.
Global symbol "$stash" requires explicit package name at /usr/home/david/cpantesting/perl-5.8.9/.cpan/build/Template-Tiny-Strict-1.17-QZAWUa/blib/lib/Template/Tiny/Strict.pm line 78.
Global symbol "$self" requires explicit package name at /usr/home/david/cpantesting/perl-5.8.9/.cpan/build/Template-Tiny-Strict-1.17-QZAWUa/blib/lib/Template/Tiny/Strict.pm line 78.
Global symbol "$self" requires explicit package name at /usr/home/david/cpantesting/perl-5.8.9/.cpan/build/Template-Tiny-Strict-1.17-QZAWUa/blib/lib/Template/Tiny/Strict.pm line 78.
Global symbol "$self" requires explicit package name at /usr/home/david/cpantesting/perl-5.8.9/.cpan/build/Template-Tiny-Strict-1.17-QZAWUa/blib/lib/Template/Tiny/Strict.pm line 78.
Global symbol "$result" requires explicit package name at /usr/home/david/cpantesting/perl-5.8.9/.cpan/build/Template-Tiny-Strict-1.17-QZAWUa/blib/lib/Template/Tiny/Strict.pm line 78.
Global symbol "$self" requires explicit package name at /usr/home/david/cpantesting/perl-5.8.9/.cpan/build/Template-Tiny-Strict-1.17-QZAWUa/blib/lib/Template/Tiny/Strict.pm line 78.
Global symbol "$stash" requires explicit package name at /usr/home/david/cpantesting/perl-5.8.9/.cpan/build/Template-Tiny-Strict-1.17-QZAWUa/blib/lib/Template/Tiny/Strict.pm line 78.
Global symbol "$copy" requires explicit package name at /usr/home/david/cpantesting/perl-5.8.9/.cpan/build/Template-Tiny-Strict-1.17-QZAWUa/blib/lib/Template/Tiny/Strict.pm line 78.
Global symbol "$errors" requires explicit package name at /usr/home/david/cpantesting/perl-5.8.9/.cpan/build/Template-Tiny-Strict-1.17-QZAWUa/blib/lib/Template/Tiny/Strict.pm line 78.
Global symbol "$self" requires explicit package name at /usr/home/david/cpantesting/perl-5.8.9/.cpan/build/Template-Tiny-Strict-1.17-QZAWUa/blib/lib/Template/Tiny/Strict.pm line 78.
Global symbol "$self" requires explicit package name at /usr/home/david/cpantesting/perl-5.8.9/.cpan/build/Template-Tiny-Strict-1.17-QZAWUa/blib/lib/Template/Tiny/Strict.pm line 78.
Global symbol "$errors" requires explicit package name at /usr/home/david/cpantesting/perl-5.8.9/.cpan/build/Template-Tiny-Strict-1.17-QZAWUa/blib/lib/Template/Tiny/Strict.pm line 78.
Global symbol "$self" requires explicit package name at /usr/home/david/cpantesting/perl-5.8.9/.cpan/build/Template-Tiny-Strict-1.17-QZAWUa/blib/lib/Template/Tiny/Strict.pm line 78.
Global symbol "@unused" requires explicit package name at /usr/home/david/cpantesting/perl-5.8.9/.cpan/build/Template-Tiny-Strict-1.17-QZAWUa/blib/lib/Template/Tiny/Strict.pm line 78.
Global symbol "$var" requires explicit package name at /usr/home/david/cpantesting/perl-5.8.9/.cpan/build/Template-Tiny-Strict-1.17-QZAWUa/blib/lib/Template/Tiny/Strict.pm line 78.
Global symbol "$stash" requires explicit package name at /usr/home/david/cpantesting/perl-5.8.9/.cpan/build/Template-Tiny-Strict-1.17-QZAWUa/blib/lib/Template/Tiny/Strict.pm line 78.
Global symbol "$self" requires explicit package name at /usr/home/david/cpantesting/perl-5.8.9/.cpan/build/Template-Tiny-Strict-1.17-QZAWUa/blib/lib/Template/Tiny/Strict.pm line 78.
Global symbol "$var" requires explicit package name at /usr/home/david/cpantesting/perl-5.8.9/.cpan/build/Template-Tiny-Strict-1.17-QZAWUa/blib/lib/Template/Tiny/Strict.pm line 78.
Global symbol "@unused" requires explicit package name at /usr/home/david/cpantesting/perl-5.8.9/.cpan/build/Template-Tiny-Strict-1.17-QZAWUa/blib/lib/Template/Tiny/Strict.pm line 78.
Global symbol "$var" requires explicit package name at /usr/home/david/cpantesting/perl-5.8.9/.cpan/build/Template-Tiny-Strict-1.17-QZAWUa/blib/lib/Template/Tiny/Strict.pm line 78.
Global symbol "$unused" requires explicit package name at /usr/home/david/cpantesting/perl-5.8.9/.cpan/build/Template-Tiny-Strict-1.17-QZAWUa/blib/lib/Template/Tiny/Strict.pm line 78.
Global symbol "@unused" requires explicit package name at /usr/home/david/cpantesting/perl-5.8.9/.cpan/build/Template-Tiny-Strict-1.17-QZAWUa/blib/lib/Template/Tiny/Strict.pm line 78.
Global symbol "$errors" requires explicit package name at /usr/home/david/cpantesting/perl-5.8.9/.cpan/build/Template-Tiny-Strict-1.17-QZAWUa/blib/lib/Template/Tiny/Strict.pm line 78.
Global symbol "$unused" requires explicit package name at /usr/home/david/cpantesting/perl-5.8.9/.cpan/build/Template-Tiny-Strict-1.17-QZAWUa/blib/lib/Template/Tiny/Strict.pm line 78.
Global symbol "$errors" requires explicit package name at /usr/home/david/cpantesting/perl-5.8.9/.cpan/build/Template-Tiny-Strict-1.17-QZAWUa/blib/lib/Template/Tiny/Strict.pm line 78.
Global symbol "$name" requires explicit package name at /usr/home/david/cpantesting/perl-5.8.9/.cpan/build/Template-Tiny-Strict-1.17-QZAWUa/blib/lib/Template/Tiny/Strict.pm line 78.
Global symbol "$self" requires explicit package name at /usr/home/david/cpantesting/perl-5.8.9/.cpan/build/Template-Tiny-Strict-1.17-QZAWUa/blib/lib/Template/Tiny/Strict.pm line 78.
Global symbol "$self" requires explicit package name at /usr/home/david/cpantesting/perl-5.8.9/.cpan/build/Template-Tiny-Strict-1.17-QZAWUa/blib/lib/Template/Tiny/Strict.pm line 78.
Global symbol "$errors" requires explicit package name at /usr/home/david/cpantesting/perl-5.8.9/.cpan/build/Template-Tiny-Strict-1.17-QZAWUa/blib/lib/Template/Tiny/Strict.pm line 78.
Global symbol "$name" requires explicit package name at /usr/home/david/cpantesting/perl-5.8.9/.cpan/build/Template-Tiny-Strict-1.17-QZAWUa/blib/lib/Template/Tiny/Strict.pm line 78.
Global symbol "$errors" requires explicit package name at /usr/home/david/cpantesting/perl-5.8.9/.cpan/build/Template-Tiny-Strict-1.17-QZAWUa/blib/lib/Template/Tiny/Strict.pm line 78.
Global symbol "$errors" requires explicit package name at /usr/home/david/cpantesting/perl-5.8.9/.cpan/build/Template-Tiny-Strict-1.17-QZAWUa/blib/lib/Template/Tiny/Strict.pm line 78.
Global symbol "$result" requires explicit package name at /usr/home/david/cpantesting/perl-5.8.9/.cpan/build/Template-Tiny-Strict-1.17-QZAWUa/blib/lib/Template/Tiny/Strict.pm line 78.
Global symbol "$result" requires explicit package name at /usr/home/david/cpantesting/perl-5.8.9/.cpan/build/Template-Tiny-Strict-1.17-QZAWUa/blib/lib/Template/Tiny/Strict.pm line 78.
Global symbol "$result" requires explicit package name at /usr/home/david/cpantesting/perl-5.8.9/.cpan/build/Template-Tiny-Strict-1.17-QZAWUa/blib/lib/Template/Tiny/Strict.pm line 78.
Global symbol "$self" requires explicit package name at /usr/home/david/cpantesting/perl-5.8.9/.cpan/build/Template-Tiny-Strict-1.17-QZAWUa/blib/lib/Template/Tiny/Strict.pm line 78.
Global symbol "$copy" requires explicit package name at /usr/home/david/cpantesting/perl-5.8.9/.cpan/build/Template-Tiny-Strict-1.17-QZAWUa/blib/lib/Template/Tiny/Strict.pm line 78.
Global symbol "$id" requires explicit package name at /usr/home/david/cpantesting/perl-5.8.9/.cpan/build/Template-Tiny-Strict-1.17-QZAWUa/blib/lib/Template/Tiny/Strict.pm line 78.
Global symbol "$copy" requires explicit package name at /usr/home/david/cpantesting/perl-5.8.9/.cpan/build/Template-Tiny-Strict-1.17-QZAWUa/blib/lib/Template/Tiny/Strict.pm line 78.
/usr/home/david/cpantesting/perl-5.8.9/.cpan/build/Template-Tiny-Strict-1.17-QZAWUa/blib/lib/Template/Tiny/Strict.pm has too many errors.
Compilation failed in require at t/02_trivial.t line 10.
BEGIN failed--compilation aborted at t/02_trivial.t line 10.
# Looks like your test exited with 255 before it could output anything.
dubious
	Test returned status 255 (wstat 65280, 0xff00)
DIED. FAILED test 1
	Failed 1/1 tests, 0.00% okay
t/03_samples...........Possible unintended interpolation of @unused in string at /usr/home/david/cpantesting/perl-5.8.9/.cpan/build/Template-Tiny-Strict-1.17-QZAWUa/blib/lib/Template/Tiny/Strict.pm line 78.
Possible unintended interpolation of @unused in string at /usr/home/david/cpantesting/perl-5.8.9/.cpan/build/Template-Tiny-Strict-1.17-QZAWUa/blib/lib/Template/Tiny/Strict.pm line 78.
Possible unintended interpolation of @unused in string at /usr/home/david/cpantesting/perl-5.8.9/.cpan/build/Template-Tiny-Strict-1.17-QZAWUa/blib/lib/Template/Tiny/Strict.pm line 78.
Scalar found where operator expected at /usr/home/david/cpantesting/perl-5.8.9/.cpan/build/Template-Tiny-Strict-1.17-QZAWUa/blib/lib/Template/Tiny/Strict.pm line 162, near "$PREPARSE"
  (Might be a runaway multi-line // string starting on line 78)
Global symbol "$self" requires explicit package name at /usr/home/david/cpantesting/perl-5.8.9/.cpan/build/Template-Tiny-Strict-1.17-QZAWUa/blib/lib/Template/Tiny/Strict.pm line 78.
Global symbol "$text" requires explicit package name at /usr/home/david/cpantesting/perl-5.8.9/.cpan/build/Template-Tiny-Strict-1.17-QZAWUa/blib/lib/Template/Tiny/Strict.pm line 78.
Global symbol "$self" requires explicit package name at /usr/home/david/cpantesting/perl-5.8.9/.cpan/build/Template-Tiny-Strict-1.17-QZAWUa/blib/lib/Template/Tiny/Strict.pm line 78.
Global symbol "$text" requires explicit package name at /usr/home/david/cpantesting/perl-5.8.9/.cpan/build/Template-Tiny-Strict-1.17-QZAWUa/blib/lib/Template/Tiny/Strict.pm line 78.
Global symbol "$self" requires explicit package name at /usr/home/david/cpantesting/perl-5.8.9/.cpan/build/Template-Tiny-Strict-1.17-QZAWUa/blib/lib/Template/Tiny/Strict.pm line 78.
Global symbol "$copy" requires explicit package name at /usr/home/david/cpantesting/perl-5.8.9/.cpan/build/Template-Tiny-Strict-1.17-QZAWUa/blib/lib/Template/Tiny/Strict.pm line 78.
Global symbol "$stash" requires explicit package name at /usr/home/david/cpantesting/perl-5.8.9/.cpan/build/Template-Tiny-Strict-1.17-QZAWUa/blib/lib/Template/Tiny/Strict.pm line 78.
Global symbol "$self" requires explicit package name at /usr/home/david/cpantesting/perl-5.8.9/.cpan/build/Template-Tiny-Strict-1.17-QZAWUa/blib/lib/Template/Tiny/Strict.pm line 78.
Global symbol "$self" requires explicit package name at /usr/home/david/cpantesting/perl-5.8.9/.cpan/build/Template-Tiny-Strict-1.17-QZAWUa/blib/lib/Template/Tiny/Strict.pm line 78.
Global symbol "$self" requires explicit package name at /usr/home/david/cpantesting/perl-5.8.9/.cpan/build/Template-Tiny-Strict-1.17-QZAWUa/blib/lib/Template/Tiny/Strict.pm line 78.
Global symbol "$result" requires explicit package name at /usr/home/david/cpantesting/perl-5.8.9/.cpan/build/Template-Tiny-Strict-1.17-QZAWUa/blib/lib/Template/Tiny/Strict.pm line 78.
Global symbol "$self" requires explicit package name at /usr/home/david/cpantesting/perl-5.8.9/.cpan/build/Template-Tiny-Strict-1.17-QZAWUa/blib/lib/Template/Tiny/Strict.pm line 78.
Global symbol "$stash" requires explicit package name at /usr/home/david/cpantesting/perl-5.8.9/.cpan/build/Template-Tiny-Strict-1.17-QZAWUa/blib/lib/Template/Tiny/Strict.pm line 78.
Global symbol "$copy" requires explicit package name at /usr/home/david/cpantesting/perl-5.8.9/.cpan/build/Template-Tiny-Strict-1.17-QZAWUa/blib/lib/Template/Tiny/Strict.pm line 78.
Global symbol "$errors" requires explicit package name at /usr/home/david/cpantesting/perl-5.8.9/.cpan/build/Template-Tiny-Strict-1.17-QZAWUa/blib/lib/Template/Tiny/Strict.pm line 78.
Global symbol "$self" requires explicit package name at /usr/home/david/cpantesting/perl-5.8.9/.cpan/build/Template-Tiny-Strict-1.17-QZAWUa/blib/lib/Template/Tiny/Strict.pm line 78.
Global symbol "$self" requires explicit package name at /usr/home/david/cpantesting/perl-5.8.9/.cpan/build/Template-Tiny-Strict-1.17-QZAWUa/blib/lib/Template/Tiny/Strict.pm line 78.
Global symbol "$errors" requires explicit package name at /usr/home/david/cpantesting/perl-5.8.9/.cpan/build/Template-Tiny-Strict-1.17-QZAWUa/blib/lib/Template/Tiny/Strict.pm line 78.
Global symbol "$self" requires explicit package name at /usr/home/david/cpantesting/perl-5.8.9/.cpan/build/Template-Tiny-Strict-1.17-QZAWUa/blib/lib/Template/Tiny/Strict.pm line 78.
Global symbol "@unused" requires explicit package name at /usr/home/david/cpantesting/perl-5.8.9/.cpan/build/Template-Tiny-Strict-1.17-QZAWUa/blib/lib/Template/Tiny/Strict.pm line 78.
Global symbol "$var" requires explicit package name at /usr/home/david/cpantesting/perl-5.8.9/.cpan/build/Template-Tiny-Strict-1.17-QZAWUa/blib/lib/Template/Tiny/Strict.pm line 78.
Global symbol "$stash" requires explicit package name at /usr/home/david/cpantesting/perl-5.8.9/.cpan/build/Template-Tiny-Strict-1.17-QZAWUa/blib/lib/Template/Tiny/Strict.pm line 78.
Global symbol "$self" requires explicit package name at /usr/home/david/cpantesting/perl-5.8.9/.cpan/build/Template-Tiny-Strict-1.17-QZAWUa/blib/lib/Template/Tiny/Strict.pm line 78.
Global symbol "$var" requires explicit package name at /usr/home/david/cpantesting/perl-5.8.9/.cpan/build/Template-Tiny-Strict-1.17-QZAWUa/blib/lib/Template/Tiny/Strict.pm line 78.
Global symbol "@unused" requires explicit package name at /usr/home/david/cpantesting/perl-5.8.9/.cpan/build/Template-Tiny-Strict-1.17-QZAWUa/blib/lib/Template/Tiny/Strict.pm line 78.
Global symbol "$var" requires explicit package name at /usr/home/david/cpantesting/perl-5.8.9/.cpan/build/Template-Tiny-Strict-1.17-QZAWUa/blib/lib/Template/Tiny/Strict.pm line 78.
Global symbol "$unused" requires explicit package name at /usr/home/david/cpantesting/perl-5.8.9/.cpan/build/Template-Tiny-Strict-1.17-QZAWUa/blib/lib/Template/Tiny/Strict.pm line 78.
Global symbol "@unused" requires explicit package name at /usr/home/david/cpantesting/perl-5.8.9/.cpan/build/Template-Tiny-Strict-1.17-QZAWUa/blib/lib/Template/Tiny/Strict.pm line 78.
Global symbol "$errors" requires explicit package name at /usr/home/david/cpantesting/perl-5.8.9/.cpan/build/Template-Tiny-Strict-1.17-QZAWUa/blib/lib/Template/Tiny/Strict.pm line 78.
Global symbol "$unused" requires explicit package name at /usr/home/david/cpantesting/perl-5.8.9/.cpan/build/Template-Tiny-Strict-1.17-QZAWUa/blib/lib/Template/Tiny/Strict.pm line 78.
Global symbol "$errors" requires explicit package name at /usr/home/david/cpantesting/perl-5.8.9/.cpan/build/Template-Tiny-Strict-1.17-QZAWUa/blib/lib/Template/Tiny/Strict.pm line 78.
Global symbol "$name" requires explicit package name at /usr/home/david/cpantesting/perl-5.8.9/.cpan/build/Template-Tiny-Strict-1.17-QZAWUa/blib/lib/Template/Tiny/Strict.pm line 78.
Global symbol "$self" requires explicit package name at /usr/home/david/cpantesting/perl-5.8.9/.cpan/build/Template-Tiny-Strict-1.17-QZAWUa/blib/lib/Template/Tiny/Strict.pm line 78.
Global symbol "$self" requires explicit package name at /usr/home/david/cpantesting/perl-5.8.9/.cpan/build/Template-Tiny-Strict-1.17-QZAWUa/blib/lib/Template/Tiny/Strict.pm line 78.
Global symbol "$errors" requires explicit package name at /usr/home/david/cpantesting/perl-5.8.9/.cpan/build/Template-Tiny-Strict-1.17-QZAWUa/blib/lib/Template/Tiny/Strict.pm line 78.
Global symbol "$name" requires explicit package name at /usr/home/david/cpantesting/perl-5.8.9/.cpan/build/Template-Tiny-Strict-1.17-QZAWUa/blib/lib/Template/Tiny/Strict.pm line 78.
Global symbol "$errors" requires explicit package name at /usr/home/david/cpantesting/perl-5.8.9/.cpan/build/Template-Tiny-Strict-1.17-QZAWUa/blib/lib/Template/Tiny/Strict.pm line 78.
Global symbol "$errors" requires explicit package name at /usr/home/david/cpantesting/perl-5.8.9/.cpan/build/Template-Tiny-Strict-1.17-QZAWUa/blib/lib/Template/Tiny/Strict.pm line 78.
Global symbol "$result" requires explicit package name at /usr/home/david/cpantesting/perl-5.8.9/.cpan/build/Template-Tiny-Strict-1.17-QZAWUa/blib/lib/Template/Tiny/Strict.pm line 78.
Global symbol "$result" requires explicit package name at /usr/home/david/cpantesting/perl-5.8.9/.cpan/build/Template-Tiny-Strict-1.17-QZAWUa/blib/lib/Template/Tiny/Strict.pm line 78.
Global symbol "$result" requires explicit package name at /usr/home/david/cpantesting/perl-5.8.9/.cpan/build/Template-Tiny-Strict-1.17-QZAWUa/blib/lib/Template/Tiny/Strict.pm line 78.
Global symbol "$self" requires explicit package name at /usr/home/david/cpantesting/perl-5.8.9/.cpan/build/Template-Tiny-Strict-1.17-QZAWUa/blib/lib/Template/Tiny/Strict.pm line 78.
Global symbol "$copy" requires explicit package name at /usr/home/david/cpantesting/perl-5.8.9/.cpan/build/Template-Tiny-Strict-1.17-QZAWUa/blib/lib/Template/Tiny/Strict.pm line 78.
Global symbol "$id" requires explicit package name at /usr/home/david/cpantesting/perl-5.8.9/.cpan/build/Template-Tiny-Strict-1.17-QZAWUa/blib/lib/Template/Tiny/Strict.pm line 78.
Global symbol "$copy" requires explicit package name at /usr/home/david/cpantesting/perl-5.8.9/.cpan/build/Template-Tiny-Strict-1.17-QZAWUa/blib/lib/Template/Tiny/Strict.pm line 78.
/usr/home/david/cpantesting/perl-5.8.9/.cpan/build/Template-Tiny-Strict-1.17-QZAWUa/blib/lib/Template/Tiny/Strict.pm has too many errors.
Compilation failed in require at t/03_samples.t line 12.
BEGIN failed--compilation aborted at t/03_samples.t line 12.
dubious
	Test returned status 255 (wstat 65280, 0xff00)
t/04_compat............skipped
        all skipped: Template Toolkit is not installed
t/05_preparse..........Possible unintended interpolation of @unused in string at /usr/home/david/cpantesting/perl-5.8.9/.cpan/build/Template-Tiny-Strict-1.17-QZAWUa/blib/lib/Template/Tiny/Strict.pm line 78.
Possible unintended interpolation of @unused in string at /usr/home/david/cpantesting/perl-5.8.9/.cpan/build/Template-Tiny-Strict-1.17-QZAWUa/blib/lib/Template/Tiny/Strict.pm line 78.
Possible unintended interpolation of @unused in string at /usr/home/david/cpantesting/perl-5.8.9/.cpan/build/Template-Tiny-Strict-1.17-QZAWUa/blib/lib/Template/Tiny/Strict.pm line 78.
Scalar found where operator expected at /usr/home/david/cpantesting/perl-5.8.9/.cpan/build/Template-Tiny-Strict-1.17-QZAWUa/blib/lib/Template/Tiny/Strict.pm line 162, near "$PREPARSE"
  (Might be a runaway multi-line // string starting on line 78)
Global symbol "$self" requires explicit package name at /usr/home/david/cpantesting/perl-5.8.9/.cpan/build/Template-Tiny-Strict-1.17-QZAWUa/blib/lib/Template/Tiny/Strict.pm line 78.
Global symbol "$text" requires explicit package name at /usr/home/david/cpantesting/perl-5.8.9/.cpan/build/Template-Tiny-Strict-1.17-QZAWUa/blib/lib/Template/Tiny/Strict.pm line 78.
Global symbol "$self" requires explicit package name at /usr/home/david/cpantesting/perl-5.8.9/.cpan/build/Template-Tiny-Strict-1.17-QZAWUa/blib/lib/Template/Tiny/Strict.pm line 78.
Global symbol "$text" requires explicit package name at /usr/home/david/cpantesting/perl-5.8.9/.cpan/build/Template-Tiny-Strict-1.17-QZAWUa/blib/lib/Template/Tiny/Strict.pm line 78.
Global symbol "$self" requires explicit package name at /usr/home/david/cpantesting/perl-5.8.9/.cpan/build/Template-Tiny-Strict-1.17-QZAWUa/blib/lib/Template/Tiny/Strict.pm line 78.
Global symbol "$copy" requires explicit package name at /usr/home/david/cpantesting/perl-5.8.9/.cpan/build/Template-Tiny-Strict-1.17-QZAWUa/blib/lib/Template/Tiny/Strict.pm line 78.
Global symbol "$stash" requires explicit package name at /usr/home/david/cpantesting/perl-5.8.9/.cpan/build/Template-Tiny-Strict-1.17-QZAWUa/blib/lib/Template/Tiny/Strict.pm line 78.
Global symbol "$self" requires explicit package name at /usr/home/david/cpantesting/perl-5.8.9/.cpan/build/Template-Tiny-Strict-1.17-QZAWUa/blib/lib/Template/Tiny/Strict.pm line 78.
Global symbol "$self" requires explicit package name at /usr/home/david/cpantesting/perl-5.8.9/.cpan/build/Template-Tiny-Strict-1.17-QZAWUa/blib/lib/Template/Tiny/Strict.pm line 78.
Global symbol "$self" requires explicit package name at /usr/home/david/cpantesting/perl-5.8.9/.cpan/build/Template-Tiny-Strict-1.17-QZAWUa/blib/lib/Template/Tiny/Strict.pm line 78.
Global symbol "$result" requires explicit package name at /usr/home/david/cpantesting/perl-5.8.9/.cpan/build/Template-Tiny-Strict-1.17-QZAWUa/blib/lib/Template/Tiny/Strict.pm line 78.
Global symbol "$self" requires explicit package name at /usr/home/david/cpantesting/perl-5.8.9/.cpan/build/Template-Tiny-Strict-1.17-QZAWUa/blib/lib/Template/Tiny/Strict.pm line 78.
Global symbol "$stash" requires explicit package name at /usr/home/david/cpantesting/perl-5.8.9/.cpan/build/Template-Tiny-Strict-1.17-QZAWUa/blib/lib/Template/Tiny/Strict.pm line 78.
Global symbol "$copy" requires explicit package name at /usr/home/david/cpantesting/perl-5.8.9/.cpan/build/Template-Tiny-Strict-1.17-QZAWUa/blib/lib/Template/Tiny/Strict.pm line 78.
Global symbol "$errors" requires explicit package name at /usr/home/david/cpantesting/perl-5.8.9/.cpan/build/Template-Tiny-Strict-1.17-QZAWUa/blib/lib/Template/Tiny/Strict.pm line 78.
Global symbol "$self" requires explicit package name at /usr/home/david/cpantesting/perl-5.8.9/.cpan/build/Template-Tiny-Strict-1.17-QZAWUa/blib/lib/Template/Tiny/Strict.pm line 78.
Global symbol "$self" requires explicit package name at /usr/home/david/cpantesting/perl-5.8.9/.cpan/build/Template-Tiny-Strict-1.17-QZAWUa/blib/lib/Template/Tiny/Strict.pm line 78.
Global symbol "$errors" requires explicit package name at /usr/home/david/cpantesting/perl-5.8.9/.cpan/build/Template-Tiny-Strict-1.17-QZAWUa/blib/lib/Template/Tiny/Strict.pm line 78.
Global symbol "$self" requires explicit package name at /usr/home/david/cpantesting/perl-5.8.9/.cpan/build/Template-Tiny-Strict-1.17-QZAWUa/blib/lib/Template/Tiny/Strict.pm line 78.
Global symbol "@unused" requires explicit package name at /usr/home/david/cpantesting/perl-5.8.9/.cpan/build/Template-Tiny-Strict-1.17-QZAWUa/blib/lib/Template/Tiny/Strict.pm line 78.
Global symbol "$var" requires explicit package name at /usr/home/david/cpantesting/perl-5.8.9/.cpan/build/Template-Tiny-Strict-1.17-QZAWUa/blib/lib/Template/Tiny/Strict.pm line 78.
Global symbol "$stash" requires explicit package name at /usr/home/david/cpantesting/perl-5.8.9/.cpan/build/Template-Tiny-Strict-1.17-QZAWUa/blib/lib/Template/Tiny/Strict.pm line 78.
Global symbol "$self" requires explicit package name at /usr/home/david/cpantesting/perl-5.8.9/.cpan/build/Template-Tiny-Strict-1.17-QZAWUa/blib/lib/Template/Tiny/Strict.pm line 78.
Global symbol "$var" requires explicit package name at /usr/home/david/cpantesting/perl-5.8.9/.cpan/build/Template-Tiny-Strict-1.17-QZAWUa/blib/lib/Template/Tiny/Strict.pm line 78.
Global symbol "@unused" requires explicit package name at /usr/home/david/cpantesting/perl-5.8.9/.cpan/build/Template-Tiny-Strict-1.17-QZAWUa/blib/lib/Template/Tiny/Strict.pm line 78.
Global symbol "$var" requires explicit package name at /usr/home/david/cpantesting/perl-5.8.9/.cpan/build/Template-Tiny-Strict-1.17-QZAWUa/blib/lib/Template/Tiny/Strict.pm line 78.
Global symbol "$unused" requires explicit package name at /usr/home/david/cpantesting/perl-5.8.9/.cpan/build/Template-Tiny-Strict-1.17-QZAWUa/blib/lib/Template/Tiny/Strict.pm line 78.
Global symbol "@unused" requires explicit package name at /usr/home/david/cpantesting/perl-5.8.9/.cpan/build/Template-Tiny-Strict-1.17-QZAWUa/blib/lib/Template/Tiny/Strict.pm line 78.
Global symbol "$errors" requires explicit package name at /usr/home/david/cpantesting/perl-5.8.9/.cpan/build/Template-Tiny-Strict-1.17-QZAWUa/blib/lib/Template/Tiny/Strict.pm line 78.
Global symbol "$unused" requires explicit package name at /usr/home/david/cpantesting/perl-5.8.9/.cpan/build/Template-Tiny-Strict-1.17-QZAWUa/blib/lib/Template/Tiny/Strict.pm line 78.
Global symbol "$errors" requires explicit package name at /usr/home/david/cpantesting/perl-5.8.9/.cpan/build/Template-Tiny-Strict-1.17-QZAWUa/blib/lib/Template/Tiny/Strict.pm line 78.
Global symbol "$name" requires explicit package name at /usr/home/david/cpantesting/perl-5.8.9/.cpan/build/Template-Tiny-Strict-1.17-QZAWUa/blib/lib/Template/Tiny/Strict.pm line 78.
Global symbol "$self" requires explicit package name at /usr/home/david/cpantesting/perl-5.8.9/.cpan/build/Template-Tiny-Strict-1.17-QZAWUa/blib/lib/Template/Tiny/Strict.pm line 78.
Global symbol "$self" requires explicit package name at /usr/home/david/cpantesting/perl-5.8.9/.cpan/build/Template-Tiny-Strict-1.17-QZAWUa/blib/lib/Template/Tiny/Strict.pm line 78.
Global symbol "$errors" requires explicit package name at /usr/home/david/cpantesting/perl-5.8.9/.cpan/build/Template-Tiny-Strict-1.17-QZAWUa/blib/lib/Template/Tiny/Strict.pm line 78.
Global symbol "$name" requires explicit package name at /usr/home/david/cpantesting/perl-5.8.9/.cpan/build/Template-Tiny-Strict-1.17-QZAWUa/blib/lib/Template/Tiny/Strict.pm line 78.
Global symbol "$errors" requires explicit package name at /usr/home/david/cpantesting/perl-5.8.9/.cpan/build/Template-Tiny-Strict-1.17-QZAWUa/blib/lib/Template/Tiny/Strict.pm line 78.
Global symbol "$errors" requires explicit package name at /usr/home/david/cpantesting/perl-5.8.9/.cpan/build/Template-Tiny-Strict-1.17-QZAWUa/blib/lib/Template/Tiny/Strict.pm line 78.
Global symbol "$result" requires explicit package name at /usr/home/david/cpantesting/perl-5.8.9/.cpan/build/Template-Tiny-Strict-1.17-QZAWUa/blib/lib/Template/Tiny/Strict.pm line 78.
Global symbol "$result" requires explicit package name at /usr/home/david/cpantesting/perl-5.8.9/.cpan/build/Template-Tiny-Strict-1.17-QZAWUa/blib/lib/Template/Tiny/Strict.pm line 78.
Global symbol "$result" requires explicit package name at /usr/home/david/cpantesting/perl-5.8.9/.cpan/build/Template-Tiny-Strict-1.17-QZAWUa/blib/lib/Template/Tiny/Strict.pm line 78.
Global symbol "$self" requires explicit package name at /usr/home/david/cpantesting/perl-5.8.9/.cpan/build/Template-Tiny-Strict-1.17-QZAWUa/blib/lib/Template/Tiny/Strict.pm line 78.
Global symbol "$copy" requires explicit package name at /usr/home/david/cpantesting/perl-5.8.9/.cpan/build/Template-Tiny-Strict-1.17-QZAWUa/blib/lib/Template/Tiny/Strict.pm line 78.
Global symbol "$id" requires explicit package name at /usr/home/david/cpantesting/perl-5.8.9/.cpan/build/Template-Tiny-Strict-1.17-QZAWUa/blib/lib/Template/Tiny/Strict.pm line 78.
Global symbol "$copy" requires explicit package name at /usr/home/david/cpantesting/perl-5.8.9/.cpan/build/Template-Tiny-Strict-1.17-QZAWUa/blib/lib/Template/Tiny/Strict.pm line 78.
/usr/home/david/cpantesting/perl-5.8.9/.cpan/build/Template-Tiny-Strict-1.17-QZAWUa/blib/lib/Template/Tiny/Strict.pm has too many errors.
Compilation failed in require at t/05_preparse.t line 10.
BEGIN failed--compilation aborted at t/05_preparse.t line 10.
# Looks like your test exited with 255 before it could output anything.
dubious
	Test returned status 255 (wstat 65280, 0xff00)
DIED. FAILED tests 1-6
	Failed 6/6 tests, 0.00% okay
t/strict...............Possible unintended interpolation of @unused in string at /usr/home/david/cpantesting/perl-5.8.9/.cpan/build/Template-Tiny-Strict-1.17-QZAWUa/blib/lib/Template/Tiny/Strict.pm line 78.
Possible unintended interpolation of @unused in string at /usr/home/david/cpantesting/perl-5.8.9/.cpan/build/Template-Tiny-Strict-1.17-QZAWUa/blib/lib/Template/Tiny/Strict.pm line 78.
Possible unintended interpolation of @unused in string at /usr/home/david/cpantesting/perl-5.8.9/.cpan/build/Template-Tiny-Strict-1.17-QZAWUa/blib/lib/Template/Tiny/Strict.pm line 78.
Scalar found where operator expected at /usr/home/david/cpantesting/perl-5.8.9/.cpan/build/Template-Tiny-Strict-1.17-QZAWUa/blib/lib/Template/Tiny/Strict.pm line 162, near "$PREPARSE"
  (Might be a runaway multi-line // string starting on line 78)
Global symbol "$self" requires explicit package name at /usr/home/david/cpantesting/perl-5.8.9/.cpan/build/Template-Tiny-Strict-1.17-QZAWUa/blib/lib/Template/Tiny/Strict.pm line 78.
Global symbol "$text" requires explicit package name at /usr/home/david/cpantesting/perl-5.8.9/.cpan/build/Template-Tiny-Strict-1.17-QZAWUa/blib/lib/Template/Tiny/Strict.pm line 78.
Global symbol "$self" requires explicit package name at /usr/home/david/cpantesting/perl-5.8.9/.cpan/build/Template-Tiny-Strict-1.17-QZAWUa/blib/lib/Template/Tiny/Strict.pm line 78.
Global symbol "$text" requires explicit package name at /usr/home/david/cpantesting/perl-5.8.9/.cpan/build/Template-Tiny-Strict-1.17-QZAWUa/blib/lib/Template/Tiny/Strict.pm line 78.
Global symbol "$self" requires explicit package name at /usr/home/david/cpantesting/perl-5.8.9/.cpan/build/Template-Tiny-Strict-1.17-QZAWUa/blib/lib/Template/Tiny/Strict.pm line 78.
Global symbol "$copy" requires explicit package name at /usr/home/david/cpantesting/perl-5.8.9/.cpan/build/Template-Tiny-Strict-1.17-QZAWUa/blib/lib/Template/Tiny/Strict.pm line 78.
Global symbol "$stash" requires explicit package name at /usr/home/david/cpantesting/perl-5.8.9/.cpan/build/Template-Tiny-Strict-1.17-QZAWUa/blib/lib/Template/Tiny/Strict.pm line 78.
Global symbol "$self" requires explicit package name at /usr/home/david/cpantesting/perl-5.8.9/.cpan/build/Template-Tiny-Strict-1.17-QZAWUa/blib/lib/Template/Tiny/Strict.pm line 78.
Global symbol "$self" requires explicit package name at /usr/home/david/cpantesting/perl-5.8.9/.cpan/build/Template-Tiny-Strict-1.17-QZAWUa/blib/lib/Template/Tiny/Strict.pm line 78.
Global symbol "$self" requires explicit package name at /usr/home/david/cpantesting/perl-5.8.9/.cpan/build/Template-Tiny-Strict-1.17-QZAWUa/blib/lib/Template/Tiny/Strict.pm line 78.
Global symbol "$result" requires explicit package name at /usr/home/david/cpantesting/perl-5.8.9/.cpan/build/Template-Tiny-Strict-1.17-QZAWUa/blib/lib/Template/Tiny/Strict.pm line 78.
Global symbol "$self" requires explicit package name at /usr/home/david/cpantesting/perl-5.8.9/.cpan/build/Template-Tiny-Strict-1.17-QZAWUa/blib/lib/Template/Tiny/Strict.pm line 78.
Global symbol "$stash" requires explicit package name at /usr/home/david/cpantesting/perl-5.8.9/.cpan/build/Template-Tiny-Strict-1.17-QZAWUa/blib/lib/Template/Tiny/Strict.pm line 78.
Global symbol "$copy" requires explicit package name at /usr/home/david/cpantesting/perl-5.8.9/.cpan/build/Template-Tiny-Strict-1.17-QZAWUa/blib/lib/Template/Tiny/Strict.pm line 78.
Global symbol "$errors" requires explicit package name at /usr/home/david/cpantesting/perl-5.8.9/.cpan/build/Template-Tiny-Strict-1.17-QZAWUa/blib/lib/Template/Tiny/Strict.pm line 78.
Global symbol "$self" requires explicit package name at /usr/home/david/cpantesting/perl-5.8.9/.cpan/build/Template-Tiny-Strict-1.17-QZAWUa/blib/lib/Template/Tiny/Strict.pm line 78.
Global symbol "$self" requires explicit package name at /usr/home/david/cpantesting/perl-5.8.9/.cpan/build/Template-Tiny-Strict-1.17-QZAWUa/blib/lib/Template/Tiny/Strict.pm line 78.
Global symbol "$errors" requires explicit package name at /usr/home/david/cpantesting/perl-5.8.9/.cpan/build/Template-Tiny-Strict-1.17-QZAWUa/blib/lib/Template/Tiny/Strict.pm line 78.
Global symbol "$self" requires explicit package name at /usr/home/david/cpantesting/perl-5.8.9/.cpan/build/Template-Tiny-Strict-1.17-QZAWUa/blib/lib/Template/Tiny/Strict.pm line 78.
Global symbol "@unused" requires explicit package name at /usr/home/david/cpantesting/perl-5.8.9/.cpan/build/Template-Tiny-Strict-1.17-QZAWUa/blib/lib/Template/Tiny/Strict.pm line 78.
Global symbol "$var" requires explicit package name at /usr/home/david/cpantesting/perl-5.8.9/.cpan/build/Template-Tiny-Strict-1.17-QZAWUa/blib/lib/Template/Tiny/Strict.pm line 78.
Global symbol "$stash" requires explicit package name at /usr/home/david/cpantesting/perl-5.8.9/.cpan/build/Template-Tiny-Strict-1.17-QZAWUa/blib/lib/Template/Tiny/Strict.pm line 78.
Global symbol "$self" requires explicit package name at /usr/home/david/cpantesting/perl-5.8.9/.cpan/build/Template-Tiny-Strict-1.17-QZAWUa/blib/lib/Template/Tiny/Strict.pm line 78.
Global symbol "$var" requires explicit package name at /usr/home/david/cpantesting/perl-5.8.9/.cpan/build/Template-Tiny-Strict-1.17-QZAWUa/blib/lib/Template/Tiny/Strict.pm line 78.
Global symbol "@unused" requires explicit package name at /usr/home/david/cpantesting/perl-5.8.9/.cpan/build/Template-Tiny-Strict-1.17-QZAWUa/blib/lib/Template/Tiny/Strict.pm line 78.
Global symbol "$var" requires explicit package name at /usr/home/david/cpantesting/perl-5.8.9/.cpan/build/Template-Tiny-Strict-1.17-QZAWUa/blib/lib/Template/Tiny/Strict.pm line 78.
Global symbol "$unused" requires explicit package name at /usr/home/david/cpantesting/perl-5.8.9/.cpan/build/Template-Tiny-Strict-1.17-QZAWUa/blib/lib/Template/Tiny/Strict.pm line 78.
Global symbol "@unused" requires explicit package name at /usr/home/david/cpantesting/perl-5.8.9/.cpan/build/Template-Tiny-Strict-1.17-QZAWUa/blib/lib/Template/Tiny/Strict.pm line 78.
Global symbol "$errors" requires explicit package name at /usr/home/david/cpantesting/perl-5.8.9/.cpan/build/Template-Tiny-Strict-1.17-QZAWUa/blib/lib/Template/Tiny/Strict.pm line 78.
Global symbol "$unused" requires explicit package name at /usr/home/david/cpantesting/perl-5.8.9/.cpan/build/Template-Tiny-Strict-1.17-QZAWUa/blib/lib/Template/Tiny/Strict.pm line 78.
Global symbol "$errors" requires explicit package name at /usr/home/david/cpantesting/perl-5.8.9/.cpan/build/Template-Tiny-Strict-1.17-QZAWUa/blib/lib/Template/Tiny/Strict.pm line 78.
Global symbol "$name" requires explicit package name at /usr/home/david/cpantesting/perl-5.8.9/.cpan/build/Template-Tiny-Strict-1.17-QZAWUa/blib/lib/Template/Tiny/Strict.pm line 78.
Global symbol "$self" requires explicit package name at /usr/home/david/cpantesting/perl-5.8.9/.cpan/build/Template-Tiny-Strict-1.17-QZAWUa/blib/lib/Template/Tiny/Strict.pm line 78.
Global symbol "$self" requires explicit package name at /usr/home/david/cpantesting/perl-5.8.9/.cpan/build/Template-Tiny-Strict-1.17-QZAWUa/blib/lib/Template/Tiny/Strict.pm line 78.
Global symbol "$errors" requires explicit package name at /usr/home/david/cpantesting/perl-5.8.9/.cpan/build/Template-Tiny-Strict-1.17-QZAWUa/blib/lib/Template/Tiny/Strict.pm line 78.
Global symbol "$name" requires explicit package name at /usr/home/david/cpantesting/perl-5.8.9/.cpan/build/Template-Tiny-Strict-1.17-QZAWUa/blib/lib/Template/Tiny/Strict.pm line 78.
Global symbol "$errors" requires explicit package name at /usr/home/david/cpantesting/perl-5.8.9/.cpan/build/Template-Tiny-Strict-1.17-QZAWUa/blib/lib/Template/Tiny/Strict.pm line 78.
Global symbol "$errors" requires explicit package name at /usr/home/david/cpantesting/perl-5.8.9/.cpan/build/Template-Tiny-Strict-1.17-QZAWUa/blib/lib/Template/Tiny/Strict.pm line 78.
Global symbol "$result" requires explicit package name at /usr/home/david/cpantesting/perl-5.8.9/.cpan/build/Template-Tiny-Strict-1.17-QZAWUa/blib/lib/Template/Tiny/Strict.pm line 78.
Global symbol "$result" requires explicit package name at /usr/home/david/cpantesting/perl-5.8.9/.cpan/build/Template-Tiny-Strict-1.17-QZAWUa/blib/lib/Template/Tiny/Strict.pm line 78.
Global symbol "$result" requires explicit package name at /usr/home/david/cpantesting/perl-5.8.9/.cpan/build/Template-Tiny-Strict-1.17-QZAWUa/blib/lib/Template/Tiny/Strict.pm line 78.
Global symbol "$self" requires explicit package name at /usr/home/david/cpantesting/perl-5.8.9/.cpan/build/Template-Tiny-Strict-1.17-QZAWUa/blib/lib/Template/Tiny/Strict.pm line 78.
Global symbol "$copy" requires explicit package name at /usr/home/david/cpantesting/perl-5.8.9/.cpan/build/Template-Tiny-Strict-1.17-QZAWUa/blib/lib/Template/Tiny/Strict.pm line 78.
Global symbol "$id" requires explicit package name at /usr/home/david/cpantesting/perl-5.8.9/.cpan/build/Template-Tiny-Strict-1.17-QZAWUa/blib/lib/Template/Tiny/Strict.pm line 78.
Global symbol "$copy" requires explicit package name at /usr/home/david/cpantesting/perl-5.8.9/.cpan/build/Template-Tiny-Strict-1.17-QZAWUa/blib/lib/Template/Tiny/Strict.pm line 78.
/usr/home/david/cpantesting/perl-5.8.9/.cpan/build/Template-Tiny-Strict-1.17-QZAWUa/blib/lib/Template/Tiny/Strict.pm has too many errors.
Compilation failed in require at t/strict.t line 10.
BEGIN failed--compilation aborted at t/strict.t line 10.
dubious
	Test returned status 255 (wstat 65280, 0xff00)
Failed Test     Stat Wstat Total Fail  List of Failed
-------------------------------------------------------------------------------
t/02_trivial.t   255 65280     1    2  1
t/03_samples.t   255 65280    ??   ??  ??
t/05_preparse.t  255 65280     6   12  1-6
t/strict.t       255 65280    ??   ??  ??
1 test skipped.
Failed 4/6 test scripts. 7/8 subtests failed.
Files=6, Tests=8,  3 wallclock secs ( 1.76 cusr +  0.48 csys =  2.24 CPU)
Failed 4/6 test programs. 7/8 subtests failed.
*** Error code 255

Stop.
make: stopped in /usr/home/david/cpantesting/perl-5.8.9/.cpan/build/Template-Tiny-Strict-1.17-QZAWUa

------------------------------
PREREQUISITES
------------------------------

Prerequisite modules loaded:

build_requires:

    Module              Need Have    
    ------------------- ---- --------
    ExtUtils::MakeMaker 0    7.56    
    File::Spec          0    3.75    
    Test::More          0    1.302183

configure_requires:

    Module              Need Have    
    ------------------- ---- --------
    ExtUtils::MakeMaker 0    7.56    


------------------------------
ENVIRONMENT AND OTHER CONTEXT
------------------------------

Environment variables:

    AUTOMATED_TESTING = 1
    NONINTERACTIVE_TESTING = 1
    PATH = /home/david/perl5/perlbrew/bin:/home/david/perl5/perlbrew/perls/perl-5.30.2/bin:/sbin:/bin:/usr/sbin:/usr/bin:/usr/local/sbin:/usr/local/bin:/home/david/bin
    PERL = 5.8.9
    PERL5LIB = 
    PERL5OPT = 
    PERL5_CPANPLUS_IS_RUNNING = 81116
    PERL5_CPAN_IS_RUNNING = 81116
    PERLBREW_HOME = /home/david/.perlbrew
    PERLBREW_MANPATH = /home/david/perl5/perlbrew/perls/perl-5.30.2/man
    PERLBREW_PATH = /home/david/perl5/perlbrew/bin:/home/david/perl5/perlbrew/perls/perl-5.30.2/bin
    PERLBREW_PERL = perl-5.30.2
    PERLBREW_ROOT = /home/david/perl5/perlbrew
    PERLBREW_SHELLRC_VERSION = 0.89
    PERLBREW_VERSION = 0.89
    PERLVER = 5.8.9
    PERL_INLINE_DIRECTORY = /home/david/.Inline-5.8.9
    PERL_MM_USE_DEFAULT = 1
    PERL_USE_UNSAFE_INC = 0
    SHELL = /usr/local/bin/bash
    TERM = screen

Perl special variables (and OS-specific diagnostics, for MSWin32):

    $^X = /home/david/cpantesting/perl-5.8.9/bin/perl
    $UID/$EUID = 1001 / 1001
    $GID = 1001 1001 0
    $EGID = 1001 1001 0

Perl module toolchain versions installed:

    Module              Have    
    ------------------- --------
    CPAN                1.94    
    CPAN::Meta          2.150010
    Cwd                 3.75    
    ExtUtils::CBuilder  0.280236
    ExtUtils::Command   7.56    
    ExtUtils::Install   2.06    
    ExtUtils::MakeMaker 7.56    
    ExtUtils::Manifest  1.70    
    ExtUtils::ParseXS   3.35    
    File::Spec          3.75    
    JSON                n/a     
    JSON::PP            4.05    
    Module::Build       n/a     
    Module::Signature   n/a     
    Parse::CPAN::Meta   2.150010
    Test::Harness       2.64    
    Test::More          1.302183
    YAML                1.30    
    YAML::Syck          n/a     
    version             0.9928  


--

Summary of my perl5 (revision 5 version 8 subversion 9) configuration:
  Platform:
    osname=freebsd, osvers=12.2-release, archname=amd64-freebsd
    uname='freebsd cpantesting-freebsd 12.2-release freebsd 12.2-release r366954 generic amd64 '
    config_args='-de -Dprefix=/home/david/cpantesting/perl-5.8.9'
    hint=recommended, useposix=true, d_sigaction=define
    usethreads=undef use5005threads=undef useithreads=undef usemultiplicity=undef
    useperlio=define d_sfio=undef uselargefiles=define usesocks=undef
    use64bitint=define use64bitall=define uselongdouble=undef
    usemymalloc=n, bincompat5005=undef
  Compiler:
    cc='cc', ccflags ='-DHAS_FPSETMASK -DHAS_FLOATINGPOINT_H -fno-strict-aliasing -pipe -I/usr/local/include',
    optimize='-O2',
    cppflags='-DHAS_FPSETMASK -DHAS_FLOATINGPOINT_H -fno-strict-aliasing -pipe -I/usr/local/include'
    ccversion='', gccversion='FreeBSD Clang 10.0.1 (git@github.com:llvm/llvm-project.git llvmorg-10.0.1-0-gef32c611aa2)', gccosandvers=''
    intsize=4, longsize=8, ptrsize=8, doublesize=8, byteorder=12345678
    d_longlong=define, longlongsize=8, d_longdbl=define, longdblsize=16
    ivtype='long', ivsize=8, nvtype='double', nvsize=8, Off_t='off_t', lseeksize=8
    alignbytes=8, prototype=define
  Linker and Libraries:
    ld='cc', ldflags ='-Wl,-E  -L/usr/local/lib'
    libpth=/usr/lib /usr/local/lib
    libs=-lgdbm -ldl -lm -lcrypt -lutil -lc
    perllibs=-ldl -lm -lcrypt -lutil -lc
    libc=, so=so, useshrplib=false, libperl=libperl.a
    gnulibc_version=''
  Dynamic Linking:
    dlsrc=dl_dlopen.xs, dlext=so, d_dlsymun=undef, ccdlflags=' '
    cccdlflags='-DPIC -fPIC', lddlflags='-shared  -L/usr/local/lib'


Characteristics of this binary (from libperl): 
  Compile-time options: PERL_MALLOC_WRAP USE_64_BIT_ALL USE_64_BIT_INT
                        USE_FAST_STDIO USE_LARGE_FILES USE_PERLIO
  Locally applied patches:
	Devel::PatchPerl 2.04
  Built under freebsd
  Compiled at Dec 11 2020 09:51:54
  %ENV:
    PERL="5.8.9"
    PERL5LIB=""
    PERL5OPT=""
    PERL5_CPANPLUS_IS_RUNNING="81116"
    PERL5_CPAN_IS_RUNNING="81116"
    PERLBREW_HOME="/home/david/.perlbrew"
    PERLBREW_MANPATH="/home/david/perl5/perlbrew/perls/perl-5.30.2/man"
    PERLBREW_PATH="/home/david/perl5/perlbrew/bin:/home/david/perl5/perlbrew/perls/perl-5.30.2/bin"
    PERLBREW_PERL="perl-5.30.2"
    PERLBREW_ROOT="/home/david/perl5/perlbrew"
    PERLBREW_SHELLRC_VERSION="0.89"
    PERLBREW_VERSION="0.89"
    PERLVER="5.8.9"
    PERL_INLINE_DIRECTORY="/home/david/.Inline-5.8.9"
    PERL_MM_USE_DEFAULT="1"
    PERL_USE_UNSAFE_INC="0"
  @INC:
    /home/david/cpantesting/perl-5.8.9/lib/5.8.9/amd64-freebsd
    /home/david/cpantesting/perl-5.8.9/lib/5.8.9
    /home/david/cpantesting/perl-5.8.9/lib/site_perl/5.8.9/amd64-freebsd
    /home/david/cpantesting/perl-5.8.9/lib/site_perl/5.8.9
    .