Report for Win32-Mock-0.05

Back
From: metabase:user:322078bc-2aae-11df-837a-5e0a49663a4f
Subject: PASS Win32-Mock-0.05 v5.15.0 GNU/Linux
Date: 2011-08-31T18:40:26Z

This distribution has been tested as part of the CPAN Testers
project, supporting the Perl programming language.  See
http://wiki.cpantesters.org/ for more information or email
questions to cpan-testers-discuss@perl.org


--

Dear SAPER,

This is a computer-generated error report created automatically by
CPANPLUS, version 0.9109. Testers personal comments may appear
at the end of this report.

MAKE TEST passed:
Undefined value assigned to typeglob at /home/cpan/pit/bare/conf/perl-5.15.0/.cpanplus/5.15.0/build/Devel-FakeOSName-0.01/blib/lib/Devel/FakeOSName.pm line 21.
# Testing Win32::Mock 0.05, Perl 5.015000, /home/cpan/pit/bare/perl-5.15.0/bin/perl5.15.0
t/00-load.t .............................. ok
t/pod-coverage.t ......................... skipped: *** disabled for now ***
t/pod.t .................................. skipped: *** disabled for now ***
Undefined value assigned to typeglob at /home/cpan/pit/bare/conf/perl-5.15.0/.cpanplus/5.15.0/build/Devel-FakeOSName-0.01/blib/lib/Devel/FakeOSName.pm line 21.
t/core/Win32/CopyFile.t .................. ok
Undefined value assigned to typeglob at /home/cpan/pit/bare/conf/perl-5.15.0/.cpanplus/5.15.0/build/Devel-FakeOSName-0.01/blib/lib/Devel/FakeOSName.pm line 21.
Subroutine STORE redefined at /home/cpan/pit/bare/perl-5.15.0/lib/5.15.0/x86_64-linux/Config_heavy.pl line 1292.
t/core/Win32/CreateFile.t ................ ok
Undefined value assigned to typeglob at /home/cpan/pit/bare/conf/perl-5.15.0/.cpanplus/5.15.0/build/Devel-FakeOSName-0.01/blib/lib/Devel/FakeOSName.pm line 21.
Subroutine STORE redefined at /home/cpan/pit/bare/perl-5.15.0/lib/5.15.0/x86_64-linux/Config_heavy.pl line 1292.
t/core/Win32/ExpandEnvironmentStrings.t .. ok
Undefined value assigned to typeglob at /home/cpan/pit/bare/conf/perl-5.15.0/.cpanplus/5.15.0/build/Devel-FakeOSName-0.01/blib/lib/Devel/FakeOSName.pm line 21.
Subroutine STORE redefined at /home/cpan/pit/bare/perl-5.15.0/lib/5.15.0/x86_64-linux/Config_heavy.pl line 1292.
t/core/Win32/GetCurrentThreadId.t ........ skipped: Test requires fork emulation
Undefined value assigned to typeglob at /home/cpan/pit/bare/conf/perl-5.15.0/.cpanplus/5.15.0/build/Devel-FakeOSName-0.01/blib/lib/Devel/FakeOSName.pm line 21.
Subroutine STORE redefined at /home/cpan/pit/bare/perl-5.15.0/lib/5.15.0/x86_64-linux/Config_heavy.pl line 1292.
t/core/Win32/GetFileVersion.t ............ ok
Undefined value assigned to typeglob at /home/cpan/pit/bare/conf/perl-5.15.0/.cpanplus/5.15.0/build/Devel-FakeOSName-0.01/blib/lib/Devel/FakeOSName.pm line 21.
Subroutine STORE redefined at /home/cpan/pit/bare/perl-5.15.0/lib/5.15.0/x86_64-linux/Config_heavy.pl line 1292.
t/core/Win32/GetFolderPath.t ............. ok
t/core/Win32/GetFullPathName.t ........... skipped: because these tests are too hard to mock
t/core/Win32/GetLongPathName.t ........... skipped: because these tests are too hard to mock
Undefined value assigned to typeglob at /home/cpan/pit/bare/conf/perl-5.15.0/.cpanplus/5.15.0/build/Devel-FakeOSName-0.01/blib/lib/Devel/FakeOSName.pm line 21.
Subroutine STORE redefined at /home/cpan/pit/bare/perl-5.15.0/lib/5.15.0/x86_64-linux/Config_heavy.pl line 1292.
t/core/Win32/GetOSVersion.t .............. ok
t/core/Win32/GetShortPathName.t .......... skipped: because these tests are too hard to mock
Undefined value assigned to typeglob at /home/cpan/pit/bare/conf/perl-5.15.0/.cpanplus/5.15.0/build/Devel-FakeOSName-0.01/blib/lib/Devel/FakeOSName.pm line 21.
Subroutine STORE redefined at /home/cpan/pit/bare/perl-5.15.0/lib/5.15.0/x86_64-linux/Config_heavy.pl line 1292.
t/core/Win32/GuidGen.t ................... ok
Undefined value assigned to typeglob at /home/cpan/pit/bare/conf/perl-5.15.0/.cpanplus/5.15.0/build/Devel-FakeOSName-0.01/blib/lib/Devel/FakeOSName.pm line 21.
t/core/Win32/Names.t ..................... ok
Undefined value assigned to typeglob at /home/cpan/pit/bare/conf/perl-5.15.0/.cpanplus/5.15.0/build/Devel-FakeOSName-0.01/blib/lib/Devel/FakeOSName.pm line 21.
Subroutine STORE redefined at /home/cpan/pit/bare/perl-5.15.0/lib/5.15.0/x86_64-linux/Config_heavy.pl line 1292.
t/core/Win32/Unicode.t ................... skipped: Filesystem doesn't support Unicode
Undefined value assigned to typeglob at /home/cpan/pit/bare/conf/perl-5.15.0/.cpanplus/5.15.0/build/Devel-FakeOSName-0.01/blib/lib/Devel/FakeOSName.pm line 21.
t/core/Win32CORE/win32core.t ............. ok
t/libwin32/APINet/test.t ................. skipped: *** NOT IMPLEMENTED
t/libwin32/Clipboard/test.t .............. skipped: *** NOT IMPLEMENTED
t/libwin32/EventLog/eventlog.t ........... skipped: *** NOT IMPLEMENTED
Undefined value assigned to typeglob at /home/cpan/pit/bare/conf/perl-5.15.0/.cpanplus/5.15.0/build/Devel-FakeOSName-0.01/blib/lib/Devel/FakeOSName.pm line 21.
t/libwin32/File/file.t ................... ok
t/libwin32/NetAdmin/netadmin.t ........... skipped: *** NOT IMPLEMENTED
t/libwin32/NetResource/netresource.t ..... skipped: *** NOT IMPLEMENTED
t/libwin32/OLE/1_nls.t ................... skipped: *** NOT IMPLEMENTED
t/libwin32/OLE/2_variant.t ............... skipped: *** NOT IMPLEMENTED
t/libwin32/OLE/3_ole.t ................... skipped: *** NOT IMPLEMENTED
t/libwin32/OLE/4_compat.t ................ skipped: *** NOT IMPLEMENTED
t/libwin32/OLE/5_unicode.t ............... skipped: *** NOT IMPLEMENTED
t/libwin32/OLE/6_event.t ................. skipped: *** NOT IMPLEMENTED
t/libwin32/OLE/7_overload.t .............. skipped: *** NOT IMPLEMENTED
t/libwin32/Registry/registry.t ........... skipped: *** NOT IMPLEMENTED
Undefined value assigned to typeglob at /home/cpan/pit/bare/conf/perl-5.15.0/.cpanplus/5.15.0/build/Devel-FakeOSName-0.01/blib/lib/Devel/FakeOSName.pm line 21.
dummy|dummy
	ServiceSpecificExitCode		0
	ServiceType		16
	CurrentState		7
	CheckPoint		0
	ControlsAccepted		2
	Win32ExitCode		0
	WaitHint		0
t/libwin32/Service/service.t ............. ok
All tests successful.
Files=32, Tests=59,  0 wallclock secs ( 0.07 usr  0.02 sys +  0.48 cusr  0.09 csys =  0.66 CPU)
Result: PASS

[MSG] [Wed Aug 31 19:38:28 2011] Sending test report for 'Win32-Mock-0.05'

This report was machine-generated by CPANPLUS::Dist::YACSmoke 0.64.
Powered by minismokebox version 0.54

------------------------------
ENVIRONMENT AND OTHER CONTEXT
------------------------------

Environment variables:

    AUTOMATED_TESTING = 1
    LANG = en_US
    LC_COLLATE = C
    PATH = /usr/local/bin:/usr/bin:/bin:/usr/games:/usr/lib64/java/bin:/usr/lib64/qt/bin:/usr/share/texmf/bin:.
    PERL5LIB = :/home/cpan/pit/bare/conf/perl-5.15.0/.cpanplus/5.15.0/build/Devel-FakeOSName-0.01/blib/lib:/home/cpan/pit/bare/conf/perl-5.15.0/.cpanplus/5.15.0/build/Devel-FakeOSName-0.01/blib/arch:/home/cpan/pit/bare/conf/perl-5.15.0/.cpanplus/5.15.0/build/Win32-Mock-0.05/blib/lib:/home/cpan/pit/bare/conf/perl-5.15.0/.cpanplus/5.15.0/build/Win32-Mock-0.05/blib/arch
    PERL5_CPANPLUS_IS_RUNNING = 22745
    PERL5_CPANPLUS_IS_VERSION = 0.9109
    PERL5_MINISMOKEBOX = 0.54
    PERL5_YACSMOKE_BASE = /home/cpan/pit/bare/conf/perl-5.15.0
    PERL_EXTUTILS_AUTOINSTALL = --defaultdeps
    PERL_MM_USE_DEFAULT = 1
    SHELL = /bin/bash
    TERM = screen

Perl special variables (and OS-specific diagnostics, for MSWin32):

    Perl: $^X = /home/cpan/pit/bare/perl-5.15.0/bin/perl5.15.0
    UID:  $<  = 1001
    EUID: $>  = 1001
    GID:  $(  = 100 100
    EGID: $)  = 100 100


-------------------------------


--

Summary of my perl5 (revision 5 version 15 subversion 0) configuration:
   
  Platform:
    osname=linux, osvers=2.6.33.4, archname=x86_64-linux
    uname='linux slack64 2.6.33.4 #3 smp wed may 12 23:13:09 cdt 2010 x86_64 intel(r) xeon(r) cpu e5520 @ 2.27ghz genuineintel gnulinux '
    config_args='-des -Dprefix=/home/cpan/pit/bare/perl-5.15.0 -Dusedevel'
    hint=recommended, useposix=true, d_sigaction=define
    useithreads=undef, usemultiplicity=undef
    useperlio=define, d_sfio=undef, uselargefiles=define, usesocks=undef
    use64bitint=define, use64bitall=define, uselongdouble=undef
    usemymalloc=n, bincompat5005=undef
  Compiler:
    cc='cc', ccflags ='-fno-strict-aliasing -pipe -fstack-protector -I/usr/local/include -D_LARGEFILE_SOURCE -D_FILE_OFFSET_BITS=64',
    optimize='-O2',
    cppflags='-fno-strict-aliasing -pipe -fstack-protector -I/usr/local/include'
    ccversion='', gccversion='4.4.4', gccosandvers=''
    intsize=4, longsize=8, ptrsize=8, doublesize=8, byteorder=12345678
    d_longlong=define, longlongsize=8, d_longdbl=define, longdblsize=16
    ivtype='long', ivsize=8, nvtype='double', nvsize=8, Off_t='off_t', lseeksize=8
    alignbytes=8, prototype=define
  Linker and Libraries:
    ld='cc', ldflags =' -fstack-protector -L/usr/local/lib'
    libpth=/usr/local/lib /lib/../lib64 /usr/lib/../lib64 /lib /usr/lib /lib64 /usr/lib64 /usr/local/lib64
    libs=-lnsl -lgdbm -ldb -ldl -lm -lcrypt -lutil -lc
    perllibs=-lnsl -ldl -lm -lcrypt -lutil -lc
    libc=, so=so, useshrplib=false, libperl=libperl.a
    gnulibc_version='2.11.1'
  Dynamic Linking:
    dlsrc=dl_dlopen.xs, dlext=so, d_dlsymun=undef, ccdlflags='-Wl,-E'
    cccdlflags='-fPIC', lddlflags='-shared -O2 -L/usr/local/lib -fstack-protector'


Characteristics of this binary (from libperl): 
  Compile-time options: PERL_DONT_CREATE_GVSV PERL_MALLOC_WRAP
                        PERL_PRESERVE_IVUV PERL_USE_DEVEL USE_64_BIT_ALL
                        USE_64_BIT_INT USE_LARGE_FILES USE_LOCALE
                        USE_LOCALE_COLLATE USE_LOCALE_CTYPE
                        USE_LOCALE_NUMERIC USE_PERLIO USE_PERL_ATOF
  Built under linux
  Compiled at Jun 21 2011 13:17:57
  %ENV:
    PERL5LIB=":/home/cpan/pit/bare/conf/perl-5.15.0/.cpanplus/5.15.0/build/Devel-FakeOSName-0.01/blib/lib:/home/cpan/pit/bare/conf/perl-5.15.0/.cpanplus/5.15.0/build/Devel-FakeOSName-0.01/blib/arch:/home/cpan/pit/bare/conf/perl-5.15.0/.cpanplus/5.15.0/build/Win32-Mock-0.05/blib/lib:/home/cpan/pit/bare/conf/perl-5.15.0/.cpanplus/5.15.0/build/Win32-Mock-0.05/blib/arch"
    PERL5_CPANPLUS_IS_RUNNING="22745"
    PERL5_CPANPLUS_IS_VERSION="0.9109"
    PERL5_MINISMOKEBOX="0.54"
    PERL5_YACSMOKE_BASE="/home/cpan/pit/bare/conf/perl-5.15.0"
    PERL_EXTUTILS_AUTOINSTALL="--defaultdeps"
    PERL_MM_USE_DEFAULT="1"
  @INC:
    /home/cpan/pit/bare/conf/perl-5.15.0/.cpanplus/5.15.0/build/Devel-FakeOSName-0.01/blib/lib
    /home/cpan/pit/bare/conf/perl-5.15.0/.cpanplus/5.15.0/build/Devel-FakeOSName-0.01/blib/arch
    /home/cpan/pit/bare/conf/perl-5.15.0/.cpanplus/5.15.0/build/Win32-Mock-0.05/blib/lib
    /home/cpan/pit/bare/conf/perl-5.15.0/.cpanplus/5.15.0/build/Win32-Mock-0.05/blib/arch
    /home/cpan/pit/bare/perl-5.15.0/lib/site_perl/5.15.0/x86_64-linux
    /home/cpan/pit/bare/perl-5.15.0/lib/site_perl/5.15.0
    /home/cpan/pit/bare/perl-5.15.0/lib/5.15.0/x86_64-linux
    /home/cpan/pit/bare/perl-5.15.0/lib/5.15.0
    .