ExtUtils-MakeMaker v7.72 Perl 5 v5.32.1 darwin-2level

Status
Pass
From
Stanislaw Pusep
Dist
ExtUtils-MakeMaker v7.72
Platform
Perl 5 v5.32.1 darwin-2level
Date
2025-03-18 14:24:25
ID
b1627e0a-0404-11f0-b800-a16ee1b74f2d
This distribution has been tested as part of the CPAN Testers
project, supporting the Perl programming language.  See
http://wiki.cpantesters.org/ for more information or email
questions to cpan-testers-discuss@perl.org


--
Dear BINGOS,

This is a computer-generated report for ExtUtils-MakeMaker-7.72
on perl 5.32.1, created by App::cpanminus::reporter 0.22 (1.7047).

Thank you for uploading your work to CPAN.  Congratulations!
All tests were successful.

Sections of this report:

    * Tester comments
    * Program output
    * Prerequisites
    * Environment and other context

------------------------------
TESTER COMMENTS
------------------------------

Additional comments from tester:

none provided

------------------------------
PROGRAM OUTPUT
------------------------------

Output from '':

Building and testing ExtUtils-MakeMaker-7.72
cp lib/ExtUtils/MM_OS390.pm blib/lib/ExtUtils/MM_OS390.pm
cp lib/ExtUtils/MM_Cygwin.pm blib/lib/ExtUtils/MM_Cygwin.pm
cp lib/ExtUtils/MM_BeOS.pm blib/lib/ExtUtils/MM_BeOS.pm
cp lib/ExtUtils/MM_Any.pm blib/lib/ExtUtils/MM_Any.pm
cp lib/ExtUtils/MM_OS2.pm blib/lib/ExtUtils/MM_OS2.pm
cp lib/ExtUtils/MY.pm blib/lib/ExtUtils/MY.pm
cp lib/ExtUtils/MM_Win95.pm blib/lib/ExtUtils/MM_Win95.pm
cp lib/ExtUtils/MakeMaker/FAQ.pod blib/lib/ExtUtils/MakeMaker/FAQ.pod
cp lib/ExtUtils/MM.pm blib/lib/ExtUtils/MM.pm
cp lib/ExtUtils/MM_NW5.pm blib/lib/ExtUtils/MM_NW5.pm
cp lib/ExtUtils/MM_AIX.pm blib/lib/ExtUtils/MM_AIX.pm
cp lib/ExtUtils/Command/MM.pm blib/lib/ExtUtils/Command/MM.pm
cp lib/ExtUtils/Command.pm blib/lib/ExtUtils/Command.pm
cp lib/ExtUtils/Liblist/Kid.pm blib/lib/ExtUtils/Liblist/Kid.pm
cp lib/ExtUtils/testlib.pm blib/lib/ExtUtils/testlib.pm
cp lib/ExtUtils/MM_VMS.pm blib/lib/ExtUtils/MM_VMS.pm
cp lib/ExtUtils/Mkbootstrap.pm blib/lib/ExtUtils/Mkbootstrap.pm
cp lib/ExtUtils/MM_QNX.pm blib/lib/ExtUtils/MM_QNX.pm
cp lib/ExtUtils/MakeMaker/version.pm blib/lib/ExtUtils/MakeMaker/version.pm
cp lib/ExtUtils/MM_Darwin.pm blib/lib/ExtUtils/MM_Darwin.pm
cp lib/ExtUtils/MakeMaker.pm blib/lib/ExtUtils/MakeMaker.pm
cp lib/ExtUtils/MM_DOS.pm blib/lib/ExtUtils/MM_DOS.pm
cp lib/ExtUtils/MakeMaker/Tutorial.pod blib/lib/ExtUtils/MakeMaker/Tutorial.pod
cp lib/ExtUtils/MM_UWIN.pm blib/lib/ExtUtils/MM_UWIN.pm
cp lib/ExtUtils/MakeMaker/Config.pm blib/lib/ExtUtils/MakeMaker/Config.pm
cp lib/ExtUtils/MakeMaker/version/vpp.pm blib/lib/ExtUtils/MakeMaker/version/vpp.pm
cp lib/ExtUtils/MM_Unix.pm blib/lib/ExtUtils/MM_Unix.pm
cp lib/ExtUtils/MM_VOS.pm blib/lib/ExtUtils/MM_VOS.pm
cp lib/ExtUtils/MM_Win32.pm blib/lib/ExtUtils/MM_Win32.pm
cp lib/ExtUtils/Mksymlists.pm blib/lib/ExtUtils/Mksymlists.pm
cp lib/ExtUtils/Liblist.pm blib/lib/ExtUtils/Liblist.pm
cp lib/ExtUtils/MM_MacOS.pm blib/lib/ExtUtils/MM_MacOS.pm
cp lib/ExtUtils/MakeMaker/Locale.pm blib/lib/ExtUtils/MakeMaker/Locale.pm
cp lib/ExtUtils/MakeMaker/version/regex.pm blib/lib/ExtUtils/MakeMaker/version/regex.pm
cp bin/instmodsh blib/script/instmodsh
"/Users/stan/perl5/perlbrew/perls/perl-5.32.1/bin/perl" "-Iblib/arch" "-Iblib/lib" -MExtUtils::MY -e 'MY->fixin(shift)' -- blib/script/instmodsh
Manifying 1 pod document
Manifying 30 pod documents
PERL_DL_NONLAZY=1 "/Users/stan/perl5/perlbrew/perls/perl-5.32.1/bin/perl" "-Iblib/arch" "-Iblib/lib" "-MExtUtils::Command::MM" "-MTest::Harness" "-e" "undef *Test::Harness::Switches; test_harness(0, 'blib/lib', 'blib/arch')" t/*.t
t/00compile.t ............. ok
t/01perl_bugs.t ........... ok
t/02-xsdynamic.t .......... ok
t/03-xsstatic.t ........... skipped: darwin
Warning: -L./mylib changed to -L/Users/stan/.cpanm/work/1742307708.3292/ExtUtils-MakeMaker-7.72/t/j7a5QvKS0v/./mylib
In file included from Module.xs:2:
In file included from /Users/stan/perl5/perlbrew/perls/perl-5.32.1/lib/5.32.1/darwin-2level/CORE/perl.h:3921:
In file included from /Users/stan/perl5/perlbrew/perls/perl-5.32.1/lib/5.32.1/darwin-2level/CORE/hv.h:663:
In file included from /Users/stan/perl5/perlbrew/perls/perl-5.32.1/lib/5.32.1/darwin-2level/CORE/hv_func.h:35:
In file included from /Users/stan/perl5/perlbrew/perls/perl-5.32.1/lib/5.32.1/darwin-2level/CORE/sbox32_hash.h:4:
/Users/stan/perl5/perlbrew/perls/perl-5.32.1/lib/5.32.1/darwin-2level/CORE/zaphod32_hash.h:150:5: warning: '(' and '{' tokens introducing statement expression appear in different macro expansion contexts [-Wcompound-token-split-by-macro]
    ZAPHOD32_SCRAMBLE32(state[0],0x9fade23b);
    ^~~~~~~~~~~~~~~~~~~~~~~~~~~~~~~~~~~~~~~~
/Users/stan/perl5/perlbrew/perls/perl-5.32.1/lib/5.32.1/darwin-2level/CORE/zaphod32_hash.h:80:38: note: expanded from macro 'ZAPHOD32_SCRAMBLE32'
#define ZAPHOD32_SCRAMBLE32(v,prime) STMT_START {  \
                                     ^~~~~~~~~~
/Users/stan/perl5/perlbrew/perls/perl-5.32.1/lib/5.32.1/darwin-2level/CORE/perl.h:666:29: note: expanded from macro 'STMT_START'
#   define STMT_START   (void)( /* gcc supports "({ STATEMENTS; })" */
                              ^
/Users/stan/perl5/perlbrew/perls/perl-5.32.1/lib/5.32.1/darwin-2level/CORE/zaphod32_hash.h:150:5: note: '{' token is here
    ZAPHOD32_SCRAMBLE32(state[0],0x9fade23b);
    ^~~~~~~~~~~~~~~~~~~~~~~~~~~~~~~~~~~~~~~~
/Users/stan/perl5/perlbrew/perls/perl-5.32.1/lib/5.32.1/darwin-2level/CORE/zaphod32_hash.h:80:49: note: expanded from macro 'ZAPHOD32_SCRAMBLE32'
#define ZAPHOD32_SCRAMBLE32(v,prime) STMT_START {  \
                                                ^
/Users/stan/perl5/perlbrew/perls/perl-5.32.1/lib/5.32.1/darwin-2level/CORE/zaphod32_hash.h:150:5: warning: '}' and ')' tokens terminating statement expression appear in different macro expansion contexts [-Wcompound-token-split-by-macro]
    ZAPHOD32_SCRAMBLE32(state[0],0x9fade23b);
    ^~~~~~~~~~~~~~~~~~~~~~~~~~~~~~~~~~~~~~~~
/Users/stan/perl5/perlbrew/perls/perl-5.32.1/lib/5.32.1/darwin-2level/CORE/zaphod32_hash.h:87:41: note: expanded from macro 'ZAPHOD32_SCRAMBLE32'
    v ^= (v>>23);                       \
                                        ^
/Users/stan/perl5/perlbrew/perls/perl-5.32.1/lib/5.32.1/darwin-2level/CORE/zaphod32_hash.h:150:5: note: ')' token is here
    ZAPHOD32_SCRAMBLE32(state[0],0x9fade23b);
    ^~~~~~~~~~~~~~~~~~~~~~~~~~~~~~~~~~~~~~~~
/Users/stan/perl5/perlbrew/perls/perl-5.32.1/lib/5.32.1/darwin-2level/CORE/zaphod32_hash.h:88:3: note: expanded from macro 'ZAPHOD32_SCRAMBLE32'
} STMT_END
  ^~~~~~~~
/Users/stan/perl5/perlbrew/perls/perl-5.32.1/lib/5.32.1/darwin-2level/CORE/perl.h:667:21: note: expanded from macro 'STMT_END'
#   define STMT_END     )
                        ^
In file included from Module.xs:2:
In file included from /Users/stan/perl5/perlbrew/perls/perl-5.32.1/lib/5.32.1/darwin-2level/CORE/perl.h:3921:
In file included from /Users/stan/perl5/perlbrew/perls/perl-5.32.1/lib/5.32.1/darwin-2level/CORE/hv.h:663:
In file included from /Users/stan/perl5/perlbrew/perls/perl-5.32.1/lib/5.32.1/darwin-2level/CORE/hv_func.h:35:
In file included from /Users/stan/perl5/perlbrew/perls/perl-5.32.1/lib/5.32.1/darwin-2level/CORE/sbox32_hash.h:4:
/Users/stan/perl5/perlbrew/perls/perl-5.32.1/lib/5.32.1/darwin-2level/CORE/zaphod32_hash.h:151:5: warning: '(' and '{' tokens introducing statement expression appear in different macro expansion contexts [-Wcompound-token-split-by-macro]
    ZAPHOD32_SCRAMBLE32(state[1],0xaa6f908d);
    ^~~~~~~~~~~~~~~~~~~~~~~~~~~~~~~~~~~~~~~~
/Users/stan/perl5/perlbrew/perls/perl-5.32.1/lib/5.32.1/darwin-2level/CORE/zaphod32_hash.h:80:38: note: expanded from macro 'ZAPHOD32_SCRAMBLE32'
#define ZAPHOD32_SCRAMBLE32(v,prime) STMT_START {  \
                                     ^~~~~~~~~~
/Users/stan/perl5/perlbrew/perls/perl-5.32.1/lib/5.32.1/darwin-2level/CORE/perl.h:666:29: note: expanded from macro 'STMT_START'
#   define STMT_START   (void)( /* gcc supports "({ STATEMENTS; })" */
                              ^
/Users/stan/perl5/perlbrew/perls/perl-5.32.1/lib/5.32.1/darwin-2level/CORE/zaphod32_hash.h:151:5: note: '{' token is here
    ZAPHOD32_SCRAMBLE32(state[1],0xaa6f908d);
    ^~~~~~~~~~~~~~~~~~~~~~~~~~~~~~~~~~~~~~~~
/Users/stan/perl5/perlbrew/perls/perl-5.32.1/lib/5.32.1/darwin-2level/CORE/zaphod32_hash.h:80:49: note: expanded from macro 'ZAPHOD32_SCRAMBLE32'
#define ZAPHOD32_SCRAMBLE32(v,prime) STMT_START {  \
                                                ^
/Users/stan/perl5/perlbrew/perls/perl-5.32.1/lib/5.32.1/darwin-2level/CORE/zaphod32_hash.h:151:5: warning: '}' and ')' tokens terminating statement expression appear in different macro expansion contexts [-Wcompound-token-split-by-macro]
    ZAPHOD32_SCRAMBLE32(state[1],0xaa6f908d);
    ^~~~~~~~~~~~~~~~~~~~~~~~~~~~~~~~~~~~~~~~
/Users/stan/perl5/perlbrew/perls/perl-5.32.1/lib/5.32.1/darwin-2level/CORE/zaphod32_hash.h:87:41: note: expanded from macro 'ZAPHOD32_SCRAMBLE32'
    v ^= (v>>23);                       \
                                        ^
/Users/stan/perl5/perlbrew/perls/perl-5.32.1/lib/5.32.1/darwin-2level/CORE/zaphod32_hash.h:151:5: note: ')' token is here
    ZAPHOD32_SCRAMBLE32(state[1],0xaa6f908d);
    ^~~~~~~~~~~~~~~~~~~~~~~~~~~~~~~~~~~~~~~~
/Users/stan/perl5/perlbrew/perls/perl-5.32.1/lib/5.32.1/darwin-2level/CORE/zaphod32_hash.h:88:3: note: expanded from macro 'ZAPHOD32_SCRAMBLE32'
} STMT_END
  ^~~~~~~~
/Users/stan/perl5/perlbrew/perls/perl-5.32.1/lib/5.32.1/darwin-2level/CORE/perl.h:667:21: note: expanded from macro 'STMT_END'
#   define STMT_END     )
                        ^
In file included from Module.xs:2:
In file included from /Users/stan/perl5/perlbrew/perls/perl-5.32.1/lib/5.32.1/darwin-2level/CORE/perl.h:3921:
In file included from /Users/stan/perl5/perlbrew/perls/perl-5.32.1/lib/5.32.1/darwin-2level/CORE/hv.h:663:
In file included from /Users/stan/perl5/perlbrew/perls/perl-5.32.1/lib/5.32.1/darwin-2level/CORE/hv_func.h:35:
In file included from /Users/stan/perl5/perlbrew/perls/perl-5.32.1/lib/5.32.1/darwin-2level/CORE/sbox32_hash.h:4:
/Users/stan/perl5/perlbrew/perls/perl-5.32.1/lib/5.32.1/darwin-2level/CORE/zaphod32_hash.h:152:5: warning: '(' and '{' tokens introducing statement expression appear in different macro expansion contexts [-Wcompound-token-split-by-macro]
    ZAPHOD32_SCRAMBLE32(state[2],0xcdf6b72d);
    ^~~~~~~~~~~~~~~~~~~~~~~~~~~~~~~~~~~~~~~~
/Users/stan/perl5/perlbrew/perls/perl-5.32.1/lib/5.32.1/darwin-2level/CORE/zaphod32_hash.h:80:38: note: expanded from macro 'ZAPHOD32_SCRAMBLE32'
#define ZAPHOD32_SCRAMBLE32(v,prime) STMT_START {  \
                                     ^~~~~~~~~~
/Users/stan/perl5/perlbrew/perls/perl-5.32.1/lib/5.32.1/darwin-2level/CORE/perl.h:666:29: note: expanded from macro 'STMT_START'
#   define STMT_START   (void)( /* gcc supports "({ STATEMENTS; })" */
                              ^
/Users/stan/perl5/perlbrew/perls/perl-5.32.1/lib/5.32.1/darwin-2level/CORE/zaphod32_hash.h:152:5: note: '{' token is here
    ZAPHOD32_SCRAMBLE32(state[2],0xcdf6b72d);
    ^~~~~~~~~~~~~~~~~~~~~~~~~~~~~~~~~~~~~~~~
/Users/stan/perl5/perlbrew/perls/perl-5.32.1/lib/5.32.1/darwin-2level/CORE/zaphod32_hash.h:80:49: note: expanded from macro 'ZAPHOD32_SCRAMBLE32'
#define ZAPHOD32_SCRAMBLE32(v,prime) STMT_START {  \
                                                ^
/Users/stan/perl5/perlbrew/perls/perl-5.32.1/lib/5.32.1/darwin-2level/CORE/zaphod32_hash.h:152:5: warning: '}' and ')' tokens terminating statement expression appear in different macro expansion contexts [-Wcompound-token-split-by-macro]
    ZAPHOD32_SCRAMBLE32(state[2],0xcdf6b72d);
    ^~~~~~~~~~~~~~~~~~~~~~~~~~~~~~~~~~~~~~~~
/Users/stan/perl5/perlbrew/perls/perl-5.32.1/lib/5.32.1/darwin-2level/CORE/zaphod32_hash.h:87:41: note: expanded from macro 'ZAPHOD32_SCRAMBLE32'
    v ^= (v>>23);                       \
                                        ^
/Users/stan/perl5/perlbrew/perls/perl-5.32.1/lib/5.32.1/darwin-2level/CORE/zaphod32_hash.h:152:5: note: ')' token is here
    ZAPHOD32_SCRAMBLE32(state[2],0xcdf6b72d);
    ^~~~~~~~~~~~~~~~~~~~~~~~~~~~~~~~~~~~~~~~
/Users/stan/perl5/perlbrew/perls/perl-5.32.1/lib/5.32.1/darwin-2level/CORE/zaphod32_hash.h:88:3: note: expanded from macro 'ZAPHOD32_SCRAMBLE32'
} STMT_END
  ^~~~~~~~
/Users/stan/perl5/perlbrew/perls/perl-5.32.1/lib/5.32.1/darwin-2level/CORE/perl.h:667:21: note: expanded from macro 'STMT_END'
#   define STMT_END     )
                        ^
In file included from Module.xs:2:
In file included from /Users/stan/perl5/perlbrew/perls/perl-5.32.1/lib/5.32.1/darwin-2level/CORE/perl.h:3921:
In file included from /Users/stan/perl5/perlbrew/perls/perl-5.32.1/lib/5.32.1/darwin-2level/CORE/hv.h:663:
In file included from /Users/stan/perl5/perlbrew/perls/perl-5.32.1/lib/5.32.1/darwin-2level/CORE/hv_func.h:35:
In file included from /Users/stan/perl5/perlbrew/perls/perl-5.32.1/lib/5.32.1/darwin-2level/CORE/sbox32_hash.h:4:
/Users/stan/perl5/perlbrew/perls/perl-5.32.1/lib/5.32.1/darwin-2level/CORE/zaphod32_hash.h:156:5: warning: '(' and '{' tokens introducing statement expression appear in different macro expansion contexts [-Wcompound-token-split-by-macro]
    ZAPHOD32_MIX(state[0],state[1],state[2],"ZAPHOD32 SEED-STATE A 1/4");
    ^~~~~~~~~~~~~~~~~~~~~~~~~~~~~~~~~~~~~~~~~~~~~~~~~~~~~~~~~~~~~~~~~~~~
/Users/stan/perl5/perlbrew/perls/perl-5.32.1/lib/5.32.1/darwin-2level/CORE/zaphod32_hash.h:116:37: note: expanded from macro 'ZAPHOD32_MIX'
#define ZAPHOD32_MIX(v0,v1,v2,text) STMT_START {                              \
                                    ^~~~~~~~~~
/Users/stan/perl5/perlbrew/perls/perl-5.32.1/lib/5.32.1/darwin-2level/CORE/perl.h:666:29: note: expanded from macro 'STMT_START'
#   define STMT_START   (void)( /* gcc supports "({ STATEMENTS; })" */
                              ^
/Users/stan/perl5/perlbrew/perls/perl-5.32.1/lib/5.32.1/darwin-2level/CORE/zaphod32_hash.h:156:5: note: '{' token is here
    ZAPHOD32_MIX(state[0],state[1],state[2],"ZAPHOD32 SEED-STATE A 1/4");
    ^~~~~~~~~~~~~~~~~~~~~~~~~~~~~~~~~~~~~~~~~~~~~~~~~~~~~~~~~~~~~~~~~~~~
/Users/stan/perl5/perlbrew/perls/perl-5.32.1/lib/5.32.1/darwin-2level/CORE/zaphod32_hash.h:116:48: note: expanded from macro 'ZAPHOD32_MIX'
#define ZAPHOD32_MIX(v0,v1,v2,text) STMT_START {                              \
                                               ^
/Users/stan/perl5/perlbrew/perls/perl-5.32.1/lib/5.32.1/darwin-2level/CORE/zaphod32_hash.h:156:5: warning: '}' and ')' tokens terminating statement expression appear in different macro expansion contexts [-Wcompound-token-split-by-macro]
    ZAPHOD32_MIX(state[0],state[1],state[2],"ZAPHOD32 SEED-STATE A 1/4");
    ^~~~~~~~~~~~~~~~~~~~~~~~~~~~~~~~~~~~~~~~~~~~~~~~~~~~~~~~~~~~~~~~~~~~
/Users/stan/perl5/perlbrew/perls/perl-5.32.1/lib/5.32.1/darwin-2level/CORE/zaphod32_hash.h:124:32: note: expanded from macro 'ZAPHOD32_MIX'
    v2 = ROTR32(v2, 7) ^ v0;   \
                               ^
/Users/stan/perl5/perlbrew/perls/perl-5.32.1/lib/5.32.1/darwin-2level/CORE/zaphod32_hash.h:156:5: note: ')' token is here
    ZAPHOD32_MIX(state[0],state[1],state[2],"ZAPHOD32 SEED-STATE A 1/4");
    ^~~~~~~~~~~~~~~~~~~~~~~~~~~~~~~~~~~~~~~~~~~~~~~~~~~~~~~~~~~~~~~~~~~~
/Users/stan/perl5/perlbrew/perls/perl-5.32.1/lib/5.32.1/darwin-2level/CORE/zaphod32_hash.h:125:3: note: expanded from macro 'ZAPHOD32_MIX'
} STMT_END
  ^~~~~~~~
/Users/stan/perl5/perlbrew/perls/perl-5.32.1/lib/5.32.1/darwin-2level/CORE/perl.h:667:21: note: expanded from macro 'STMT_END'
#   define STMT_END     )
                        ^
In file included from Module.xs:2:
In file included from /Users/stan/perl5/perlbrew/perls/perl-5.32.1/lib/5.32.1/darwin-2level/CORE/perl.h:3921:
In file included from /Users/stan/perl5/perlbrew/perls/perl-5.32.1/lib/5.32.1/darwin-2level/CORE/hv.h:663:
In file included from /Users/stan/perl5/perlbrew/perls/perl-5.32.1/lib/5.32.1/darwin-2level/CORE/hv_func.h:35:
In file included from /Users/stan/perl5/perlbrew/perls/perl-5.32.1/lib/5.32.1/darwin-2level/CORE/sbox32_hash.h:4:
/Users/stan/perl5/perlbrew/perls/perl-5.32.1/lib/5.32.1/darwin-2level/CORE/zaphod32_hash.h:157:5: warning: '(' and '{' tokens introducing statement expression appear in different macro expansion contexts [-Wcompound-token-split-by-macro]
    ZAPHOD32_MIX(state[0],state[1],state[2],"ZAPHOD32 SEED-STATE A 2/4");
    ^~~~~~~~~~~~~~~~~~~~~~~~~~~~~~~~~~~~~~~~~~~~~~~~~~~~~~~~~~~~~~~~~~~~
/Users/stan/perl5/perlbrew/perls/perl-5.32.1/lib/5.32.1/darwin-2level/CORE/zaphod32_hash.h:116:37: note: expanded from macro 'ZAPHOD32_MIX'
#define ZAPHOD32_MIX(v0,v1,v2,text) STMT_START {                              \
                                    ^~~~~~~~~~
/Users/stan/perl5/perlbrew/perls/perl-5.32.1/lib/5.32.1/darwin-2level/CORE/perl.h:666:29: note: expanded from macro 'STMT_START'
#   define STMT_START   (void)( /* gcc supports "({ STATEMENTS; })" */
                              ^
/Users/stan/perl5/perlbrew/perls/perl-5.32.1/lib/5.32.1/darwin-2level/CORE/zaphod32_hash.h:157:5: note: '{' token is here
    ZAPHOD32_MIX(state[0],state[1],state[2],"ZAPHOD32 SEED-STATE A 2/4");
    ^~~~~~~~~~~~~~~~~~~~~~~~~~~~~~~~~~~~~~~~~~~~~~~~~~~~~~~~~~~~~~~~~~~~
/Users/stan/perl5/perlbrew/perls/perl-5.32.1/lib/5.32.1/darwin-2level/CORE/zaphod32_hash.h:116:48: note: expanded from macro 'ZAPHOD32_MIX'
#define ZAPHOD32_MIX(v0,v1,v2,text) STMT_START {                              \
                                               ^
/Users/stan/perl5/perlbrew/perls/perl-5.32.1/lib/5.32.1/darwin-2level/CORE/zaphod32_hash.h:157:5: warning: '}' and ')' tokens terminating statement expression appear in different macro expansion contexts [-Wcompound-token-split-by-macro]
    ZAPHOD32_MIX(state[0],state[1],state[2],"ZAPHOD32 SEED-STATE A 2/4");
    ^~~~~~~~~~~~~~~~~~~~~~~~~~~~~~~~~~~~~~~~~~~~~~~~~~~~~~~~~~~~~~~~~~~~
/Users/stan/perl5/perlbrew/perls/perl-5.32.1/lib/5.32.1/darwin-2level/CORE/zaphod32_hash.h:124:32: note: expanded from macro 'ZAPHOD32_MIX'
    v2 = ROTR32(v2, 7) ^ v0;   \
                               ^
/Users/stan/perl5/perlbrew/perls/perl-5.32.1/lib/5.32.1/darwin-2level/CORE/zaphod32_hash.h:157:5: note: ')' token is here
    ZAPHOD32_MIX(state[0],state[1],state[2],"ZAPHOD32 SEED-STATE A 2/4");
    ^~~~~~~~~~~~~~~~~~~~~~~~~~~~~~~~~~~~~~~~~~~~~~~~~~~~~~~~~~~~~~~~~~~~
/Users/stan/perl5/perlbrew/perls/perl-5.32.1/lib/5.32.1/darwin-2level/CORE/zaphod32_hash.h:125:3: note: expanded from macro 'ZAPHOD32_MIX'
} STMT_END
  ^~~~~~~~
/Users/stan/perl5/perlbrew/perls/perl-5.32.1/lib/5.32.1/darwin-2level/CORE/perl.h:667:21: note: expanded from macro 'STMT_END'
#   define STMT_END     )
                        ^
In file included from Module.xs:2:
In file included from /Users/stan/perl5/perlbrew/perls/perl-5.32.1/lib/5.32.1/darwin-2level/CORE/perl.h:3921:
In file included from /Users/stan/perl5/perlbrew/perls/perl-5.32.1/lib/5.32.1/darwin-2level/CORE/hv.h:663:
In file included from /Users/stan/perl5/perlbrew/perls/perl-5.32.1/lib/5.32.1/darwin-2level/CORE/hv_func.h:35:
In file included from /Users/stan/perl5/perlbrew/perls/perl-5.32.1/lib/5.32.1/darwin-2level/CORE/sbox32_hash.h:4:
/Users/stan/perl5/perlbrew/perls/perl-5.32.1/lib/5.32.1/darwin-2level/CORE/zaphod32_hash.h:158:5: warning: '(' and '{' tokens introducing statement expression appear in different macro expansion contexts [-Wcompound-token-split-by-macro]
    ZAPHOD32_MIX(state[0],state[1],state[2],"ZAPHOD32 SEED-STATE A 3/4");
    ^~~~~~~~~~~~~~~~~~~~~~~~~~~~~~~~~~~~~~~~~~~~~~~~~~~~~~~~~~~~~~~~~~~~
/Users/stan/perl5/perlbrew/perls/perl-5.32.1/lib/5.32.1/darwin-2level/CORE/zaphod32_hash.h:116:37: note: expanded from macro 'ZAPHOD32_MIX'
#define ZAPHOD32_MIX(v0,v1,v2,text) STMT_START {                              \
                                    ^~~~~~~~~~
/Users/stan/perl5/perlbrew/perls/perl-5.32.1/lib/5.32.1/darwin-2level/CORE/perl.h:666:29: note: expanded from macro 'STMT_START'
#   define STMT_START   (void)( /* gcc supports "({ STATEMENTS; })" */
                              ^
/Users/stan/perl5/perlbrew/perls/perl-5.32.1/lib/5.32.1/darwin-2level/CORE/zaphod32_hash.h:158:5: note: '{' token is here
    ZAPHOD32_MIX(state[0],state[1],state[2],"ZAPHOD32 SEED-STATE A 3/4");
    ^~~~~~~~~~~~~~~~~~~~~~~~~~~~~~~~~~~~~~~~~~~~~~~~~~~~~~~~~~~~~~~~~~~~
/Users/stan/perl5/perlbrew/perls/perl-5.32.1/lib/5.32.1/darwin-2level/CORE/zaphod32_hash.h:116:48: note: expanded from macro 'ZAPHOD32_MIX'
#define ZAPHOD32_MIX(v0,v1,v2,text) STMT_START {                              \
                                               ^
/Users/stan/perl5/perlbrew/perls/perl-5.32.1/lib/5.32.1/darwin-2level/CORE/zaphod32_hash.h:158:5: warning: '}' and ')' tokens terminating statement expression appear in different macro expansion contexts [-Wcompound-token-split-by-macro]
    ZAPHOD32_MIX(state[0],state[1],state[2],"ZAPHOD32 SEED-STATE A 3/4");
    ^~~~~~~~~~~~~~~~~~~~~~~~~~~~~~~~~~~~~~~~~~~~~~~~~~~~~~~~~~~~~~~~~~~~
/Users/stan/perl5/perlbrew/perls/perl-5.32.1/lib/5.32.1/darwin-2level/CORE/zaphod32_hash.h:124:32: note: expanded from macro 'ZAPHOD32_MIX'
    v2 = ROTR32(v2, 7) ^ v0;   \
                               ^
/Users/stan/perl5/perlbrew/perls/perl-5.32.1/lib/5.32.1/darwin-2level/CORE/zaphod32_hash.h:158:5: note: ')' token is here
    ZAPHOD32_MIX(state[0],state[1],state[2],"ZAPHOD32 SEED-STATE A 3/4");
    ^~~~~~~~~~~~~~~~~~~~~~~~~~~~~~~~~~~~~~~~~~~~~~~~~~~~~~~~~~~~~~~~~~~~
/Users/stan/perl5/perlbrew/perls/perl-5.32.1/lib/5.32.1/darwin-2level/CORE/zaphod32_hash.h:125:3: note: expanded from macro 'ZAPHOD32_MIX'
} STMT_END
  ^~~~~~~~
/Users/stan/perl5/perlbrew/perls/perl-5.32.1/lib/5.32.1/darwin-2level/CORE/perl.h:667:21: note: expanded from macro 'STMT_END'
#   define STMT_END     )
                        ^
In file included from Module.xs:2:
In file included from /Users/stan/perl5/perlbrew/perls/perl-5.32.1/lib/5.32.1/darwin-2level/CORE/perl.h:3921:
In file included from /Users/stan/perl5/perlbrew/perls/perl-5.32.1/lib/5.32.1/darwin-2level/CORE/hv.h:663:
In file included from /Users/stan/perl5/perlbrew/perls/perl-5.32.1/lib/5.32.1/darwin-2level/CORE/hv_func.h:35:
In file included from /Users/stan/perl5/perlbrew/perls/perl-5.32.1/lib/5.32.1/darwin-2level/CORE/sbox32_hash.h:4:
/Users/stan/perl5/perlbrew/perls/perl-5.32.1/lib/5.32.1/darwin-2level/CORE/zaphod32_hash.h:159:5: warning: '(' and '{' tokens introducing statement expression appear in different macro expansion contexts [-Wcompound-token-split-by-macro]
    ZAPHOD32_MIX(state[0],state[1],state[2],"ZAPHOD32 SEED-STATE A 4/4");
    ^~~~~~~~~~~~~~~~~~~~~~~~~~~~~~~~~~~~~~~~~~~~~~~~~~~~~~~~~~~~~~~~~~~~
/Users/stan/perl5/perlbrew/perls/perl-5.32.1/lib/5.32.1/darwin-2level/CORE/zaphod32_hash.h:116:37: note: expanded from macro 'ZAPHOD32_MIX'
#define ZAPHOD32_MIX(v0,v1,v2,text) STMT_START {                              \
                                    ^~~~~~~~~~
/Users/stan/perl5/perlbrew/perls/perl-5.32.1/lib/5.32.1/darwin-2level/CORE/perl.h:666:29: note: expanded from macro 'STMT_START'
#   define STMT_START   (void)( /* gcc supports "({ STATEMENTS; })" */
                              ^
/Users/stan/perl5/perlbrew/perls/perl-5.32.1/lib/5.32.1/darwin-2level/CORE/zaphod32_hash.h:159:5: note: '{' token is here
    ZAPHOD32_MIX(state[0],state[1],state[2],"ZAPHOD32 SEED-STATE A 4/4");
    ^~~~~~~~~~~~~~~~~~~~~~~~~~~~~~~~~~~~~~~~~~~~~~~~~~~~~~~~~~~~~~~~~~~~
/Users/stan/perl5/perlbrew/perls/perl-5.32.1/lib/5.32.1/darwin-2level/CORE/zaphod32_hash.h:116:48: note: expanded from macro 'ZAPHOD32_MIX'
#define ZAPHOD32_MIX(v0,v1,v2,text) STMT_START {                              \
                                               ^
/Users/stan/perl5/perlbrew/perls/perl-5.32.1/lib/5.32.1/darwin-2level/CORE/zaphod32_hash.h:159:5: warning: '}' and ')' tokens terminating statement expression appear in different macro expansion contexts [-Wcompound-token-split-by-macro]
    ZAPHOD32_MIX(state[0],state[1],state[2],"ZAPHOD32 SEED-STATE A 4/4");
    ^~~~~~~~~~~~~~~~~~~~~~~~~~~~~~~~~~~~~~~~~~~~~~~~~~~~~~~~~~~~~~~~~~~~
/Users/stan/perl5/perlbrew/perls/perl-5.32.1/lib/5.32.1/darwin-2level/CORE/zaphod32_hash.h:124:32: note: expanded from macro 'ZAPHOD32_MIX'
    v2 = ROTR32(v2, 7) ^ v0;   \
                               ^
/Users/stan/perl5/perlbrew/perls/perl-5.32.1/lib/5.32.1/darwin-2level/CORE/zaphod32_hash.h:159:5: note: ')' token is here
    ZAPHOD32_MIX(state[0],state[1],state[2],"ZAPHOD32 SEED-STATE A 4/4");
    ^~~~~~~~~~~~~~~~~~~~~~~~~~~~~~~~~~~~~~~~~~~~~~~~~~~~~~~~~~~~~~~~~~~~
/Users/stan/perl5/perlbrew/perls/perl-5.32.1/lib/5.32.1/darwin-2level/CORE/zaphod32_hash.h:125:3: note: expanded from macro 'ZAPHOD32_MIX'
} STMT_END
  ^~~~~~~~
/Users/stan/perl5/perlbrew/perls/perl-5.32.1/lib/5.32.1/darwin-2level/CORE/perl.h:667:21: note: expanded from macro 'STMT_END'
#   define STMT_END     )
                        ^
In file included from Module.xs:2:
In file included from /Users/stan/perl5/perlbrew/perls/perl-5.32.1/lib/5.32.1/darwin-2level/CORE/perl.h:3921:
In file included from /Users/stan/perl5/perlbrew/perls/perl-5.32.1/lib/5.32.1/darwin-2level/CORE/hv.h:663:
In file included from /Users/stan/perl5/perlbrew/perls/perl-5.32.1/lib/5.32.1/darwin-2level/CORE/hv_func.h:35:
In file included from /Users/stan/perl5/perlbrew/perls/perl-5.32.1/lib/5.32.1/darwin-2level/CORE/sbox32_hash.h:4:
/Users/stan/perl5/perlbrew/perls/perl-5.32.1/lib/5.32.1/darwin-2level/CORE/zaphod32_hash.h:162:5: warning: '(' and '{' tokens introducing statement expression appear in different macro expansion contexts [-Wcompound-token-split-by-macro]
    ZAPHOD32_SCRAMBLE32(state[0],0xc95d22a9);
    ^~~~~~~~~~~~~~~~~~~~~~~~~~~~~~~~~~~~~~~~
/Users/stan/perl5/perlbrew/perls/perl-5.32.1/lib/5.32.1/darwin-2level/CORE/zaphod32_hash.h:80:38: note: expanded from macro 'ZAPHOD32_SCRAMBLE32'
#define ZAPHOD32_SCRAMBLE32(v,prime) STMT_START {  \
                                     ^~~~~~~~~~
/Users/stan/perl5/perlbrew/perls/perl-5.32.1/lib/5.32.1/darwin-2level/CORE/perl.h:666:29: note: expanded from macro 'STMT_START'
#   define STMT_START   (void)( /* gcc supports "({ STATEMENTS; })" */
                              ^
/Users/stan/perl5/perlbrew/perls/perl-5.32.1/lib/5.32.1/darwin-2level/CORE/zaphod32_hash.h:162:5: note: '{' token is here
    ZAPHOD32_SCRAMBLE32(state[0],0xc95d22a9);
    ^~~~~~~~~~~~~~~~~~~~~~~~~~~~~~~~~~~~~~~~
/Users/stan/perl5/perlbrew/perls/perl-5.32.1/lib/5.32.1/darwin-2level/CORE/zaphod32_hash.h:80:49: note: expanded from macro 'ZAPHOD32_SCRAMBLE32'
#define ZAPHOD32_SCRAMBLE32(v,prime) STMT_START {  \
                                                ^
/Users/stan/perl5/perlbrew/perls/perl-5.32.1/lib/5.32.1/darwin-2level/CORE/zaphod32_hash.h:162:5: warning: '}' and ')' tokens terminating statement expression appear in different macro expansion contexts [-Wcompound-token-split-by-macro]
    ZAPHOD32_SCRAMBLE32(state[0],0xc95d22a9);
    ^~~~~~~~~~~~~~~~~~~~~~~~~~~~~~~~~~~~~~~~
/Users/stan/perl5/perlbrew/perls/perl-5.32.1/lib/5.32.1/darwin-2level/CORE/zaphod32_hash.h:87:41: note: expanded from macro 'ZAPHOD32_SCRAMBLE32'
    v ^= (v>>23);                       \
                                        ^
/Users/stan/perl5/perlbrew/perls/perl-5.32.1/lib/5.32.1/darwin-2level/CORE/zaphod32_hash.h:162:5: note: ')' token is here
    ZAPHOD32_SCRAMBLE32(state[0],0xc95d22a9);
    ^~~~~~~~~~~~~~~~~~~~~~~~~~~~~~~~~~~~~~~~
/Users/stan/perl5/perlbrew/perls/perl-5.32.1/lib/5.32.1/darwin-2level/CORE/zaphod32_hash.h:88:3: note: expanded from macro 'ZAPHOD32_SCRAMBLE32'
} STMT_END
  ^~~~~~~~
/Users/stan/perl5/perlbrew/perls/perl-5.32.1/lib/5.32.1/darwin-2level/CORE/perl.h:667:21: note: expanded from macro 'STMT_END'
#   define STMT_END     )
                        ^
In file included from Module.xs:2:
In file included from /Users/stan/perl5/perlbrew/perls/perl-5.32.1/lib/5.32.1/darwin-2level/CORE/perl.h:3921:
In file included from /Users/stan/perl5/perlbrew/perls/perl-5.32.1/lib/5.32.1/darwin-2level/CORE/hv.h:663:
In file included from /Users/stan/perl5/perlbrew/perls/perl-5.32.1/lib/5.32.1/darwin-2level/CORE/hv_func.h:35:
In file included from /Users/stan/perl5/perlbrew/perls/perl-5.32.1/lib/5.32.1/darwin-2level/CORE/sbox32_hash.h:4:
/Users/stan/perl5/perlbrew/perls/perl-5.32.1/lib/5.32.1/darwin-2level/CORE/zaphod32_hash.h:163:5: warning: '(' and '{' tokens introducing statement expression appear in different macro expansion contexts [-Wcompound-token-split-by-macro]
    ZAPHOD32_SCRAMBLE32(state[1],0x8497242b);
    ^~~~~~~~~~~~~~~~~~~~~~~~~~~~~~~~~~~~~~~~
/Users/stan/perl5/perlbrew/perls/perl-5.32.1/lib/5.32.1/darwin-2level/CORE/zaphod32_hash.h:80:38: note: expanded from macro 'ZAPHOD32_SCRAMBLE32'
#define ZAPHOD32_SCRAMBLE32(v,prime) STMT_START {  \
                                     ^~~~~~~~~~
/Users/stan/perl5/perlbrew/perls/perl-5.32.1/lib/5.32.1/darwin-2level/CORE/perl.h:666:29: note: expanded from macro 'STMT_START'
#   define STMT_START   (void)( /* gcc supports "({ STATEMENTS; })" */
                              ^
/Users/stan/perl5/perlbrew/perls/perl-5.32.1/lib/5.32.1/darwin-2level/CORE/zaphod32_hash.h:163:5: note: '{' token is here
    ZAPHOD32_SCRAMBLE32(state[1],0x8497242b);
    ^~~~~~~~~~~~~~~~~~~~~~~~~~~~~~~~~~~~~~~~
/Users/stan/perl5/perlbrew/perls/perl-5.32.1/lib/5.32.1/darwin-2level/CORE/zaphod32_hash.h:80:49: note: expanded from macro 'ZAPHOD32_SCRAMBLE32'
#define ZAPHOD32_SCRAMBLE32(v,prime) STMT_START {  \
                                                ^
/Users/stan/perl5/perlbrew/perls/perl-5.32.1/lib/5.32.1/darwin-2level/CORE/zaphod32_hash.h:163:5: warning: '}' and ')' tokens terminating statement expression appear in different macro expansion contexts [-Wcompound-token-split-by-macro]
    ZAPHOD32_SCRAMBLE32(state[1],0x8497242b);
    ^~~~~~~~~~~~~~~~~~~~~~~~~~~~~~~~~~~~~~~~
/Users/stan/perl5/perlbrew/perls/perl-5.32.1/lib/5.32.1/darwin-2level/CORE/zaphod32_hash.h:87:41: note: expanded from macro 'ZAPHOD32_SCRAMBLE32'
    v ^= (v>>23);                       \
                                        ^
/Users/stan/perl5/perlbrew/perls/perl-5.32.1/lib/5.32.1/darwin-2level/CORE/zaphod32_hash.h:163:5: note: ')' token is here
    ZAPHOD32_SCRAMBLE32(state[1],0x8497242b);
    ^~~~~~~~~~~~~~~~~~~~~~~~~~~~~~~~~~~~~~~~
/Users/stan/perl5/perlbrew/perls/perl-5.32.1/lib/5.32.1/darwin-2level/CORE/zaphod32_hash.h:88:3: note: expanded from macro 'ZAPHOD32_SCRAMBLE32'
} STMT_END
  ^~~~~~~~
/Users/stan/perl5/perlbrew/perls/perl-5.32.1/lib/5.32.1/darwin-2level/CORE/perl.h:667:21: note: expanded from macro 'STMT_END'
#   define STMT_END     )
                        ^
In file included from Module.xs:2:
In file included from /Users/stan/perl5/perlbrew/perls/perl-5.32.1/lib/5.32.1/darwin-2level/CORE/perl.h:3921:
In file included from /Users/stan/perl5/perlbrew/perls/perl-5.32.1/lib/5.32.1/darwin-2level/CORE/hv.h:663:
In file included from /Users/stan/perl5/perlbrew/perls/perl-5.32.1/lib/5.32.1/darwin-2level/CORE/hv_func.h:35:
In file included from /Users/stan/perl5/perlbrew/perls/perl-5.32.1/lib/5.32.1/darwin-2level/CORE/sbox32_hash.h:4:
/Users/stan/perl5/perlbrew/perls/perl-5.32.1/lib/5.32.1/darwin-2level/CORE/zaphod32_hash.h:164:5: warning: '(' and '{' tokens introducing statement expression appear in different macro expansion contexts [-Wcompound-token-split-by-macro]
    ZAPHOD32_SCRAMBLE32(state[2],0x9c5cc4e9);
    ^~~~~~~~~~~~~~~~~~~~~~~~~~~~~~~~~~~~~~~~
/Users/stan/perl5/perlbrew/perls/perl-5.32.1/lib/5.32.1/darwin-2level/CORE/zaphod32_hash.h:80:38: note: expanded from macro 'ZAPHOD32_SCRAMBLE32'
#define ZAPHOD32_SCRAMBLE32(v,prime) STMT_START {  \
                                     ^~~~~~~~~~
/Users/stan/perl5/perlbrew/perls/perl-5.32.1/lib/5.32.1/darwin-2level/CORE/perl.h:666:29: note: expanded from macro 'STMT_START'
#   define STMT_START   (void)( /* gcc supports "({ STATEMENTS; })" */
                              ^
/Users/stan/perl5/perlbrew/perls/perl-5.32.1/lib/5.32.1/darwin-2level/CORE/zaphod32_hash.h:164:5: note: '{' token is here
    ZAPHOD32_SCRAMBLE32(state[2],0x9c5cc4e9);
    ^~~~~~~~~~~~~~~~~~~~~~~~~~~~~~~~~~~~~~~~
/Users/stan/perl5/perlbrew/perls/perl-5.32.1/lib/5.32.1/darwin-2level/CORE/zaphod32_hash.h:80:49: note: expanded from macro 'ZAPHOD32_SCRAMBLE32'
#define ZAPHOD32_SCRAMBLE32(v,prime) STMT_START {  \
                                                ^
/Users/stan/perl5/perlbrew/perls/perl-5.32.1/lib/5.32.1/darwin-2level/CORE/zaphod32_hash.h:164:5: warning: '}' and ')' tokens terminating statement expression appear in different macro expansion contexts [-Wcompound-token-split-by-macro]
    ZAPHOD32_SCRAMBLE32(state[2],0x9c5cc4e9);
    ^~~~~~~~~~~~~~~~~~~~~~~~~~~~~~~~~~~~~~~~
/Users/stan/perl5/perlbrew/perls/perl-5.32.1/lib/5.32.1/darwin-2level/CORE/zaphod32_hash.h:87:41: note: expanded from macro 'ZAPHOD32_SCRAMBLE32'
    v ^= (v>>23);                       \
                                        ^
/Users/stan/perl5/perlbrew/perls/perl-5.32.1/lib/5.32.1/darwin-2level/CORE/zaphod32_hash.h:164:5: note: ')' token is here
    ZAPHOD32_SCRAMBLE32(state[2],0x9c5cc4e9);
    ^~~~~~~~~~~~~~~~~~~~~~~~~~~~~~~~~~~~~~~~
/Users/stan/perl5/perlbrew/perls/perl-5.32.1/lib/5.32.1/darwin-2level/CORE/zaphod32_hash.h:88:3: note: expanded from macro 'ZAPHOD32_SCRAMBLE32'
} STMT_END
  ^~~~~~~~
/Users/stan/perl5/perlbrew/perls/perl-5.32.1/lib/5.32.1/darwin-2level/CORE/perl.h:667:21: note: expanded from macro 'STMT_END'
#   define STMT_END     )
                        ^
In file included from Module.xs:2:
In file included from /Users/stan/perl5/perlbrew/perls/perl-5.32.1/lib/5.32.1/darwin-2level/CORE/perl.h:3921:
In file included from /Users/stan/perl5/perlbrew/perls/perl-5.32.1/lib/5.32.1/darwin-2level/CORE/hv.h:663:
In file included from /Users/stan/perl5/perlbrew/perls/perl-5.32.1/lib/5.32.1/darwin-2level/CORE/hv_func.h:35:
In file included from /Users/stan/perl5/perlbrew/perls/perl-5.32.1/lib/5.32.1/darwin-2level/CORE/sbox32_hash.h:4:
/Users/stan/perl5/perlbrew/perls/perl-5.32.1/lib/5.32.1/darwin-2level/CORE/zaphod32_hash.h:167:5: warning: '(' and '{' tokens introducing statement expression appear in different macro expansion contexts [-Wcompound-token-split-by-macro]
    ZAPHOD32_MIX(state[0],state[1],state[2],"ZAPHOD32 SEED-STATE B 1/5");
    ^~~~~~~~~~~~~~~~~~~~~~~~~~~~~~~~~~~~~~~~~~~~~~~~~~~~~~~~~~~~~~~~~~~~
/Users/stan/perl5/perlbrew/perls/perl-5.32.1/lib/5.32.1/darwin-2level/CORE/zaphod32_hash.h:116:37: note: expanded from macro 'ZAPHOD32_MIX'
#define ZAPHOD32_MIX(v0,v1,v2,text) STMT_START {                              \
                                    ^~~~~~~~~~
/Users/stan/perl5/perlbrew/perls/perl-5.32.1/lib/5.32.1/darwin-2level/CORE/perl.h:666:29: note: expanded from macro 'STMT_START'
#   define STMT_START   (void)( /* gcc supports "({ STATEMENTS; })" */
                              ^
/Users/stan/perl5/perlbrew/perls/perl-5.32.1/lib/5.32.1/darwin-2level/CORE/zaphod32_hash.h:167:5: note: '{' token is here
    ZAPHOD32_MIX(state[0],state[1],state[2],"ZAPHOD32 SEED-STATE B 1/5");
    ^~~~~~~~~~~~~~~~~~~~~~~~~~~~~~~~~~~~~~~~~~~~~~~~~~~~~~~~~~~~~~~~~~~~
/Users/stan/perl5/perlbrew/perls/perl-5.32.1/lib/5.32.1/darwin-2level/CORE/zaphod32_hash.h:116:48: note: expanded from macro 'ZAPHOD32_MIX'
#define ZAPHOD32_MIX(v0,v1,v2,text) STMT_START {                              \
                                               ^
/Users/stan/perl5/perlbrew/perls/perl-5.32.1/lib/5.32.1/darwin-2level/CORE/zaphod32_hash.h:167:5: warning: '}' and ')' tokens terminating statement expression appear in different macro expansion contexts [-Wcompound-token-split-by-macro]
    ZAPHOD32_MIX(state[0],state[1],state[2],"ZAPHOD32 SEED-STATE B 1/5");
    ^~~~~~~~~~~~~~~~~~~~~~~~~~~~~~~~~~~~~~~~~~~~~~~~~~~~~~~~~~~~~~~~~~~~
/Users/stan/perl5/perlbrew/perls/perl-5.32.1/lib/5.32.1/darwin-2level/CORE/zaphod32_hash.h:124:32: note: expanded from macro 'ZAPHOD32_MIX'
    v2 = ROTR32(v2, 7) ^ v0;   \
                               ^
/Users/stan/perl5/perlbrew/perls/perl-5.32.1/lib/5.32.1/darwin-2level/CORE/zaphod32_hash.h:167:5: note: ')' token is here
    ZAPHOD32_MIX(state[0],state[1],state[2],"ZAPHOD32 SEED-STATE B 1/5");
    ^~~~~~~~~~~~~~~~~~~~~~~~~~~~~~~~~~~~~~~~~~~~~~~~~~~~~~~~~~~~~~~~~~~~
/Users/stan/perl5/perlbrew/perls/perl-5.32.1/lib/5.32.1/darwin-2level/CORE/zaphod32_hash.h:125:3: note: expanded from macro 'ZAPHOD32_MIX'
} STMT_END
  ^~~~~~~~
/Users/stan/perl5/perlbrew/perls/perl-5.32.1/lib/5.32.1/darwin-2level/CORE/perl.h:667:21: note: expanded from macro 'STMT_END'
#   define STMT_END     )
                        ^
In file included from Module.xs:2:
In file included from /Users/stan/perl5/perlbrew/perls/perl-5.32.1/lib/5.32.1/darwin-2level/CORE/perl.h:3921:
In file included from /Users/stan/perl5/perlbrew/perls/perl-5.32.1/lib/5.32.1/darwin-2level/CORE/hv.h:663:
In file included from /Users/stan/perl5/perlbrew/perls/perl-5.32.1/lib/5.32.1/darwin-2level/CORE/hv_func.h:35:
In file included from /Users/stan/perl5/perlbrew/perls/perl-5.32.1/lib/5.32.1/darwin-2level/CORE/sbox32_hash.h:4:
/Users/stan/perl5/perlbrew/perls/perl-5.32.1/lib/5.32.1/darwin-2level/CORE/zaphod32_hash.h:168:5: warning: '(' and '{' tokens introducing statement expression appear in different macro expansion contexts [-Wcompound-token-split-by-macro]
    ZAPHOD32_MIX(state[0],state[1],state[2],"ZAPHOD32 SEED-STATE B 2/5");
    ^~~~~~~~~~~~~~~~~~~~~~~~~~~~~~~~~~~~~~~~~~~~~~~~~~~~~~~~~~~~~~~~~~~~
/Users/stan/perl5/perlbrew/perls/perl-5.32.1/lib/5.32.1/darwin-2level/CORE/zaphod32_hash.h:116:37: note: expanded from macro 'ZAPHOD32_MIX'
#define ZAPHOD32_MIX(v0,v1,v2,text) STMT_START {                              \
                                    ^~~~~~~~~~
/Users/stan/perl5/perlbrew/perls/perl-5.32.1/lib/5.32.1/darwin-2level/CORE/perl.h:666:29: note: expanded from macro 'STMT_START'
#   define STMT_START   (void)( /* gcc supports "({ STATEMENTS; })" */
                              ^
/Users/stan/perl5/perlbrew/perls/perl-5.32.1/lib/5.32.1/darwin-2level/CORE/zaphod32_hash.h:168:5: note: '{' token is here
    ZAPHOD32_MIX(state[0],state[1],state[2],"ZAPHOD32 SEED-STATE B 2/5");
    ^~~~~~~~~~~~~~~~~~~~~~~~~~~~~~~~~~~~~~~~~~~~~~~~~~~~~~~~~~~~~~~~~~~~
/Users/stan/perl5/perlbrew/perls/perl-5.32.1/lib/5.32.1/darwin-2level/CORE/zaphod32_hash.h:116:48: note: expanded from macro 'ZAPHOD32_MIX'
#define ZAPHOD32_MIX(v0,v1,v2,text) STMT_START {                              \
                                               ^
/Users/stan/perl5/perlbrew/perls/perl-5.32.1/lib/5.32.1/darwin-2level/CORE/zaphod32_hash.h:168:5: warning: '}' and ')' tokens terminating statement expression appear in different macro expansion contexts [-Wcompound-token-split-by-macro]
    ZAPHOD32_MIX(state[0],state[1],state[2],"ZAPHOD32 SEED-STATE B 2/5");
    ^~~~~~~~~~~~~~~~~~~~~~~~~~~~~~~~~~~~~~~~~~~~~~~~~~~~~~~~~~~~~~~~~~~~
/Users/stan/perl5/perlbrew/perls/perl-5.32.1/lib/5.32.1/darwin-2level/CORE/zaphod32_hash.h:124:32: note: expanded from macro 'ZAPHOD32_MIX'
    v2 = ROTR32(v2, 7) ^ v0;   \
                               ^
/Users/stan/perl5/perlbrew/perls/perl-5.32.1/lib/5.32.1/darwin-2level/CORE/zaphod32_hash.h:168:5: note: ')' token is here
    ZAPHOD32_MIX(state[0],state[1],state[2],"ZAPHOD32 SEED-STATE B 2/5");
    ^~~~~~~~~~~~~~~~~~~~~~~~~~~~~~~~~~~~~~~~~~~~~~~~~~~~~~~~~~~~~~~~~~~~
/Users/stan/perl5/perlbrew/perls/perl-5.32.1/lib/5.32.1/darwin-2level/CORE/zaphod32_hash.h:125:3: note: expanded from macro 'ZAPHOD32_MIX'
} STMT_END
  ^~~~~~~~
/Users/stan/perl5/perlbrew/perls/perl-5.32.1/lib/5.32.1/darwin-2level/CORE/perl.h:667:21: note: expanded from macro 'STMT_END'
#   define STMT_END     )
                        ^
In file included from Module.xs:2:
In file included from /Users/stan/perl5/perlbrew/perls/perl-5.32.1/lib/5.32.1/darwin-2level/CORE/perl.h:3921:
In file included from /Users/stan/perl5/perlbrew/perls/perl-5.32.1/lib/5.32.1/darwin-2level/CORE/hv.h:663:
In file included from /Users/stan/perl5/perlbrew/perls/perl-5.32.1/lib/5.32.1/darwin-2level/CORE/hv_func.h:35:
In file included from /Users/stan/perl5/perlbrew/perls/perl-5.32.1/lib/5.32.1/darwin-2level/CORE/sbox32_hash.h:4:
/Users/stan/perl5/perlbrew/perls/perl-5.32.1/lib/5.32.1/darwin-2level/CORE/zaphod32_hash.h:169:5: warning: '(' and '{' tokens introducing statement expression appear in different macro expansion contexts [-Wcompound-token-split-by-macro]
    ZAPHOD32_MIX(state[0],state[1],state[2],"ZAPHOD32 SEED-STATE B 3/5");
    ^~~~~~~~~~~~~~~~~~~~~~~~~~~~~~~~~~~~~~~~~~~~~~~~~~~~~~~~~~~~~~~~~~~~
/Users/stan/perl5/perlbrew/perls/perl-5.32.1/lib/5.32.1/darwin-2level/CORE/zaphod32_hash.h:116:37: note: expanded from macro 'ZAPHOD32_MIX'
#define ZAPHOD32_MIX(v0,v1,v2,text) STMT_START {                              \
                                    ^~~~~~~~~~
/Users/stan/perl5/perlbrew/perls/perl-5.32.1/lib/5.32.1/darwin-2level/CORE/perl.h:666:29: note: expanded from macro 'STMT_START'
#   define STMT_START   (void)( /* gcc supports "({ STATEMENTS; })" */
                              ^
/Users/stan/perl5/perlbrew/perls/perl-5.32.1/lib/5.32.1/darwin-2level/CORE/zaphod32_hash.h:169:5: note: '{' token is here
    ZAPHOD32_MIX(state[0],state[1],state[2],"ZAPHOD32 SEED-STATE B 3/5");
    ^~~~~~~~~~~~~~~~~~~~~~~~~~~~~~~~~~~~~~~~~~~~~~~~~~~~~~~~~~~~~~~~~~~~
/Users/stan/perl5/perlbrew/perls/perl-5.32.1/lib/5.32.1/darwin-2level/CORE/zaphod32_hash.h:116:48: note: expanded from macro 'ZAPHOD32_MIX'
#define ZAPHOD32_MIX(v0,v1,v2,text) STMT_START {                              \
                                               ^
/Users/stan/perl5/perlbrew/perls/perl-5.32.1/lib/5.32.1/darwin-2level/CORE/zaphod32_hash.h:169:5: warning: '}' and ')' tokens terminating statement expression appear in different macro expansion contexts [-Wcompound-token-split-by-macro]
    ZAPHOD32_MIX(state[0],state[1],state[2],"ZAPHOD32 SEED-STATE B 3/5");
    ^~~~~~~~~~~~~~~~~~~~~~~~~~~~~~~~~~~~~~~~~~~~~~~~~~~~~~~~~~~~~~~~~~~~
/Users/stan/perl5/perlbrew/perls/perl-5.32.1/lib/5.32.1/darwin-2level/CORE/zaphod32_hash.h:124:32: note: expanded from macro 'ZAPHOD32_MIX'
    v2 = ROTR32(v2, 7) ^ v0;   \
                               ^
/Users/stan/perl5/perlbrew/perls/perl-5.32.1/lib/5.32.1/darwin-2level/CORE/zaphod32_hash.h:169:5: note: ')' token is here
    ZAPHOD32_MIX(state[0],state[1],state[2],"ZAPHOD32 SEED-STATE B 3/5");
    ^~~~~~~~~~~~~~~~~~~~~~~~~~~~~~~~~~~~~~~~~~~~~~~~~~~~~~~~~~~~~~~~~~~~
/Users/stan/perl5/perlbrew/perls/perl-5.32.1/lib/5.32.1/darwin-2level/CORE/zaphod32_hash.h:125:3: note: expanded from macro 'ZAPHOD32_MIX'
} STMT_END
  ^~~~~~~~
/Users/stan/perl5/perlbrew/perls/perl-5.32.1/lib/5.32.1/darwin-2level/CORE/perl.h:667:21: note: expanded from macro 'STMT_END'
#   define STMT_END     )
                        ^
In file included from Module.xs:2:
In file included from /Users/stan/perl5/perlbrew/perls/perl-5.32.1/lib/5.32.1/darwin-2level/CORE/perl.h:3921:
In file included from /Users/stan/perl5/perlbrew/perls/perl-5.32.1/lib/5.32.1/darwin-2level/CORE/hv.h:663:
In file included from /Users/stan/perl5/perlbrew/perls/perl-5.32.1/lib/5.32.1/darwin-2level/CORE/hv_func.h:35:
In file included from /Users/stan/perl5/perlbrew/perls/perl-5.32.1/lib/5.32.1/darwin-2level/CORE/sbox32_hash.h:4:
/Users/stan/perl5/perlbrew/perls/perl-5.32.1/lib/5.32.1/darwin-2level/CORE/zaphod32_hash.h:170:5: warning: '(' and '{' tokens introducing statement expression appear in different macro expansion contexts [-Wcompound-token-split-by-macro]
    ZAPHOD32_MIX(state[0],state[1],state[2],"ZAPHOD32 SEED-STATE B 4/5");
    ^~~~~~~~~~~~~~~~~~~~~~~~~~~~~~~~~~~~~~~~~~~~~~~~~~~~~~~~~~~~~~~~~~~~
/Users/stan/perl5/perlbrew/perls/perl-5.32.1/lib/5.32.1/darwin-2level/CORE/zaphod32_hash.h:116:37: note: expanded from macro 'ZAPHOD32_MIX'
#define ZAPHOD32_MIX(v0,v1,v2,text) STMT_START {                              \
                                    ^~~~~~~~~~
/Users/stan/perl5/perlbrew/perls/perl-5.32.1/lib/5.32.1/darwin-2level/CORE/perl.h:666:29: note: expanded from macro 'STMT_START'
#   define STMT_START   (void)( /* gcc supports "({ STATEMENTS; })" */
                              ^
/Users/stan/perl5/perlbrew/perls/perl-5.32.1/lib/5.32.1/darwin-2level/CORE/zaphod32_hash.h:170:5: note: '{' token is here
    ZAPHOD32_MIX(state[0],state[1],state[2],"ZAPHOD32 SEED-STATE B 4/5");
    ^~~~~~~~~~~~~~~~~~~~~~~~~~~~~~~~~~~~~~~~~~~~~~~~~~~~~~~~~~~~~~~~~~~~
/Users/stan/perl5/perlbrew/perls/perl-5.32.1/lib/5.32.1/darwin-2level/CORE/zaphod32_hash.h:116:48: note: expanded from macro 'ZAPHOD32_MIX'
#define ZAPHOD32_MIX(v0,v1,v2,text) STMT_START {                              \
                                               ^
/Users/stan/perl5/perlbrew/perls/perl-5.32.1/lib/5.32.1/darwin-2level/CORE/zaphod32_hash.h:170:5: warning: '}' and ')' tokens terminating statement expression appear in different macro expansion contexts [-Wcompound-token-split-by-macro]
    ZAPHOD32_MIX(state[0],state[1],state[2],"ZAPHOD32 SEED-STATE B 4/5");
    ^~~~~~~~~~~~~~~~~~~~~~~~~~~~~~~~~~~~~~~~~~~~~~~~~~~~~~~~~~~~~~~~~~~~
/Users/stan/perl5/perlbrew/perls/perl-5.32.1/lib/5.32.1/darwin-2level/CORE/zaphod32_hash.h:124:32: note: expanded from macro 'ZAPHOD32_MIX'
    v2 = ROTR32(v2, 7) ^ v0;   \
                               ^
/Users/stan/perl5/perlbrew/perls/perl-5.32.1/lib/5.32.1/darwin-2level/CORE/zaphod32_hash.h:170:5: note: ')' token is here
    ZAPHOD32_MIX(state[0],state[1],state[2],"ZAPHOD32 SEED-STATE B 4/5");
    ^~~~~~~~~~~~~~~~~~~~~~~~~~~~~~~~~~~~~~~~~~~~~~~~~~~~~~~~~~~~~~~~~~~~
/Users/stan/perl5/perlbrew/perls/perl-5.32.1/lib/5.32.1/darwin-2level/CORE/zaphod32_hash.h:125:3: note: expanded from macro 'ZAPHOD32_MIX'
} STMT_END
  ^~~~~~~~
/Users/stan/perl5/perlbrew/perls/perl-5.32.1/lib/5.32.1/darwin-2level/CORE/perl.h:667:21: note: expanded from macro 'STMT_END'
#   define STMT_END     )
                        ^
In file included from Module.xs:2:
In file included from /Users/stan/perl5/perlbrew/perls/perl-5.32.1/lib/5.32.1/darwin-2level/CORE/perl.h:3921:
In file included from /Users/stan/perl5/perlbrew/perls/perl-5.32.1/lib/5.32.1/darwin-2level/CORE/hv.h:663:
In file included from /Users/stan/perl5/perlbrew/perls/perl-5.32.1/lib/5.32.1/darwin-2level/CORE/hv_func.h:35:
In file included from /Users/stan/perl5/perlbrew/perls/perl-5.32.1/lib/5.32.1/darwin-2level/CORE/sbox32_hash.h:4:
/Users/stan/perl5/perlbrew/perls/perl-5.32.1/lib/5.32.1/darwin-2level/CORE/zaphod32_hash.h:171:5: warning: '(' and '{' tokens introducing statement expression appear in different macro expansion contexts [-Wcompound-token-split-by-macro]
    ZAPHOD32_MIX(state[0],state[1],state[2],"ZAPHOD32 SEED-STATE B 5/5");
    ^~~~~~~~~~~~~~~~~~~~~~~~~~~~~~~~~~~~~~~~~~~~~~~~~~~~~~~~~~~~~~~~~~~~
/Users/stan/perl5/perlbrew/perls/perl-5.32.1/lib/5.32.1/darwin-2level/CORE/zaphod32_hash.h:116:37: note: expanded from macro 'ZAPHOD32_MIX'
#define ZAPHOD32_MIX(v0,v1,v2,text) STMT_START {                              \
                                    ^~~~~~~~~~
/Users/stan/perl5/perlbrew/perls/perl-5.32.1/lib/5.32.1/darwin-2level/CORE/perl.h:666:29: note: expanded from macro 'STMT_START'
#   define STMT_START   (void)( /* gcc supports "({ STATEMENTS; })" */
                              ^
/Users/stan/perl5/perlbrew/perls/perl-5.32.1/lib/5.32.1/darwin-2level/CORE/zaphod32_hash.h:171:5: note: '{' token is here
    ZAPHOD32_MIX(state[0],state[1],state[2],"ZAPHOD32 SEED-STATE B 5/5");
    ^~~~~~~~~~~~~~~~~~~~~~~~~~~~~~~~~~~~~~~~~~~~~~~~~~~~~~~~~~~~~~~~~~~~
/Users/stan/perl5/perlbrew/perls/perl-5.32.1/lib/5.32.1/darwin-2level/CORE/zaphod32_hash.h:116:48: note: expanded from macro 'ZAPHOD32_MIX'
#define ZAPHOD32_MIX(v0,v1,v2,text) STMT_START {                              \
                                               ^
/Users/stan/perl5/perlbrew/perls/perl-5.32.1/lib/5.32.1/darwin-2level/CORE/zaphod32_hash.h:171:5: warning: '}' and ')' tokens terminating statement expression appear in different macro expansion contexts [-Wcompound-token-split-by-macro]
    ZAPHOD32_MIX(state[0],state[1],state[2],"ZAPHOD32 SEED-STATE B 5/5");
    ^~~~~~~~~~~~~~~~~~~~~~~~~~~~~~~~~~~~~~~~~~~~~~~~~~~~~~~~~~~~~~~~~~~~
/Users/stan/perl5/perlbrew/perls/perl-5.32.1/lib/5.32.1/darwin-2level/CORE/zaphod32_hash.h:124:32: note: expanded from macro 'ZAPHOD32_MIX'
    v2 = ROTR32(v2, 7) ^ v0;   \
                               ^
/Users/stan/perl5/perlbrew/perls/perl-5.32.1/lib/5.32.1/darwin-2level/CORE/zaphod32_hash.h:171:5: note: ')' token is here
    ZAPHOD32_MIX(state[0],state[1],state[2],"ZAPHOD32 SEED-STATE B 5/5");
    ^~~~~~~~~~~~~~~~~~~~~~~~~~~~~~~~~~~~~~~~~~~~~~~~~~~~~~~~~~~~~~~~~~~~
/Users/stan/perl5/perlbrew/perls/perl-5.32.1/lib/5.32.1/darwin-2level/CORE/zaphod32_hash.h:125:3: note: expanded from macro 'ZAPHOD32_MIX'
} STMT_END
  ^~~~~~~~
/Users/stan/perl5/perlbrew/perls/perl-5.32.1/lib/5.32.1/darwin-2level/CORE/perl.h:667:21: note: expanded from macro 'STMT_END'
#   define STMT_END     )
                        ^
In file included from Module.xs:2:
In file included from /Users/stan/perl5/perlbrew/perls/perl-5.32.1/lib/5.32.1/darwin-2level/CORE/perl.h:3921:
In file included from /Users/stan/perl5/perlbrew/perls/perl-5.32.1/lib/5.32.1/darwin-2level/CORE/hv.h:663:
In file included from /Users/stan/perl5/perlbrew/perls/perl-5.32.1/lib/5.32.1/darwin-2level/CORE/hv_func.h:35:
In file included from /Users/stan/perl5/perlbrew/perls/perl-5.32.1/lib/5.32.1/darwin-2level/CORE/sbox32_hash.h:4:
/Users/stan/perl5/perlbrew/perls/perl-5.32.1/lib/5.32.1/darwin-2level/CORE/zaphod32_hash.h:247:13: warning: '(' and '{' tokens introducing statement expression appear in different macro expansion contexts [-Wcompound-token-split-by-macro]
            ZAPHOD32_MIX(v0,v1,v2,"MIX 2-WORDS A");
            ^~~~~~~~~~~~~~~~~~~~~~~~~~~~~~~~~~~~~~
/Users/stan/perl5/perlbrew/perls/perl-5.32.1/lib/5.32.1/darwin-2level/CORE/zaphod32_hash.h:116:37: note: expanded from macro 'ZAPHOD32_MIX'
#define ZAPHOD32_MIX(v0,v1,v2,text) STMT_START {                              \
                                    ^~~~~~~~~~
/Users/stan/perl5/perlbrew/perls/perl-5.32.1/lib/5.32.1/darwin-2level/CORE/perl.h:666:29: note: expanded from macro 'STMT_START'
#   define STMT_START   (void)( /* gcc supports "({ STATEMENTS; })" */
                              ^
/Users/stan/perl5/perlbrew/perls/perl-5.32.1/lib/5.32.1/darwin-2level/CORE/zaphod32_hash.h:247:13: note: '{' token is here
            ZAPHOD32_MIX(v0,v1,v2,"MIX 2-WORDS A");
            ^~~~~~~~~~~~~~~~~~~~~~~~~~~~~~~~~~~~~~
/Users/stan/perl5/perlbrew/perls/perl-5.32.1/lib/5.32.1/darwin-2level/CORE/zaphod32_hash.h:116:48: note: expanded from macro 'ZAPHOD32_MIX'
#define ZAPHOD32_MIX(v0,v1,v2,text) STMT_START {                              \
                                               ^
/Users/stan/perl5/perlbrew/perls/perl-5.32.1/lib/5.32.1/darwin-2level/CORE/zaphod32_hash.h:247:13: warning: '}' and ')' tokens terminating statement expression appear in different macro expansion contexts [-Wcompound-token-split-by-macro]
            ZAPHOD32_MIX(v0,v1,v2,"MIX 2-WORDS A");
            ^~~~~~~~~~~~~~~~~~~~~~~~~~~~~~~~~~~~~~
/Users/stan/perl5/perlbrew/perls/perl-5.32.1/lib/5.32.1/darwin-2level/CORE/zaphod32_hash.h:124:32: note: expanded from macro 'ZAPHOD32_MIX'
    v2 = ROTR32(v2, 7) ^ v0;   \
                               ^
/Users/stan/perl5/perlbrew/perls/perl-5.32.1/lib/5.32.1/darwin-2level/CORE/zaphod32_hash.h:247:13: note: ')' token is here
            ZAPHOD32_MIX(v0,v1,v2,"MIX 2-WORDS A");
            ^~~~~~~~~~~~~~~~~~~~~~~~~~~~~~~~~~~~~~
/Users/stan/perl5/perlbrew/perls/perl-5.32.1/lib/5.32.1/darwin-2level/CORE/zaphod32_hash.h:125:3: note: expanded from macro 'ZAPHOD32_MIX'
} STMT_END
  ^~~~~~~~
/Users/stan/perl5/perlbrew/perls/perl-5.32.1/lib/5.32.1/darwin-2level/CORE/perl.h:667:21: note: expanded from macro 'STMT_END'
#   define STMT_END     )
                        ^
In file included from Module.xs:2:
In file included from /Users/stan/perl5/perlbrew/perls/perl-5.32.1/lib/5.32.1/darwin-2level/CORE/perl.h:3921:
In file included from /Users/stan/perl5/perlbrew/perls/perl-5.32.1/lib/5.32.1/darwin-2level/CORE/hv.h:663:
In file included from /Users/stan/perl5/perlbrew/perls/perl-5.32.1/lib/5.32.1/darwin-2level/CORE/hv_func.h:35:
In file included from /Users/stan/perl5/perlbrew/perls/perl-5.32.1/lib/5.32.1/darwin-2level/CORE/sbox32_hash.h:4:
/Users/stan/perl5/perlbrew/perls/perl-5.32.1/lib/5.32.1/darwin-2level/CORE/zaphod32_hash.h:268:5: warning: '(' and '{' tokens introducing statement expression appear in different macro expansion contexts [-Wcompound-token-split-by-macro]
    ZAPHOD32_FINALIZE(v0,v1,v2);
    ^~~~~~~~~~~~~~~~~~~~~~~~~~~
/Users/stan/perl5/perlbrew/perls/perl-5.32.1/lib/5.32.1/darwin-2level/CORE/zaphod32_hash.h:90:37: note: expanded from macro 'ZAPHOD32_FINALIZE'
#define ZAPHOD32_FINALIZE(v0,v1,v2) STMT_START {          \
                                    ^~~~~~~~~~
/Users/stan/perl5/perlbrew/perls/perl-5.32.1/lib/5.32.1/darwin-2level/CORE/perl.h:666:29: note: expanded from macro 'STMT_START'
#   define STMT_START   (void)( /* gcc supports "({ STATEMENTS; })" */
                              ^
/Users/stan/perl5/perlbrew/perls/perl-5.32.1/lib/5.32.1/darwin-2level/CORE/zaphod32_hash.h:268:5: note: '{' token is here
    ZAPHOD32_FINALIZE(v0,v1,v2);
    ^~~~~~~~~~~~~~~~~~~~~~~~~~~
/Users/stan/perl5/perlbrew/perls/perl-5.32.1/lib/5.32.1/darwin-2level/CORE/zaphod32_hash.h:90:48: note: expanded from macro 'ZAPHOD32_FINALIZE'
#define ZAPHOD32_FINALIZE(v0,v1,v2) STMT_START {          \
                                               ^
/Users/stan/perl5/perlbrew/perls/perl-5.32.1/lib/5.32.1/darwin-2level/CORE/zaphod32_hash.h:268:5: warning: '}' and ')' tokens terminating statement expression appear in different macro expansion contexts [-Wcompound-token-split-by-macro]
    ZAPHOD32_FINALIZE(v0,v1,v2);
    ^~~~~~~~~~~~~~~~~~~~~~~~~~~
/Users/stan/perl5/perlbrew/perls/perl-5.32.1/lib/5.32.1/darwin-2level/CORE/zaphod32_hash.h:113:36: note: expanded from macro 'ZAPHOD32_FINALIZE'
    v1 = ROTL32(v1, 17);           \
                                   ^
/Users/stan/perl5/perlbrew/perls/perl-5.32.1/lib/5.32.1/darwin-2level/CORE/zaphod32_hash.h:268:5: note: ')' token is here
    ZAPHOD32_FINALIZE(v0,v1,v2);
    ^~~~~~~~~~~~~~~~~~~~~~~~~~~
/Users/stan/perl5/perlbrew/perls/perl-5.32.1/lib/5.32.1/darwin-2level/CORE/zaphod32_hash.h:114:3: note: expanded from macro 'ZAPHOD32_FINALIZE'
} STMT_END
  ^~~~~~~~
/Users/stan/perl5/perlbrew/perls/perl-5.32.1/lib/5.32.1/darwin-2level/CORE/perl.h:667:21: note: expanded from macro 'STMT_END'
#   define STMT_END     )
                        ^
In file included from Module.xs:2:
In file included from /Users/stan/perl5/perlbrew/perls/perl-5.32.1/lib/5.32.1/darwin-2level/CORE/perl.h:3921:
In file included from /Users/stan/perl5/perlbrew/perls/perl-5.32.1/lib/5.32.1/darwin-2level/CORE/hv.h:663:
In file included from /Users/stan/perl5/perlbrew/perls/perl-5.32.1/lib/5.32.1/darwin-2level/CORE/hv_func.h:35:
/Users/stan/perl5/perlbrew/perls/perl-5.32.1/lib/5.32.1/darwin-2level/CORE/sbox32_hash.h:1448:9: warning: '(' and '{' tokens introducing statement expression appear in different macro expansion contexts [-Wcompound-token-split-by-macro]
        SBOX32_MIX3(s0,s1,s2,"SEED STATE");
        ^~~~~~~~~~~~~~~~~~~~~~~~~~~~~~~~~~
/Users/stan/perl5/perlbrew/perls/perl-5.32.1/lib/5.32.1/darwin-2level/CORE/sbox32_hash.h:99:36: note: expanded from macro 'SBOX32_MIX3'
#define SBOX32_MIX3(v0,v1,v2,text) STMT_START {                               \
                                   ^~~~~~~~~~
/Users/stan/perl5/perlbrew/perls/perl-5.32.1/lib/5.32.1/darwin-2level/CORE/perl.h:666:29: note: expanded from macro 'STMT_START'
#   define STMT_START   (void)( /* gcc supports "({ STATEMENTS; })" */
                              ^
/Users/stan/perl5/perlbrew/perls/perl-5.32.1/lib/5.32.1/darwin-2level/CORE/sbox32_hash.h:1448:9: note: '{' token is here
        SBOX32_MIX3(s0,s1,s2,"SEED STATE");
        ^~~~~~~~~~~~~~~~~~~~~~~~~~~~~~~~~~
/Users/stan/perl5/perlbrew/perls/perl-5.32.1/lib/5.32.1/darwin-2level/CORE/sbox32_hash.h:99:47: note: expanded from macro 'SBOX32_MIX3'
#define SBOX32_MIX3(v0,v1,v2,text) STMT_START {                               \
                                              ^
/Users/stan/perl5/perlbrew/perls/perl-5.32.1/lib/5.32.1/darwin-2level/CORE/sbox32_hash.h:1448:9: warning: '}' and ')' tokens terminating statement expression appear in different macro expansion contexts [-Wcompound-token-split-by-macro]
        SBOX32_MIX3(s0,s1,s2,"SEED STATE");
        ^~~~~~~~~~~~~~~~~~~~~~~~~~~~~~~~~~
/Users/stan/perl5/perlbrew/perls/perl-5.32.1/lib/5.32.1/darwin-2level/CORE/sbox32_hash.h:107:32: note: expanded from macro 'SBOX32_MIX3'
    v2 = ROTR32(v2, 7) ^ v0;   \
                               ^
/Users/stan/perl5/perlbrew/perls/perl-5.32.1/lib/5.32.1/darwin-2level/CORE/sbox32_hash.h:1448:9: note: ')' token is here
        SBOX32_MIX3(s0,s1,s2,"SEED STATE");
        ^~~~~~~~~~~~~~~~~~~~~~~~~~~~~~~~~~
/Users/stan/perl5/perlbrew/perls/perl-5.32.1/lib/5.32.1/darwin-2level/CORE/sbox32_hash.h:108:3: note: expanded from macro 'SBOX32_MIX3'
} STMT_END
  ^~~~~~~~
/Users/stan/perl5/perlbrew/perls/perl-5.32.1/lib/5.32.1/darwin-2level/CORE/perl.h:667:21: note: expanded from macro 'STMT_END'
#   define STMT_END     )
                        ^
In file included from Module.xs:2:
In file included from /Users/stan/perl5/perlbrew/perls/perl-5.32.1/lib/5.32.1/darwin-2level/CORE/perl.h:3921:
In file included from /Users/stan/perl5/perlbrew/perls/perl-5.32.1/lib/5.32.1/darwin-2level/CORE/hv.h:663:
In file included from /Users/stan/perl5/perlbrew/perls/perl-5.32.1/lib/5.32.1/darwin-2level/CORE/hv_func.h:35:
/Users/stan/perl5/perlbrew/perls/perl-5.32.1/lib/5.32.1/darwin-2level/CORE/sbox32_hash.h:1453:13: warning: '(' and '{' tokens introducing statement expression appear in different macro expansion contexts [-Wcompound-token-split-by-macro]
            XORSHIFT96_set(*state_cursor,s0,s1,s2,t1);
            ^~~~~~~~~~~~~~~~~~~~~~~~~~~~~~~~~~~~~~~~~
/Users/stan/perl5/perlbrew/perls/perl-5.32.1/lib/5.32.1/darwin-2level/CORE/sbox32_hash.h:1393:35: note: expanded from macro 'XORSHIFT96_set'
#define XORSHIFT96_set(r,x,y,z,t) STMT_START {          \
                                  ^~~~~~~~~~
/Users/stan/perl5/perlbrew/perls/perl-5.32.1/lib/5.32.1/darwin-2level/CORE/perl.h:666:29: note: expanded from macro 'STMT_START'
#   define STMT_START   (void)( /* gcc supports "({ STATEMENTS; })" */
                              ^
/Users/stan/perl5/perlbrew/perls/perl-5.32.1/lib/5.32.1/darwin-2level/CORE/sbox32_hash.h:1453:13: note: '{' token is here
            XORSHIFT96_set(*state_cursor,s0,s1,s2,t1);
            ^~~~~~~~~~~~~~~~~~~~~~~~~~~~~~~~~~~~~~~~~
/Users/stan/perl5/perlbrew/perls/perl-5.32.1/lib/5.32.1/darwin-2level/CORE/sbox32_hash.h:1393:46: note: expanded from macro 'XORSHIFT96_set'
#define XORSHIFT96_set(r,x,y,z,t) STMT_START {          \
                                             ^
/Users/stan/perl5/perlbrew/perls/perl-5.32.1/lib/5.32.1/darwin-2level/CORE/sbox32_hash.h:1453:13: warning: '}' and ')' tokens terminating statement expression appear in different macro expansion contexts [-Wcompound-token-split-by-macro]
            XORSHIFT96_set(*state_cursor,s0,s1,s2,t1);
            ^~~~~~~~~~~~~~~~~~~~~~~~~~~~~~~~~~~~~~~~~
/Users/stan/perl5/perlbrew/perls/perl-5.32.1/lib/5.32.1/darwin-2level/CORE/sbox32_hash.h:1396:57: note: expanded from macro 'XORSHIFT96_set'
    r = z = (z ^ ( z >> 26 ) ) ^ ( t ^ ( t >> 5 ) );    \
                                                        ^
/Users/stan/perl5/perlbrew/perls/perl-5.32.1/lib/5.32.1/darwin-2level/CORE/sbox32_hash.h:1453:13: note: ')' token is here
            XORSHIFT96_set(*state_cursor,s0,s1,s2,t1);
            ^~~~~~~~~~~~~~~~~~~~~~~~~~~~~~~~~~~~~~~~~
/Users/stan/perl5/perlbrew/perls/perl-5.32.1/lib/5.32.1/darwin-2level/CORE/sbox32_hash.h:1397:3: note: expanded from macro 'XORSHIFT96_set'
} STMT_END
  ^~~~~~~~
/Users/stan/perl5/perlbrew/perls/perl-5.32.1/lib/5.32.1/darwin-2level/CORE/perl.h:667:21: note: expanded from macro 'STMT_END'
#   define STMT_END     )
                        ^
In file included from Module.xs:2:
In file included from /Users/stan/perl5/perlbrew/perls/perl-5.32.1/lib/5.32.1/darwin-2level/CORE/perl.h:3921:
In file included from /Users/stan/perl5/perlbrew/perls/perl-5.32.1/lib/5.32.1/darwin-2level/CORE/hv.h:663:
In file included from /Users/stan/perl5/perlbrew/perls/perl-5.32.1/lib/5.32.1/darwin-2level/CORE/hv_func.h:35:
/Users/stan/perl5/perlbrew/perls/perl-5.32.1/lib/5.32.1/darwin-2level/CORE/sbox32_hash.h:1456:5: warning: '(' and '{' tokens introducing statement expression appear in different macro expansion contexts [-Wcompound-token-split-by-macro]
    XORSHIFT96_set(*state,s0,s1,s2,t2);
    ^~~~~~~~~~~~~~~~~~~~~~~~~~~~~~~~~~
/Users/stan/perl5/perlbrew/perls/perl-5.32.1/lib/5.32.1/darwin-2level/CORE/sbox32_hash.h:1393:35: note: expanded from macro 'XORSHIFT96_set'
#define XORSHIFT96_set(r,x,y,z,t) STMT_START {          \
                                  ^~~~~~~~~~
/Users/stan/perl5/perlbrew/perls/perl-5.32.1/lib/5.32.1/darwin-2level/CORE/perl.h:666:29: note: expanded from macro 'STMT_START'
#   define STMT_START   (void)( /* gcc supports "({ STATEMENTS; })" */
                              ^
/Users/stan/perl5/perlbrew/perls/perl-5.32.1/lib/5.32.1/darwin-2level/CORE/sbox32_hash.h:1456:5: note: '{' token is here
    XORSHIFT96_set(*state,s0,s1,s2,t2);
    ^~~~~~~~~~~~~~~~~~~~~~~~~~~~~~~~~~
/Users/stan/perl5/perlbrew/perls/perl-5.32.1/lib/5.32.1/darwin-2level/CORE/sbox32_hash.h:1393:46: note: expanded from macro 'XORSHIFT96_set'
#define XORSHIFT96_set(r,x,y,z,t) STMT_START {          \
                                             ^
/Users/stan/perl5/perlbrew/perls/perl-5.32.1/lib/5.32.1/darwin-2level/CORE/sbox32_hash.h:1456:5: warning: '}' and ')' tokens terminating statement expression appear in different macro expansion contexts [-Wcompound-token-split-by-macro]
    XORSHIFT96_set(*state,s0,s1,s2,t2);
    ^~~~~~~~~~~~~~~~~~~~~~~~~~~~~~~~~~
/Users/stan/perl5/perlbrew/perls/perl-5.32.1/lib/5.32.1/darwin-2level/CORE/sbox32_hash.h:1396:57: note: expanded from macro 'XORSHIFT96_set'
    r = z = (z ^ ( z >> 26 ) ) ^ ( t ^ ( t >> 5 ) );    \
                                                        ^
/Users/stan/perl5/perlbrew/perls/perl-5.32.1/lib/5.32.1/darwin-2level/CORE/sbox32_hash.h:1456:5: note: ')' token is here
    XORSHIFT96_set(*state,s0,s1,s2,t2);
    ^~~~~~~~~~~~~~~~~~~~~~~~~~~~~~~~~~
/Users/stan/perl5/perlbrew/perls/perl-5.32.1/lib/5.32.1/darwin-2level/CORE/sbox32_hash.h:1397:3: note: expanded from macro 'XORSHIFT96_set'
} STMT_END
  ^~~~~~~~
/Users/stan/perl5/perlbrew/perls/perl-5.32.1/lib/5.32.1/darwin-2level/CORE/perl.h:667:21: note: expanded from macro 'STMT_END'
#   define STMT_END     )
                        ^
In file included from Module.xs:2:
In file included from /Users/stan/perl5/perlbrew/perls/perl-5.32.1/lib/5.32.1/darwin-2level/CORE/perl.h:3921:
In file included from /Users/stan/perl5/perlbrew/perls/perl-5.32.1/lib/5.32.1/darwin-2level/CORE/hv.h:663:
In file included from /Users/stan/perl5/perlbrew/perls/perl-5.32.1/lib/5.32.1/darwin-2level/CORE/hv_func.h:35:
/Users/stan/perl5/perlbrew/perls/perl-5.32.1/lib/5.32.1/darwin-2level/CORE/sbox32_hash.h:1482:9: warning: '(' and '{' tokens introducing statement expression appear in different macro expansion contexts [-Wcompound-token-split-by-macro]
        SBOX32_MIX4(s0,s1,s2,s3,"SEED STATE");
        ^~~~~~~~~~~~~~~~~~~~~~~~~~~~~~~~~~~~~
/Users/stan/perl5/perlbrew/perls/perl-5.32.1/lib/5.32.1/darwin-2level/CORE/sbox32_hash.h:85:39: note: expanded from macro 'SBOX32_MIX4'
#define SBOX32_MIX4(v0,v1,v2,v3,text) STMT_START { \
                                      ^~~~~~~~~~
/Users/stan/perl5/perlbrew/perls/perl-5.32.1/lib/5.32.1/darwin-2level/CORE/perl.h:666:29: note: expanded from macro 'STMT_START'
#   define STMT_START   (void)( /* gcc supports "({ STATEMENTS; })" */
                              ^
/Users/stan/perl5/perlbrew/perls/perl-5.32.1/lib/5.32.1/darwin-2level/CORE/sbox32_hash.h:1482:9: note: '{' token is here
        SBOX32_MIX4(s0,s1,s2,s3,"SEED STATE");
        ^~~~~~~~~~~~~~~~~~~~~~~~~~~~~~~~~~~~~
/Users/stan/perl5/perlbrew/perls/perl-5.32.1/lib/5.32.1/darwin-2level/CORE/sbox32_hash.h:85:50: note: expanded from macro 'SBOX32_MIX4'
#define SBOX32_MIX4(v0,v1,v2,v3,text) STMT_START { \
                                                 ^
/Users/stan/perl5/perlbrew/perls/perl-5.32.1/lib/5.32.1/darwin-2level/CORE/sbox32_hash.h:1482:9: warning: '}' and ')' tokens terminating statement expression appear in different macro expansion contexts [-Wcompound-token-split-by-macro]
        SBOX32_MIX4(s0,s1,s2,s3,"SEED STATE");
        ^~~~~~~~~~~~~~~~~~~~~~~~~~~~~~~~~~~~~
/Users/stan/perl5/perlbrew/perls/perl-5.32.1/lib/5.32.1/darwin-2level/CORE/sbox32_hash.h:96:37: note: expanded from macro 'SBOX32_MIX4'
        v2 = ROTL32(v2, 4) - v0;    \
                                    ^
/Users/stan/perl5/perlbrew/perls/perl-5.32.1/lib/5.32.1/darwin-2level/CORE/sbox32_hash.h:1482:9: note: ')' token is here
        SBOX32_MIX4(s0,s1,s2,s3,"SEED STATE");
        ^~~~~~~~~~~~~~~~~~~~~~~~~~~~~~~~~~~~~
/Users/stan/perl5/perlbrew/perls/perl-5.32.1/lib/5.32.1/darwin-2level/CORE/sbox32_hash.h:97:3: note: expanded from macro 'SBOX32_MIX4'
} STMT_END
  ^~~~~~~~
/Users/stan/perl5/perlbrew/perls/perl-5.32.1/lib/5.32.1/darwin-2level/CORE/perl.h:667:21: note: expanded from macro 'STMT_END'
#   define STMT_END     )
                        ^
In file included from Module.xs:2:
In file included from /Users/stan/perl5/perlbrew/perls/perl-5.32.1/lib/5.32.1/darwin-2level/CORE/perl.h:3921:
In file included from /Users/stan/perl5/perlbrew/perls/perl-5.32.1/lib/5.32.1/darwin-2level/CORE/hv.h:663:
In file included from /Users/stan/perl5/perlbrew/perls/perl-5.32.1/lib/5.32.1/darwin-2level/CORE/hv_func.h:35:
/Users/stan/perl5/perlbrew/perls/perl-5.32.1/lib/5.32.1/darwin-2level/CORE/sbox32_hash.h:1487:13: warning: '(' and '{' tokens introducing statement expression appear in different macro expansion contexts [-Wcompound-token-split-by-macro]
            XORSHIFT128_set(*state_cursor,s0,s1,s2,s3,t1);
            ^~~~~~~~~~~~~~~~~~~~~~~~~~~~~~~~~~~~~~~~~~~~~
/Users/stan/perl5/perlbrew/perls/perl-5.32.1/lib/5.32.1/darwin-2level/CORE/sbox32_hash.h:1399:38: note: expanded from macro 'XORSHIFT128_set'
#define XORSHIFT128_set(r,x,y,z,w,t) STMT_START {       \
                                     ^~~~~~~~~~
/Users/stan/perl5/perlbrew/perls/perl-5.32.1/lib/5.32.1/darwin-2level/CORE/perl.h:666:29: note: expanded from macro 'STMT_START'
#   define STMT_START   (void)( /* gcc supports "({ STATEMENTS; })" */
                              ^
/Users/stan/perl5/perlbrew/perls/perl-5.32.1/lib/5.32.1/darwin-2level/CORE/sbox32_hash.h:1487:13: note: '{' token is here
            XORSHIFT128_set(*state_cursor,s0,s1,s2,s3,t1);
            ^~~~~~~~~~~~~~~~~~~~~~~~~~~~~~~~~~~~~~~~~~~~~
/Users/stan/perl5/perlbrew/perls/perl-5.32.1/lib/5.32.1/darwin-2level/CORE/sbox32_hash.h:1399:49: note: expanded from macro 'XORSHIFT128_set'
#define XORSHIFT128_set(r,x,y,z,w,t) STMT_START {       \
                                                ^
/Users/stan/perl5/perlbrew/perls/perl-5.32.1/lib/5.32.1/darwin-2level/CORE/sbox32_hash.h:1487:13: warning: '}' and ')' tokens terminating statement expression appear in different macro expansion contexts [-Wcompound-token-split-by-macro]
            XORSHIFT128_set(*state_cursor,s0,s1,s2,s3,t1);
            ^~~~~~~~~~~~~~~~~~~~~~~~~~~~~~~~~~~~~~~~~~~~~
/Users/stan/perl5/perlbrew/perls/perl-5.32.1/lib/5.32.1/darwin-2level/CORE/sbox32_hash.h:1402:57: note: expanded from macro 'XORSHIFT128_set'
    r = w = ( w ^ ( w >> 29 ) ) ^ ( t ^ ( t >> 12 ) );  \
                                                        ^
/Users/stan/perl5/perlbrew/perls/perl-5.32.1/lib/5.32.1/darwin-2level/CORE/sbox32_hash.h:1487:13: note: ')' token is here
            XORSHIFT128_set(*state_cursor,s0,s1,s2,s3,t1);
            ^~~~~~~~~~~~~~~~~~~~~~~~~~~~~~~~~~~~~~~~~~~~~
/Users/stan/perl5/perlbrew/perls/perl-5.32.1/lib/5.32.1/darwin-2level/CORE/sbox32_hash.h:1403:3: note: expanded from macro 'XORSHIFT128_set'
} STMT_END
  ^~~~~~~~
/Users/stan/perl5/perlbrew/perls/perl-5.32.1/lib/5.32.1/darwin-2level/CORE/perl.h:667:21: note: expanded from macro 'STMT_END'
#   define STMT_END     )
                        ^
In file included from Module.xs:2:
In file included from /Users/stan/perl5/perlbrew/perls/perl-5.32.1/lib/5.32.1/darwin-2level/CORE/perl.h:3921:
In file included from /Users/stan/perl5/perlbrew/perls/perl-5.32.1/lib/5.32.1/darwin-2level/CORE/hv.h:663:
In file included from /Users/stan/perl5/perlbrew/perls/perl-5.32.1/lib/5.32.1/darwin-2level/CORE/hv_func.h:35:
/Users/stan/perl5/perlbrew/perls/perl-5.32.1/lib/5.32.1/darwin-2level/CORE/sbox32_hash.h:1490:5: warning: '(' and '{' tokens introducing statement expression appear in different macro expansion contexts [-Wcompound-token-split-by-macro]
    XORSHIFT128_set(*state,s0,s1,s2,s3,t2);
    ^~~~~~~~~~~~~~~~~~~~~~~~~~~~~~~~~~~~~~
/Users/stan/perl5/perlbrew/perls/perl-5.32.1/lib/5.32.1/darwin-2level/CORE/sbox32_hash.h:1399:38: note: expanded from macro 'XORSHIFT128_set'
#define XORSHIFT128_set(r,x,y,z,w,t) STMT_START {       \
                                     ^~~~~~~~~~
/Users/stan/perl5/perlbrew/perls/perl-5.32.1/lib/5.32.1/darwin-2level/CORE/perl.h:666:29: note: expanded from macro 'STMT_START'
#   define STMT_START   (void)( /* gcc supports "({ STATEMENTS; })" */
                              ^
/Users/stan/perl5/perlbrew/perls/perl-5.32.1/lib/5.32.1/darwin-2level/CORE/sbox32_hash.h:1490:5: note: '{' token is here
    XORSHIFT128_set(*state,s0,s1,s2,s3,t2);
    ^~~~~~~~~~~~~~~~~~~~~~~~~~~~~~~~~~~~~~
/Users/stan/perl5/perlbrew/perls/perl-5.32.1/lib/5.32.1/darwin-2level/CORE/sbox32_hash.h:1399:49: note: expanded from macro 'XORSHIFT128_set'
#define XORSHIFT128_set(r,x,y,z,w,t) STMT_START {       \
                                                ^
/Users/stan/perl5/perlbrew/perls/perl-5.32.1/lib/5.32.1/darwin-2level/CORE/sbox32_hash.h:1490:5: warning: '}' and ')' tokens terminating statement expression appear in different macro expansion contexts [-Wcompound-token-split-by-macro]
    XORSHIFT128_set(*state,s0,s1,s2,s3,t2);
    ^~~~~~~~~~~~~~~~~~~~~~~~~~~~~~~~~~~~~~
/Users/stan/perl5/perlbrew/perls/perl-5.32.1/lib/5.32.1/darwin-2level/CORE/sbox32_hash.h:1402:57: note: expanded from macro 'XORSHIFT128_set'
    r = w = ( w ^ ( w >> 29 ) ) ^ ( t ^ ( t >> 12 ) );  \
                                                        ^
/Users/stan/perl5/perlbrew/perls/perl-5.32.1/lib/5.32.1/darwin-2level/CORE/sbox32_hash.h:1490:5: note: ')' token is here
    XORSHIFT128_set(*state,s0,s1,s2,s3,t2);
    ^~~~~~~~~~~~~~~~~~~~~~~~~~~~~~~~~~~~~~
/Users/stan/perl5/perlbrew/perls/perl-5.32.1/lib/5.32.1/darwin-2level/CORE/sbox32_hash.h:1403:3: note: expanded from macro 'XORSHIFT128_set'
} STMT_END
  ^~~~~~~~
/Users/stan/perl5/perlbrew/perls/perl-5.32.1/lib/5.32.1/darwin-2level/CORE/perl.h:667:21: note: expanded from macro 'STMT_END'
#   define STMT_END     )
                        ^
In file included from Module.xs:2:
In file included from /Users/stan/perl5/perlbrew/perls/perl-5.32.1/lib/5.32.1/darwin-2level/CORE/perl.h:3921:
In file included from /Users/stan/perl5/perlbrew/perls/perl-5.32.1/lib/5.32.1/darwin-2level/CORE/hv.h:663:
In file included from /Users/stan/perl5/perlbrew/perls/perl-5.32.1/lib/5.32.1/darwin-2level/CORE/hv_func.h:55:
/Users/stan/perl5/perlbrew/perls/perl-5.32.1/lib/5.32.1/darwin-2level/CORE/stadtx_hash.h:113:5: warning: '(' and '{' tokens introducing statement expression appear in different macro expansion contexts [-Wcompound-token-split-by-macro]
    STADTX_SCRAMBLE64(state[0],UINT64_C(0x801178846e899d17));
    ^~~~~~~~~~~~~~~~~~~~~~~~~~~~~~~~~~~~~~~~~~~~~~~~~~~~~~~~
/Users/stan/perl5/perlbrew/perls/perl-5.32.1/lib/5.32.1/darwin-2level/CORE/stadtx_hash.h:72:36: note: expanded from macro 'STADTX_SCRAMBLE64'
#define STADTX_SCRAMBLE64(v,prime) STMT_START {    \
                                   ^~~~~~~~~~
/Users/stan/perl5/perlbrew/perls/perl-5.32.1/lib/5.32.1/darwin-2level/CORE/perl.h:666:29: note: expanded from macro 'STMT_START'
#   define STMT_START   (void)( /* gcc supports "({ STATEMENTS; })" */
                              ^
/Users/stan/perl5/perlbrew/perls/perl-5.32.1/lib/5.32.1/darwin-2level/CORE/stadtx_hash.h:113:5: note: '{' token is here
    STADTX_SCRAMBLE64(state[0],UINT64_C(0x801178846e899d17));
    ^~~~~~~~~~~~~~~~~~~~~~~~~~~~~~~~~~~~~~~~~~~~~~~~~~~~~~~~
/Users/stan/perl5/perlbrew/perls/perl-5.32.1/lib/5.32.1/darwin-2level/CORE/stadtx_hash.h:72:47: note: expanded from macro 'STADTX_SCRAMBLE64'
#define STADTX_SCRAMBLE64(v,prime) STMT_START {    \
                                              ^
/Users/stan/perl5/perlbrew/perls/perl-5.32.1/lib/5.32.1/darwin-2level/CORE/stadtx_hash.h:113:5: warning: '}' and ')' tokens terminating statement expression appear in different macro expansion contexts [-Wcompound-token-split-by-macro]
    STADTX_SCRAMBLE64(state[0],UINT64_C(0x801178846e899d17));
    ^~~~~~~~~~~~~~~~~~~~~~~~~~~~~~~~~~~~~~~~~~~~~~~~~~~~~~~~
/Users/stan/perl5/perlbrew/perls/perl-5.32.1/lib/5.32.1/darwin-2level/CORE/stadtx_hash.h:79:45: note: expanded from macro 'STADTX_SCRAMBLE64'
    v ^= (v >> 46);                         \
                                            ^
/Users/stan/perl5/perlbrew/perls/perl-5.32.1/lib/5.32.1/darwin-2level/CORE/stadtx_hash.h:113:5: note: ')' token is here
    STADTX_SCRAMBLE64(state[0],UINT64_C(0x801178846e899d17));
    ^~~~~~~~~~~~~~~~~~~~~~~~~~~~~~~~~~~~~~~~~~~~~~~~~~~~~~~~
/Users/stan/perl5/perlbrew/perls/perl-5.32.1/lib/5.32.1/darwin-2level/CORE/stadtx_hash.h:80:3: note: expanded from macro 'STADTX_SCRAMBLE64'
} STMT_END
  ^~~~~~~~
/Users/stan/perl5/perlbrew/perls/perl-5.32.1/lib/5.32.1/darwin-2level/CORE/perl.h:667:21: note: expanded from macro 'STMT_END'
#   define STMT_END     )
                        ^
In file included from Module.xs:2:
In file included from /Users/stan/perl5/perlbrew/perls/perl-5.32.1/lib/5.32.1/darwin-2level/CORE/perl.h:3921:
In file included from /Users/stan/perl5/perlbrew/perls/perl-5.32.1/lib/5.32.1/darwin-2level/CORE/hv.h:663:
In file included from /Users/stan/perl5/perlbrew/perls/perl-5.32.1/lib/5.32.1/darwin-2level/CORE/hv_func.h:55:
/Users/stan/perl5/perlbrew/perls/perl-5.32.1/lib/5.32.1/darwin-2level/CORE/stadtx_hash.h:114:5: warning: '(' and '{' tokens introducing statement expression appear in different macro expansion contexts [-Wcompound-token-split-by-macro]
    STADTX_SCRAMBLE64(state[0],UINT64_C(0xdd51e5d1c9a5a151));
    ^~~~~~~~~~~~~~~~~~~~~~~~~~~~~~~~~~~~~~~~~~~~~~~~~~~~~~~~
/Users/stan/perl5/perlbrew/perls/perl-5.32.1/lib/5.32.1/darwin-2level/CORE/stadtx_hash.h:72:36: note: expanded from macro 'STADTX_SCRAMBLE64'
#define STADTX_SCRAMBLE64(v,prime) STMT_START {    \
                                   ^~~~~~~~~~
/Users/stan/perl5/perlbrew/perls/perl-5.32.1/lib/5.32.1/darwin-2level/CORE/perl.h:666:29: note: expanded from macro 'STMT_START'
#   define STMT_START   (void)( /* gcc supports "({ STATEMENTS; })" */
                              ^
/Users/stan/perl5/perlbrew/perls/perl-5.32.1/lib/5.32.1/darwin-2level/CORE/stadtx_hash.h:114:5: note: '{' token is here
    STADTX_SCRAMBLE64(state[0],UINT64_C(0xdd51e5d1c9a5a151));
    ^~~~~~~~~~~~~~~~~~~~~~~~~~~~~~~~~~~~~~~~~~~~~~~~~~~~~~~~
/Users/stan/perl5/perlbrew/perls/perl-5.32.1/lib/5.32.1/darwin-2level/CORE/stadtx_hash.h:72:47: note: expanded from macro 'STADTX_SCRAMBLE64'
#define STADTX_SCRAMBLE64(v,prime) STMT_START {    \
                                              ^
/Users/stan/perl5/perlbrew/perls/perl-5.32.1/lib/5.32.1/darwin-2level/CORE/stadtx_hash.h:114:5: warning: '}' and ')' tokens terminating statement expression appear in different macro expansion contexts [-Wcompound-token-split-by-macro]
    STADTX_SCRAMBLE64(state[0],UINT64_C(0xdd51e5d1c9a5a151));
    ^~~~~~~~~~~~~~~~~~~~~~~~~~~~~~~~~~~~~~~~~~~~~~~~~~~~~~~~
/Users/stan/perl5/perlbrew/perls/perl-5.32.1/lib/5.32.1/darwin-2level/CORE/stadtx_hash.h:79:45: note: expanded from macro 'STADTX_SCRAMBLE64'
    v ^= (v >> 46);                         \
                                            ^
/Users/stan/perl5/perlbrew/perls/perl-5.32.1/lib/5.32.1/darwin-2level/CORE/stadtx_hash.h:114:5: note: ')' token is here
    STADTX_SCRAMBLE64(state[0],UINT64_C(0xdd51e5d1c9a5a151));
    ^~~~~~~~~~~~~~~~~~~~~~~~~~~~~~~~~~~~~~~~~~~~~~~~~~~~~~~~
/Users/stan/perl5/perlbrew/perls/perl-5.32.1/lib/5.32.1/darwin-2level/CORE/stadtx_hash.h:80:3: note: expanded from macro 'STADTX_SCRAMBLE64'
} STMT_END
  ^~~~~~~~
/Users/stan/perl5/perlbrew/perls/perl-5.32.1/lib/5.32.1/darwin-2level/CORE/perl.h:667:21: note: expanded from macro 'STMT_END'
#   define STMT_END     )
                        ^
In file included from Module.xs:2:
In file included from /Users/stan/perl5/perlbrew/perls/perl-5.32.1/lib/5.32.1/darwin-2level/CORE/perl.h:3921:
In file included from /Users/stan/perl5/perlbrew/perls/perl-5.32.1/lib/5.32.1/darwin-2level/CORE/hv.h:663:
In file included from /Users/stan/perl5/perlbrew/perls/perl-5.32.1/lib/5.32.1/darwin-2level/CORE/hv_func.h:55:
/Users/stan/perl5/perlbrew/perls/perl-5.32.1/lib/5.32.1/darwin-2level/CORE/stadtx_hash.h:115:5: warning: '(' and '{' tokens introducing statement expression appear in different macro expansion contexts [-Wcompound-token-split-by-macro]
    STADTX_SCRAMBLE64(state[1],UINT64_C(0x93a7d6c8c62e4835));
    ^~~~~~~~~~~~~~~~~~~~~~~~~~~~~~~~~~~~~~~~~~~~~~~~~~~~~~~~
/Users/stan/perl5/perlbrew/perls/perl-5.32.1/lib/5.32.1/darwin-2level/CORE/stadtx_hash.h:72:36: note: expanded from macro 'STADTX_SCRAMBLE64'
#define STADTX_SCRAMBLE64(v,prime) STMT_START {    \
                                   ^~~~~~~~~~
/Users/stan/perl5/perlbrew/perls/perl-5.32.1/lib/5.32.1/darwin-2level/CORE/perl.h:666:29: note: expanded from macro 'STMT_START'
#   define STMT_START   (void)( /* gcc supports "({ STATEMENTS; })" */
                              ^
/Users/stan/perl5/perlbrew/perls/perl-5.32.1/lib/5.32.1/darwin-2level/CORE/stadtx_hash.h:115:5: note: '{' token is here
    STADTX_SCRAMBLE64(state[1],UINT64_C(0x93a7d6c8c62e4835));
    ^~~~~~~~~~~~~~~~~~~~~~~~~~~~~~~~~~~~~~~~~~~~~~~~~~~~~~~~
/Users/stan/perl5/perlbrew/perls/perl-5.32.1/lib/5.32.1/darwin-2level/CORE/stadtx_hash.h:72:47: note: expanded from macro 'STADTX_SCRAMBLE64'
#define STADTX_SCRAMBLE64(v,prime) STMT_START {    \
                                              ^
/Users/stan/perl5/perlbrew/perls/perl-5.32.1/lib/5.32.1/darwin-2level/CORE/stadtx_hash.h:115:5: warning: '}' and ')' tokens terminating statement expression appear in different macro expansion contexts [-Wcompound-token-split-by-macro]
    STADTX_SCRAMBLE64(state[1],UINT64_C(0x93a7d6c8c62e4835));
    ^~~~~~~~~~~~~~~~~~~~~~~~~~~~~~~~~~~~~~~~~~~~~~~~~~~~~~~~
/Users/stan/perl5/perlbrew/perls/perl-5.32.1/lib/5.32.1/darwin-2level/CORE/stadtx_hash.h:79:45: note: expanded from macro 'STADTX_SCRAMBLE64'
    v ^= (v >> 46);                         \
                                            ^
/Users/stan/perl5/perlbrew/perls/perl-5.32.1/lib/5.32.1/darwin-2level/CORE/stadtx_hash.h:115:5: note: ')' token is here
    STADTX_SCRAMBLE64(state[1],UINT64_C(0x93a7d6c8c62e4835));
    ^~~~~~~~~~~~~~~~~~~~~~~~~~~~~~~~~~~~~~~~~~~~~~~~~~~~~~~~
/Users/stan/perl5/perlbrew/perls/perl-5.32.1/lib/5.32.1/darwin-2level/CORE/stadtx_hash.h:80:3: note: expanded from macro 'STADTX_SCRAMBLE64'
} STMT_END
  ^~~~~~~~
/Users/stan/perl5/perlbrew/perls/perl-5.32.1/lib/5.32.1/darwin-2level/CORE/perl.h:667:21: note: expanded from macro 'STMT_END'
#   define STMT_END     )
                        ^
In file included from Module.xs:2:
In file included from /Users/stan/perl5/perlbrew/perls/perl-5.32.1/lib/5.32.1/darwin-2level/CORE/perl.h:3921:
In file included from /Users/stan/perl5/perlbrew/perls/perl-5.32.1/lib/5.32.1/darwin-2level/CORE/hv.h:663:
In file included from /Users/stan/perl5/perlbrew/perls/perl-5.32.1/lib/5.32.1/darwin-2level/CORE/hv_func.h:55:
/Users/stan/perl5/perlbrew/perls/perl-5.32.1/lib/5.32.1/darwin-2level/CORE/stadtx_hash.h:116:5: warning: '(' and '{' tokens introducing statement expression appear in different macro expansion contexts [-Wcompound-token-split-by-macro]
    STADTX_SCRAMBLE64(state[1],UINT64_C(0x803340f36895c2b5));
    ^~~~~~~~~~~~~~~~~~~~~~~~~~~~~~~~~~~~~~~~~~~~~~~~~~~~~~~~
/Users/stan/perl5/perlbrew/perls/perl-5.32.1/lib/5.32.1/darwin-2level/CORE/stadtx_hash.h:72:36: note: expanded from macro 'STADTX_SCRAMBLE64'
#define STADTX_SCRAMBLE64(v,prime) STMT_START {    \
                                   ^~~~~~~~~~
/Users/stan/perl5/perlbrew/perls/perl-5.32.1/lib/5.32.1/darwin-2level/CORE/perl.h:666:29: note: expanded from macro 'STMT_START'
#   define STMT_START   (void)( /* gcc supports "({ STATEMENTS; })" */
                              ^
/Users/stan/perl5/perlbrew/perls/perl-5.32.1/lib/5.32.1/darwin-2level/CORE/stadtx_hash.h:116:5: note: '{' token is here
    STADTX_SCRAMBLE64(state[1],UINT64_C(0x803340f36895c2b5));
    ^~~~~~~~~~~~~~~~~~~~~~~~~~~~~~~~~~~~~~~~~~~~~~~~~~~~~~~~
/Users/stan/perl5/perlbrew/perls/perl-5.32.1/lib/5.32.1/darwin-2level/CORE/stadtx_hash.h:72:47: note: expanded from macro 'STADTX_SCRAMBLE64'
#define STADTX_SCRAMBLE64(v,prime) STMT_START {    \
                                              ^
/Users/stan/perl5/perlbrew/perls/perl-5.32.1/lib/5.32.1/darwin-2level/CORE/stadtx_hash.h:116:5: warning: '}' and ')' tokens terminating statement expression appear in different macro expansion contexts [-Wcompound-token-split-by-macro]
    STADTX_SCRAMBLE64(state[1],UINT64_C(0x803340f36895c2b5));
    ^~~~~~~~~~~~~~~~~~~~~~~~~~~~~~~~~~~~~~~~~~~~~~~~~~~~~~~~
/Users/stan/perl5/perlbrew/perls/perl-5.32.1/lib/5.32.1/darwin-2level/CORE/stadtx_hash.h:79:45: note: expanded from macro 'STADTX_SCRAMBLE64'
    v ^= (v >> 46);                         \
                                            ^
/Users/stan/perl5/perlbrew/perls/perl-5.32.1/lib/5.32.1/darwin-2level/CORE/stadtx_hash.h:116:5: note: ')' token is here
    STADTX_SCRAMBLE64(state[1],UINT64_C(0x803340f36895c2b5));
    ^~~~~~~~~~~~~~~~~~~~~~~~~~~~~~~~~~~~~~~~~~~~~~~~~~~~~~~~
/Users/stan/perl5/perlbrew/perls/perl-5.32.1/lib/5.32.1/darwin-2level/CORE/stadtx_hash.h:80:3: note: expanded from macro 'STADTX_SCRAMBLE64'
} STMT_END
  ^~~~~~~~
/Users/stan/perl5/perlbrew/perls/perl-5.32.1/lib/5.32.1/darwin-2level/CORE/perl.h:667:21: note: expanded from macro 'STMT_END'
#   define STMT_END     )
                        ^
In file included from Module.xs:2:
In file included from /Users/stan/perl5/perlbrew/perls/perl-5.32.1/lib/5.32.1/darwin-2level/CORE/perl.h:3921:
In file included from /Users/stan/perl5/perlbrew/perls/perl-5.32.1/lib/5.32.1/darwin-2level/CORE/hv.h:663:
In file included from /Users/stan/perl5/perlbrew/perls/perl-5.32.1/lib/5.32.1/darwin-2level/CORE/hv_func.h:55:
/Users/stan/perl5/perlbrew/perls/perl-5.32.1/lib/5.32.1/darwin-2level/CORE/stadtx_hash.h:117:5: warning: '(' and '{' tokens introducing statement expression appear in different macro expansion contexts [-Wcompound-token-split-by-macro]
    STADTX_SCRAMBLE64(state[2],UINT64_C(0xbea9344eb7565eeb));
    ^~~~~~~~~~~~~~~~~~~~~~~~~~~~~~~~~~~~~~~~~~~~~~~~~~~~~~~~
/Users/stan/perl5/perlbrew/perls/perl-5.32.1/lib/5.32.1/darwin-2level/CORE/stadtx_hash.h:72:36: note: expanded from macro 'STADTX_SCRAMBLE64'
#define STADTX_SCRAMBLE64(v,prime) STMT_START {    \
                                   ^~~~~~~~~~
/Users/stan/perl5/perlbrew/perls/perl-5.32.1/lib/5.32.1/darwin-2level/CORE/perl.h:666:29: note: expanded from macro 'STMT_START'
#   define STMT_START   (void)( /* gcc supports "({ STATEMENTS; })" */
                              ^
/Users/stan/perl5/perlbrew/perls/perl-5.32.1/lib/5.32.1/darwin-2level/CORE/stadtx_hash.h:117:5: note: '{' token is here
    STADTX_SCRAMBLE64(state[2],UINT64_C(0xbea9344eb7565eeb));
    ^~~~~~~~~~~~~~~~~~~~~~~~~~~~~~~~~~~~~~~~~~~~~~~~~~~~~~~~
/Users/stan/perl5/perlbrew/perls/perl-5.32.1/lib/5.32.1/darwin-2level/CORE/stadtx_hash.h:72:47: note: expanded from macro 'STADTX_SCRAMBLE64'
#define STADTX_SCRAMBLE64(v,prime) STMT_START {    \
                                              ^
/Users/stan/perl5/perlbrew/perls/perl-5.32.1/lib/5.32.1/darwin-2level/CORE/stadtx_hash.h:117:5: warning: '}' and ')' tokens terminating statement expression appear in different macro expansion contexts [-Wcompound-token-split-by-macro]
    STADTX_SCRAMBLE64(state[2],UINT64_C(0xbea9344eb7565eeb));
    ^~~~~~~~~~~~~~~~~~~~~~~~~~~~~~~~~~~~~~~~~~~~~~~~~~~~~~~~
/Users/stan/perl5/perlbrew/perls/perl-5.32.1/lib/5.32.1/darwin-2level/CORE/stadtx_hash.h:79:45: note: expanded from macro 'STADTX_SCRAMBLE64'
    v ^= (v >> 46);                         \
                                            ^
/Users/stan/perl5/perlbrew/perls/perl-5.32.1/lib/5.32.1/darwin-2level/CORE/stadtx_hash.h:117:5: note: ')' token is here
    STADTX_SCRAMBLE64(state[2],UINT64_C(0xbea9344eb7565eeb));
    ^~~~~~~~~~~~~~~~~~~~~~~~~~~~~~~~~~~~~~~~~~~~~~~~~~~~~~~~
/Users/stan/perl5/perlbrew/perls/perl-5.32.1/lib/5.32.1/darwin-2level/CORE/stadtx_hash.h:80:3: note: expanded from macro 'STADTX_SCRAMBLE64'
} STMT_END
  ^~~~~~~~
/Users/stan/perl5/perlbrew/perls/perl-5.32.1/lib/5.32.1/darwin-2level/CORE/perl.h:667:21: note: expanded from macro 'STMT_END'
#   define STMT_END     )
                        ^
In file included from Module.xs:2:
In file included from /Users/stan/perl5/perlbrew/perls/perl-5.32.1/lib/5.32.1/darwin-2level/CORE/perl.h:3921:
In file included from /Users/stan/perl5/perlbrew/perls/perl-5.32.1/lib/5.32.1/darwin-2level/CORE/hv.h:663:
In file included from /Users/stan/perl5/perlbrew/perls/perl-5.32.1/lib/5.32.1/darwin-2level/CORE/hv_func.h:55:
/Users/stan/perl5/perlbrew/perls/perl-5.32.1/lib/5.32.1/darwin-2level/CORE/stadtx_hash.h:118:5: warning: '(' and '{' tokens introducing statement expression appear in different macro expansion contexts [-Wcompound-token-split-by-macro]
    STADTX_SCRAMBLE64(state[2],UINT64_C(0xcd95d1e509b995cd));
    ^~~~~~~~~~~~~~~~~~~~~~~~~~~~~~~~~~~~~~~~~~~~~~~~~~~~~~~~
/Users/stan/perl5/perlbrew/perls/perl-5.32.1/lib/5.32.1/darwin-2level/CORE/stadtx_hash.h:72:36: note: expanded from macro 'STADTX_SCRAMBLE64'
#define STADTX_SCRAMBLE64(v,prime) STMT_START {    \
                                   ^~~~~~~~~~
/Users/stan/perl5/perlbrew/perls/perl-5.32.1/lib/5.32.1/darwin-2level/CORE/perl.h:666:29: note: expanded from macro 'STMT_START'
#   define STMT_START   (void)( /* gcc supports "({ STATEMENTS; })" */
                              ^
/Users/stan/perl5/perlbrew/perls/perl-5.32.1/lib/5.32.1/darwin-2level/CORE/stadtx_hash.h:118:5: note: '{' token is here
    STADTX_SCRAMBLE64(state[2],UINT64_C(0xcd95d1e509b995cd));
    ^~~~~~~~~~~~~~~~~~~~~~~~~~~~~~~~~~~~~~~~~~~~~~~~~~~~~~~~
/Users/stan/perl5/perlbrew/perls/perl-5.32.1/lib/5.32.1/darwin-2level/CORE/stadtx_hash.h:72:47: note: expanded from macro 'STADTX_SCRAMBLE64'
#define STADTX_SCRAMBLE64(v,prime) STMT_START {    \
                                              ^
/Users/stan/perl5/perlbrew/perls/perl-5.32.1/lib/5.32.1/darwin-2level/CORE/stadtx_hash.h:118:5: warning: '}' and ')' tokens terminating statement expression appear in different macro expansion contexts [-Wcompound-token-split-by-macro]
    STADTX_SCRAMBLE64(state[2],UINT64_C(0xcd95d1e509b995cd));
    ^~~~~~~~~~~~~~~~~~~~~~~~~~~~~~~~~~~~~~~~~~~~~~~~~~~~~~~~
/Users/stan/perl5/perlbrew/perls/perl-5.32.1/lib/5.32.1/darwin-2level/CORE/stadtx_hash.h:79:45: note: expanded from macro 'STADTX_SCRAMBLE64'
    v ^= (v >> 46);                         \
                                            ^
/Users/stan/perl5/perlbrew/perls/perl-5.32.1/lib/5.32.1/darwin-2level/CORE/stadtx_hash.h:118:5: note: ')' token is here
    STADTX_SCRAMBLE64(state[2],UINT64_C(0xcd95d1e509b995cd));
    ^~~~~~~~~~~~~~~~~~~~~~~~~~~~~~~~~~~~~~~~~~~~~~~~~~~~~~~~
/Users/stan/perl5/perlbrew/perls/perl-5.32.1/lib/5.32.1/darwin-2level/CORE/stadtx_hash.h:80:3: note: expanded from macro 'STADTX_SCRAMBLE64'
} STMT_END
  ^~~~~~~~
/Users/stan/perl5/perlbrew/perls/perl-5.32.1/lib/5.32.1/darwin-2level/CORE/perl.h:667:21: note: expanded from macro 'STMT_END'
#   define STMT_END     )
                        ^
In file included from Module.xs:2:
In file included from /Users/stan/perl5/perlbrew/perls/perl-5.32.1/lib/5.32.1/darwin-2level/CORE/perl.h:3921:
In file included from /Users/stan/perl5/perlbrew/perls/perl-5.32.1/lib/5.32.1/darwin-2level/CORE/hv.h:663:
In file included from /Users/stan/perl5/perlbrew/perls/perl-5.32.1/lib/5.32.1/darwin-2level/CORE/hv_func.h:55:
/Users/stan/perl5/perlbrew/perls/perl-5.32.1/lib/5.32.1/darwin-2level/CORE/stadtx_hash.h:119:5: warning: '(' and '{' tokens introducing statement expression appear in different macro expansion contexts [-Wcompound-token-split-by-macro]
    STADTX_SCRAMBLE64(state[3],UINT64_C(0x9999791977e30c13));
    ^~~~~~~~~~~~~~~~~~~~~~~~~~~~~~~~~~~~~~~~~~~~~~~~~~~~~~~~
/Users/stan/perl5/perlbrew/perls/perl-5.32.1/lib/5.32.1/darwin-2level/CORE/stadtx_hash.h:72:36: note: expanded from macro 'STADTX_SCRAMBLE64'
#define STADTX_SCRAMBLE64(v,prime) STMT_START {    \
                                   ^~~~~~~~~~
/Users/stan/perl5/perlbrew/perls/perl-5.32.1/lib/5.32.1/darwin-2level/CORE/perl.h:666:29: note: expanded from macro 'STMT_START'
#   define STMT_START   (void)( /* gcc supports "({ STATEMENTS; })" */
                              ^
/Users/stan/perl5/perlbrew/perls/perl-5.32.1/lib/5.32.1/darwin-2level/CORE/stadtx_hash.h:119:5: note: '{' token is here
    STADTX_SCRAMBLE64(state[3],UINT64_C(0x9999791977e30c13));
    ^~~~~~~~~~~~~~~~~~~~~~~~~~~~~~~~~~~~~~~~~~~~~~~~~~~~~~~~
/Users/stan/perl5/perlbrew/perls/perl-5.32.1/lib/5.32.1/darwin-2level/CORE/stadtx_hash.h:72:47: note: expanded from macro 'STADTX_SCRAMBLE64'
#define STADTX_SCRAMBLE64(v,prime) STMT_START {    \
                                              ^
/Users/stan/perl5/perlbrew/perls/perl-5.32.1/lib/5.32.1/darwin-2level/CORE/stadtx_hash.h:119:5: warning: '}' and ')' tokens terminating statement expression appear in different macro expansion contexts [-Wcompound-token-split-by-macro]
    STADTX_SCRAMBLE64(state[3],UINT64_C(0x9999791977e30c13));
    ^~~~~~~~~~~~~~~~~~~~~~~~~~~~~~~~~~~~~~~~~~~~~~~~~~~~~~~~
/Users/stan/perl5/perlbrew/perls/perl-5.32.1/lib/5.32.1/darwin-2level/CORE/stadtx_hash.h:79:45: note: expanded from macro 'STADTX_SCRAMBLE64'
    v ^= (v >> 46);                         \
                                            ^
/Users/stan/perl5/perlbrew/perls/perl-5.32.1/lib/5.32.1/darwin-2level/CORE/stadtx_hash.h:119:5: note: ')' token is here
    STADTX_SCRAMBLE64(state[3],UINT64_C(0x9999791977e30c13));
    ^~~~~~~~~~~~~~~~~~~~~~~~~~~~~~~~~~~~~~~~~~~~~~~~~~~~~~~~
/Users/stan/perl5/perlbrew/perls/perl-5.32.1/lib/5.32.1/darwin-2level/CORE/stadtx_hash.h:80:3: note: expanded from macro 'STADTX_SCRAMBLE64'
} STMT_END
  ^~~~~~~~
/Users/stan/perl5/perlbrew/perls/perl-5.32.1/lib/5.32.1/darwin-2level/CORE/perl.h:667:21: note: expanded from macro 'STMT_END'
#   define STMT_END     )
                        ^
In file included from Module.xs:2:
In file included from /Users/stan/perl5/perlbrew/perls/perl-5.32.1/lib/5.32.1/darwin-2level/CORE/perl.h:3921:
In file included from /Users/stan/perl5/perlbrew/perls/perl-5.32.1/lib/5.32.1/darwin-2level/CORE/hv.h:663:
In file included from /Users/stan/perl5/perlbrew/perls/perl-5.32.1/lib/5.32.1/darwin-2level/CORE/hv_func.h:55:
/Users/stan/perl5/perlbrew/perls/perl-5.32.1/lib/5.32.1/darwin-2level/CORE/stadtx_hash.h:120:5: warning: '(' and '{' tokens introducing statement expression appear in different macro expansion contexts [-Wcompound-token-split-by-macro]
    STADTX_SCRAMBLE64(state[3],UINT64_C(0xaab8b6b05abfc6cd));
    ^~~~~~~~~~~~~~~~~~~~~~~~~~~~~~~~~~~~~~~~~~~~~~~~~~~~~~~~
/Users/stan/perl5/perlbrew/perls/perl-5.32.1/lib/5.32.1/darwin-2level/CORE/stadtx_hash.h:72:36: note: expanded from macro 'STADTX_SCRAMBLE64'
#define STADTX_SCRAMBLE64(v,prime) STMT_START {    \
                                   ^~~~~~~~~~
/Users/stan/perl5/perlbrew/perls/perl-5.32.1/lib/5.32.1/darwin-2level/CORE/perl.h:666:29: note: expanded from macro 'STMT_START'
#   define STMT_START   (void)( /* gcc supports "({ STATEMENTS; })" */
                              ^
/Users/stan/perl5/perlbrew/perls/perl-5.32.1/lib/5.32.1/darwin-2level/CORE/stadtx_hash.h:120:5: note: '{' token is here
    STADTX_SCRAMBLE64(state[3],UINT64_C(0xaab8b6b05abfc6cd));
    ^~~~~~~~~~~~~~~~~~~~~~~~~~~~~~~~~~~~~~~~~~~~~~~~~~~~~~~~
/Users/stan/perl5/perlbrew/perls/perl-5.32.1/lib/5.32.1/darwin-2level/CORE/stadtx_hash.h:72:47: note: expanded from macro 'STADTX_SCRAMBLE64'
#define STADTX_SCRAMBLE64(v,prime) STMT_START {    \
                                              ^
/Users/stan/perl5/perlbrew/perls/perl-5.32.1/lib/5.32.1/darwin-2level/CORE/stadtx_hash.h:120:5: warning: '}' and ')' tokens terminating statement expression appear in different macro expansion contexts [-Wcompound-token-split-by-macro]
    STADTX_SCRAMBLE64(state[3],UINT64_C(0xaab8b6b05abfc6cd));
    ^~~~~~~~~~~~~~~~~~~~~~~~~~~~~~~~~~~~~~~~~~~~~~~~~~~~~~~~
/Users/stan/perl5/perlbrew/perls/perl-5.32.1/lib/5.32.1/darwin-2level/CORE/stadtx_hash.h:79:45: note: expanded from macro 'STADTX_SCRAMBLE64'
    v ^= (v >> 46);                         \
                                            ^
/Users/stan/perl5/perlbrew/perls/perl-5.32.1/lib/5.32.1/darwin-2level/CORE/stadtx_hash.h:120:5: note: ')' token is here
    STADTX_SCRAMBLE64(state[3],UINT64_C(0xaab8b6b05abfc6cd));
    ^~~~~~~~~~~~~~~~~~~~~~~~~~~~~~~~~~~~~~~~~~~~~~~~~~~~~~~~
/Users/stan/perl5/perlbrew/perls/perl-5.32.1/lib/5.32.1/darwin-2level/CORE/stadtx_hash.h:80:3: note: expanded from macro 'STADTX_SCRAMBLE64'
} STMT_END
  ^~~~~~~~
/Users/stan/perl5/perlbrew/perls/perl-5.32.1/lib/5.32.1/darwin-2level/CORE/perl.h:667:21: note: expanded from macro 'STMT_END'
#   define STMT_END     )
                        ^
In file included from Module.xs:2:
In file included from /Users/stan/perl5/perlbrew/perls/perl-5.32.1/lib/5.32.1/darwin-2level/CORE/perl.h:3921:
In file included from /Users/stan/perl5/perlbrew/perls/perl-5.32.1/lib/5.32.1/darwin-2level/CORE/hv.h:663:
/Users/stan/perl5/perlbrew/perls/perl-5.32.1/lib/5.32.1/darwin-2level/CORE/hv_func.h:107:5: warning: '(' and '{' tokens introducing statement expression appear in different macro expansion contexts [-Wcompound-token-split-by-macro]
    _PERL_HASH_SEED_STATE(seed,state);
    ^~~~~~~~~~~~~~~~~~~~~~~~~~~~~~~~~
/Users/stan/perl5/perlbrew/perls/perl-5.32.1/lib/5.32.1/darwin-2level/CORE/hv_func.h:91:43: note: expanded from macro '_PERL_HASH_SEED_STATE'
#define _PERL_HASH_SEED_STATE(seed,state) STMT_START {                                      \
                                          ^~~~~~~~~~
/Users/stan/perl5/perlbrew/perls/perl-5.32.1/lib/5.32.1/darwin-2level/CORE/perl.h:666:29: note: expanded from macro 'STMT_START'
#   define STMT_START   (void)( /* gcc supports "({ STATEMENTS; })" */
                              ^
/Users/stan/perl5/perlbrew/perls/perl-5.32.1/lib/5.32.1/darwin-2level/CORE/hv_func.h:107:5: note: '{' token is here
    _PERL_HASH_SEED_STATE(seed,state);
    ^~~~~~~~~~~~~~~~~~~~~~~~~~~~~~~~~
/Users/stan/perl5/perlbrew/perls/perl-5.32.1/lib/5.32.1/darwin-2level/CORE/hv_func.h:91:54: note: expanded from macro '_PERL_HASH_SEED_STATE'
#define _PERL_HASH_SEED_STATE(seed,state) STMT_START {                                      \
                                                     ^
/Users/stan/perl5/perlbrew/perls/perl-5.32.1/lib/5.32.1/darwin-2level/CORE/hv_func.h:107:5: warning: '}' and ')' tokens terminating statement expression appear in different macro expansion contexts [-Wcompound-token-split-by-macro]
    _PERL_HASH_SEED_STATE(seed,state);
    ^~~~~~~~~~~~~~~~~~~~~~~~~~~~~~~~~
/Users/stan/perl5/perlbrew/perls/perl-5.32.1/lib/5.32.1/darwin-2level/CORE/hv_func.h:93:93: note: expanded from macro '_PERL_HASH_SEED_STATE'
    sbox32_seed_state96(seed + __PERL_HASH_SEED_BYTES, state + __PERL_HASH_STATE_BYTES);    \
                                                                                            ^
/Users/stan/perl5/perlbrew/perls/perl-5.32.1/lib/5.32.1/darwin-2level/CORE/hv_func.h:107:5: note: ')' token is here
    _PERL_HASH_SEED_STATE(seed,state);
    ^~~~~~~~~~~~~~~~~~~~~~~~~~~~~~~~~
/Users/stan/perl5/perlbrew/perls/perl-5.32.1/lib/5.32.1/darwin-2level/CORE/hv_func.h:94:3: note: expanded from macro '_PERL_HASH_SEED_STATE'
} STMT_END
  ^~~~~~~~
/Users/stan/perl5/perlbrew/perls/perl-5.32.1/lib/5.32.1/darwin-2level/CORE/perl.h:667:21: note: expanded from macro 'STMT_END'
#   define STMT_END     )
                        ^
In file included from Module.xs:2:
In file included from /Users/stan/perl5/perlbrew/perls/perl-5.32.1/lib/5.32.1/darwin-2level/CORE/perl.h:3921:
In file included from /Users/stan/perl5/perlbrew/perls/perl-5.32.1/lib/5.32.1/darwin-2level/CORE/hv.h:663:
/Users/stan/perl5/perlbrew/perls/perl-5.32.1/lib/5.32.1/darwin-2level/CORE/hv_func.h:274:6: warning: '(' and '{' tokens introducing statement expression appear in different macro expansion contexts [-Wcompound-token-split-by-macro]
    ,SIPROUND;
     ^~~~~~~~
/Users/stan/perl5/perlbrew/perls/perl-5.32.1/lib/5.32.1/darwin-2level/CORE/hv_func.h:175:3: note: expanded from macro 'SIPROUND'
  STMT_START {              \
  ^~~~~~~~~~
/Users/stan/perl5/perlbrew/perls/perl-5.32.1/lib/5.32.1/darwin-2level/CORE/perl.h:666:29: note: expanded from macro 'STMT_START'
#   define STMT_START   (void)( /* gcc supports "({ STATEMENTS; })" */
                              ^
/Users/stan/perl5/perlbrew/perls/perl-5.32.1/lib/5.32.1/darwin-2level/CORE/hv_func.h:219:5: note: expanded from macro 'PERL_SIPHASH_FNC'
    SIP_ROUNDS;                             \
    ^~~~~~~~~~
/Users/stan/perl5/perlbrew/perls/perl-5.32.1/lib/5.32.1/darwin-2level/CORE/hv_func.h:274:6: note: '{' token is here
    ,SIPROUND;
     ^~~~~~~~
/Users/stan/perl5/perlbrew/perls/perl-5.32.1/lib/5.32.1/darwin-2level/CORE/hv_func.h:175:14: note: expanded from macro 'SIPROUND'
  STMT_START {              \
             ^
/Users/stan/perl5/perlbrew/perls/perl-5.32.1/lib/5.32.1/darwin-2level/CORE/hv_func.h:219:5: note: expanded from macro 'PERL_SIPHASH_FNC'
    SIP_ROUNDS;                             \
    ^~~~~~~~~~
/Users/stan/perl5/perlbrew/perls/perl-5.32.1/lib/5.32.1/darwin-2level/CORE/hv_func.h:274:6: warning: '}' and ')' tokens terminating statement expression appear in different macro expansion contexts [-Wcompound-token-split-by-macro]
    ,SIPROUND;
     ^~~~~~~~
/Users/stan/perl5/perlbrew/perls/perl-5.32.1/lib/5.32.1/darwin-2level/CORE/hv_func.h:180:3: note: expanded from macro 'SIPROUND'
  } STMT_END
  ^
/Users/stan/perl5/perlbrew/perls/perl-5.32.1/lib/5.32.1/darwin-2level/CORE/hv_func.h:219:5: note: expanded from macro 'PERL_SIPHASH_FNC'
    SIP_ROUNDS;                             \
    ^~~~~~~~~~
/Users/stan/perl5/perlbrew/perls/perl-5.32.1/lib/5.32.1/darwin-2level/CORE/hv_func.h:274:6: note: ')' token is here
    ,SIPROUND;
     ^~~~~~~~
/Users/stan/perl5/perlbrew/perls/perl-5.32.1/lib/5.32.1/darwin-2level/CORE/hv_func.h:180:5: note: expanded from macro 'SIPROUND'
  } STMT_END
    ^~~~~~~~
/Users/stan/perl5/perlbrew/perls/perl-5.32.1/lib/5.32.1/darwin-2level/CORE/perl.h:667:21: note: expanded from macro 'STMT_END'
#   define STMT_END     )
                        ^
/Users/stan/perl5/perlbrew/perls/perl-5.32.1/lib/5.32.1/darwin-2level/CORE/hv_func.h:219:5: note: expanded from macro 'PERL_SIPHASH_FNC'
    SIP_ROUNDS;                             \
    ^~~~~~~~~~
/Users/stan/perl5/perlbrew/perls/perl-5.32.1/lib/5.32.1/darwin-2level/CORE/hv_func.h:274:6: warning: '(' and '{' tokens introducing statement expression appear in different macro expansion contexts [-Wcompound-token-split-by-macro]
    ,SIPROUND;
     ^~~~~~~~
/Users/stan/perl5/perlbrew/perls/perl-5.32.1/lib/5.32.1/darwin-2level/CORE/hv_func.h:175:3: note: expanded from macro 'SIPROUND'
  STMT_START {              \
  ^~~~~~~~~~
/Users/stan/perl5/perlbrew/perls/perl-5.32.1/lib/5.32.1/darwin-2level/CORE/perl.h:666:29: note: expanded from macro 'STMT_START'
#   define STMT_START   (void)( /* gcc supports "({ STATEMENTS; })" */
                              ^
/Users/stan/perl5/perlbrew/perls/perl-5.32.1/lib/5.32.1/darwin-2level/CORE/hv_func.h:238:3: note: expanded from macro 'PERL_SIPHASH_FNC'
  SIP_ROUNDS;                               \
  ^~~~~~~~~~
/Users/stan/perl5/perlbrew/perls/perl-5.32.1/lib/5.32.1/darwin-2level/CORE/hv_func.h:274:6: note: '{' token is here
    ,SIPROUND;
     ^~~~~~~~
/Users/stan/perl5/perlbrew/perls/perl-5.32.1/lib/5.32.1/darwin-2level/CORE/hv_func.h:175:14: note: expanded from macro 'SIPROUND'
  STMT_START {              \
             ^
/Users/stan/perl5/perlbrew/perls/perl-5.32.1/lib/5.32.1/darwin-2level/CORE/hv_func.h:238:3: note: expanded from macro 'PERL_SIPHASH_FNC'
  SIP_ROUNDS;                               \
  ^~~~~~~~~~
/Users/stan/perl5/perlbrew/perls/perl-5.32.1/lib/5.32.1/darwin-2level/CORE/hv_func.h:274:6: warning: '}' and ')' tokens terminating statement expression appear in different macro expansion contexts [-Wcompound-token-split-by-macro]
    ,SIPROUND;
     ^~~~~~~~
/Users/stan/perl5/perlbrew/perls/perl-5.32.1/lib/5.32.1/darwin-2level/CORE/hv_func.h:180:3: note: expanded from macro 'SIPROUND'
  } STMT_END
  ^
/Users/stan/perl5/perlbrew/perls/perl-5.32.1/lib/5.32.1/darwin-2level/CORE/hv_func.h:238:3: note: expanded from macro 'PERL_SIPHASH_FNC'
  SIP_ROUNDS;                               \
  ^~~~~~~~~~
/Users/stan/perl5/perlbrew/perls/perl-5.32.1/lib/5.32.1/darwin-2level/CORE/hv_func.h:274:6: note: ')' token is here
    ,SIPROUND;
     ^~~~~~~~
/Users/stan/perl5/perlbrew/perls/perl-5.32.1/lib/5.32.1/darwin-2level/CORE/hv_func.h:180:5: note: expanded from macro 'SIPROUND'
  } STMT_END
    ^~~~~~~~
/Users/stan/perl5/perlbrew/perls/perl-5.32.1/lib/5.32.1/darwin-2level/CORE/perl.h:667:21: note: expanded from macro 'STMT_END'
#   define STMT_END     )
                        ^
/Users/stan/perl5/perlbrew/perls/perl-5.32.1/lib/5.32.1/darwin-2level/CORE/hv_func.h:238:3: note: expanded from macro 'PERL_SIPHASH_FNC'
  SIP_ROUNDS;                               \
  ^~~~~~~~~~
/Users/stan/perl5/perlbrew/perls/perl-5.32.1/lib/5.32.1/darwin-2level/CORE/hv_func.h:275:6: warning: '(' and '{' tokens introducing statement expression appear in different macro expansion contexts [-Wcompound-token-split-by-macro]
    ,SIPROUND;SIPROUND;SIPROUND;
     ^~~~~~~~
/Users/stan/perl5/perlbrew/perls/perl-5.32.1/lib/5.32.1/darwin-2level/CORE/hv_func.h:175:3: note: expanded from macro 'SIPROUND'
  STMT_START {              \
  ^~~~~~~~~~
/Users/stan/perl5/perlbrew/perls/perl-5.32.1/lib/5.32.1/darwin-2level/CORE/perl.h:666:29: note: expanded from macro 'STMT_START'
#   define STMT_START   (void)( /* gcc supports "({ STATEMENTS; })" */
                              ^
/Users/stan/perl5/perlbrew/perls/perl-5.32.1/lib/5.32.1/darwin-2level/CORE/hv_func.h:244:3: note: expanded from macro 'PERL_SIPHASH_FNC'
  SIP_FINAL_ROUNDS                          \
  ^~~~~~~~~~~~~~~~
/Users/stan/perl5/perlbrew/perls/perl-5.32.1/lib/5.32.1/darwin-2level/CORE/hv_func.h:275:6: note: '{' token is here
    ,SIPROUND;SIPROUND;SIPROUND;
     ^~~~~~~~
/Users/stan/perl5/perlbrew/perls/perl-5.32.1/lib/5.32.1/darwin-2level/CORE/hv_func.h:175:14: note: expanded from macro 'SIPROUND'
  STMT_START {              \
             ^
/Users/stan/perl5/perlbrew/perls/perl-5.32.1/lib/5.32.1/darwin-2level/CORE/hv_func.h:244:3: note: expanded from macro 'PERL_SIPHASH_FNC'
  SIP_FINAL_ROUNDS                          \
  ^~~~~~~~~~~~~~~~
/Users/stan/perl5/perlbrew/perls/perl-5.32.1/lib/5.32.1/darwin-2level/CORE/hv_func.h:275:6: warning: '}' and ')' tokens terminating statement expression appear in different macro expansion contexts [-Wcompound-token-split-by-macro]
    ,SIPROUND;SIPROUND;SIPROUND;
     ^~~~~~~~
/Users/stan/perl5/perlbrew/perls/perl-5.32.1/lib/5.32.1/darwin-2level/CORE/hv_func.h:180:3: note: expanded from macro 'SIPROUND'
  } STMT_END
  ^
/Users/stan/perl5/perlbrew/perls/perl-5.32.1/lib/5.32.1/darwin-2level/CORE/hv_func.h:244:3: note: expanded from macro 'PERL_SIPHASH_FNC'
  SIP_FINAL_ROUNDS                          \
  ^~~~~~~~~~~~~~~~
/Users/stan/perl5/perlbrew/perls/perl-5.32.1/lib/5.32.1/darwin-2level/CORE/hv_func.h:275:6: note: ')' token is here
    ,SIPROUND;SIPROUND;SIPROUND;
     ^~~~~~~~
/Users/stan/perl5/perlbrew/perls/perl-5.32.1/lib/5.32.1/darwin-2level/CORE/hv_func.h:180:5: note: expanded from macro 'SIPROUND'
  } STMT_END
    ^~~~~~~~
/Users/stan/perl5/perlbrew/perls/perl-5.32.1/lib/5.32.1/darwin-2level/CORE/perl.h:667:21: note: expanded from macro 'STMT_END'
#   define STMT_END     )
                        ^
/Users/stan/perl5/perlbrew/perls/perl-5.32.1/lib/5.32.1/darwin-2level/CORE/hv_func.h:244:3: note: expanded from macro 'PERL_SIPHASH_FNC'
  SIP_FINAL_ROUNDS                          \
  ^~~~~~~~~~~~~~~~
/Users/stan/perl5/perlbrew/perls/perl-5.32.1/lib/5.32.1/darwin-2level/CORE/hv_func.h:275:15: warning: '(' and '{' tokens introducing statement expression appear in different macro expansion contexts [-Wcompound-token-split-by-macro]
    ,SIPROUND;SIPROUND;SIPROUND;
              ^~~~~~~~
/Users/stan/perl5/perlbrew/perls/perl-5.32.1/lib/5.32.1/darwin-2level/CORE/hv_func.h:175:3: note: expanded from macro 'SIPROUND'
  STMT_START {              \
  ^~~~~~~~~~
/Users/stan/perl5/perlbrew/perls/perl-5.32.1/lib/5.32.1/darwin-2level/CORE/perl.h:666:29: note: expanded from macro 'STMT_START'
#   define STMT_START   (void)( /* gcc supports "({ STATEMENTS; })" */
                              ^
/Users/stan/perl5/perlbrew/perls/perl-5.32.1/lib/5.32.1/darwin-2level/CORE/hv_func.h:244:3: note: expanded from macro 'PERL_SIPHASH_FNC'
  SIP_FINAL_ROUNDS                          \
  ^~~~~~~~~~~~~~~~
/Users/stan/perl5/perlbrew/perls/perl-5.32.1/lib/5.32.1/darwin-2level/CORE/hv_func.h:275:15: note: '{' token is here
    ,SIPROUND;SIPROUND;SIPROUND;
              ^~~~~~~~
/Users/stan/perl5/perlbrew/perls/perl-5.32.1/lib/5.32.1/darwin-2level/CORE/hv_func.h:175:14: note: expanded from macro 'SIPROUND'
  STMT_START {              \
             ^
/Users/stan/perl5/perlbrew/perls/perl-5.32.1/lib/5.32.1/darwin-2level/CORE/hv_func.h:244:3: note: expanded from macro 'PERL_SIPHASH_FNC'
  SIP_FINAL_ROUNDS                          \
  ^~~~~~~~~~~~~~~~
/Users/stan/perl5/perlbrew/perls/perl-5.32.1/lib/5.32.1/darwin-2level/CORE/hv_func.h:275:15: warning: '}' and ')' tokens terminating statement expression appear in different macro expansion contexts [-Wcompound-token-split-by-macro]
    ,SIPROUND;SIPROUND;SIPROUND;
              ^~~~~~~~
/Users/stan/perl5/perlbrew/perls/perl-5.32.1/lib/5.32.1/darwin-2level/CORE/hv_func.h:180:3: note: expanded from macro 'SIPROUND'
  } STMT_END
  ^
/Users/stan/perl5/perlbrew/perls/perl-5.32.1/lib/5.32.1/darwin-2level/CORE/hv_func.h:244:3: note: expanded from macro 'PERL_SIPHASH_FNC'
  SIP_FINAL_ROUNDS                          \
  ^~~~~~~~~~~~~~~~
/Users/stan/perl5/perlbrew/perls/perl-5.32.1/lib/5.32.1/darwin-2level/CORE/hv_func.h:275:15: note: ')' token is here
    ,SIPROUND;SIPROUND;SIPROUND;
              ^~~~~~~~
/Users/stan/perl5/perlbrew/perls/perl-5.32.1/lib/5.32.1/darwin-2level/CORE/hv_func.h:180:5: note: expanded from macro 'SIPROUND'
  } STMT_END
    ^~~~~~~~
/Users/stan/perl5/perlbrew/perls/perl-5.32.1/lib/5.32.1/darwin-2level/CORE/perl.h:667:21: note: expanded from macro 'STMT_END'
#   define STMT_END     )
                        ^
/Users/stan/perl5/perlbrew/perls/perl-5.32.1/lib/5.32.1/darwin-2level/CORE/hv_func.h:244:3: note: expanded from macro 'PERL_SIPHASH_FNC'
  SIP_FINAL_ROUNDS                          \
  ^~~~~~~~~~~~~~~~
/Users/stan/perl5/perlbrew/perls/perl-5.32.1/lib/5.32.1/darwin-2level/CORE/hv_func.h:275:24: warning: '(' and '{' tokens introducing statement expression appear in different macro expansion contexts [-Wcompound-token-split-by-macro]
    ,SIPROUND;SIPROUND;SIPROUND;
                       ^~~~~~~~
/Users/stan/perl5/perlbrew/perls/perl-5.32.1/lib/5.32.1/darwin-2level/CORE/hv_func.h:175:3: note: expanded from macro 'SIPROUND'
  STMT_START {              \
  ^~~~~~~~~~
/Users/stan/perl5/perlbrew/perls/perl-5.32.1/lib/5.32.1/darwin-2level/CORE/perl.h:666:29: note: expanded from macro 'STMT_START'
#   define STMT_START   (void)( /* gcc supports "({ STATEMENTS; })" */
                              ^
/Users/stan/perl5/perlbrew/perls/perl-5.32.1/lib/5.32.1/darwin-2level/CORE/hv_func.h:244:3: note: expanded from macro 'PERL_SIPHASH_FNC'
  SIP_FINAL_ROUNDS                          \
  ^~~~~~~~~~~~~~~~
/Users/stan/perl5/perlbrew/perls/perl-5.32.1/lib/5.32.1/darwin-2level/CORE/hv_func.h:275:24: note: '{' token is here
    ,SIPROUND;SIPROUND;SIPROUND;
                       ^~~~~~~~
/Users/stan/perl5/perlbrew/perls/perl-5.32.1/lib/5.32.1/darwin-2level/CORE/hv_func.h:175:14: note: expanded from macro 'SIPROUND'
  STMT_START {              \
             ^
/Users/stan/perl5/perlbrew/perls/perl-5.32.1/lib/5.32.1/darwin-2level/CORE/hv_func.h:244:3: note: expanded from macro 'PERL_SIPHASH_FNC'
  SIP_FINAL_ROUNDS                          \
  ^~~~~~~~~~~~~~~~
/Users/stan/perl5/perlbrew/perls/perl-5.32.1/lib/5.32.1/darwin-2level/CORE/hv_func.h:275:24: warning: '}' and ')' tokens terminating statement expression appear in different macro expansion contexts [-Wcompound-token-split-by-macro]
    ,SIPROUND;SIPROUND;SIPROUND;
                       ^~~~~~~~
/Users/stan/perl5/perlbrew/perls/perl-5.32.1/lib/5.32.1/darwin-2level/CORE/hv_func.h:180:3: note: expanded from macro 'SIPROUND'
  } STMT_END
  ^
/Users/stan/perl5/perlbrew/perls/perl-5.32.1/lib/5.32.1/darwin-2level/CORE/hv_func.h:244:3: note: expanded from macro 'PERL_SIPHASH_FNC'
  SIP_FINAL_ROUNDS                          \
  ^~~~~~~~~~~~~~~~
/Users/stan/perl5/perlbrew/perls/perl-5.32.1/lib/5.32.1/darwin-2level/CORE/hv_func.h:275:24: note: ')' token is here
    ,SIPROUND;SIPROUND;SIPROUND;
                       ^~~~~~~~
/Users/stan/perl5/perlbrew/perls/perl-5.32.1/lib/5.32.1/darwin-2level/CORE/hv_func.h:180:5: note: expanded from macro 'SIPROUND'
  } STMT_END
    ^~~~~~~~
/Users/stan/perl5/perlbrew/perls/perl-5.32.1/lib/5.32.1/darwin-2level/CORE/perl.h:667:21: note: expanded from macro 'STMT_END'
#   define STMT_END     )
                        ^
/Users/stan/perl5/perlbrew/perls/perl-5.32.1/lib/5.32.1/darwin-2level/CORE/hv_func.h:244:3: note: expanded from macro 'PERL_SIPHASH_FNC'
  SIP_FINAL_ROUNDS                          \
  ^~~~~~~~~~~~~~~~
/Users/stan/perl5/perlbrew/perls/perl-5.32.1/lib/5.32.1/darwin-2level/CORE/hv_func.h:280:6: warning: '(' and '{' tokens introducing statement expression appear in different macro expansion contexts [-Wcompound-token-split-by-macro]
    ,SIPROUND;SIPROUND;
     ^~~~~~~~
/Users/stan/perl5/perlbrew/perls/perl-5.32.1/lib/5.32.1/darwin-2level/CORE/hv_func.h:175:3: note: expanded from macro 'SIPROUND'
  STMT_START {              \
  ^~~~~~~~~~
/Users/stan/perl5/perlbrew/perls/perl-5.32.1/lib/5.32.1/darwin-2level/CORE/perl.h:666:29: note: expanded from macro 'STMT_START'
#   define STMT_START   (void)( /* gcc supports "({ STATEMENTS; })" */
                              ^
/Users/stan/perl5/perlbrew/perls/perl-5.32.1/lib/5.32.1/darwin-2level/CORE/hv_func.h:219:5: note: expanded from macro 'PERL_SIPHASH_FNC'
    SIP_ROUNDS;                             \
    ^~~~~~~~~~
/Users/stan/perl5/perlbrew/perls/perl-5.32.1/lib/5.32.1/darwin-2level/CORE/hv_func.h:280:6: note: '{' token is here
    ,SIPROUND;SIPROUND;
     ^~~~~~~~
/Users/stan/perl5/perlbrew/perls/perl-5.32.1/lib/5.32.1/darwin-2level/CORE/hv_func.h:175:14: note: expanded from macro 'SIPROUND'
  STMT_START {              \
             ^
/Users/stan/perl5/perlbrew/perls/perl-5.32.1/lib/5.32.1/darwin-2level/CORE/hv_func.h:219:5: note: expanded from macro 'PERL_SIPHASH_FNC'
    SIP_ROUNDS;                             \
    ^~~~~~~~~~
/Users/stan/perl5/perlbrew/perls/perl-5.32.1/lib/5.32.1/darwin-2level/CORE/hv_func.h:280:6: warning: '}' and ')' tokens terminating statement expression appear in different macro expansion contexts [-Wcompound-token-split-by-macro]
    ,SIPROUND;SIPROUND;
     ^~~~~~~~
/Users/stan/perl5/perlbrew/perls/perl-5.32.1/lib/5.32.1/darwin-2level/CORE/hv_func.h:180:3: note: expanded from macro 'SIPROUND'
  } STMT_END
  ^
/Users/stan/perl5/perlbrew/perls/perl-5.32.1/lib/5.32.1/darwin-2level/CORE/hv_func.h:219:5: note: expanded from macro 'PERL_SIPHASH_FNC'
    SIP_ROUNDS;                             \
    ^~~~~~~~~~
/Users/stan/perl5/perlbrew/perls/perl-5.32.1/lib/5.32.1/darwin-2level/CORE/hv_func.h:280:6: note: ')' token is here
    ,SIPROUND;SIPROUND;
     ^~~~~~~~
/Users/stan/perl5/perlbrew/perls/perl-5.32.1/lib/5.32.1/darwin-2level/CORE/hv_func.h:180:5: note: expanded from macro 'SIPROUND'
  } STMT_END
    ^~~~~~~~
/Users/stan/perl5/perlbrew/perls/perl-5.32.1/lib/5.32.1/darwin-2level/CORE/perl.h:667:21: note: expanded from macro 'STMT_END'
#   define STMT_END     )
                        ^
/Users/stan/perl5/perlbrew/perls/perl-5.32.1/lib/5.32.1/darwin-2level/CORE/hv_func.h:219:5: note: expanded from macro 'PERL_SIPHASH_FNC'
    SIP_ROUNDS;                             \
    ^~~~~~~~~~
/Users/stan/perl5/perlbrew/perls/perl-5.32.1/lib/5.32.1/darwin-2level/CORE/hv_func.h:280:15: warning: '(' and '{' tokens introducing statement expression appear in different macro expansion contexts [-Wcompound-token-split-by-macro]
    ,SIPROUND;SIPROUND;
              ^~~~~~~~
/Users/stan/perl5/perlbrew/perls/perl-5.32.1/lib/5.32.1/darwin-2level/CORE/hv_func.h:175:3: note: expanded from macro 'SIPROUND'
  STMT_START {              \
  ^~~~~~~~~~
/Users/stan/perl5/perlbrew/perls/perl-5.32.1/lib/5.32.1/darwin-2level/CORE/perl.h:666:29: note: expanded from macro 'STMT_START'
#   define STMT_START   (void)( /* gcc supports "({ STATEMENTS; })" */
                              ^
/Users/stan/perl5/perlbrew/perls/perl-5.32.1/lib/5.32.1/darwin-2level/CORE/hv_func.h:219:5: note: expanded from macro 'PERL_SIPHASH_FNC'
    SIP_ROUNDS;                             \
    ^~~~~~~~~~
/Users/stan/perl5/perlbrew/perls/perl-5.32.1/lib/5.32.1/darwin-2level/CORE/hv_func.h:280:15: note: '{' token is here
    ,SIPROUND;SIPROUND;
              ^~~~~~~~
/Users/stan/perl5/perlbrew/perls/perl-5.32.1/lib/5.32.1/darwin-2level/CORE/hv_func.h:175:14: note: expanded from macro 'SIPROUND'
  STMT_START {              \
             ^
/Users/stan/perl5/perlbrew/perls/perl-5.32.1/lib/5.32.1/darwin-2level/CORE/hv_func.h:219:5: note: expanded from macro 'PERL_SIPHASH_FNC'
    SIP_ROUNDS;                             \
    ^~~~~~~~~~
/Users/stan/perl5/perlbrew/perls/perl-5.32.1/lib/5.32.1/darwin-2level/CORE/hv_func.h:280:15: warning: '}' and ')' tokens terminating statement expression appear in different macro expansion contexts [-Wcompound-token-split-by-macro]
    ,SIPROUND;SIPROUND;
              ^~~~~~~~
/Users/stan/perl5/perlbrew/perls/perl-5.32.1/lib/5.32.1/darwin-2level/CORE/hv_func.h:180:3: note: expanded from macro 'SIPROUND'
  } STMT_END
  ^
/Users/stan/perl5/perlbrew/perls/perl-5.32.1/lib/5.32.1/darwin-2level/CORE/hv_func.h:219:5: note: expanded from macro 'PERL_SIPHASH_FNC'
    SIP_ROUNDS;                             \
    ^~~~~~~~~~
/Users/stan/perl5/perlbrew/perls/perl-5.32.1/lib/5.32.1/darwin-2level/CORE/hv_func.h:280:15: note: ')' token is here
    ,SIPROUND;SIPROUND;
              ^~~~~~~~
/Users/stan/perl5/perlbrew/perls/perl-5.32.1/lib/5.32.1/darwin-2level/CORE/hv_func.h:180:5: note: expanded from macro 'SIPROUND'
  } STMT_END
    ^~~~~~~~
/Users/stan/perl5/perlbrew/perls/perl-5.32.1/lib/5.32.1/darwin-2level/CORE/perl.h:667:21: note: expanded from macro 'STMT_END'
#   define STMT_END     )
                        ^
/Users/stan/perl5/perlbrew/perls/perl-5.32.1/lib/5.32.1/darwin-2level/CORE/hv_func.h:219:5: note: expanded from macro 'PERL_SIPHASH_FNC'
    SIP_ROUNDS;                             \
    ^~~~~~~~~~
/Users/stan/perl5/perlbrew/perls/perl-5.32.1/lib/5.32.1/darwin-2level/CORE/hv_func.h:280:6: warning: '(' and '{' tokens introducing statement expression appear in different macro expansion contexts [-Wcompound-token-split-by-macro]
    ,SIPROUND;SIPROUND;
     ^~~~~~~~
/Users/stan/perl5/perlbrew/perls/perl-5.32.1/lib/5.32.1/darwin-2level/CORE/hv_func.h:175:3: note: expanded from macro 'SIPROUND'
  STMT_START {              \
  ^~~~~~~~~~
/Users/stan/perl5/perlbrew/perls/perl-5.32.1/lib/5.32.1/darwin-2level/CORE/perl.h:666:29: note: expanded from macro 'STMT_START'
#   define STMT_START   (void)( /* gcc supports "({ STATEMENTS; })" */
                              ^
/Users/stan/perl5/perlbrew/perls/perl-5.32.1/lib/5.32.1/darwin-2level/CORE/hv_func.h:238:3: note: expanded from macro 'PERL_SIPHASH_FNC'
  SIP_ROUNDS;                               \
  ^~~~~~~~~~
/Users/stan/perl5/perlbrew/perls/perl-5.32.1/lib/5.32.1/darwin-2level/CORE/hv_func.h:280:6: note: '{' token is here
    ,SIPROUND;SIPROUND;
     ^~~~~~~~
/Users/stan/perl5/perlbrew/perls/perl-5.32.1/lib/5.32.1/darwin-2level/CORE/hv_func.h:175:14: note: expanded from macro 'SIPROUND'
  STMT_START {              \
             ^
/Users/stan/perl5/perlbrew/perls/perl-5.32.1/lib/5.32.1/darwin-2level/CORE/hv_func.h:238:3: note: expanded from macro 'PERL_SIPHASH_FNC'
  SIP_ROUNDS;                               \
  ^~~~~~~~~~
/Users/stan/perl5/perlbrew/perls/perl-5.32.1/lib/5.32.1/darwin-2level/CORE/hv_func.h:280:6: warning: '}' and ')' tokens terminating statement expression appear in different macro expansion contexts [-Wcompound-token-split-by-macro]
    ,SIPROUND;SIPROUND;
     ^~~~~~~~
/Users/stan/perl5/perlbrew/perls/perl-5.32.1/lib/5.32.1/darwin-2level/CORE/hv_func.h:180:3: note: expanded from macro 'SIPROUND'
  } STMT_END
  ^
/Users/stan/perl5/perlbrew/perls/perl-5.32.1/lib/5.32.1/darwin-2level/CORE/hv_func.h:238:3: note: expanded from macro 'PERL_SIPHASH_FNC'
  SIP_ROUNDS;                               \
  ^~~~~~~~~~
/Users/stan/perl5/perlbrew/perls/perl-5.32.1/lib/5.32.1/darwin-2level/CORE/hv_func.h:280:6: note: ')' token is here
    ,SIPROUND;SIPROUND;
     ^~~~~~~~
/Users/stan/perl5/perlbrew/perls/perl-5.32.1/lib/5.32.1/darwin-2level/CORE/hv_func.h:180:5: note: expanded from macro 'SIPROUND'
  } STMT_END
    ^~~~~~~~
/Users/stan/perl5/perlbrew/perls/perl-5.32.1/lib/5.32.1/darwin-2level/CORE/perl.h:667:21: note: expanded from macro 'STMT_END'
#   define STMT_END     )
                        ^
/Users/stan/perl5/perlbrew/perls/perl-5.32.1/lib/5.32.1/darwin-2level/CORE/hv_func.h:238:3: note: expanded from macro 'PERL_SIPHASH_FNC'
  SIP_ROUNDS;                               \
  ^~~~~~~~~~
/Users/stan/perl5/perlbrew/perls/perl-5.32.1/lib/5.32.1/darwin-2level/CORE/hv_func.h:280:15: warning: '(' and '{' tokens introducing statement expression appear in different macro expansion contexts [-Wcompound-token-split-by-macro]
    ,SIPROUND;SIPROUND;
              ^~~~~~~~
/Users/stan/perl5/perlbrew/perls/perl-5.32.1/lib/5.32.1/darwin-2level/CORE/hv_func.h:175:3: note: expanded from macro 'SIPROUND'
  STMT_START {              \
  ^~~~~~~~~~
/Users/stan/perl5/perlbrew/perls/perl-5.32.1/lib/5.32.1/darwin-2level/CORE/perl.h:666:29: note: expanded from macro 'STMT_START'
#   define STMT_START   (void)( /* gcc supports "({ STATEMENTS; })" */
                              ^
/Users/stan/perl5/perlbrew/perls/perl-5.32.1/lib/5.32.1/darwin-2level/CORE/hv_func.h:238:3: note: expanded from macro 'PERL_SIPHASH_FNC'
  SIP_ROUNDS;                               \
  ^~~~~~~~~~
/Users/stan/perl5/perlbrew/perls/perl-5.32.1/lib/5.32.1/darwin-2level/CORE/hv_func.h:280:15: note: '{' token is here
    ,SIPROUND;SIPROUND;
              ^~~~~~~~
/Users/stan/perl5/perlbrew/perls/perl-5.32.1/lib/5.32.1/darwin-2level/CORE/hv_func.h:175:14: note: expanded from macro 'SIPROUND'
  STMT_START {              \
             ^
/Users/stan/perl5/perlbrew/perls/perl-5.32.1/lib/5.32.1/darwin-2level/CORE/hv_func.h:238:3: note: expanded from macro 'PERL_SIPHASH_FNC'
  SIP_ROUNDS;                               \
  ^~~~~~~~~~
/Users/stan/perl5/perlbrew/perls/perl-5.32.1/lib/5.32.1/darwin-2level/CORE/hv_func.h:280:15: warning: '}' and ')' tokens terminating statement expression appear in different macro expansion contexts [-Wcompound-token-split-by-macro]
    ,SIPROUND;SIPROUND;
              ^~~~~~~~
/Users/stan/perl5/perlbrew/perls/perl-5.32.1/lib/5.32.1/darwin-2level/CORE/hv_func.h:180:3: note: expanded from macro 'SIPROUND'
  } STMT_END
  ^
/Users/stan/perl5/perlbrew/perls/perl-5.32.1/lib/5.32.1/darwin-2level/CORE/hv_func.h:238:3: note: expanded from macro 'PERL_SIPHASH_FNC'
  SIP_ROUNDS;                               \
  ^~~~~~~~~~
/Users/stan/perl5/perlbrew/perls/perl-5.32.1/lib/5.32.1/darwin-2level/CORE/hv_func.h:280:15: note: ')' token is here
    ,SIPROUND;SIPROUND;
              ^~~~~~~~
/Users/stan/perl5/perlbrew/perls/perl-5.32.1/lib/5.32.1/darwin-2level/CORE/hv_func.h:180:5: note: expanded from macro 'SIPROUND'
  } STMT_END
    ^~~~~~~~
/Users/stan/perl5/perlbrew/perls/perl-5.32.1/lib/5.32.1/darwin-2level/CORE/perl.h:667:21: note: expanded from macro 'STMT_END'
#   define STMT_END     )
                        ^
/Users/stan/perl5/perlbrew/perls/perl-5.32.1/lib/5.32.1/darwin-2level/CORE/hv_func.h:238:3: note: expanded from macro 'PERL_SIPHASH_FNC'
  SIP_ROUNDS;                               \
  ^~~~~~~~~~
/Users/stan/perl5/perlbrew/perls/perl-5.32.1/lib/5.32.1/darwin-2level/CORE/hv_func.h:281:6: warning: '(' and '{' tokens introducing statement expression appear in different macro expansion contexts [-Wcompound-token-split-by-macro]
    ,SIPROUND;SIPROUND;SIPROUND;SIPROUND;
     ^~~~~~~~
/Users/stan/perl5/perlbrew/perls/perl-5.32.1/lib/5.32.1/darwin-2level/CORE/hv_func.h:175:3: note: expanded from macro 'SIPROUND'
  STMT_START {              \
  ^~~~~~~~~~
/Users/stan/perl5/perlbrew/perls/perl-5.32.1/lib/5.32.1/darwin-2level/CORE/perl.h:666:29: note: expanded from macro 'STMT_START'
#   define STMT_START   (void)( /* gcc supports "({ STATEMENTS; })" */
                              ^
/Users/stan/perl5/perlbrew/perls/perl-5.32.1/lib/5.32.1/darwin-2level/CORE/hv_func.h:244:3: note: expanded from macro 'PERL_SIPHASH_FNC'
  SIP_FINAL_ROUNDS                          \
  ^~~~~~~~~~~~~~~~
/Users/stan/perl5/perlbrew/perls/perl-5.32.1/lib/5.32.1/darwin-2level/CORE/hv_func.h:281:6: note: '{' token is here
    ,SIPROUND;SIPROUND;SIPROUND;SIPROUND;
     ^~~~~~~~
/Users/stan/perl5/perlbrew/perls/perl-5.32.1/lib/5.32.1/darwin-2level/CORE/hv_func.h:175:14: note: expanded from macro 'SIPROUND'
  STMT_START {              \
             ^
/Users/stan/perl5/perlbrew/perls/perl-5.32.1/lib/5.32.1/darwin-2level/CORE/hv_func.h:244:3: note: expanded from macro 'PERL_SIPHASH_FNC'
  SIP_FINAL_ROUNDS                          \
  ^~~~~~~~~~~~~~~~
/Users/stan/perl5/perlbrew/perls/perl-5.32.1/lib/5.32.1/darwin-2level/CORE/hv_func.h:281:6: warning: '}' and ')' tokens terminating statement expression appear in different macro expansion contexts [-Wcompound-token-split-by-macro]
    ,SIPROUND;SIPROUND;SIPROUND;SIPROUND;
     ^~~~~~~~
/Users/stan/perl5/perlbrew/perls/perl-5.32.1/lib/5.32.1/darwin-2level/CORE/hv_func.h:180:3: note: expanded from macro 'SIPROUND'
  } STMT_END
  ^
/Users/stan/perl5/perlbrew/perls/perl-5.32.1/lib/5.32.1/darwin-2level/CORE/hv_func.h:244:3: note: expanded from macro 'PERL_SIPHASH_FNC'
  SIP_FINAL_ROUNDS                          \
  ^~~~~~~~~~~~~~~~
/Users/stan/perl5/perlbrew/perls/perl-5.32.1/lib/5.32.1/darwin-2level/CORE/hv_func.h:281:6: note: ')' token is here
    ,SIPROUND;SIPROUND;SIPROUND;SIPROUND;
     ^~~~~~~~
/Users/stan/perl5/perlbrew/perls/perl-5.32.1/lib/5.32.1/darwin-2level/CORE/hv_func.h:180:5: note: expanded from macro 'SIPROUND'
  } STMT_END
    ^~~~~~~~
/Users/stan/perl5/perlbrew/perls/perl-5.32.1/lib/5.32.1/darwin-2level/CORE/perl.h:667:21: note: expanded from macro 'STMT_END'
#   define STMT_END     )
                        ^
/Users/stan/perl5/perlbrew/perls/perl-5.32.1/lib/5.32.1/darwin-2level/CORE/hv_func.h:244:3: note: expanded from macro 'PERL_SIPHASH_FNC'
  SIP_FINAL_ROUNDS                          \
  ^~~~~~~~~~~~~~~~
/Users/stan/perl5/perlbrew/perls/perl-5.32.1/lib/5.32.1/darwin-2level/CORE/hv_func.h:281:15: warning: '(' and '{' tokens introducing statement expression appear in different macro expansion contexts [-Wcompound-token-split-by-macro]
    ,SIPROUND;SIPROUND;SIPROUND;SIPROUND;
              ^~~~~~~~
/Users/stan/perl5/perlbrew/perls/perl-5.32.1/lib/5.32.1/darwin-2level/CORE/hv_func.h:175:3: note: expanded from macro 'SIPROUND'
  STMT_START {              \
  ^~~~~~~~~~
/Users/stan/perl5/perlbrew/perls/perl-5.32.1/lib/5.32.1/darwin-2level/CORE/perl.h:666:29: note: expanded from macro 'STMT_START'
#   define STMT_START   (void)( /* gcc supports "({ STATEMENTS; })" */
                              ^
/Users/stan/perl5/perlbrew/perls/perl-5.32.1/lib/5.32.1/darwin-2level/CORE/hv_func.h:244:3: note: expanded from macro 'PERL_SIPHASH_FNC'
  SIP_FINAL_ROUNDS                          \
  ^~~~~~~~~~~~~~~~
/Users/stan/perl5/perlbrew/perls/perl-5.32.1/lib/5.32.1/darwin-2level/CORE/hv_func.h:281:15: note: '{' token is here
    ,SIPROUND;SIPROUND;SIPROUND;SIPROUND;
              ^~~~~~~~
/Users/stan/perl5/perlbrew/perls/perl-5.32.1/lib/5.32.1/darwin-2level/CORE/hv_func.h:175:14: note: expanded from macro 'SIPROUND'
  STMT_START {              \
             ^
/Users/stan/perl5/perlbrew/perls/perl-5.32.1/lib/5.32.1/darwin-2level/CORE/hv_func.h:244:3: note: expanded from macro 'PERL_SIPHASH_FNC'
  SIP_FINAL_ROUNDS                          \
  ^~~~~~~~~~~~~~~~
/Users/stan/perl5/perlbrew/perls/perl-5.32.1/lib/5.32.1/darwin-2level/CORE/hv_func.h:281:15: warning: '}' and ')' tokens terminating statement expression appear in different macro expansion contexts [-Wcompound-token-split-by-macro]
    ,SIPROUND;SIPROUND;SIPROUND;SIPROUND;
              ^~~~~~~~
/Users/stan/perl5/perlbrew/perls/perl-5.32.1/lib/5.32.1/darwin-2level/CORE/hv_func.h:180:3: note: expanded from macro 'SIPROUND'
  } STMT_END
  ^
/Users/stan/perl5/perlbrew/perls/perl-5.32.1/lib/5.32.1/darwin-2level/CORE/hv_func.h:244:3: note: expanded from macro 'PERL_SIPHASH_FNC'
  SIP_FINAL_ROUNDS                          \
  ^~~~~~~~~~~~~~~~
/Users/stan/perl5/perlbrew/perls/perl-5.32.1/lib/5.32.1/darwin-2level/CORE/hv_func.h:281:15: note: ')' token is here
    ,SIPROUND;SIPROUND;SIPROUND;SIPROUND;
              ^~~~~~~~
/Users/stan/perl5/perlbrew/perls/perl-5.32.1/lib/5.32.1/darwin-2level/CORE/hv_func.h:180:5: note: expanded from macro 'SIPROUND'
  } STMT_END
    ^~~~~~~~
/Users/stan/perl5/perlbrew/perls/perl-5.32.1/lib/5.32.1/darwin-2level/CORE/perl.h:667:21: note: expanded from macro 'STMT_END'
#   define STMT_END     )
                        ^
/Users/stan/perl5/perlbrew/perls/perl-5.32.1/lib/5.32.1/darwin-2level/CORE/hv_func.h:244:3: note: expanded from macro 'PERL_SIPHASH_FNC'
  SIP_FINAL_ROUNDS                          \
  ^~~~~~~~~~~~~~~~
/Users/stan/perl5/perlbrew/perls/perl-5.32.1/lib/5.32.1/darwin-2level/CORE/hv_func.h:281:24: warning: '(' and '{' tokens introducing statement expression appear in different macro expansion contexts [-Wcompound-token-split-by-macro]
    ,SIPROUND;SIPROUND;SIPROUND;SIPROUND;
                       ^~~~~~~~
/Users/stan/perl5/perlbrew/perls/perl-5.32.1/lib/5.32.1/darwin-2level/CORE/hv_func.h:175:3: note: expanded from macro 'SIPROUND'
  STMT_START {              \
  ^~~~~~~~~~
/Users/stan/perl5/perlbrew/perls/perl-5.32.1/lib/5.32.1/darwin-2level/CORE/perl.h:666:29: note: expanded from macro 'STMT_START'
#   define STMT_START   (void)( /* gcc supports "({ STATEMENTS; })" */
                              ^
/Users/stan/perl5/perlbrew/perls/perl-5.32.1/lib/5.32.1/darwin-2level/CORE/hv_func.h:244:3: note: expanded from macro 'PERL_SIPHASH_FNC'
  SIP_FINAL_ROUNDS                          \
  ^~~~~~~~~~~~~~~~
/Users/stan/perl5/perlbrew/perls/perl-5.32.1/lib/5.32.1/darwin-2level/CORE/hv_func.h:281:24: note: '{' token is here
    ,SIPROUND;SIPROUND;SIPROUND;SIPROUND;
                       ^~~~~~~~
/Users/stan/perl5/perlbrew/perls/perl-5.32.1/lib/5.32.1/darwin-2level/CORE/hv_func.h:175:14: note: expanded from macro 'SIPROUND'
  STMT_START {              \
             ^
/Users/stan/perl5/perlbrew/perls/perl-5.32.1/lib/5.32.1/darwin-2level/CORE/hv_func.h:244:3: note: expanded from macro 'PERL_SIPHASH_FNC'
  SIP_FINAL_ROUNDS                          \
  ^~~~~~~~~~~~~~~~
/Users/stan/perl5/perlbrew/perls/perl-5.32.1/lib/5.32.1/darwin-2level/CORE/hv_func.h:281:24: warning: '}' and ')' tokens terminating statement expression appear in different macro expansion contexts [-Wcompound-token-split-by-macro]
    ,SIPROUND;SIPROUND;SIPROUND;SIPROUND;
                       ^~~~~~~~
/Users/stan/perl5/perlbrew/perls/perl-5.32.1/lib/5.32.1/darwin-2level/CORE/hv_func.h:180:3: note: expanded from macro 'SIPROUND'
  } STMT_END
  ^
/Users/stan/perl5/perlbrew/perls/perl-5.32.1/lib/5.32.1/darwin-2level/CORE/hv_func.h:244:3: note: expanded from macro 'PERL_SIPHASH_FNC'
  SIP_FINAL_ROUNDS                          \
  ^~~~~~~~~~~~~~~~
/Users/stan/perl5/perlbrew/perls/perl-5.32.1/lib/5.32.1/darwin-2level/CORE/hv_func.h:281:24: note: ')' token is here
    ,SIPROUND;SIPROUND;SIPROUND;SIPROUND;
                       ^~~~~~~~
/Users/stan/perl5/perlbrew/perls/perl-5.32.1/lib/5.32.1/darwin-2level/CORE/hv_func.h:180:5: note: expanded from macro 'SIPROUND'
  } STMT_END
    ^~~~~~~~
/Users/stan/perl5/perlbrew/perls/perl-5.32.1/lib/5.32.1/darwin-2level/CORE/perl.h:667:21: note: expanded from macro 'STMT_END'
#   define STMT_END     )
                        ^
/Users/stan/perl5/perlbrew/perls/perl-5.32.1/lib/5.32.1/darwin-2level/CORE/hv_func.h:244:3: note: expanded from macro 'PERL_SIPHASH_FNC'
  SIP_FINAL_ROUNDS                          \
  ^~~~~~~~~~~~~~~~
/Users/stan/perl5/perlbrew/perls/perl-5.32.1/lib/5.32.1/darwin-2level/CORE/hv_func.h:281:33: warning: '(' and '{' tokens introducing statement expression appear in different macro expansion contexts [-Wcompound-token-split-by-macro]
    ,SIPROUND;SIPROUND;SIPROUND;SIPROUND;
                                ^~~~~~~~
/Users/stan/perl5/perlbrew/perls/perl-5.32.1/lib/5.32.1/darwin-2level/CORE/hv_func.h:175:3: note: expanded from macro 'SIPROUND'
  STMT_START {              \
  ^~~~~~~~~~
/Users/stan/perl5/perlbrew/perls/perl-5.32.1/lib/5.32.1/darwin-2level/CORE/perl.h:666:29: note: expanded from macro 'STMT_START'
#   define STMT_START   (void)( /* gcc supports "({ STATEMENTS; })" */
                              ^
/Users/stan/perl5/perlbrew/perls/perl-5.32.1/lib/5.32.1/darwin-2level/CORE/hv_func.h:244:3: note: expanded from macro 'PERL_SIPHASH_FNC'
  SIP_FINAL_ROUNDS                          \
  ^~~~~~~~~~~~~~~~
/Users/stan/perl5/perlbrew/perls/perl-5.32.1/lib/5.32.1/darwin-2level/CORE/hv_func.h:281:33: note: '{' token is here
    ,SIPROUND;SIPROUND;SIPROUND;SIPROUND;
                                ^~~~~~~~
/Users/stan/perl5/perlbrew/perls/perl-5.32.1/lib/5.32.1/darwin-2level/CORE/hv_func.h:175:14: note: expanded from macro 'SIPROUND'
  STMT_START {              \
             ^
/Users/stan/perl5/perlbrew/perls/perl-5.32.1/lib/5.32.1/darwin-2level/CORE/hv_func.h:244:3: note: expanded from macro 'PERL_SIPHASH_FNC'
  SIP_FINAL_ROUNDS                          \
  ^~~~~~~~~~~~~~~~
/Users/stan/perl5/perlbrew/perls/perl-5.32.1/lib/5.32.1/darwin-2level/CORE/hv_func.h:281:33: warning: '}' and ')' tokens terminating statement expression appear in different macro expansion contexts [-Wcompound-token-split-by-macro]
    ,SIPROUND;SIPROUND;SIPROUND;SIPROUND;
                                ^~~~~~~~
/Users/stan/perl5/perlbrew/perls/perl-5.32.1/lib/5.32.1/darwin-2level/CORE/hv_func.h:180:3: note: expanded from macro 'SIPROUND'
  } STMT_END
  ^
/Users/stan/perl5/perlbrew/perls/perl-5.32.1/lib/5.32.1/darwin-2level/CORE/hv_func.h:244:3: note: expanded from macro 'PERL_SIPHASH_FNC'
  SIP_FINAL_ROUNDS                          \
  ^~~~~~~~~~~~~~~~
/Users/stan/perl5/perlbrew/perls/perl-5.32.1/lib/5.32.1/darwin-2level/CORE/hv_func.h:281:33: note: ')' token is here
    ,SIPROUND;SIPROUND;SIPROUND;SIPROUND;
                                ^~~~~~~~
/Users/stan/perl5/perlbrew/perls/perl-5.32.1/lib/5.32.1/darwin-2level/CORE/hv_func.h:180:5: note: expanded from macro 'SIPROUND'
  } STMT_END
    ^~~~~~~~
/Users/stan/perl5/perlbrew/perls/perl-5.32.1/lib/5.32.1/darwin-2level/CORE/perl.h:667:21: note: expanded from macro 'STMT_END'
#   define STMT_END     )
                        ^
/Users/stan/perl5/perlbrew/perls/perl-5.32.1/lib/5.32.1/darwin-2level/CORE/hv_func.h:244:3: note: expanded from macro 'PERL_SIPHASH_FNC'
  SIP_FINAL_ROUNDS                          \
  ^~~~~~~~~~~~~~~~
In file included from Module.xs:2:
In file included from /Users/stan/perl5/perlbrew/perls/perl-5.32.1/lib/5.32.1/darwin-2level/CORE/perl.h:6161:
/Users/stan/perl5/perlbrew/perls/perl-5.32.1/lib/5.32.1/darwin-2level/CORE/inline.h:2209:5: warning: '(' and '{' tokens introducing statement expression appear in different macro expansion contexts [-Wcompound-token-split-by-macro]
    CX_POP_SAVEARRAY(cx);
    ^~~~~~~~~~~~~~~~~~~~
/Users/stan/perl5/perlbrew/perls/perl-5.32.1/lib/5.32.1/darwin-2level/CORE/cop.h:657:5: note: expanded from macro 'CX_POP_SAVEARRAY'
    STMT_START {                                                        \
    ^~~~~~~~~~
/Users/stan/perl5/perlbrew/perls/perl-5.32.1/lib/5.32.1/darwin-2level/CORE/perl.h:666:29: note: expanded from macro 'STMT_START'
#   define STMT_START   (void)( /* gcc supports "({ STATEMENTS; })" */
                              ^
/Users/stan/perl5/perlbrew/perls/perl-5.32.1/lib/5.32.1/darwin-2level/CORE/inline.h:2209:5: note: '{' token is here
    CX_POP_SAVEARRAY(cx);
    ^~~~~~~~~~~~~~~~~~~~
/Users/stan/perl5/perlbrew/perls/perl-5.32.1/lib/5.32.1/darwin-2level/CORE/cop.h:657:16: note: expanded from macro 'CX_POP_SAVEARRAY'
    STMT_START {                                                        \
               ^
In file included from Module.xs:2:
In file included from /Users/stan/perl5/perlbrew/perls/perl-5.32.1/lib/5.32.1/darwin-2level/CORE/perl.h:6161:
/Users/stan/perl5/perlbrew/perls/perl-5.32.1/lib/5.32.1/darwin-2level/CORE/inline.h:2209:5: warning: '}' and ')' tokens terminating statement expression appear in different macro expansion contexts [-Wcompound-token-split-by-macro]
    CX_POP_SAVEARRAY(cx);
    ^~~~~~~~~~~~~~~~~~~~
/Users/stan/perl5/perlbrew/perls/perl-5.32.1/lib/5.32.1/darwin-2level/CORE/cop.h:662:5: note: expanded from macro 'CX_POP_SAVEARRAY'
    } STMT_END
    ^
/Users/stan/perl5/perlbrew/perls/perl-5.32.1/lib/5.32.1/darwin-2level/CORE/inline.h:2209:5: note: ')' token is here
    CX_POP_SAVEARRAY(cx);
    ^~~~~~~~~~~~~~~~~~~~
/Users/stan/perl5/perlbrew/perls/perl-5.32.1/lib/5.32.1/darwin-2level/CORE/cop.h:662:7: note: expanded from macro 'CX_POP_SAVEARRAY'
    } STMT_END
      ^~~~~~~~
/Users/stan/perl5/perlbrew/perls/perl-5.32.1/lib/5.32.1/darwin-2level/CORE/perl.h:667:21: note: expanded from macro 'STMT_END'
#   define STMT_END     )
                        ^
In file included from Module.xs:2:
In file included from /Users/stan/perl5/perlbrew/perls/perl-5.32.1/lib/5.32.1/darwin-2level/CORE/perl.h:6161:
/Users/stan/perl5/perlbrew/perls/perl-5.32.1/lib/5.32.1/darwin-2level/CORE/inline.h:2215:9: warning: '(' and '{' tokens introducing statement expression appear in different macro expansion contexts [-Wcompound-token-split-by-macro]
        CLEAR_ARGARRAY(av);
        ^~~~~~~~~~~~~~~~~~
/Users/stan/perl5/perlbrew/perls/perl-5.32.1/lib/5.32.1/darwin-2level/CORE/cop.h:667:5: note: expanded from macro 'CLEAR_ARGARRAY'
    STMT_START {                                                        \
    ^~~~~~~~~~
/Users/stan/perl5/perlbrew/perls/perl-5.32.1/lib/5.32.1/darwin-2level/CORE/perl.h:666:29: note: expanded from macro 'STMT_START'
#   define STMT_START   (void)( /* gcc supports "({ STATEMENTS; })" */
                              ^
/Users/stan/perl5/perlbrew/perls/perl-5.32.1/lib/5.32.1/darwin-2level/CORE/inline.h:2215:9: note: '{' token is here
        CLEAR_ARGARRAY(av);
        ^~~~~~~~~~~~~~~~~~
/Users/stan/perl5/perlbrew/perls/perl-5.32.1/lib/5.32.1/darwin-2level/CORE/cop.h:667:16: note: expanded from macro 'CLEAR_ARGARRAY'
    STMT_START {                                                        \
               ^
In file included from Module.xs:2:
In file included from /Users/stan/perl5/perlbrew/perls/perl-5.32.1/lib/5.32.1/darwin-2level/CORE/perl.h:6161:
/Users/stan/perl5/perlbrew/perls/perl-5.32.1/lib/5.32.1/darwin-2level/CORE/inline.h:2215:9: warning: '}' and ')' tokens terminating statement expression appear in different macro expansion contexts [-Wcompound-token-split-by-macro]
        CLEAR_ARGARRAY(av);
        ^~~~~~~~~~~~~~~~~~
/Users/stan/perl5/perlbrew/perls/perl-5.32.1/lib/5.32.1/darwin-2level/CORE/cop.h:671:5: note: expanded from macro 'CLEAR_ARGARRAY'
    } STMT_END
    ^
/Users/stan/perl5/perlbrew/perls/perl-5.32.1/lib/5.32.1/darwin-2level/CORE/inline.h:2215:9: note: ')' token is here
        CLEAR_ARGARRAY(av);
        ^~~~~~~~~~~~~~~~~~
/Users/stan/perl5/perlbrew/perls/perl-5.32.1/lib/5.32.1/darwin-2level/CORE/cop.h:671:7: note: expanded from macro 'CLEAR_ARGARRAY'
    } STMT_END
      ^~~~~~~~
/Users/stan/perl5/perlbrew/perls/perl-5.32.1/lib/5.32.1/darwin-2level/CORE/perl.h:667:21: note: expanded from macro 'STMT_END'
#   define STMT_END     )
                        ^
Module.c:173:5: warning: '(' and '{' tokens introducing statement expression appear in different macro expansion contexts [-Wcompound-token-split-by-macro]
    XSRETURN_EMPTY;
    ^~~~~~~~~~~~~~
/Users/stan/perl5/perlbrew/perls/perl-5.32.1/lib/5.32.1/darwin-2level/CORE/XSUB.h:330:24: note: expanded from macro 'XSRETURN_EMPTY'
#define XSRETURN_EMPTY STMT_START {                XSRETURN(0); } STMT_END
                       ^~~~~~~~~~
/Users/stan/perl5/perlbrew/perls/perl-5.32.1/lib/5.32.1/darwin-2level/CORE/perl.h:666:29: note: expanded from macro 'STMT_START'
#   define STMT_START   (void)( /* gcc supports "({ STATEMENTS; })" */
                              ^
Module.c:173:5: note: '{' token is here
    XSRETURN_EMPTY;
    ^~~~~~~~~~~~~~
/Users/stan/perl5/perlbrew/perls/perl-5.32.1/lib/5.32.1/darwin-2level/CORE/XSUB.h:330:35: note: expanded from macro 'XSRETURN_EMPTY'
#define XSRETURN_EMPTY STMT_START {                XSRETURN(0); } STMT_END
                                  ^
Module.c:173:5: warning: '(' and '{' tokens introducing statement expression appear in different macro expansion contexts [-Wcompound-token-split-by-macro]
    XSRETURN_EMPTY;
    ^~~~~~~~~~~~~~
/Users/stan/perl5/perlbrew/perls/perl-5.32.1/lib/5.32.1/darwin-2level/CORE/XSUB.h:330:52: note: expanded from macro 'XSRETURN_EMPTY'
#define XSRETURN_EMPTY STMT_START {                XSRETURN(0); } STMT_END
                                                   ^~~~~~~~~~~
/Users/stan/perl5/perlbrew/perls/perl-5.32.1/lib/5.32.1/darwin-2level/CORE/XSUB.h:315:5: note: expanded from macro 'XSRETURN'
    STMT_START {                                        \
    ^~~~~~~~~~
/Users/stan/perl5/perlbrew/perls/perl-5.32.1/lib/5.32.1/darwin-2level/CORE/perl.h:666:29: note: expanded from macro 'STMT_START'
#   define STMT_START   (void)( /* gcc supports "({ STATEMENTS; })" */
                              ^
Module.c:173:5: note: '{' token is here
    XSRETURN_EMPTY;
    ^~~~~~~~~~~~~~
/Users/stan/perl5/perlbrew/perls/perl-5.32.1/lib/5.32.1/darwin-2level/CORE/XSUB.h:330:52: note: expanded from macro 'XSRETURN_EMPTY'
#define XSRETURN_EMPTY STMT_START {                XSRETURN(0); } STMT_END
                                                   ^~~~~~~~~~~
/Users/stan/perl5/perlbrew/perls/perl-5.32.1/lib/5.32.1/darwin-2level/CORE/XSUB.h:315:16: note: expanded from macro 'XSRETURN'
    STMT_START {                                        \
               ^
Module.c:173:5: warning: '}' and ')' tokens terminating statement expression appear in different macro expansion contexts [-Wcompound-token-split-by-macro]
    XSRETURN_EMPTY;
    ^~~~~~~~~~~~~~
/Users/stan/perl5/perlbrew/perls/perl-5.32.1/lib/5.32.1/darwin-2level/CORE/XSUB.h:330:52: note: expanded from macro 'XSRETURN_EMPTY'
#define XSRETURN_EMPTY STMT_START {                XSRETURN(0); } STMT_END
                                                   ^~~~~~~~~~~
/Users/stan/perl5/perlbrew/perls/perl-5.32.1/lib/5.32.1/darwin-2level/CORE/XSUB.h:320:5: note: expanded from macro 'XSRETURN'
    } STMT_END
    ^
Module.c:173:5: note: ')' token is here
    XSRETURN_EMPTY;
    ^~~~~~~~~~~~~~
/Users/stan/perl5/perlbrew/perls/perl-5.32.1/lib/5.32.1/darwin-2level/CORE/XSUB.h:330:52: note: expanded from macro 'XSRETURN_EMPTY'
#define XSRETURN_EMPTY STMT_START {                XSRETURN(0); } STMT_END
                                                   ^~~~~~~~~~~
/Users/stan/perl5/perlbrew/perls/perl-5.32.1/lib/5.32.1/darwin-2level/CORE/XSUB.h:320:7: note: expanded from macro 'XSRETURN'
    } STMT_END
      ^~~~~~~~
/Users/stan/perl5/perlbrew/perls/perl-5.32.1/lib/5.32.1/darwin-2level/CORE/perl.h:667:21: note: expanded from macro 'STMT_END'
#   define STMT_END     )
                        ^
Module.c:173:5: warning: '}' and ')' tokens terminating statement expression appear in different macro expansion contexts [-Wcompound-token-split-by-macro]
    XSRETURN_EMPTY;
    ^~~~~~~~~~~~~~
/Users/stan/perl5/perlbrew/perls/perl-5.32.1/lib/5.32.1/darwin-2level/CORE/XSUB.h:330:65: note: expanded from macro 'XSRETURN_EMPTY'
#define XSRETURN_EMPTY STMT_START {                XSRETURN(0); } STMT_END
                                                                ^
Module.c:173:5: note: ')' token is here
    XSRETURN_EMPTY;
    ^~~~~~~~~~~~~~
/Users/stan/perl5/perlbrew/perls/perl-5.32.1/lib/5.32.1/darwin-2level/CORE/XSUB.h:330:67: note: expanded from macro 'XSRETURN_EMPTY'
#define XSRETURN_EMPTY STMT_START {                XSRETURN(0); } STMT_END
                                                                  ^~~~~~~~
/Users/stan/perl5/perlbrew/perls/perl-5.32.1/lib/5.32.1/darwin-2level/CORE/perl.h:667:21: note: expanded from macro 'STMT_END'
#   define STMT_END     )
                        ^
98 warnings generated.
t/04-xs-rpath-darwin.t .... ok
t/arch_check.t ............ ok
t/backwards.t ............. ok
t/basic.t ................. ok
t/build_man.t ............. ok
t/cd.t .................... ok
t/config.t ................ ok
t/cp.t .................... ok
t/dir_target.t ............ ok
t/echo.t .................. ok
t/eu_command.t ............ ok
t/FIRST_MAKEFILE.t ........ ok
t/fix_libs.t .............. ok
t/fixin.t ................. ok
t/hints.t ................. ok
t/INST.t .................. ok
t/INST_PREFIX.t ........... ok
t/INSTALL_BASE.t .......... ok
t/installed_file.t ........ ok
t/is_of_type.t ............ ok
t/Liblist.t ............... ok
t/Liblist_Kid.t ........... ok
t/make.t .................. ok
t/MakeMaker_Parameters.t .. ok
t/maketext_filter.t ....... ok
t/meta_convert.t .......... ok
t/metafile_data.t ......... ok
t/metafile_file.t ......... ok
t/min_perl_version.t ...... ok
t/miniperl.t .............. skipped: miniperl test only necessary for the perl core
t/Mkbootstrap.t ........... ok
t/MM_Any.t ................ ok
t/MM_BeOS.t ............... skipped: This is not BeOS
t/MM_Cygwin.t ............. skipped: This is not cygwin
t/MM_NW5.t ................ skipped: This is not NW5
t/MM_OS2.t ................ skipped: This is not OS/2
t/MM_Unix.t ............... ok
t/MM_VMS.t ................ skipped: This is not VMS
t/MM_Win32.t .............. skipped: This is not Win32
t/oneliner.t .............. ok
t/os_unsupported.t ........ ok
t/parse_abstract.t ........ ok
t/parse_version.t ......... ok
t/PL_FILES.t .............. ok
t/pm.t .................... ok
t/pm_to_blib.t ............ ok
t/pod2man.t ............... ok
t/postamble.t ............. ok
t/prefixify.t ............. ok
t/prereq.t ................ ok
t/prereq_print.t .......... ok
t/problems.t .............. ok
t/prompt.t ................ ok
t/rec_att_keys.t .......... ok
t/recurs.t ................ ok
t/revision.t .............. ok
t/several_authors.t ....... ok
t/split_command.t ......... ok
t/test_boilerplate.t ...... ok
t/testlib.t ............... ok
t/unicode.t ............... ok
t/VERSION_FROM.t .......... ok
t/vstrings.t .............. ok
t/WriteEmptyMakefile.t .... ok
t/writemakefile_args.t .... ok
All tests successful.
Files=69, Tests=1438, 60 wallclock secs ( 0.22 usr  0.10 sys + 34.24 cusr 16.26 csys = 50.82 CPU)
Result: PASS

------------------------------
PREREQUISITES
------------------------------

Prerequisite modules loaded:

runtime:

    Module         Need  Have    
    -------------- ----- --------
    Data::Dumper   0     2.183   
    Encode         0     3.21    
    File::Basename 0     2.85    
    File::Spec     0.8   3.75    
    perl           5.006 5.032001
    Pod::Man       0     v6.0.2  


------------------------------
ENVIRONMENT AND OTHER CONTEXT
------------------------------

Environment variables:

    LANG = en_US.UTF-8
    LC_ALL = en_US.UTF-8
    LDFLAGS = -L/usr/local/opt/curl/lib
    PATH = /Users/stan/perl5/perlbrew/bin:/Users/stan/perl5/perlbrew/perls/perl-5.32.1/bin:/Users/stan/perl5/perlbrew/bin:/Users/stan/perl5/perlbrew/perls/perl-5.40.1/bin:/usr/local/opt/mysql-client/bin:/usr/local/opt/curl/bin:/usr/local/bin:/usr/local/sbin:/usr/local/bin:/System/Cryptexes/App/usr/bin:/usr/bin:/bin:/usr/sbin:/sbin:/Applications/Little Snitch.app/Contents/Components:/opt/X11/bin:/Applications/Wireshark.app/Contents/MacOS:/var/run/com.apple.security.cryptexd/codex.system/bootstrap/usr/local/bin:/var/run/com.apple.security.cryptexd/codex.system/bootstrap/usr/bin:/var/run/com.apple.security.cryptexd/codex.system/bootstrap/usr/appleinternal/bin:/Users/stan/.vim/bin:/Users/stan/bin:/Users/stan/.local/bin:/Users/stan/node_modules/.bin:/usr/local/sbin:/usr/local/opt/mysql-client/bin:/usr/local/opt/curl/bin:/Applications/kitty.app/Contents/MacOS
    PERL5LIB = 
    PERLBREW_HOME = /Users/stan/.perlbrew
    PERLBREW_LIB = 
    PERLBREW_MANPATH = /Users/stan/perl5/perlbrew/perls/perl-5.32.1/man
    PERLBREW_PATH = /Users/stan/perl5/perlbrew/bin:/Users/stan/perl5/perlbrew/perls/perl-5.32.1/bin
    PERLBREW_PERL = perl-5.32.1
    PERLBREW_ROOT = /Users/stan/perl5/perlbrew
    PERLBREW_SHELLRC_VERSION = 0.99
    PERLBREW_VERSION = 0.99
    PERL_LOCAL_LIB_ROOT = 
    PERL_MM_USE_DEFAULT = 1
    SHELL = /usr/local/bin/zsh
    TERM = screen-256color
    TMPDIR = /var/folders/tk/hx6fvpsj3yzbyd1k1br945mc0000gn/T/

Perl special variables (and OS-specific diagnostics, for MSWin32):

    EGID = 20 20 103 12 61 79 80 81 98 701 33 100 204 250 395 398 101
    EUID = 501
    EXECUTABLE_NAME = /Users/stan/perl5/perlbrew/perls/perl-5.32.1/bin/perl
    GID = 20 20 103 12 61 79 80 81 98 701 33 100 204 250 395 398 101
    UID = 501

Perl module toolchain versions installed:

    Module              Have    
    ------------------- --------
    CPAN                2.38    
    CPAN::Meta          2.150010
    Cwd                 3.75    
    ExtUtils::CBuilder  0.280236
    ExtUtils::Command   7.72    
    ExtUtils::Install   2.22    
    ExtUtils::MakeMaker 7.72    
    ExtUtils::Manifest  1.75    
    ExtUtils::ParseXS   3.51    
    File::Spec          3.75    
    JSON                4.10    
    JSON::PP            4.16    
    Module::Build       0.4234  
    Module::Signature   0.89    
    Parse::CPAN::Meta   2.150010
    Test::Harness       3.50    
    Test::More          1.302209
    YAML                1.31    
    YAML::Syck          n/a     
    version             0.9933  


--

Summary of my perl5 (revision 5 version 32 subversion 1) configuration:
   
  Platform:
    osname=darwin
    osvers=21.3.0
    archname=darwin-2level
    uname='darwin imac.fritz.box 21.3.0 darwin kernel version 21.3.0: wed jan 5 21:37:58 pst 2022; root:xnu-8019.80.24~20release_x86_64 x86_64 '
    config_args='-de -Dprefix=/Users/stan/perl5/perlbrew/perls/perl-5.32.1 -Aeval:scriptdir=/Users/stan/perl5/perlbrew/perls/perl-5.32.1/bin'
    hint=recommended
    useposix=true
    d_sigaction=define
    useithreads=undef
    usemultiplicity=undef
    use64bitint=define
    use64bitall=define
    uselongdouble=undef
    usemymalloc=n
    default_inc_excludes_dot=define
    bincompat5005=undef
  Compiler:
    cc='cc'
    ccflags ='-fno-common -DPERL_DARWIN -mmacosx-version-min=12.2 -fno-strict-aliasing -pipe -fstack-protector-strong -I/usr/local/include -DPERL_USE_SAFE_PUTENV'
    optimize='-O3'
    cppflags='-fno-common -DPERL_DARWIN -mmacosx-version-min=12.2 -fno-strict-aliasing -pipe -fstack-protector-strong -I/usr/local/include'
    ccversion=''
    gccversion='Apple LLVM 13.0.0 (clang-1300.0.29.30)'
    gccosandvers=''
    intsize=4
    longsize=8
    ptrsize=8
    doublesize=8
    byteorder=12345678
    doublekind=3
    d_longlong=define
    longlongsize=8
    d_longdbl=define
    longdblsize=16
    longdblkind=3
    ivtype='long'
    ivsize=8
    nvtype='double'
    nvsize=8
    Off_t='off_t'
    lseeksize=8
    alignbytes=8
    prototype=define
  Linker and Libraries:
    ld='cc'
    ldflags =' -mmacosx-version-min=12.2 -fstack-protector-strong -L/usr/local/lib'
    libpth=/usr/local/lib /Library/Developer/CommandLineTools/usr/lib/clang/13.0.0/lib /Library/Developer/CommandLineTools/SDKs/MacOSX.sdk/usr/lib /Library/Developer/CommandLineTools/usr/lib /usr/lib
    libs=-lgdbm -ldb
    perllibs=
    libc=
    so=dylib
    useshrplib=false
    libperl=libperl.a
    gnulibc_version=''
  Dynamic Linking:
    dlsrc=dl_dlopen.xs
    dlext=bundle
    d_dlsymun=undef
    ccdlflags=' '
    cccdlflags=' '
    lddlflags=' -mmacosx-version-min=12.2 -bundle -undefined dynamic_lookup -L/usr/local/lib -fstack-protector-strong'


Characteristics of this binary (from libperl): 
  Compile-time options:
    HAS_TIMES
    PERLIO_LAYERS
    PERL_COPY_ON_WRITE
    PERL_DONT_CREATE_GVSV
    PERL_MALLOC_WRAP
    PERL_OP_PARENT
    PERL_PRESERVE_IVUV
    PERL_USE_SAFE_PUTENV
    USE_64_BIT_ALL
    USE_64_BIT_INT
    USE_LARGE_FILES
    USE_LOCALE
    USE_LOCALE_COLLATE
    USE_LOCALE_CTYPE
    USE_LOCALE_NUMERIC
    USE_LOCALE_TIME
    USE_PERLIO
    USE_PERL_ATOF
  Locally applied patches:
    Devel::PatchPerl 2.08
  Built under darwin
  Compiled at Feb 10 2022 22:29:44
  %ENV:
    PERL5LIB=""
    PERLBREW_HOME="/Users/stan/.perlbrew"
    PERLBREW_LIB=""
    PERLBREW_MANPATH="/Users/stan/perl5/perlbrew/perls/perl-5.32.1/man"
    PERLBREW_PATH="/Users/stan/perl5/perlbrew/bin:/Users/stan/perl5/perlbrew/perls/perl-5.32.1/bin"
    PERLBREW_PERL="perl-5.32.1"
    PERLBREW_ROOT="/Users/stan/perl5/perlbrew"
    PERLBREW_SHELLRC_VERSION="0.99"
    PERLBREW_VERSION="0.99"
    PERL_LOCAL_LIB_ROOT=""
    PERL_MM_USE_DEFAULT="1"
  @INC:
    /Users/stan/perl5/perlbrew/perls/perl-5.32.1/lib/site_perl/5.32.1/darwin-2level
    /Users/stan/perl5/perlbrew/perls/perl-5.32.1/lib/site_perl/5.32.1
    /Users/stan/perl5/perlbrew/perls/perl-5.32.1/lib/5.32.1/darwin-2level
    /Users/stan/perl5/perlbrew/perls/perl-5.32.1/lib/5.32.1