Report for Config-Trivial-Storable-0.30

Back
From: metabase:user:9820532a-708b-1014-9a05-b18a96298da1
Subject: PASS Config-Trivial-Storable-0.30 v5.15.0 GNU/Linux
Date: 2011-07-06T22:38:38Z

This distribution has been tested as part of the CPAN Testers
project, supporting the Perl programming language.  See
http://wiki.cpantesters.org/ for more information or email
questions to cpan-testers-discuss@perl.org


--
Dear Adam John Trickett,

This is a computer-generated report for Config-Trivial-Storable-0.30
on perl 5.15.0, created by CPAN-Reporter-1.1902.

Thank you for uploading your work to CPAN.  Congratulations!
All tests were successful.

Sections of this report:

    * Tester comments
    * Program output
    * Prerequisites
    * Environment and other context

------------------------------
TESTER COMMENTS
------------------------------

Additional comments from tester:

this report is from an automated smoke testing program
and was not reviewed by a human for accuracy

------------------------------
PROGRAM OUTPUT
------------------------------

Output from './Build test':

t/00-use.t ........... ok
t/01-basic.t ......... ok
Use of uninitialized value in lc at /home/test/.cpan/build/Config-Trivial-0.70-RiBJKK/blib/lib/Config/Trivial.pm line 320, <$config> line 15.
Use of uninitialized value in lc at /home/test/.cpan/build/Config-Trivial-0.70-RiBJKK/blib/lib/Config/Trivial.pm line 320, <$config> line 20.
Use of uninitialized value in lc at /home/test/.cpan/build/Config-Trivial-0.70-RiBJKK/blib/lib/Config/Trivial.pm line 320, <$config> line 21.
Use of uninitialized value in lc at /home/test/.cpan/build/Config-Trivial-0.70-RiBJKK/blib/lib/Config/Trivial.pm line 320, <$config> line 22.
Use of uninitialized value in lc at /home/test/.cpan/build/Config-Trivial-0.70-RiBJKK/blib/lib/Config/Trivial.pm line 320, <$config> line 23.
Use of uninitialized value in lc at /home/test/.cpan/build/Config-Trivial-0.70-RiBJKK/blib/lib/Config/Trivial.pm line 320, <$config> line 24.
Use of uninitialized value in lc at /home/test/.cpan/build/Config-Trivial-0.70-RiBJKK/blib/lib/Config/Trivial.pm line 320, <$config> line 25.
Use of uninitialized value in lc at /home/test/.cpan/build/Config-Trivial-0.70-RiBJKK/blib/lib/Config/Trivial.pm line 320, <$config> line 26.
Use of uninitialized value in lc at /home/test/.cpan/build/Config-Trivial-0.70-RiBJKK/blib/lib/Config/Trivial.pm line 320, <$config> line 28.
Use of uninitialized value in lc at /home/test/.cpan/build/Config-Trivial-0.70-RiBJKK/blib/lib/Config/Trivial.pm line 320, <$config> line 30.
Use of uninitialized value in lc at /home/test/.cpan/build/Config-Trivial-0.70-RiBJKK/blib/lib/Config/Trivial.pm line 320, <$config> line 37.
Use of uninitialized value in lc at /home/test/.cpan/build/Config-Trivial-0.70-RiBJKK/blib/lib/Config/Trivial.pm line 320, <$config> line 38.
Use of uninitialized value in lc at /home/test/.cpan/build/Config-Trivial-0.70-RiBJKK/blib/lib/Config/Trivial.pm line 320, <$config> line 45.
Use of uninitialized value in lc at /home/test/.cpan/build/Config-Trivial-0.70-RiBJKK/blib/lib/Config/Trivial.pm line 320, <$config> line 48.
Use of uninitialized value in lc at /home/test/.cpan/build/Config-Trivial-0.70-RiBJKK/blib/lib/Config/Trivial.pm line 320, <$config> line 49.
Use of uninitialized value in lc at /home/test/.cpan/build/Config-Trivial-0.70-RiBJKK/blib/lib/Config/Trivial.pm line 320, <$config> line 57.
Use of uninitialized value in lc at /home/test/.cpan/build/Config-Trivial-0.70-RiBJKK/blib/lib/Config/Trivial.pm line 320, <$config> line 65.
Use of uninitialized value in lc at /home/test/.cpan/build/Config-Trivial-0.70-RiBJKK/blib/lib/Config/Trivial.pm line 320, <$config> line 71.
Use of uninitialized value in lc at /home/test/.cpan/build/Config-Trivial-0.70-RiBJKK/blib/lib/Config/Trivial.pm line 320, <$config> line 72.
Use of uninitialized value in lc at /home/test/.cpan/build/Config-Trivial-0.70-RiBJKK/blib/lib/Config/Trivial.pm line 320, <$config> line 73.
Use of uninitialized value in lc at /home/test/.cpan/build/Config-Trivial-0.70-RiBJKK/blib/lib/Config/Trivial.pm line 320, <$config> line 74.
Use of uninitialized value in lc at /home/test/.cpan/build/Config-Trivial-0.70-RiBJKK/blib/lib/Config/Trivial.pm line 320, <$config> line 86.
Use of uninitialized value in lc at /home/test/.cpan/build/Config-Trivial-0.70-RiBJKK/blib/lib/Config/Trivial.pm line 320, <$config> line 89.
Use of uninitialized value in lc at /home/test/.cpan/build/Config-Trivial-0.70-RiBJKK/blib/lib/Config/Trivial.pm line 320, <$config> line 90.
Use of uninitialized value in lc at /home/test/.cpan/build/Config-Trivial-0.70-RiBJKK/blib/lib/Config/Trivial.pm line 320, <$config> line 97.
Use of uninitialized value in lc at /home/test/.cpan/build/Config-Trivial-0.70-RiBJKK/blib/lib/Config/Trivial.pm line 320, <$config> line 100.
Use of uninitialized value in lc at /home/test/.cpan/build/Config-Trivial-0.70-RiBJKK/blib/lib/Config/Trivial.pm line 320, <$config> line 101.
Use of uninitialized value in lc at /home/test/.cpan/build/Config-Trivial-0.70-RiBJKK/blib/lib/Config/Trivial.pm line 320, <$config> line 104.
Use of uninitialized value in lc at /home/test/.cpan/build/Config-Trivial-0.70-RiBJKK/blib/lib/Config/Trivial.pm line 320, <$config> line 105.
Use of uninitialized value in lc at /home/test/.cpan/build/Config-Trivial-0.70-RiBJKK/blib/lib/Config/Trivial.pm line 320, <$config> line 108.
Use of uninitialized value in lc at /home/test/.cpan/build/Config-Trivial-0.70-RiBJKK/blib/lib/Config/Trivial.pm line 320, <$config> line 110.
Use of uninitialized value in lc at /home/test/.cpan/build/Config-Trivial-0.70-RiBJKK/blib/lib/Config/Trivial.pm line 320, <$config> line 112.
Use of uninitialized value in lc at /home/test/.cpan/build/Config-Trivial-0.70-RiBJKK/blib/lib/Config/Trivial.pm line 320, <$config> line 113.
Use of uninitialized value in lc at /home/test/.cpan/build/Config-Trivial-0.70-RiBJKK/blib/lib/Config/Trivial.pm line 320, <$config> line 114.
Use of uninitialized value in lc at /home/test/.cpan/build/Config-Trivial-0.70-RiBJKK/blib/lib/Config/Trivial.pm line 320, <$config> line 121.
Use of uninitialized value in lc at /home/test/.cpan/build/Config-Trivial-0.70-RiBJKK/blib/lib/Config/Trivial.pm line 320, <$config> line 7.
Use of uninitialized value in lc at /home/test/.cpan/build/Config-Trivial-0.70-RiBJKK/blib/lib/Config/Trivial.pm line 320, <$config> line 7.
Use of uninitialized value in lc at /home/test/.cpan/build/Config-Trivial-0.70-RiBJKK/blib/lib/Config/Trivial.pm line 320, <$config> line 7.
t/02-read.t .......... ok

Warnings on console expected...
Use of uninitialized value in string eq at /home/test/.cpan/build/Config-Trivial-Storable-0.30-gvEkw4/blib/lib/Config/Trivial/Storable.pm line 84.
Use of uninitialized value in string eq at /home/test/.cpan/build/Config-Trivial-Storable-0.30-gvEkw4/blib/lib/Config/Trivial/Storable.pm line 84.
t/03-error.t ......... ok
t/04-write.t ......... ok
t/05-store.t ......... ok
t/60-distribution.t .. skipped: Test::Distribution not installed
t/70-meta-yaml.t ..... ok
t/90-pod.t ........... ok
All tests successful.
Files=9, Tests=202,  2 wallclock secs ( 0.08 usr  0.02 sys +  0.34 cusr  0.13 csys =  0.57 CPU)
Result: PASS

------------------------------
PREREQUISITES
------------------------------

Prerequisite modules loaded:

requires:

    Module              Need   Have    
    ------------------- ------ --------
    Config::Trivial     0.60   0.70    
    perl                v5.6.1 5.015000
    Storable            2.0    2.28    

build_requires:

    Module              Need   Have    
    ------------------- ------ --------
    IO::Capture         0      0.05    
    Pod::Coverage       0      0.21    
    Test::More          0      0.98    
    Test::Pod           0      1.45    
    Test::Pod::Coverage 0      1.08    


------------------------------
ENVIRONMENT AND OTHER CONTEXT
------------------------------

Environment variables:

    AUTOMATED_TESTING = 1
    LANG = C
    LC_ALL = C
    PATH = /home/test/bin:/home/test/perl5/perlbrew/bin:/home/test/perl5/perlbrew/perls/perl-5.15.0/bin:~/bin:/usr/bin:/bin
    PATH_WITHOUT_PERLBREW = ~/bin:/usr/bin:/bin
    PERL5LIB = /home/test/.cpan/build/Config-Trivial-0.70-RiBJKK/blib/arch:/home/test/.cpan/build/Config-Trivial-0.70-RiBJKK/blib/lib:/home/test/.cpan/build/IO-Capture-0.05-bY2grP/blib/arch:/home/test/.cpan/build/IO-Capture-0.05-bY2grP/blib/lib:/home/test/.cpan/build/Test-Pod-Coverage-1.08-ok06VS/blib/arch:/home/test/.cpan/build/Test-Pod-Coverage-1.08-ok06VS/blib/lib:/home/test/.cpan/build/Pod-Coverage-0.21-QI0dKU/blib/arch:/home/test/.cpan/build/Pod-Coverage-0.21-QI0dKU/blib/lib:/home/test/.cpan/build/Devel-Symdump-2.08-91nf2W/blib/arch:/home/test/.cpan/build/Devel-Symdump-2.08-91nf2W/blib/lib
    PERL5OPT = 
    PERL5_CPANPLUS_IS_RUNNING = 2101
    PERL5_CPAN_IS_RUNNING = 2101
    PERL5_CPAN_IS_RUNNING_IN_RECURSION = 25835,2101
    PERLBREW_HOME = /home/test/.perlbrew
    PERLBREW_PATH = /home/test/perl5/perlbrew/bin:/home/test/perl5/perlbrew/perls/perl-5.15.0/bin
    PERLBREW_PERL = perl-5.15.0
    PERLBREW_ROOT = /home/test/perl5/perlbrew
    PERLBREW_VERSION = 0.25
    PERL_CR_SMOKER_CURRENT = Config-Trivial-Storable-0.30
    PERL_EXTUTILS_AUTOINSTALL = --defaultdeps
    PERL_MM_USE_DEFAULT = 1
    SHELL = /bin/bash
    TERM = linux

Perl special variables (and OS-specific diagnostics, for MSWin32):

    $^X = /home/test/perl5/perlbrew/perls/perl-5.15.0/bin/perl5.15.0
    $UID/$EUID = 1001 / 1001
    $GID = 1001 1001
    $EGID = 1001 1001

Perl module toolchain versions installed:

    Module              Have    
    ------------------- --------
    CPAN                1.9600  
    Cwd                 3.36    
    ExtUtils::CBuilder  0.280204
    ExtUtils::Command   1.17    
    ExtUtils::Install   1.56    
    ExtUtils::MakeMaker 6.57_05 
    ExtUtils::Manifest  1.58    
    ExtUtils::ParseXS   2.2210  
    File::Spec          3.33    
    Module::Build       0.3800  
    Module::Signature   n/a     
    Test::Harness       3.23    
    Test::More          0.98    
    YAML                0.73    
    YAML::Syck          n/a     
    version             0.91    


--

Summary of my perl5 (revision 5 version 15 subversion 0) configuration:
   
  Platform:
    osname=linux, osvers=2.6.35-28-generic, archname=x86_64-linux-thread-multi-ld
    uname='linux zippy 2.6.35-28-generic #50-ubuntu smp fri mar 18 18:42:20 utc 2011 x86_64 gnulinux '
    config_args='-de -Dprefix=/home/test/perl5/perlbrew/perls/perl-5.15.0 -Duselongdouble -Duse64bitall -Dusethreads -Dusedevel'
    hint=recommended, useposix=true, d_sigaction=define
    useithreads=define, usemultiplicity=define
    useperlio=define, d_sfio=undef, uselargefiles=define, usesocks=undef
    use64bitint=define, use64bitall=define, uselongdouble=define
    usemymalloc=n, bincompat5005=undef
  Compiler:
    cc='cc', ccflags ='-D_REENTRANT -D_GNU_SOURCE -fno-strict-aliasing -pipe -fstack-protector -I/usr/local/include -D_LARGEFILE_SOURCE -D_FILE_OFFSET_BITS=64',
    optimize='-O2',
    cppflags='-D_REENTRANT -D_GNU_SOURCE -fno-strict-aliasing -pipe -fstack-protector -I/usr/local/include'
    ccversion='', gccversion='4.4.5', gccosandvers=''
    intsize=4, longsize=8, ptrsize=8, doublesize=8, byteorder=12345678
    d_longlong=define, longlongsize=8, d_longdbl=define, longdblsize=16
    ivtype='long', ivsize=8, nvtype='long double', nvsize=16, Off_t='off_t', lseeksize=8
    alignbytes=16, prototype=define
  Linker and Libraries:
    ld='cc', ldflags =' -fstack-protector -L/usr/local/lib'
    libpth=/usr/local/lib /lib/../lib /usr/lib/../lib /lib /usr/lib /usr/lib/x86_64-linux-gnu /lib64 /usr/lib64
    libs=-lnsl -ldl -lm -lcrypt -lutil -lpthread -lc
    perllibs=-lnsl -ldl -lm -lcrypt -lutil -lpthread -lc
    libc=/lib/libc-2.12.1.so, so=so, useshrplib=false, libperl=libperl.a
    gnulibc_version='2.12.1'
  Dynamic Linking:
    dlsrc=dl_dlopen.xs, dlext=so, d_dlsymun=undef, ccdlflags='-Wl,-E'
    cccdlflags='-fPIC', lddlflags='-shared -O2 -L/usr/local/lib -fstack-protector'


Characteristics of this binary (from libperl): 
  Compile-time options: MULTIPLICITY PERL_DONT_CREATE_GVSV
                        PERL_IMPLICIT_CONTEXT PERL_MALLOC_WRAP
                        PERL_PRESERVE_IVUV PERL_USE_DEVEL USE_64_BIT_ALL
                        USE_64_BIT_INT USE_ITHREADS USE_LARGE_FILES
                        USE_LOCALE USE_LOCALE_COLLATE USE_LOCALE_CTYPE
                        USE_LOCALE_NUMERIC USE_LONG_DOUBLE USE_PERLIO
                        USE_PERL_ATOF USE_REENTRANT_API
  Built under linux
  Compiled at Jun 24 2011 00:28:50
  %ENV:
    PERL5LIB="/home/test/.cpan/build/Config-Trivial-0.70-RiBJKK/blib/arch:/home/test/.cpan/build/Config-Trivial-0.70-RiBJKK/blib/lib:/home/test/.cpan/build/IO-Capture-0.05-bY2grP/blib/arch:/home/test/.cpan/build/IO-Capture-0.05-bY2grP/blib/lib:/home/test/.cpan/build/Test-Pod-Coverage-1.08-ok06VS/blib/arch:/home/test/.cpan/build/Test-Pod-Coverage-1.08-ok06VS/blib/lib:/home/test/.cpan/build/Pod-Coverage-0.21-QI0dKU/blib/arch:/home/test/.cpan/build/Pod-Coverage-0.21-QI0dKU/blib/lib:/home/test/.cpan/build/Devel-Symdump-2.08-91nf2W/blib/arch:/home/test/.cpan/build/Devel-Symdump-2.08-91nf2W/blib/lib"
    PERL5OPT=""
    PERL5_CPANPLUS_IS_RUNNING="2101"
    PERL5_CPAN_IS_RUNNING="2101"
    PERL5_CPAN_IS_RUNNING_IN_RECURSION="25835,2101"
    PERLBREW_HOME="/home/test/.perlbrew"
    PERLBREW_PATH="/home/test/perl5/perlbrew/bin:/home/test/perl5/perlbrew/perls/perl-5.15.0/bin"
    PERLBREW_PERL="perl-5.15.0"
    PERLBREW_ROOT="/home/test/perl5/perlbrew"
    PERLBREW_VERSION="0.25"
    PERL_CR_SMOKER_CURRENT="Config-Trivial-Storable-0.30"
    PERL_EXTUTILS_AUTOINSTALL="--defaultdeps"
    PERL_MM_USE_DEFAULT="1"
  @INC:
    /home/test/.cpan/build/Config-Trivial-0.70-RiBJKK/blib/arch
    /home/test/.cpan/build/Config-Trivial-0.70-RiBJKK/blib/lib
    /home/test/.cpan/build/IO-Capture-0.05-bY2grP/blib/arch
    /home/test/.cpan/build/IO-Capture-0.05-bY2grP/blib/lib
    /home/test/.cpan/build/Test-Pod-Coverage-1.08-ok06VS/blib/arch
    /home/test/.cpan/build/Test-Pod-Coverage-1.08-ok06VS/blib/lib
    /home/test/.cpan/build/Pod-Coverage-0.21-QI0dKU/blib/arch
    /home/test/.cpan/build/Pod-Coverage-0.21-QI0dKU/blib/lib
    /home/test/.cpan/build/Devel-Symdump-2.08-91nf2W/blib/arch
    /home/test/.cpan/build/Devel-Symdump-2.08-91nf2W/blib/lib
    /home/test/perl5/perlbrew/perls/perl-5.15.0/lib/site_perl/5.15.0/x86_64-linux-thread-multi-ld
    /home/test/perl5/perlbrew/perls/perl-5.15.0/lib/site_perl/5.15.0
    /home/test/perl5/perlbrew/perls/perl-5.15.0/lib/5.15.0/x86_64-linux-thread-multi-ld
    /home/test/perl5/perlbrew/perls/perl-5.15.0/lib/5.15.0
    .