WWW-Contact v0.51 Perl 5 v5.22.2 x86_64-linux

Status
Pass
From
Slaven Rezić (SREZIC)
Dist
WWW-Contact v0.51
Platform
Perl 5 v5.22.2 x86_64-linux
Date
2018-02-28 01:35:43
ID
b143b168-1c27-11e8-a377-fdc50d33a3ed
This distribution has been tested as part of the CPAN Testers
project, supporting the Perl programming language.  See
http://wiki.cpantesters.org/ for more information or email
questions to cpan-testers-discuss@perl.org


--
Dear Fayland Lin,

This is a computer-generated report for WWW-Contact-0.51
on perl 5.22.2, created by CPAN-Reporter-1.2018.

Thank you for uploading your work to CPAN.  Congratulations!
All tests were successful.

Sections of this report:

    * Tester comments
    * Program output
    * Prerequisites
    * Environment and other context

------------------------------
TESTER COMMENTS
------------------------------

Additional comments from tester:

none provided

------------------------------
PROGRAM OUTPUT
------------------------------

Output from './Build test':

# Testing WWW::Contact 0.51, Perl 5.022002, /opt/perl-5.22.2/bin/perl
t/00-load.t ......... ok
t/01-basic.t ........ ok
t/02-supplier.t ..... ok
t/101-gmail.t ....... skipped: set $ENV{TEST_GMAIL} and $ENV{TEST_GMAIL_PASS} to test
t/102-yahoo.t ....... skipped: set $ENV{TEST_YAHOO} and $ENV{TEST_YAHOO_PASS} to test
t/103-rediff.t ...... skipped: set $ENV{TEST_REDIFF} and $ENV{TEST_REDIFF_PASS} to test
t/104-163.t ......... skipped: set $ENV{TEST_163} and $ENV{TEST_163_PASS} to test
t/105-aol.t ......... skipped: set $ENV{TEST_AOL} and $ENV{TEST_AOL_PASS} to test
t/106-mail.t ........ skipped: set $ENV{TEST_MAIL} and $ENV{TEST_MAIL_PASS} to test
t/107-hotmail.t ..... skipped: set $ENV{TEST_HOTMAIL} and $ENV{TEST_HOTMAIL_PASS} to test
t/108-indiatimes.t .. skipped: set $ENV{TEST_INDIATIMES} and $ENV{TEST_INDIATIMES_PASS} to test
t/109-lycos.t ....... skipped: set $ENV{TEST_LYCOS} and $ENV{TEST_LYCOS_PASS} to test
t/110-plaxo.t ....... skipped: set $ENV{TEST_PLAXO} and $ENV{TEST_PLAXO_PASS} to test
t/999-author.t ...... skipped: author tests
t/pod.t ............. ok
All tests successful.
Files=15, Tests=35,  3 wallclock secs ( 0.03 usr  0.06 sys +  2.14 cusr  0.38 csys =  2.61 CPU)
Result: PASS

------------------------------
PREREQUISITES
------------------------------

Prerequisite modules loaded:

requires:

    Module                   Need Have    
    ------------------------ ---- --------
    Crypt::SSLeay            0    0.72    
    HTML::Entities           0    3.69    
    HTML::TokeParser::Simple 0    3.16    
    HTML::TreeBuilder        0    5.07    
    JSON::XS                 0    3.04    
    Moose                    0.77 2.2006  
    Net::DNS::Resolver       0    1598    
    Net::Google::AuthSub     0    0.5     
    Text::CSV                0    1.95    
    Text::vCard              0    3.09    
    WWW::Mechanize           0    1.87    
    WWW::Mechanize::GZip     0    0.12    

build_requires:

    Module                   Need Have    
    ------------------------ ---- --------
    Test::More               0.90 1.302125

configure_requires:

    Module                   Need Have    
    ------------------------ ---- --------
    Module::Build            0.42 0.4224  


------------------------------
ENVIRONMENT AND OTHER CONTEXT
------------------------------

Environment variables:

    LANG = en_US.UTF-8
    PATH = /usr/local/bin:/usr/bin:/bin:/usr/local/sbin:/usr/sbin:/sbin:/home/cpansand/bin/linux-gnu:/home/cpansand/bin/sh:/home/cpansand/bin:/usr/games:/home/cpansand/devel:/home/eserte/src/srezic-misc/scripts
    PERL5LIB = /home/cpansand/.cpan/build/2018022800/Text-vCard-3.09-3/blib/arch:/home/cpansand/.cpan/build/2018022800/Text-vCard-3.09-3/blib/lib:/home/cpansand/.cpan/build/2018022800/Net-Google-AuthSub-0.5-4/blib/arch:/home/cpansand/.cpan/build/2018022800/Net-Google-AuthSub-0.5-4/blib/lib:/home/cpansand/.cpan/build/2018022800/Crypt-SSLeay-0.72-3/blib/arch:/home/cpansand/.cpan/build/2018022800/Crypt-SSLeay-0.72-3/blib/lib
    PERL5OPT = 
    PERL5_CPANPLUS_IS_RUNNING = 1058
    PERL5_CPAN_IS_RUNNING = 1058
    PERL5_CPAN_IS_RUNNING_IN_RECURSION = 32171,1058
    PERLDOC = -MPod::Perldoc::ToTextOverstrike
    PERL_BATCH = yes
    PERL_CANARY_STABILITY_NOPROMPT = 1
    PERL_CPAN_REPORTER_CONFIG = /var/tmp/cpansmoker-1023/2018022800/cpanreporter_000_config.ini
    PERL_EXTUTILS_AUTOINSTALL = --defaultdeps
    SHELL = /bin/zsh
    TERM = screen
    TMPDIR = /var/tmp/cpansmoker-1023/2018022800

Perl special variables (and OS-specific diagnostics, for MSWin32):

    $^X = /opt/perl-5.22.2/bin/perl
    $UID/$EUID = 1023 / 1023
    $GID = 1023 1023
    $EGID = 1023 1023

Perl module toolchain versions installed:

    Module              Have    
    ------------------- --------
    CPAN                2.16    
    CPAN::Meta          2.150010
    Cwd                 3.62    
    ExtUtils::CBuilder  0.280230
    ExtUtils::Command   7.30    
    ExtUtils::Install   2.06    
    ExtUtils::MakeMaker 7.30    
    ExtUtils::Manifest  1.70    
    ExtUtils::ParseXS   3.35    
    File::Spec          3.62    
    JSON                2.97001 
    JSON::PP            2.97001 
    Module::Build       0.4224  
    Module::Signature   0.81    
    Parse::CPAN::Meta   2.150010
    Test::Harness       3.39    
    Test::More          1.302125
    YAML                1.23    
    YAML::Syck          1.30    
    version             0.9918  


--

Summary of my perl5 (revision 5 version 22 subversion 2) configuration:
   
  Platform:
    osname=linux, osvers=2.6.32-696.3.1.el6.x86_64, archname=x86_64-linux
    uname='linux centos6 2.6.32-696.3.1.el6.x86_64 #1 smp tue may 30 19:52:55 utc 2017 x86_64 x86_64 x86_64 gnulinux '
    config_args='-ds -e -Dprefix=/opt/perl-5.22.2 -Dcf_email=srezic@cpan.org'
    hint=recommended, useposix=true, d_sigaction=define
    useithreads=undef, usemultiplicity=undef
    use64bitint=define, use64bitall=define, uselongdouble=undef
    usemymalloc=n, bincompat5005=undef
  Compiler:
    cc='cc', ccflags ='-fwrapv -fno-strict-aliasing -pipe -fstack-protector -I/usr/local/include -D_LARGEFILE_SOURCE -D_FILE_OFFSET_BITS=64 -D_FORTIFY_SOURCE=2',
    optimize='-O2',
    cppflags='-fwrapv -fno-strict-aliasing -pipe -fstack-protector -I/usr/local/include'
    ccversion='', gccversion='4.4.7 20120313 (Red Hat 4.4.7-18)', gccosandvers=''
    intsize=4, longsize=8, ptrsize=8, doublesize=8, byteorder=12345678, doublekind=3
    d_longlong=define, longlongsize=8, d_longdbl=define, longdblsize=16, longdblkind=3
    ivtype='long', ivsize=8, nvtype='double', nvsize=8, Off_t='off_t', lseeksize=8
    alignbytes=8, prototype=define
  Linker and Libraries:
    ld='cc', ldflags =' -fstack-protector -L/usr/local/lib'
    libpth=/usr/local/lib /usr/lib /lib/../lib64 /usr/lib/../lib64 /lib /lib64 /usr/lib64 /usr/local/lib64
    libs=-lpthread -lnsl -lgdbm -ldb -ldl -lm -lcrypt -lutil -lc
    perllibs=-lpthread -lnsl -ldl -lm -lcrypt -lutil -lc
    libc=libc-2.12.so, so=so, useshrplib=false, libperl=libperl.a
    gnulibc_version='2.12'
  Dynamic Linking:
    dlsrc=dl_dlopen.xs, dlext=so, d_dlsymun=undef, ccdlflags='-Wl,-E'
    cccdlflags='-fPIC', lddlflags='-shared -O2 -L/usr/local/lib -fstack-protector'


Characteristics of this binary (from libperl): 
  Compile-time options: HAS_TIMES PERLIO_LAYERS PERL_DONT_CREATE_GVSV
                        PERL_HASH_FUNC_ONE_AT_A_TIME_HARD PERL_MALLOC_WRAP
                        PERL_NEW_COPY_ON_WRITE PERL_PRESERVE_IVUV
                        USE_64_BIT_ALL USE_64_BIT_INT USE_LARGE_FILES
                        USE_LOCALE USE_LOCALE_COLLATE USE_LOCALE_CTYPE
                        USE_LOCALE_NUMERIC USE_LOCALE_TIME USE_PERLIO
                        USE_PERL_ATOF
  Built under linux
  Compiled at Jun 21 2017 19:08:23
  %ENV:
    PERL5LIB="/home/cpansand/.cpan/build/2018022800/Text-vCard-3.09-3/blib/arch:/home/cpansand/.cpan/build/2018022800/Text-vCard-3.09-3/blib/lib:/home/cpansand/.cpan/build/2018022800/Net-Google-AuthSub-0.5-4/blib/arch:/home/cpansand/.cpan/build/2018022800/Net-Google-AuthSub-0.5-4/blib/lib:/home/cpansand/.cpan/build/2018022800/Crypt-SSLeay-0.72-3/blib/arch:/home/cpansand/.cpan/build/2018022800/Crypt-SSLeay-0.72-3/blib/lib"
    PERL5OPT=""
    PERL5_CPANPLUS_IS_RUNNING="1058"
    PERL5_CPAN_IS_RUNNING="1058"
    PERL5_CPAN_IS_RUNNING_IN_RECURSION="32171,1058"
    PERLDOC="-MPod::Perldoc::ToTextOverstrike"
    PERL_BATCH="yes"
    PERL_CANARY_STABILITY_NOPROMPT="1"
    PERL_CPAN_REPORTER_CONFIG="/var/tmp/cpansmoker-1023/2018022800/cpanreporter_000_config.ini"
    PERL_EXTUTILS_AUTOINSTALL="--defaultdeps"
  @INC:
    /home/cpansand/.cpan/build/2018022800/Text-vCard-3.09-3/blib/arch
    /home/cpansand/.cpan/build/2018022800/Text-vCard-3.09-3/blib/lib
    /home/cpansand/.cpan/build/2018022800/Net-Google-AuthSub-0.5-4/blib/arch
    /home/cpansand/.cpan/build/2018022800/Net-Google-AuthSub-0.5-4/blib/lib
    /home/cpansand/.cpan/build/2018022800/Crypt-SSLeay-0.72-3/blib/arch
    /home/cpansand/.cpan/build/2018022800/Crypt-SSLeay-0.72-3/blib/lib
    /opt/perl-5.22.2/lib/site_perl/5.22.2/x86_64-linux
    /opt/perl-5.22.2/lib/site_perl/5.22.2
    /opt/perl-5.22.2/lib/5.22.2/x86_64-linux
    /opt/perl-5.22.2/lib/5.22.2
    .