HiD v1.992 Perl 5 v5.41.6 x86_64-linux-ld

Status
Pass
From
Andreas J. König (ANDK)
Dist
HiD v1.992
Platform
Perl 5 v5.41.6 x86_64-linux-ld
Date
2024-12-10 21:35:35
ID
b117f76c-b73e-11ef-bff8-6c4f5a561986
This distribution has been tested as part of the CPAN Testers
project, supporting the Perl programming language.  See
http://wiki.cpantesters.org/ for more information or email
questions to cpan-testers-discuss@perl.org


--
Dear John SJ Anderson,

This is a computer-generated report for HiD-1.992
on perl 5.41.6, created by CPAN-Reporter-1.2020.

Thank you for uploading your work to CPAN.  Congratulations!
All tests were successful.

Sections of this report:

    * Tester comments
    * Program output
    * Prerequisites
    * Environment and other context

------------------------------
TESTER COMMENTS
------------------------------

Additional comments from tester:

this report is from an automated smoke testing program
and was not reviewed by a human for accuracy

------------------------------
PROGRAM OUTPUT
------------------------------

Output from '/usr/bin/make test':

PERL_DL_NONLAZY=1 "/tmp/basesmoker-reloperl-f7py/bin/perl" "-MExtUtils::Command::MM" "-MTest::Harness" "-e" "undef *Test::Harness::Switches; test_harness(0, 'blib/lib', 'blib/arch')" t/*.t
t/00-compile.t ........... ok
t/author-eol.t ........... skipped: these tests are for testing by the author
t/author-pod-coverage.t .. skipped: these tests are for testing by the author
t/author-pod-syntax.t .... skipped: these tests are for testing by the author
t/cmd-config.t ........... ok
t/cmd-help.t ............. ok
t/cmd-init.t ............. ok
# Testing in /tmp/z4GSrwWqy8
t/cmd-publish.t .......... ok
t/config.t ............... ok
t/file.t ................. ok
t/hid-server.t ........... ok
[2024/12/10 21:34:33]  WARN Skipping _posts/2008-02-02-not-published.textile because 'published' flag is false
[2024/12/10 21:34:33] ERROR ERROR: Post failed to build: Can't locate PatternLayout.pm in @INC (you may need to install the PatternLayout module) (@INC entries checked: /tmp/loop_over_bdir-1311119-cvGcTn/HiD-1.992-0/blib/lib /tmp/loop_over_bdir-1311119-cvGcTn/HiD-1.992-0/blib/arch /tmp/loop_over_bdir-1311119-cvGcTn/Simulation-Automate-1.0.1-0/blib/arch /tmp/loop_over_bdir-1311119-cvGcTn/Simulation-Automate-1.0.1-0/blib/lib /tmp/loop_over_bdir-1311119-cvGcTn/ProjectBuilder-0.14.1-0/blib/arch /tmp/loop_over_bdir-1311119-cvGcTn/ProjectBuilder-0.14.1-0/blib/lib /tmp/loop_over_bdir-1311119-cvGcTn/App-oo_modulino_zsh_completion_helper-0.04-0/blib/arch /tmp/loop_over_bdir-1311119-cvGcTn/App-oo_modulino_zsh_completion_helper-0.04-0/blib/lib /tmp/loop_over_bdir-1311119-cvGcTn/Simulation-Automate-1.0.1-0/blib/arch /tmp/loop_over_bdir-1311119-cvGcTn/Simulation-Automate-1.0.1-0/blib/lib /tmp/loop_over_bdir-1311119-cvGcTn/ProjectBuilder-0.14.1-0/blib/arch /tmp/loop_over_bdir-1311119-cvGcTn/ProjectBuilder-0.14.1-0/blib/lib /tmp/loop_over_bdir-1311119-cvGcTn/App-oo_modulino_zsh_completion_helper-0.04-0/blib/arch /tmp/loop_over_bdir-1311119-cvGcTn/App-oo_modulino_zsh_completion_helper-0.04-0/blib/lib /home/sand/src/perl/repoperls/installed-perls/host/k93jammy/v5.41.6/5674/lib/site_perl/5.41.6/x86_64-linux-ld /home/sand/src/perl/repoperls/installed-perls/host/k93jammy/v5.41.6/5674/lib/site_perl/5.41.6 /home/sand/src/perl/repoperls/installed-perls/host/k93jammy/v5.41.6/5674/lib/5.41.6/x86_64-linux-ld /home/sand/src/perl/repoperls/installed-perls/host/k93jammy/v5.41.6/5674/lib/5.41.6 .) at /home/sand/src/perl/repoperls/installed-perls/host/k93jammy/v5.41.6/5674/lib/site_perl/5.41.6/Log/Log4perl/Util.pm line 51.
	...propagated at /tmp/loop_over_bdir-1311119-cvGcTn/HiD-1.992-0/blib/lib/HiD/Post.pm line 36.
t/hid.t .................. ok
t/layout.t ............... ok
t/page.t ................. ok
t/post-twitter.t ......... ok
t/post.t ................. ok
All tests successful.

Test Summary Report
-------------------
t/cmd-publish.t        (Wstat: 0 Tests: 76 Failed: 0)
  TODO passed:   72-73
Files=16, Tests=209, 27 wallclock secs ( 0.12 usr  0.03 sys + 23.61 cusr  2.53 csys = 26.29 CPU)
Result: PASS

------------------------------
PREREQUISITES
------------------------------

Prerequisite modules loaded:

requires:

    Module                       Need  Have     
    ---------------------------- ----- ---------
    autodie                      0     2.37     
    Carp                         0     1.54     
    charnames                    0     1.50     
    Class::Load                  0     0.25     
    Data::Page                   0     2.03     
    Data::Printer                0.35  1.002001 
    Date::Parse                  0     2.33     
    DateTime                     0     1.65     
    feature                      0     1.92     
    File::Copy                   0     2.41     
    File::Find::Rule             0     0.34     
    Log::Log4perl                0     1.57     
    Moose                        0     2.2207   
    Moose::Role                  0     2.2207   
    Moose::Util::TypeConstraints 0     2.2207   
    MooseX::App::Cmd             0     0.34     
    MooseX::App::Cmd::Command    0     0.34     
    MooseX::Getopt               0     0.76     
    namespace::autoclean         0     0.31     
    open                         0     1.13     
    parent                       0     0.242_001
    Path::Tiny                   0.054 0.146    
    perl                         5.014 5.041006 
    Plack::App::File             0     0        
    Plack::Builder               0     0        
    Plack::Handler::Standalone   0     0        
    Plack::Loader::Restarter     0     0        
    Plack::Runner                0     0        
    strict                       0     1.13     
    String::Errf                 0     0.009    
    Template                     0     3.102    
    Text::Handlebars             0     0.05     
    Text::Markdown               0     1.000031 
    Text::MultiMarkdown          0     1.003    
    Text::Textile                0     2.13     
    Text::Xslate                 0     v3.5.9   
    Try::Tiny                    0     0.32     
    utf8                         0     1.27     
    warnings                     0     1.71     
    XML::Feed                    0     0.65     
    XML::Feed::Entry             0     0.65     
    YAML::Tiny                   0     1.74     
    YAML::XS                     0     v0.902.0 

build_requires:

    Module                       Need  Have     
    ---------------------------- ----- ---------
    App::Cmd::Tester             0     0.336    
    Exporter                     0     5.78     
    ExtUtils::MakeMaker          0     7.70     
    File::Spec                   0     3.93     
    FindBin                      0     1.54     
    HTTP::Request::Common        0     7.00     
    IO::Handle                   0     1.55     
    IPC::Open3                   0     1.24     
    lib                          0     0.65     
    Plack::Test                  0     0        
    Test::File                   0     1.993    
    Test::File::Contents         0     0.242    
    Test::More                   0     1.302204 
    Test::Routine                0     0.031    
    Test::Routine::Util          0     0.031    
    Test::Warn                   0     0.37     

configure_requires:

    Module                       Need  Have     
    ---------------------------- ----- ---------
    ExtUtils::MakeMaker          0     7.70     
    perl                         5.014 5.041006 


------------------------------
ENVIRONMENT AND OTHER CONTEXT
------------------------------

Environment variables:

    AUTOMATED_TESTING = 1
    LANG = en_US.UTF-8
    LC_ADDRESS = de_DE.UTF-8
    LC_IDENTIFICATION = de_DE.UTF-8
    LC_MEASUREMENT = de_DE.UTF-8
    LC_MONETARY = de_DE.UTF-8
    LC_NAME = de_DE.UTF-8
    LC_NUMERIC = de_DE.UTF-8
    LC_PAPER = de_DE.UTF-8
    LC_TELEPHONE = de_DE.UTF-8
    LC_TIME = de_DE.UTF-8
    PATH = /home/sand/bin:/usr/local/bin:/usr/local/sbin:/usr/sbin:/usr/bin:/sbin:/bin:/usr/games:/usr/local/games:/snap/bin:/usr/local/perl/bin:/usr/X11/bin
    PERL = /tmp/basesmoker-reloperl-f7py/bin/perl
    PERL5LIB = /tmp/loop_over_bdir-1311119-cvGcTn/Simulation-Automate-1.0.1-0/blib/arch:/tmp/loop_over_bdir-1311119-cvGcTn/Simulation-Automate-1.0.1-0/blib/lib:/tmp/loop_over_bdir-1311119-cvGcTn/ProjectBuilder-0.14.1-0/blib/arch:/tmp/loop_over_bdir-1311119-cvGcTn/ProjectBuilder-0.14.1-0/blib/lib:/tmp/loop_over_bdir-1311119-cvGcTn/App-oo_modulino_zsh_completion_helper-0.04-0/blib/arch:/tmp/loop_over_bdir-1311119-cvGcTn/App-oo_modulino_zsh_completion_helper-0.04-0/blib/lib
    PERL5OPT = 
    PERL5_CPANPLUS_IS_RUNNING = 1311127
    PERL5_CPAN_IS_RUNNING = 1311127
    PERL_CANARY_STABILITY_NOPROMPT = 1
    PERL_MM_USE_DEFAULT = 1
    PERL_USE_UNSAFE_INC = 1
    SHELL = /usr/bin/zsh
    TERM = screen

Perl special variables (and OS-specific diagnostics, for MSWin32):

    $^X = /tmp/basesmoker-reloperl-f7py/bin/perl
    $UID/$EUID = 1005 / 1005
    $GID = 1005 1005
    $EGID = 1005 1005

Perl module toolchain versions installed:

    Module              Have    
    ------------------- --------
    CPAN                2.38    
    CPAN::Meta          2.150010
    Cwd                 3.92    
    ExtUtils::CBuilder  0.280240
    ExtUtils::Command   7.70    
    ExtUtils::Install   2.22    
    ExtUtils::MakeMaker 7.70    
    ExtUtils::Manifest  1.75    
    ExtUtils::ParseXS   3.56    
    File::Spec          3.93    
    JSON                4.10    
    JSON::PP            4.16    
    Module::Build       0.4234  
    Module::Signature   0.89    
    Parse::CPAN::Meta   2.150010
    Test2               1.302204
    Test::Harness       3.50    
    Test::More          1.302204
    YAML                1.31    
    YAML::Syck          1.34    
    version             0.9933  


--

Summary of my perl5 (revision 5 version 41 subversion 6) configuration:
  Commit id: 5ae25c7756bbd08831a5a3900da1d60b7ba2c19a
  Platform:
    osname=linux
    osvers=6.8.0-48-generic
    archname=x86_64-linux-ld
    uname='linux k93jammy 6.8.0-48-generic #48~22.04.1-ubuntu smp preempt_dynamic mon oct 7 11:24:13 utc 2 x86_64 x86_64 x86_64 gnulinux '
    config_args='-Dprefix=/home/sand/src/perl/repoperls/installed-perls/host/k93jammy/v5.41.6/5674 -Dmyhostname=k93jammy -Dinstallusrbinperl=n -Uversiononly -Dusedevel -des -Ui_db -Dlibswanted=cl pthread socket inet nsl gdbm dbm malloc dl ld sun m crypt sec util c cposix posix ucb BSD gdbm_compat -Uuseithreads -Duselongdouble -DEBUGGING=-g'
    hint=recommended
    useposix=true
    d_sigaction=define
    useithreads=undef
    usemultiplicity=undef
    use64bitint=define
    use64bitall=define
    uselongdouble=define
    usemymalloc=n
    default_inc_excludes_dot=define
  Compiler:
    cc='cc'
    ccflags ='-fwrapv -fno-strict-aliasing -pipe -fstack-protector-strong -I/usr/local/include -D_LARGEFILE_SOURCE -D_FILE_OFFSET_BITS=64'
    optimize='-O2 -g'
    cppflags='-fwrapv -fno-strict-aliasing -pipe -fstack-protector-strong -I/usr/local/include'
    ccversion=''
    gccversion='11.4.0'
    gccosandvers=''
    intsize=4
    longsize=8
    ptrsize=8
    doublesize=8
    byteorder=12345678
    doublekind=3
    d_longlong=define
    longlongsize=8
    d_longdbl=define
    longdblsize=16
    longdblkind=3
    ivtype='long'
    ivsize=8
    nvtype='long double'
    nvsize=16
    Off_t='off_t'
    lseeksize=8
    alignbytes=16
    prototype=define
  Linker and Libraries:
    ld='cc'
    ldflags =' -fstack-protector-strong -L/usr/local/lib'
    libpth=/usr/local/lib /usr/lib/x86_64-linux-gnu /usr/lib /usr/lib64
    libs=-lpthread -lnsl -ldl -lm -lcrypt -lutil -lc
    perllibs=-lpthread -lnsl -ldl -lm -lcrypt -lutil -lc
    libc=/lib/x86_64-linux-gnu/libc.so.6
    so=so
    useshrplib=false
    libperl=libperl.a
    gnulibc_version='2.35'
  Dynamic Linking:
    dlsrc=dl_dlopen.xs
    dlext=so
    d_dlsymun=undef
    ccdlflags='-Wl,-E'
    cccdlflags='-fPIC'
    lddlflags='-shared -O2 -g -L/usr/local/lib -fstack-protector-strong'


Characteristics of this binary (from libperl): 
  Compile-time options:
    HAS_LONG_DOUBLE
    HAS_STRTOLD
    HAS_TIMES
    PERLIO_LAYERS
    PERL_COPY_ON_WRITE
    PERL_DONT_CREATE_GVSV
    PERL_HASH_FUNC_SIPHASH13
    PERL_HASH_USE_SBOX32
    PERL_MALLOC_WRAP
    PERL_OP_PARENT
    PERL_PRESERVE_IVUV
    PERL_USE_DEVEL
    PERL_USE_SAFE_PUTENV
    USE_64_BIT_ALL
    USE_64_BIT_INT
    USE_LARGE_FILES
    USE_LOCALE
    USE_LOCALE_COLLATE
    USE_LOCALE_CTYPE
    USE_LOCALE_NUMERIC
    USE_LOCALE_TIME
    USE_LONG_DOUBLE
    USE_PERLIO
    USE_PERL_ATOF
  Built under linux
  Compiled at Nov 21 2024 15:30:24
  %ENV:
    PERL="/tmp/basesmoker-reloperl-f7py/bin/perl"
    PERL5LIB="/tmp/loop_over_bdir-1311119-cvGcTn/Simulation-Automate-1.0.1-0/blib/arch:/tmp/loop_over_bdir-1311119-cvGcTn/Simulation-Automate-1.0.1-0/blib/lib:/tmp/loop_over_bdir-1311119-cvGcTn/ProjectBuilder-0.14.1-0/blib/arch:/tmp/loop_over_bdir-1311119-cvGcTn/ProjectBuilder-0.14.1-0/blib/lib:/tmp/loop_over_bdir-1311119-cvGcTn/App-oo_modulino_zsh_completion_helper-0.04-0/blib/arch:/tmp/loop_over_bdir-1311119-cvGcTn/App-oo_modulino_zsh_completion_helper-0.04-0/blib/lib"
    PERL5OPT=""
    PERL5_CPANPLUS_IS_RUNNING="1311127"
    PERL5_CPAN_IS_RUNNING="1311127"
    PERL_CANARY_STABILITY_NOPROMPT="1"
    PERL_MM_USE_DEFAULT="1"
    PERL_USE_UNSAFE_INC="1"
  @INC:
    /tmp/loop_over_bdir-1311119-cvGcTn/Simulation-Automate-1.0.1-0/blib/arch
    /tmp/loop_over_bdir-1311119-cvGcTn/Simulation-Automate-1.0.1-0/blib/lib
    /tmp/loop_over_bdir-1311119-cvGcTn/ProjectBuilder-0.14.1-0/blib/arch
    /tmp/loop_over_bdir-1311119-cvGcTn/ProjectBuilder-0.14.1-0/blib/lib
    /tmp/loop_over_bdir-1311119-cvGcTn/App-oo_modulino_zsh_completion_helper-0.04-0/blib/arch
    /tmp/loop_over_bdir-1311119-cvGcTn/App-oo_modulino_zsh_completion_helper-0.04-0/blib/lib
    /home/sand/src/perl/repoperls/installed-perls/host/k93jammy/v5.41.6/5674/lib/site_perl/5.41.6/x86_64-linux-ld
    /home/sand/src/perl/repoperls/installed-perls/host/k93jammy/v5.41.6/5674/lib/site_perl/5.41.6
    /home/sand/src/perl/repoperls/installed-perls/host/k93jammy/v5.41.6/5674/lib/5.41.6/x86_64-linux-ld
    /home/sand/src/perl/repoperls/installed-perls/host/k93jammy/v5.41.6/5674/lib/5.41.6
    .