Report for Test-TempDir-0.10

Back
From: metabase:user:e7f7dec2-b051-11df-bd1d-025b7965fceb
Subject: PASS Test-TempDir-0.10 v5.16.0 GNU/Linux
Date: 2015-06-21T00:01:38Z

This distribution has been tested as part of the CPAN Testers
project, supporting the Perl programming language.  See
http://wiki.cpantesters.org/ for more information or email
questions to cpan-testers-discuss@perl.org


--
Dear Karen Etheridge,

This is a computer-generated report for Test-TempDir-0.10
on perl 5.16.0, created by CPAN-Reporter-1.2011.

Thank you for uploading your work to CPAN.  Congratulations!
All tests were successful.

Sections of this report:

    * Tester comments
    * Program output
    * Prerequisites
    * Environment and other context

------------------------------
TESTER COMMENTS
------------------------------

Additional comments from tester:

none provided

------------------------------
PROGRAM OUTPUT
------------------------------

Output from './Build test':

# 
# Versions for all modules listed in MYMETA.json (including optional ones):
# 
# === Configure Requires ===
# 
#     Module               Want  Have
#     ------------------- ----- -----
#     Module::Build::Tiny 0.039 0.039
# 
# === Test Requires ===
# 
#     Module              Want     Have
#     ------------------- ---- --------
#     ExtUtils::MakeMaker  any     7.04
#     File::Path          2.04     2.09
#     File::Spec           any     3.47
#     Test::More          0.88 1.001014
#     Test::Requires       any     0.08
#     ok                   any     0.16
# 
# === Test Recommends ===
# 
#     Module         Want     Have
#     ---------- -------- --------
#     CPAN::Meta 2.120900 2.150005
# 
# === Runtime Requires ===
# 
#     Module                       Want     Have
#     ---------------------------- ---- --------
#     Carp                          any     1.36
#     File::NFSLock                 any     1.27
#     File::Spec                    any     3.47
#     File::Temp                    any   0.2304
#     Moose                         any   2.1405
#     Moose::Util::TypeConstraints  any   2.1405
#     MooseX::Types::Path::Class    any     0.06
#     Path::Class                   any     0.35
#     Sub::Exporter                 any    0.987
#     Test::Builder                 any 1.001014
#     namespace::autoclean         0.08     0.22
#     strict                        any     1.07
#     warnings                      any     1.13
# 
# === Runtime Recommends ===
# 
#     Module             Want    Have
#     ------------------ ---- -------
#     Directory::Scratch  any missing
# 
t/00-report-prereqs.t .. ok
t/00_load.t ............ ok
t/basic.t .............. ok
t/directory_scratch.t .. skipped: Test requires module 'Directory::Scratch' but it's not found
t/factory.t ............ ok
t/handle.t ............. ok
All tests successful.
Files=6, Tests=70,  2 wallclock secs ( 0.03 usr  0.00 sys +  1.06 cusr  0.06 csys =  1.15 CPU)
Result: PASS

------------------------------
PREREQUISITES
------------------------------

Prerequisite modules loaded:

requires:

    Module                       Need  Have    
    ---------------------------- ----- --------
    Carp                         0     1.36    
    File::NFSLock                0     1.27    
    File::Spec                   0     3.47    
    File::Temp                   0     0.2304  
    Moose                        0     2.1405  
    Moose::Util::TypeConstraints 0     2.1405  
    MooseX::Types::Path::Class   0     0.06    
    namespace::autoclean         0.08  0.22    
    Path::Class                  0     0.35    
    perl                         5.006 5.016000
    strict                       0     1.07    
    Sub::Exporter                0     0.987   
    Test::Builder                0     1.001014
    warnings                     0     1.13    

build_requires:

    Module                       Need  Have    
    ---------------------------- ----- --------
    ExtUtils::MakeMaker          0     7.04    
    File::Path                   2.04  2.09    
    File::Spec                   0     3.47    
    ok                           0     0.16    
    perl                         5.006 5.016000
    Test::More                   0.88  1.001014
    Test::Requires               0     0.08    

configure_requires:

    Module                       Need  Have    
    ---------------------------- ----- --------
    Module::Build::Tiny          0.039 0.039   
    perl                         5.006 5.016000


------------------------------
ENVIRONMENT AND OTHER CONTEXT
------------------------------

Environment variables:

    LANG = en_US.UTF-8
    LC_CTYPE = en_US.UTF-8
    PATH = /home/andy/perl5/perlbrew/bin:/home/andy/perl5/perlbrew/perls/perl-5.16.0/bin:/home/andy/Dropbox/bin:/opt/ffmpeg/bin:/home/andy/bin/Linux:/usr/local/sbin:/usr/local/bin:/home/andy/bin:/home/andy/.linuxbrew/bin:/usr/bin:/bin:/usr/local/games:/usr/games:/usr/sbin:/sbin
    PERL5LIB = 
    PERL5OPT = 
    PERL5_CPANPLUS_IS_RUNNING = 11858
    PERL5_CPAN_IS_RUNNING = 11858
    PERLBREW_BASHRC_VERSION = 0.61
    PERLBREW_HOME = /home/andy/.perlbrew
    PERLBREW_MANPATH = /home/andy/perl5/perlbrew/perls/perl-5.16.0/man
    PERLBREW_PATH = /home/andy/perl5/perlbrew/bin:/home/andy/perl5/perlbrew/perls/perl-5.16.0/bin
    PERLBREW_PERL = perl-5.16.0
    PERLBREW_ROOT = /home/andy/perl5/perlbrew
    PERLBREW_VERSION = 0.61
    SHELL = /bin/bash
    TERM = xterm-256color

Perl special variables (and OS-specific diagnostics, for MSWin32):

    $^X = /opt/data/home/andy/perl5/perlbrew/perls/perl-5.16.0/bin/perl
    $UID/$EUID = 1000 / 1000
    $GID = 50 4 33 50 1000 1012
    $EGID = 50 4 33 50 1000 1012

Perl module toolchain versions installed:

    Module              Have    
    ------------------- --------
    CPAN                2.10    
    CPAN::Meta          2.150005
    Cwd                 3.47    
    ExtUtils::CBuilder  0.280223
    ExtUtils::Command   1.20    
    ExtUtils::Install   2.04    
    ExtUtils::MakeMaker 7.04    
    ExtUtils::Manifest  1.70    
    ExtUtils::ParseXS   3.24    
    File::Spec          3.47    
    JSON                2.90    
    JSON::PP            2.27300 
    Module::Build       0.4214  
    Module::Signature   0.79    
    Parse::CPAN::Meta   1.4417  
    Test::Harness       3.35    
    Test::More          1.001014
    YAML                1.13    
    YAML::Syck          1.27    
    version             0.9909  


--

Summary of my perl5 (revision 5 version 16 subversion 0) configuration:
   
  Platform:
    osname=linux, osvers=3.2.0-3-amd64, archname=x86_64-linux
    uname='linux igloo 3.2.0-3-amd64 #1 smp thu jun 28 09:07:26 utc 2012 x86_64 gnulinux '
    config_args='-de -Dprefix=/home/andy/perl5/perlbrew/perls/perl-5.16.0 -Aeval:scriptdir=/home/andy/perl5/perlbrew/perls/perl-5.16.0/bin'
    hint=recommended, useposix=true, d_sigaction=define
    useithreads=undef, usemultiplicity=undef
    useperlio=define, d_sfio=undef, uselargefiles=define, usesocks=undef
    use64bitint=define, use64bitall=define, uselongdouble=undef
    usemymalloc=n, bincompat5005=undef
  Compiler:
    cc='cc', ccflags ='-fno-strict-aliasing -pipe -fstack-protector -I/usr/local/include -D_LARGEFILE_SOURCE -D_FILE_OFFSET_BITS=64',
    optimize='-O2',
    cppflags='-fno-strict-aliasing -pipe -fstack-protector -I/usr/local/include'
    ccversion='', gccversion='4.7.1', gccosandvers=''
    intsize=4, longsize=8, ptrsize=8, doublesize=8, byteorder=12345678
    d_longlong=define, longlongsize=8, d_longdbl=define, longdblsize=16
    ivtype='long', ivsize=8, nvtype='double', nvsize=8, Off_t='off_t', lseeksize=8
    alignbytes=8, prototype=define
  Linker and Libraries:
    ld='cc', ldflags =' -fstack-protector -L/usr/local/lib'
    libpth=/usr/local/lib /lib/x86_64-linux-gnu /lib/../lib /usr/lib/x86_64-linux-gnu /usr/lib/../lib /lib /usr/lib
    libs=-lnsl -ldl -lm -lcrypt -lutil -lc
    perllibs=-lnsl -ldl -lm -lcrypt -lutil -lc
    libc=, so=so, useshrplib=false, libperl=libperl.a
    gnulibc_version='2.13'
  Dynamic Linking:
    dlsrc=dl_dlopen.xs, dlext=so, d_dlsymun=undef, ccdlflags='-Wl,-E'
    cccdlflags='-fPIC', lddlflags='-shared -O2 -L/usr/local/lib -fstack-protector'


Characteristics of this binary (from libperl): 
  Compile-time options: HAS_TIMES PERLIO_LAYERS PERL_DONT_CREATE_GVSV
                        PERL_MALLOC_WRAP PERL_PRESERVE_IVUV USE_64_BIT_ALL
                        USE_64_BIT_INT USE_LARGE_FILES USE_LOCALE
                        USE_LOCALE_COLLATE USE_LOCALE_CTYPE
                        USE_LOCALE_NUMERIC USE_PERLIO USE_PERL_ATOF
  Built under linux
  Compiled at Aug 10 2012 17:00:50
  %ENV:
    PERL5LIB=""
    PERL5OPT=""
    PERL5_CPANPLUS_IS_RUNNING="11858"
    PERL5_CPAN_IS_RUNNING="11858"
    PERLBREW_BASHRC_VERSION="0.61"
    PERLBREW_HOME="/home/andy/.perlbrew"
    PERLBREW_MANPATH="/home/andy/perl5/perlbrew/perls/perl-5.16.0/man"
    PERLBREW_PATH="/home/andy/perl5/perlbrew/bin:/home/andy/perl5/perlbrew/perls/perl-5.16.0/bin"
    PERLBREW_PERL="perl-5.16.0"
    PERLBREW_ROOT="/home/andy/perl5/perlbrew"
    PERLBREW_VERSION="0.61"
  @INC:
    /home/andy/perl5/perlbrew/perls/perl-5.16.0/lib/site_perl/5.16.0/x86_64-linux
    /home/andy/perl5/perlbrew/perls/perl-5.16.0/lib/site_perl/5.16.0
    /home/andy/perl5/perlbrew/perls/perl-5.16.0/lib/5.16.0/x86_64-linux
    /home/andy/perl5/perlbrew/perls/perl-5.16.0/lib/5.16.0
    .