HiD v1.992 Perl 5 v5.22.4 x86_64-linux

Status
Pass
From
Slaven Rezić (SREZIC)
Dist
HiD v1.992
Platform
Perl 5 v5.22.4 x86_64-linux
Date
2018-05-14 23:44:02
ID
ae88fcdc-57d0-11e8-9a19-903523ea3179
This distribution has been tested as part of the CPAN Testers
project, supporting the Perl programming language.  See
http://wiki.cpantesters.org/ for more information or email
questions to cpan-testers-discuss@perl.org


--
Dear John SJ Anderson,

This is a computer-generated report for HiD-1.992
on perl 5.22.4, created by CPAN-Reporter-1.2018.

Thank you for uploading your work to CPAN.  Congratulations!
All tests were successful.

Sections of this report:

    * Tester comments
    * Program output
    * Prerequisites
    * Environment and other context

------------------------------
TESTER COMMENTS
------------------------------

Additional comments from tester:

none provided

------------------------------
PROGRAM OUTPUT
------------------------------

Output from '/usr/bin/make test':

PERL_DL_NONLAZY=1 "/bbbike/perl-5.22.4/bin/perl" "-MExtUtils::Command::MM" "-MTest::Harness" "-e" "undef *Test::Harness::Switches; test_harness(0, 'blib/lib', 'blib/arch')" t/*.t
t/00-compile.t ........... ok
t/author-eol.t ........... skipped: these tests are for testing by the author
t/author-pod-coverage.t .. skipped: these tests are for testing by the author
t/author-pod-syntax.t .... skipped: these tests are for testing by the author
t/cmd-config.t ........... ok
t/cmd-help.t ............. ok
t/cmd-init.t ............. ok
# Testing in /var/tmp/cpansmoker-1023/2018051421/ei2yCsXrwT
t/cmd-publish.t .......... ok
t/config.t ............... ok
t/file.t ................. ok
t/hid-server.t ........... ok
[2018/05/14 23:43:16]  WARN Skipping _posts/2008-02-02-not-published.textile because 'published' flag is false
[2018/05/14 23:43:16] ERROR ERROR: Post failed to build: Died at /tmpfs/.cpan-build-cpansand/2018051421/HiD-1.992-1/blib/lib/HiD/Post.pm line 36.
t/hid.t .................. ok
t/layout.t ............... ok
t/page.t ................. ok
t/post-twitter.t ......... ok
t/post.t ................. ok
All tests successful.

Test Summary Report
-------------------
t/cmd-publish.t        (Wstat: 0 Tests: 76 Failed: 0)
  TODO passed:   72-73
Files=16, Tests=209, 17 wallclock secs ( 0.06 usr  0.05 sys + 14.96 cusr  1.62 csys = 16.69 CPU)
Result: PASS

------------------------------
PREREQUISITES
------------------------------

Prerequisite modules loaded:

requires:

    Module                       Need  Have    
    ---------------------------- ----- --------
    autodie                      0     2.29    
    Carp                         0     1.38    
    charnames                    0     1.43    
    Class::Load                  0     0.24    
    Data::Page                   0     2.02    
    Data::Printer                0.35  0.40    
    Date::Parse                  0     2.30    
    DateTime                     0     1.48    
    feature                      0     1.40    
    File::Copy                   0     2.30    
    File::Find::Rule             0     0.34    
    Log::Log4perl                0     1.49    
    Moose                        0     2.2010  
    Moose::Role                  0     2.2010  
    Moose::Util::TypeConstraints 0     2.2010  
    MooseX::App::Cmd             0     0.32    
    MooseX::App::Cmd::Command    0     0.32    
    MooseX::Getopt               0     0.71    
    namespace::autoclean         0     0.28    
    open                         0     1.10    
    parent                       0     0.236   
    Path::Tiny                   0.054 0.104   
    perl                         5.014 5.022004
    Plack::App::File             0     0       
    Plack::Builder               0     0       
    Plack::Handler::Standalone   0     0       
    Plack::Loader::Restarter     0     0       
    Plack::Runner                0     0       
    strict                       0     1.09    
    String::Errf                 0     0.008   
    Template                     0     2.27    
    Text::Handlebars             0     0.05    
    Text::Markdown               0     1.000031
    Text::MultiMarkdown          0     1.000035
    Text::Textile                0     2.13    
    Text::Xslate                 0     v3.5.5  
    Try::Tiny                    0     0.30    
    utf8                         0     1.17    
    warnings                     0     1.34    
    XML::Feed                    0     0.53    
    XML::Feed::Entry             0     0.53    
    YAML::Tiny                   0     1.70    
    YAML::XS                     0     0.69    

build_requires:

    Module                       Need  Have    
    ---------------------------- ----- --------
    App::Cmd::Tester             0     0.331   
    Exporter                     0     5.72    
    ExtUtils::MakeMaker          0     7.34    
    File::Spec                   0     3.74    
    FindBin                      0     1.51    
    HTTP::Request::Common        0     6.14    
    IO::Handle                   0     1.39    
    IPC::Open3                   0     1.18    
    lib                          0     0.63    
    Plack::Test                  0     0       
    Test::File                   0     1.443   
    Test::File::Contents         0     0.23    
    Test::More                   0     1.302136
    Test::Routine                0     0.025   
    Test::Routine::Util          0     0.025   
    Test::Warn                   0     0.32    

configure_requires:

    Module                       Need  Have    
    ---------------------------- ----- --------
    ExtUtils::MakeMaker          0     7.34    
    perl                         5.014 5.022004


------------------------------
ENVIRONMENT AND OTHER CONTEXT
------------------------------

Environment variables:

    LANG = C
    LC_ALL = de_DE.UTF-8
    PATH = /usr/local/bin:/usr/bin:/bin:/usr/local/sbin:/usr/sbin:/sbin:/home/cpansand/bin/linux-gnu:/home/cpansand/bin/sh:/home/cpansand/bin:/usr/games:/home/cpansand/devel:/home/eserte/src/srezic-misc/scripts
    PERL5LIB = 
    PERL5OPT = 
    PERL5_CPANPLUS_IS_RUNNING = 9815
    PERL5_CPAN_IS_RUNNING = 9815
    PERL5_CPAN_IS_RUNNING_IN_RECURSION = 9284,9815
    PERLDOC = -MPod::Perldoc::ToTextOverstrike
    PERL_BATCH = yes
    PERL_CANARY_STABILITY_NOPROMPT = 1
    PERL_CPAN_REPORTER_CONFIG = /var/tmp/cpansmoker-1023/2018051421/cpanreporter_000_config.ini
    PERL_EXTUTILS_AUTOINSTALL = --defaultdeps
    PERL_PARALLEL_SMOKER = yes
    PERL_USE_UNSAFE_INC = 1
    SHELL = /bin/zsh
    TERM = screen
    TMPDIR = /var/tmp/cpansmoker-1023/2018051421

Perl special variables (and OS-specific diagnostics, for MSWin32):

    $^X = /bbbike/perl-5.22.4/bin/perl
    $UID/$EUID = 1023 / 1023
    $GID = 1023 1023
    $EGID = 1023 1023

Perl module toolchain versions installed:

    Module              Have    
    ------------------- --------
    CPAN                2.16    
    CPAN::Meta          2.150010
    Cwd                 3.74    
    ExtUtils::CBuilder  0.280230
    ExtUtils::Command   7.34    
    ExtUtils::Install   2.06    
    ExtUtils::MakeMaker 7.34    
    ExtUtils::Manifest  1.70    
    ExtUtils::ParseXS   3.35    
    File::Spec          3.74    
    JSON                2.97001 
    JSON::PP            2.96    
    Module::Build       0.4224  
    Module::Signature   0.81    
    Parse::CPAN::Meta   2.150010
    Test::Harness       3.42    
    Test::More          1.302136
    YAML                1.24    
    YAML::Syck          1.30    
    version             0.9918  


--

Summary of my perl5 (revision 5 version 22 subversion 4) configuration:
   
  Platform:
    osname=linux, osvers=3.16.0-4-amd64, archname=x86_64-linux
    uname='linux eserte 3.16.0-4-amd64 #1 smp debian 3.16.43-2+deb8u2 (2017-06-26) x86_64 gnulinux '
    config_args='-ds -e -Dprefix=/opt/perl-5.22.4 -Dcf_email=srezic@cpan.org'
    hint=recommended, useposix=true, d_sigaction=define
    useithreads=undef, usemultiplicity=undef
    use64bitint=define, use64bitall=define, uselongdouble=undef
    usemymalloc=n, bincompat5005=undef
  Compiler:
    cc='cc', ccflags ='-fwrapv -fno-strict-aliasing -pipe -fstack-protector-strong -I/usr/local/include -D_LARGEFILE_SOURCE -D_FILE_OFFSET_BITS=64 -D_FORTIFY_SOURCE=2',
    optimize='-O2',
    cppflags='-fwrapv -fno-strict-aliasing -pipe -fstack-protector-strong -I/usr/local/include'
    ccversion='', gccversion='4.9.2', gccosandvers=''
    intsize=4, longsize=8, ptrsize=8, doublesize=8, byteorder=12345678, doublekind=3
    d_longlong=define, longlongsize=8, d_longdbl=define, longdblsize=16, longdblkind=3
    ivtype='long', ivsize=8, nvtype='double', nvsize=8, Off_t='off_t', lseeksize=8
    alignbytes=8, prototype=define
  Linker and Libraries:
    ld='cc', ldflags =' -fstack-protector-strong -L/usr/local/lib'
    libpth=/usr/local/lib /usr/lib/gcc/x86_64-linux-gnu/4.9/include-fixed /usr/include/x86_64-linux-gnu /usr/lib /lib/x86_64-linux-gnu /lib/../lib /usr/lib/x86_64-linux-gnu /usr/lib/../lib /lib
    libs=-lpthread -lnsl -lgdbm -ldb -ldl -lm -lcrypt -lutil -lc -lgdbm_compat
    perllibs=-lpthread -lnsl -ldl -lm -lcrypt -lutil -lc
    libc=libc-2.19.so, so=so, useshrplib=false, libperl=libperl.a
    gnulibc_version='2.19'
  Dynamic Linking:
    dlsrc=dl_dlopen.xs, dlext=so, d_dlsymun=undef, ccdlflags='-Wl,-E'
    cccdlflags='-fPIC', lddlflags='-shared -O2 -L/usr/local/lib -fstack-protector-strong'


Characteristics of this binary (from libperl): 
  Compile-time options: HAS_TIMES PERLIO_LAYERS PERL_DONT_CREATE_GVSV
                        PERL_HASH_FUNC_ONE_AT_A_TIME_HARD PERL_MALLOC_WRAP
                        PERL_NEW_COPY_ON_WRITE PERL_PRESERVE_IVUV
                        USE_64_BIT_ALL USE_64_BIT_INT USE_LARGE_FILES
                        USE_LOCALE USE_LOCALE_COLLATE USE_LOCALE_CTYPE
                        USE_LOCALE_NUMERIC USE_LOCALE_TIME USE_PERLIO
                        USE_PERL_ATOF
  Built under linux
  Compiled at Jul 15 2017 19:41:58
  %ENV:
    PERL5LIB=""
    PERL5OPT=""
    PERL5_CPANPLUS_IS_RUNNING="9815"
    PERL5_CPAN_IS_RUNNING="9815"
    PERL5_CPAN_IS_RUNNING_IN_RECURSION="9284,9815"
    PERLDOC="-MPod::Perldoc::ToTextOverstrike"
    PERL_BATCH="yes"
    PERL_CANARY_STABILITY_NOPROMPT="1"
    PERL_CPAN_REPORTER_CONFIG="/var/tmp/cpansmoker-1023/2018051421/cpanreporter_000_config.ini"
    PERL_EXTUTILS_AUTOINSTALL="--defaultdeps"
    PERL_PARALLEL_SMOKER="yes"
    PERL_USE_UNSAFE_INC="1"
  @INC:
    /opt/perl-5.22.4/lib/site_perl/5.22.4/x86_64-linux
    /opt/perl-5.22.4/lib/site_perl/5.22.4
    /opt/perl-5.22.4/lib/5.22.4/x86_64-linux
    /opt/perl-5.22.4/lib/5.22.4
    .