App-PMUtils v0.745 Perl 5 v5.36.0 x86_64-linux
- Status
- Pass
- From
- Slaven Rezić
- Dist
-
App-PMUtils v0.745
- Platform
- Perl 5 v5.36.0 x86_64-linux
- Date
- 2024-09-05 05:21:18
- ID
- ae68f9c4-6b46-11ef-98b0-b1006e8775ea
This distribution has been tested as part of the CPAN Testers
project, supporting the Perl programming language. See
http://wiki.cpantesters.org/ for more information or email
questions to cpan-testers-discuss@perl.org
--
Dear perlancar,
This is a computer-generated report for App-PMUtils-0.745
on perl 5.36.0, created by CPAN-Reporter-1.2019.
Thank you for uploading your work to CPAN. Congratulations!
All tests were successful.
Sections of this report:
* Tester comments
* Program output
* Prerequisites
* Environment and other context
------------------------------
TESTER COMMENTS
------------------------------
Additional comments from tester:
none provided
------------------------------
PROGRAM OUTPUT
------------------------------
Output from '/usr/bin/make test':
Skip blib/lib/auto/share/dist/App-PMUtils/cdpm.bash (unchanged)
PERL_DL_NONLAZY=1 "/opt/perl-5.36.0/bin/perl" "-MExtUtils::Command::MM" "-MTest::Harness" "-e" "undef *Test::Harness::Switches; test_harness(0, 'blib/lib', 'blib/arch')" t/*.t
t/00-compile.t ........... ok
t/author-critic.t ........ skipped: these tests are for testing by the author
t/author-pod-coverage.t .. skipped: these tests are for testing by the author
t/author-pod-syntax.t .... skipped: these tests are for testing by the author
t/release-rinci.t ........ skipped: these tests are for release candidate testing
All tests successful.
Files=5, Tests=34, 0 wallclock secs ( 0.04 usr 0.01 sys + 0.65 cusr 0.21 csys = 0.91 CPU)
Result: PASS
------------------------------
PREREQUISITES
------------------------------
Prerequisite modules loaded:
requires:
Module Need Have
---------------------------------------------------------------------------------- -------- ----------
App::ThisDist 0.022 0.023
AppBase::Grep 0.012 0.013
Browser::Open 0 0.04
Complete::Module 0.263 0.263
Config 0 5.036000
Cwd 0 3.84
Data::Sah::Coerce::perl::To_array::From_str_or_array::expand_perl_modname_wildcard 0 0.048
Data::Sah::Compiler::perl::TH::array 0.914 0.917
Data::Sah::Compiler::perl::TH::bool 0.914 0.917
Data::Sah::Compiler::perl::TH::code 0.914 0.917
Data::Sah::Compiler::perl::TH::int 0.914 0.917
Data::Sah::Compiler::perl::TH::re 0.914 0.917
Data::Sah::Compiler::perl::TH::str 0.914 0.917
Data::Sah::Filter::perl::Perl::normalize_perl_modname 0 0.048
Data::Sah::Value::perl::Perl::these_mods 0 0.048
Devel::EndStats 0.210 0.212
Dist::Util 0.070 0.071
experimental 0 0.031
ExtUtils::MakeMaker 0 7.70
File::ShareDir 0 1.118
File::Spec 0 3.84
File::Temp 0.2310 0.2311
File::Util::Tempdir 0.032 0.034
File::Which 0 1.27
HTTP::Tiny 0.057 0.088
IO::Prompt::I18N 0 0.81
IPC::System::Options 0.339 0.340
JSON::MaybeXS 0 1.004005
Log::ger 0.038 0.042
Module::Abstract 0 0.002
Module::CoreList 0 5.20240829
Module::CoreList::More 0 0.08
Module::List 0 0.004
Module::List::More 0.004007 0.004011
Module::Load 0 0.36
Module::Path::More 0.32 0.340
Module::XSOrPP 0.08 0.11
Perinci::CmdLine::Any 0.154 0.154
Perinci::CmdLine::Lite 1.924 1.928
Perinci::Sub::DepChecker 0 0.126
Perinci::Sub::Util 0.472 0.472
perl 5.010001 5.036000
Perl::MinimumVersion 0 1.40
Perl::Stripper 0 0.10
PERLANCAR::AppUtil::PerlStripper 0.03 0.03
Sah::Schema::perl::modname 0.035 0.048
Sah::Schema::perl::modnames 0 0.048
Sah::Schema::true 0 0.001
SourceCode::LineCounter::Perl 0 1.022
strict 0 1.12
String::ShellQuote 0 1.04
String::Wildcard::Bash 0.044 0.045
warnings 0 1.58
build_requires:
Module Need Have
---------------------------------------------------------------------------------- -------- ----------
ExtUtils::MakeMaker 0 7.70
File::Spec 0 3.84
IO::Handle 0 1.55
IPC::Open3 0 1.22
Test::More 0 1.302199
configure_requires:
Module Need Have
---------------------------------------------------------------------------------- -------- ----------
ExtUtils::MakeMaker 0 7.70
File::ShareDir::Install 0.06 0.14
------------------------------
ENVIRONMENT AND OTHER CONTEXT
------------------------------
Environment variables:
LANG = en_US.UTF-8
PATH = /usr/local/bin:/usr/bin:/bin:/usr/local/sbin:/usr/sbin:/sbin:/home/cpansand/bin/linux-gnu:/home/cpansand/bin/sh:/home/cpansand/bin:/usr/games:/home/cpansand/devel:/home/eserte/src/srezic-misc/scripts
PERL5LIB = /home/cpansand/.local/share/.cpan/build/2024090500/Perl-Stripper-0.10-1/blib/arch:/home/cpansand/.local/share/.cpan/build/2024090500/Perl-Stripper-0.10-1/blib/lib:/home/cpansand/.local/share/.cpan/build/2024090500/Devel-EndStats-0.212-1/blib/arch:/home/cpansand/.local/share/.cpan/build/2024090500/Devel-EndStats-0.212-1/blib/lib:/home/cpansand/.local/share/.cpan/build/2024090500/AppBase-Grep-0.013-0/blib/arch:/home/cpansand/.local/share/.cpan/build/2024090500/AppBase-Grep-0.013-0/blib/lib
PERL5OPT =
PERL5_CPANPLUS_IS_RUNNING = 2301167
PERL5_CPAN_IS_RUNNING = 2301167
PERL5_CPAN_IS_RUNNING_IN_RECURSION = 2300277,2301167
PERLDOC = -MPod::Perldoc::ToTextOverstrike
PERL_BATCH = yes
PERL_CANARY_STABILITY_NOPROMPT = 1
PERL_CPAN_REPORTER_CONFIG = /var/tmp/cpansmoker-1023/2024090500/cpanreporter_000_config.ini
PERL_EXTUTILS_AUTOINSTALL = --defaultdeps
PERL_USE_UNSAFE_INC = 1
SHELL = /usr/bin/zsh
TERM = screen
TMPDIR = /var/tmp/cpansmoker-1023/2024090500
Perl special variables (and OS-specific diagnostics, for MSWin32):
$^X = /opt/perl-5.36.0/bin/perl
$UID/$EUID = 1023 / 1023
$GID = 1023 1023
$EGID = 1023 1023
Perl module toolchain versions installed:
Module Have
------------------- --------
CPAN 2.37
CPAN::Meta 2.150010
Cwd 3.84
ExtUtils::CBuilder 0.280236
ExtUtils::Command 7.70
ExtUtils::Install 2.22
ExtUtils::MakeMaker 7.70
ExtUtils::Manifest 1.75
ExtUtils::ParseXS 3.51
File::Spec 3.84
JSON 4.10
JSON::PP 4.16
Module::Build 0.4234
Module::Signature 0.88
Parse::CPAN::Meta 2.150010
Test2 1.302199
Test::Harness 3.48
Test::More 1.302199
YAML 1.31
YAML::Syck 1.34
version 0.9929
--
Summary of my perl5 (revision 5 version 36 subversion 0) configuration:
Platform:
osname=linux
osvers=5.15.0-56-generic
archname=x86_64-linux
uname='linux cloud14.bbbike.org 5.15.0-56-generic #62-ubuntu smp tue nov 22 19:54:14 utc 2022 x86_64 x86_64 x86_64 gnulinux '
config_args='-ds -e -Dprefix=/opt/perl-5.36.0 -Dcf_email=srezic@cpan.org'
hint=recommended
useposix=true
d_sigaction=define
useithreads=undef
usemultiplicity=undef
use64bitint=define
use64bitall=define
uselongdouble=undef
usemymalloc=n
default_inc_excludes_dot=define
Compiler:
cc='cc'
ccflags ='-fwrapv -fno-strict-aliasing -pipe -fstack-protector-strong -I/usr/local/include -D_LARGEFILE_SOURCE -D_FILE_OFFSET_BITS=64'
optimize='-O2'
cppflags='-fwrapv -fno-strict-aliasing -pipe -fstack-protector-strong -I/usr/local/include'
ccversion=''
gccversion='11.3.0'
gccosandvers=''
intsize=4
longsize=8
ptrsize=8
doublesize=8
byteorder=12345678
doublekind=3
d_longlong=define
longlongsize=8
d_longdbl=define
longdblsize=16
longdblkind=3
ivtype='long'
ivsize=8
nvtype='double'
nvsize=8
Off_t='off_t'
lseeksize=8
alignbytes=8
prototype=define
Linker and Libraries:
ld='cc'
ldflags =' -fstack-protector-strong -L/usr/local/lib'
libpth=/usr/local/lib /usr/lib/x86_64-linux-gnu /usr/lib /usr/lib64
libs=-lpthread -lnsl -lgdbm -ldb -ldl -lm -lcrypt -lutil -lc
perllibs=-lpthread -lnsl -ldl -lm -lcrypt -lutil -lc
libc=/lib/x86_64-linux-gnu/libc.so.6
so=so
useshrplib=false
libperl=libperl.a
gnulibc_version='2.35'
Dynamic Linking:
dlsrc=dl_dlopen.xs
dlext=so
d_dlsymun=undef
ccdlflags='-Wl,-E'
cccdlflags='-fPIC'
lddlflags='-shared -O2 -L/usr/local/lib -fstack-protector-strong'
Characteristics of this binary (from libperl):
Compile-time options:
HAS_TIMES
PERLIO_LAYERS
PERL_COPY_ON_WRITE
PERL_DONT_CREATE_GVSV
PERL_MALLOC_WRAP
PERL_OP_PARENT
PERL_PRESERVE_IVUV
USE_64_BIT_ALL
USE_64_BIT_INT
USE_LARGE_FILES
USE_LOCALE
USE_LOCALE_COLLATE
USE_LOCALE_CTYPE
USE_LOCALE_NUMERIC
USE_LOCALE_TIME
USE_PERLIO
USE_PERL_ATOF
Built under linux
Compiled at Dec 18 2022 14:30:04
%ENV:
PERL5LIB="/home/cpansand/.local/share/.cpan/build/2024090500/Perl-Stripper-0.10-1/blib/arch:/home/cpansand/.local/share/.cpan/build/2024090500/Perl-Stripper-0.10-1/blib/lib:/home/cpansand/.local/share/.cpan/build/2024090500/Devel-EndStats-0.212-1/blib/arch:/home/cpansand/.local/share/.cpan/build/2024090500/Devel-EndStats-0.212-1/blib/lib:/home/cpansand/.local/share/.cpan/build/2024090500/AppBase-Grep-0.013-0/blib/arch:/home/cpansand/.local/share/.cpan/build/2024090500/AppBase-Grep-0.013-0/blib/lib"
PERL5OPT=""
PERL5_CPANPLUS_IS_RUNNING="2301167"
PERL5_CPAN_IS_RUNNING="2301167"
PERL5_CPAN_IS_RUNNING_IN_RECURSION="2300277,2301167"
PERLDOC="-MPod::Perldoc::ToTextOverstrike"
PERL_BATCH="yes"
PERL_CANARY_STABILITY_NOPROMPT="1"
PERL_CPAN_REPORTER_CONFIG="/var/tmp/cpansmoker-1023/2024090500/cpanreporter_000_config.ini"
PERL_EXTUTILS_AUTOINSTALL="--defaultdeps"
PERL_USE_UNSAFE_INC="1"
@INC:
/home/cpansand/.local/share/.cpan/build/2024090500/Perl-Stripper-0.10-1/blib/arch
/home/cpansand/.local/share/.cpan/build/2024090500/Perl-Stripper-0.10-1/blib/lib
/home/cpansand/.local/share/.cpan/build/2024090500/Devel-EndStats-0.212-1/blib/arch
/home/cpansand/.local/share/.cpan/build/2024090500/Devel-EndStats-0.212-1/blib/lib
/home/cpansand/.local/share/.cpan/build/2024090500/AppBase-Grep-0.013-0/blib/arch
/home/cpansand/.local/share/.cpan/build/2024090500/AppBase-Grep-0.013-0/blib/lib
/opt/perl-5.36.0/lib/site_perl/5.36.0/x86_64-linux
/opt/perl-5.36.0/lib/site_perl/5.36.0
/opt/perl-5.36.0/lib/5.36.0/x86_64-linux
/opt/perl-5.36.0/lib/5.36.0
.