Test-BrewBuild v2.22 Perl 5 v5.14.4 x86_64-linux-thread-multi

Status
Pass
From
David Cantrell (DCANTRELL)
Dist
Test-BrewBuild v2.22
Platform
Perl 5 v5.14.4 x86_64-linux-thread-multi
Date
2019-10-21 21:21:00
ID
ae36c23a-f448-11e9-b4b4-f620052d0de1
This distribution has been tested as part of the CPAN Testers
project, supporting the Perl programming language.  See
http://wiki.cpantesters.org/ for more information or email
questions to cpan-testers-discuss@perl.org


--
Dear Steve Bertrand,

This is a computer-generated report for Test-BrewBuild-2.22
on perl 5.14.4, created by CPAN-Reporter-1.2018.

Thank you for uploading your work to CPAN.  Congratulations!
All tests were successful.

Sections of this report:

    * Tester comments
    * Program output
    * Prerequisites
    * Environment and other context

------------------------------
TESTER COMMENTS
------------------------------

Additional comments from tester:

this report is from an automated smoke testing program
and was not reviewed by a human for accuracy

------------------------------
PROGRAM OUTPUT
------------------------------

Output from '/usr/bin/make test':

PERL_DL_NONLAZY=1 "/home/david/cpantesting/perl-5.14.4/bin/perl" "-MExtUtils::Command::MM" "-MTest::Harness" "-e" "undef *Test::Harness::Switches; test_harness(0, 'blib/lib', 'blib/arch')" t/*.t t/*/*.t
t/00-00-load.t ...................................... ok
t/test_api/00-api-BB_plugins.t ...................... ok
t/test_api/05-api-BB_brew_info.t .................... skipped: perlbrew not installed... skipping
t/test_api/10-api-BB_perls_avaliable.t .............. skipped: perlbrew not installed... skipping
t/test_api/100-api-BB_install_all.t ................. skipped: developer tests only
t/test_api/105-re.t ................................. ok
t/test_api/15-api-BB_is_win.t ....................... skipped: developer tests only
t/test_api/20-api-BB_perls_installed.t .............. skipped: perlbrew not installed... skipping
t/test_api/25-api-BB_log.t .......................... skipped: perlbrew not installed... skipping
t/test_api/30-api-BC.t .............................. skipped: developer tests only
t/test_api/35-api-BB_instance_remove.t .............. ok
t/test_api/40-api-BB_instance_install.t ............. skipped: developer tests only
t/test_api/45-api-TestPluginInst.t .................. ok
t/test_api/50-api-BC_using.t ........................ skipped: developer tests only
t/test_api/55-api-BB_workdir.t ...................... ok
t/test_api/60-api-Git.t ............................. skipped: developer tests only
t/test_api/65-api-Dispatch_forks.t .................. ok
t/test_api/70-api-BB_legacy.t ....................... ok
t/test_api/75-api-Tester.t .......................... skipped: developer tests only
t/test_api/80-api-BB_install_timeout.t .............. skipped: developer tests only
t/test_api/85-api-BB_inst_rand_dups.t ............... ok
t/test_api/90-api-BB_inst_release_candidates.t ...... skipped: developer tests only
t/test_api/95-api-BB_revdep_with_metacpan_client.t .. skipped: developer only test
t/test_author/99-manifest.t ......................... skipped: Author tests not required for installation
t/test_author/99-pod-coverage.t ..................... skipped: Author tests not required for installation
t/test_author/99-pod.t .............................. skipped: Author tests not required for installation
t/test_bugs/142-tester_handle_non_repo.t ............ skipped: developer tests only
t/test_bugs/164_dispatch_show_help_on_bad_args.t .... skipped: developer tests only
t/test_config/05-tester-config.t .................... skipped: developer tests only
t/test_config/10-brewbuild-config.t ................. ok
t/test_dispatch/05-dispatch-bad_command.t ........... skipped: developer tests only
t/test_dispatch/10-dispatch-revdep_pass.t ........... skipped: developer tests only
t/test_dispatch/15-dispatch-fail.t .................. skipped: developer tests only
t/test_dispatch/25-dispatch-default_port.t .......... skipped: developer tests only
t/test_dispatch/30-dispatch-notest.t ................ skipped: developer tests only
t/test_dispatch/40-dispatch-install.t ............... skipped: developer tests only
t/test_dispatch/45-dispatch-new.t ................... skipped: developer tests only
t/test_log/05-log-revdep_global_full_verbose.t ...... skipped: developer tests only
t/test_log/10-log-revdep_save_log_files.t ........... skipped: developer tests only
t/test_log/15-log-Tester.t .......................... skipped: developer tests only
t/test_log/20-log-Dispatch.t ........................ skipped: developer tests only
t/test_log/25-log-test_global_full_verbose.t ........ skipped: developer tests only
t/test_log/30-Git.t ................................. skipped: developer tests only
t/z_clean.t ......................................... ok
All tests successful.
Files=44, Tests=64, 54 wallclock secs ( 0.12 usr  0.03 sys +  5.97 cusr  0.69 csys =  6.81 CPU)
Result: PASS

------------------------------
PREREQUISITES
------------------------------

Prerequisite modules loaded:

requires:

    Module                               Need  Have    
    ------------------------------------ ----- --------
    App::cpanminus                       0     1.7044  
    Archive::Extract                     0     0.48    
    Capture::Tiny                        0     0.48    
    Config::Tiny                         0     2.23    
    File::Copy::Recursive                0     0.44    
    Logging::Simple                      1.04  1.04    
    LWP::Simple                          0     6.39    
    MetaCPAN::Client                     2.017 2.026000
    Module::Load                         0     0.34    
    Parallel::ForkManager                0     2.02    
    perl                                 5.01  5.014004
    Plugin::Simple                       1.01  1.01    
    POSIX                                0     1.24    
    Proc::Background                     0     1.10    
    Test::BrewBuild::Plugin::Author      0.02  0.03    
    Test::BrewBuild::Plugin::TestAgainst 0.06  0.06    
    version                              0     0.88    

build_requires:

    Module                               Need  Have    
    ------------------------------------ ----- --------
    Archive::Zip                         0     1.67    
    Mock::Sub                            1.07  1.09    

configure_requires:

    Module                               Need  Have    
    ------------------------------------ ----- --------
    ExtUtils::MakeMaker                  0     7.34    


------------------------------
ENVIRONMENT AND OTHER CONTEXT
------------------------------

Environment variables:

    AUTOMATED_TESTING = 1
    LANG = en_US.UTF-8
    NONINTERACTIVE_TESTING = 1
    PATH = /usr/local/bin:/usr/bin:/bin:/usr/local/games:/usr/games
    PERL = 5.14.4
    PERL5LIB = 
    PERL5OPT = 
    PERL5_CPANPLUS_IS_RUNNING = 7483
    PERL5_CPAN_IS_RUNNING = 7483
    PERLVER = 5.14.4
    PERL_INLINE_DIRECTORY = /home/david/.Inline-5.14.4
    PERL_MM_USE_DEFAULT = 1
    PERL_USE_UNSAFE_INC = 0
    SHELL = /bin/bash
    TERM = screen

Perl special variables (and OS-specific diagnostics, for MSWin32):

    $^X = /home/david/cpantesting/perl-5.14.4/bin/perl
    $UID/$EUID = 1000 / 1000
    $GID = 1000 27 1000
    $EGID = 1000 27 1000

Perl module toolchain versions installed:

    Module              Have     
    ------------------- ---------
    CPAN                1.9600_01
    CPAN::Meta          2.143240 
    Cwd                 3.36     
    ExtUtils::CBuilder  0.280203 
    ExtUtils::Command   7.34     
    ExtUtils::Install   2.06     
    ExtUtils::MakeMaker 7.34     
    ExtUtils::Manifest  1.70     
    ExtUtils::ParseXS   3.35     
    File::Spec          3.33     
    JSON                4.02     
    JSON::PP            4.02     
    Module::Build       0.4229   
    Module::Signature   n/a      
    Parse::CPAN::Meta   1.4414   
    Test::Harness       3.42     
    Test::More          1.302162 
    YAML                n/a      
    YAML::Syck          n/a      
    version             0.88     


--

Summary of my perl5 (revision 5 version 14 subversion 4) configuration:
   
  Platform:
    osname=linux, osvers=4.9.0-8-amd64, archname=x86_64-linux-thread-multi
    uname='linux pigsty 4.9.0-8-amd64 #1 smp debian 4.9.144-3 (2019-02-02) x86_64 gnulinux '
    config_args='-de -Duse64bitall -Dusethreads -Dprefix=/home/david/cpantesting/perl-5.14.4 -A ccflags=-fwrapv'
    hint=previous, useposix=true, d_sigaction=define
    useithreads=define, usemultiplicity=define
    useperlio=define, d_sfio=undef, uselargefiles=define, usesocks=undef
    use64bitint=define, use64bitall=define, uselongdouble=undef
    usemymalloc=n, bincompat5005=undef
  Compiler:
    cc='cc', ccflags ='-D_REENTRANT -D_GNU_SOURCE -fwrapv -fno-strict-aliasing -pipe -fstack-protector -I/usr/local/include -D_LARGEFILE_SOURCE -D_FILE_OFFSET_BITS=64 -fwrapv -fwrapv',
    optimize='-O2',
    cppflags='-D_REENTRANT -D_GNU_SOURCE -fwrapv -fno-strict-aliasing -pipe -fstack-protector -I/usr/local/include -D_REENTRANT -D_GNU_SOURCE -fwrapv -fno-strict-aliasing -pipe -fstack-protector -I/usr/local/include -D_LARGEFILE_SOURCE -D_FILE_OFFSET_BITS=64 -fwrapv -D_REENTRANT -D_GNU_SOURCE -fwrapv -fno-strict-aliasing -pipe -fstack-protector -I/usr/local/include -D_LARGEFILE_SOURCE -D_FILE_OFFSET_BITS=64 -fwrapv -fwrapv'
    ccversion='', gccversion='6.3.0 20170516', gccosandvers=''
    intsize=4, longsize=8, ptrsize=8, doublesize=8, byteorder=12345678
    d_longlong=define, longlongsize=8, d_longdbl=define, longdblsize=16
    ivtype='long', ivsize=8, nvtype='double', nvsize=8, Off_t='off_t', lseeksize=8
    alignbytes=8, prototype=define
  Linker and Libraries:
    ld='cc', ldflags =' -fstack-protector -L/usr/local/lib'
    libpth=/usr/local/lib /lib/x86_64-linux-gnu /lib/../lib /usr/lib/x86_64-linux-gnu /usr/lib/../lib /lib /usr/lib
    libs=-lnsl -ldb -ldl -lm -lcrypt -lutil -lpthread -lc
    perllibs=-lnsl -ldl -lm -lcrypt -lutil -lpthread -lc
    libc=libc-2.24.so, so=so, useshrplib=false, libperl=libperl.a
    gnulibc_version='2.24'
  Dynamic Linking:
    dlsrc=dl_dlopen.xs, dlext=so, d_dlsymun=undef, ccdlflags='-Wl,-E'
    cccdlflags='-fPIC', lddlflags='-shared -O2 -L/usr/local/lib -fstack-protector'


Characteristics of this binary (from libperl): 
  Compile-time options: MULTIPLICITY PERL_DONT_CREATE_GVSV
                        PERL_IMPLICIT_CONTEXT PERL_MALLOC_WRAP
                        PERL_PRESERVE_IVUV USE_64_BIT_ALL USE_64_BIT_INT
                        USE_ITHREADS USE_LARGE_FILES USE_PERLIO USE_PERL_ATOF
                        USE_REENTRANT_API
  Locally applied patches:
	Devel::PatchPerl 1.56
  Built under linux
  Compiled at Apr 25 2019 22:16:53
  %ENV:
    PERL="5.14.4"
    PERL5LIB=""
    PERL5OPT=""
    PERL5_CPANPLUS_IS_RUNNING="7483"
    PERL5_CPAN_IS_RUNNING="7483"
    PERLVER="5.14.4"
    PERL_INLINE_DIRECTORY="/home/david/.Inline-5.14.4"
    PERL_MM_USE_DEFAULT="1"
    PERL_USE_UNSAFE_INC="0"
  @INC:
    /home/david/cpantesting/perl-5.14.4/lib/site_perl/5.14.4/x86_64-linux-thread-multi
    /home/david/cpantesting/perl-5.14.4/lib/site_perl/5.14.4
    /home/david/cpantesting/perl-5.14.4/lib/5.14.4/x86_64-linux-thread-multi
    /home/david/cpantesting/perl-5.14.4/lib/5.14.4
    .