Archive-Tar-Wrapper v0.33 Perl 5 v5.29.9 amd64-netbsd

Status
Pass
From
Carlos Guevara
Dist
Archive-Tar-Wrapper v0.33
Platform
Perl 5 v5.29.9 amd64-netbsd
Date
2019-03-05 08:42:59
ID
ae2ef57c-3f22-11e9-a58e-2fb908f9bc14
This distribution has been tested as part of the CPAN Testers
project, supporting the Perl programming language.  See
http://wiki.cpantesters.org/ for more information or email
questions to cpan-testers-discuss@perl.org


--
Dear Alceu Rodrigues de Freitas Junior,

This is a computer-generated report for Archive-Tar-Wrapper-0.33
on perl 5.29.9, created by CPAN-Reporter-1.2018.

Thank you for uploading your work to CPAN.  Congratulations!
All tests were successful.

Sections of this report:

    * Tester comments
    * Program output
    * Prerequisites
    * Environment and other context

------------------------------
TESTER COMMENTS
------------------------------

Additional comments from tester:

none provided

------------------------------
PROGRAM OUTPUT
------------------------------

Output from '/usr/bin/make test':

PERL_DL_NONLAZY=1 "/home/cpan/bin/perl-blead/bin/perl5.29.9" "-MExtUtils::Command::MM" "-MTest::Harness" "-e" "undef *Test::Harness::Switches; test_harness(0, 'blib/lib', 'blib/arch')" t/*.t
t/001Basic.t .............. ok
t/002Mult.t ............... ok
t/003Dirs.t ............... ok
t/004Utf8.t ............... ok
t/005Cwd.t ................ ok
t/006DirPerms.t ........... ok
t/007bzip.t ............... ok
# with grep: Ran 1274 iterations (250 outliers).
# with grep: Rounded run time per iteration: 0.000672 +/- 0.000000 (0.1%)
# with grep and compiled regex: Ran 1274 iterations (242 outliers).
# with grep and compiled regex: Rounded run time per iteration: 0.001069 +/- 0.000001 (0.1%)
# with eq: Ran 1337 iterations (326 outliers).
# with eq: Rounded run time per iteration: 0.000522 +/- 0.000000 (0.0%)
# with enhanced eq: Ran 1546 iterations (464 outliers).
# with enhanced eq: Rounded run time per iteration: 0.000471 +/- 0.000000 (0.0%)
# with enhanced eq mark2: Ran 1473 iterations (290 outliers).
# with enhanced eq mark2: Rounded run time per iteration: 0.000343 +/- 0.000000 (0.0%)
# with enhanced eq mark3: Ran 1623 iterations (433 outliers).
# with enhanced eq mark3: Rounded run time per iteration: 0.000256 +/- 0.000000 (0.0%)
# sort and shift: Ran 1337 iterations (321 outliers).
# sort and shift: Rounded run time per iteration: 0.000858 +/- 0.000000 (0.0%)
t/008performance.t ........ ok
# with grep: Ran 1337 iterations (303 outliers).
# with grep: Rounded run time per iteration: 0.000022 +/- 0.000000 (0.0%)
# with grep and compiled regex: Ran 1546 iterations (521 outliers).
# with grep and compiled regex: Rounded run time per iteration: 0.000029 +/- 0.000000 (0.0%)
# with eq: Ran 1473 iterations (223 outliers).
# with eq: Rounded run time per iteration: 0.000018 +/- 0.000000 (0.1%)
# with enhanced eq: Ran 1214 iterations (176 outliers).
# with enhanced eq: Rounded run time per iteration: 0.000018 +/- 0.000000 (0.1%)
# with enhanced eq mark2: Ran 1473 iterations (424 outliers).
# with enhanced eq mark2: Rounded run time per iteration: 0.000018 +/- 0.000000 (0.0%)
# with enhanced eq mark3: Ran 1274 iterations (262 outliers).
# with enhanced eq mark3: Rounded run time per iteration: 0.000018 +/- 0.000000 (0.0%)
# sort and shift: Ran 1157 iterations (124 outliers).
# sort and shift: Rounded run time per iteration: 0.000017 +/- 0.000000 (0.0%)
t/009performance-small.t .. ok
All tests successful.

Test Summary Report
-------------------
t/008performance.t      (Wstat: 0 Tests: 1 Failed: 0)
  TODO passed:   1
t/009performance-small.t (Wstat: 0 Tests: 1 Failed: 0)
  TODO passed:   1
Files=9, Tests=54, 122 wallclock secs ( 0.05 usr  0.04 sys + 118.02 cusr  3.02 csys = 121.13 CPU)
Result: PASS

------------------------------
PREREQUISITES
------------------------------

Prerequisite modules loaded:

requires:

    Module              Need     Have      
    ------------------- -------- ----------
    Cwd                 0        3.77      
    File::Temp          0        0.2309    
    File::Which         0        1.23      
    IPC::Run            0        20180523.0
    Log::Log4perl       0        1.49      
    perl                5.008001 5.029009  

build_requires:

    Module              Need     Have      
    ------------------- -------- ----------
    Dumbbench           0.111    0.111     
    ExtUtils::MakeMaker 0        7.34      
    Test::Simple        1.302073 1.302162  

configure_requires:

    Module              Need     Have      
    ------------------- -------- ----------
    ExtUtils::MakeMaker 0        7.34      
    File::Which         0        1.23      


------------------------------
ENVIRONMENT AND OTHER CONTEXT
------------------------------

Environment variables:

    LC_ALL = C
    NONINTERACTIVE_TESTING = 1
    PATH = /home/cpan/bin/perl-blead/bin:/home/cpan/bin/perl-blead/bin:/home/cpan/bin:/home/cpan/bin:/bin:/sbin:/usr/bin:/usr/sbin:/usr/X11R7/bin:/usr/X11R6/bin:/usr/pkg/bin:/usr/pkg/sbin:/usr/games:/usr/local/bin:/usr/local/sbin
    PERL5LIB = 
    PERL5OPT = 
    PERL5_CPANPLUS_IS_RUNNING = 14687
    PERL5_CPAN_IS_RUNNING = 14687
    PERL_MM_USE_DEFAULT = 1
    PERL_USE_UNSAFE_INC = 1
    PERL_VERSION = blead
    SHELL = /usr/pkg/bin/bash
    TERM = screen
    TMPDIR = /home/cpan/tmp

Perl special variables (and OS-specific diagnostics, for MSWin32):

    $^X = /home/cpan/bin/perl-blead/bin/perl5.29.9
    $UID/$EUID = 1001 / 1001
    $GID = 100 100
    $EGID = 100 100

Perl module toolchain versions installed:

    Module              Have    
    ------------------- --------
    CPAN                2.22    
    CPAN::Meta          2.150010
    Cwd                 3.77    
    ExtUtils::CBuilder  0.280230
    ExtUtils::Command   7.34    
    ExtUtils::Install   2.14    
    ExtUtils::MakeMaker 7.34    
    ExtUtils::Manifest  1.71    
    ExtUtils::ParseXS   3.40    
    File::Spec          3.77    
    JSON                n/a     
    JSON::PP            4.02    
    Module::Build       0.4224  
    Module::Signature   n/a     
    Parse::CPAN::Meta   2.150010
    Test::Harness       3.42    
    Test::More          1.302162
    YAML                n/a     
    YAML::Syck          n/a     
    version             0.9924  


--

Summary of my perl5 (revision 5 version 29 subversion 9) configuration:
  Commit id: 7b738cd3cbe0a18f5963a007744dcc94be038aa7
  Platform:
    osname=netbsd
    osvers=7.2
    archname=amd64-netbsd
    uname='netbsd cjg-netbsd7 7.2 netbsd 7.2 (generic.201808291900z) amd64 '
    config_args='-des -Dprefix=~/bin/perl-blead -Dscriptdir=~/bin/perl-blead/bin -Dusedevel -Duse64bitall'
    hint=recommended
    useposix=true
    d_sigaction=define
    useithreads=undef
    usemultiplicity=undef
    use64bitint=define
    use64bitall=define
    uselongdouble=undef
    usemymalloc=n
    default_inc_excludes_dot=define
    bincompat5005=undef
  Compiler:
    cc='cc'
    ccflags ='-fwrapv -fno-strict-aliasing -pipe -fstack-protector -I/usr/pkg/include -D_FORTIFY_SOURCE=2'
    optimize='-O'
    cppflags='-fwrapv -fno-strict-aliasing -pipe -fstack-protector -I/usr/pkg/include'
    ccversion=''
    gccversion='4.8.5'
    gccosandvers=''
    intsize=4
    longsize=8
    ptrsize=8
    doublesize=8
    byteorder=12345678
    doublekind=3
    d_longlong=define
    longlongsize=8
    d_longdbl=define
    longdblsize=16
    longdblkind=3
    ivtype='long'
    ivsize=8
    nvtype='double'
    nvsize=8
    Off_t='off_t'
    lseeksize=8
    alignbytes=8
    prototype=define
  Linker and Libraries:
    ld='cc'
    ldflags =' -Wl,-rpath,/usr/pkg/lib -Wl,-rpath,/usr/local/lib -fstack-protector -L/usr/pkg/lib'
    libpth=/usr/include/gcc-4.8 /usr/lib /usr/pkg/lib /lib
    libs=-lpthread -lm -lcrypt -lutil -lc -lposix
    perllibs=-lpthread -lm -lcrypt -lutil -lc -lposix
    libc=/lib/libc.so
    so=so
    useshrplib=false
    libperl=libperl.a
    gnulibc_version=''
  Dynamic Linking:
    dlsrc=dl_dlopen.xs
    dlext=so
    d_dlsymun=undef
    ccdlflags='-Wl,-E '
    cccdlflags='-DPIC -fPIC '
    lddlflags='-shared  -L/usr/pkg/lib -fstack-protector'


Characteristics of this binary (from libperl): 
  Compile-time options:
    HAS_TIMES
    PERLIO_LAYERS
    PERL_COPY_ON_WRITE
    PERL_DONT_CREATE_GVSV
    PERL_MALLOC_WRAP
    PERL_OP_PARENT
    PERL_PRESERVE_IVUV
    PERL_USE_DEVEL
    USE_64_BIT_ALL
    USE_64_BIT_INT
    USE_LARGE_FILES
    USE_LOCALE
    USE_LOCALE_COLLATE
    USE_LOCALE_CTYPE
    USE_LOCALE_NUMERIC
    USE_LOCALE_TIME
    USE_PERLIO
    USE_PERL_ATOF
  Built under netbsd
  Compiled at Mar  5 2019 01:53:16
  %ENV:
    PERL5LIB=""
    PERL5OPT=""
    PERL5_CPANPLUS_IS_RUNNING="14687"
    PERL5_CPAN_IS_RUNNING="14687"
    PERL_MM_USE_DEFAULT="1"
    PERL_USE_UNSAFE_INC="1"
    PERL_VERSION="blead"
  @INC:
    /home/cpan/bin/perl-blead/lib/site_perl/5.29.9/amd64-netbsd
    /home/cpan/bin/perl-blead/lib/site_perl/5.29.9
    /home/cpan/bin/perl-blead/lib/5.29.9/amd64-netbsd
    /home/cpan/bin/perl-blead/lib/5.29.9
    .