Net-HTTP-Spore v0.08 Perl 5 v5.22.3 x86_64-linux-ld

Status
Pass
From
Slaven Rezić (SREZIC)
Dist
Net-HTTP-Spore v0.08
Platform
Perl 5 v5.22.3 x86_64-linux-ld
Date
2017-10-27 06:47:20
ID
ae279ae0-bae2-11e7-91ad-e45fcbbfb5b1
This distribution has been tested as part of the CPAN Testers
project, supporting the Perl programming language.  See
http://wiki.cpantesters.org/ for more information or email
questions to cpan-testers-discuss@perl.org


--
Dear Ahmad Fatoum,

This is a computer-generated report for Net-HTTP-Spore-0.08
on perl 5.22.3, created by CPAN-Reporter-1.2018.

Thank you for uploading your work to CPAN.  Congratulations!
All tests were successful.

Sections of this report:

    * Tester comments
    * Program output
    * Prerequisites
    * Environment and other context

------------------------------
TESTER COMMENTS
------------------------------

Additional comments from tester:

none provided

------------------------------
PROGRAM OUTPUT
------------------------------

Output from '/usr/bin/make test':

PERL_DL_NONLAZY=1 "/opt/perl-5.22.3D/bin/perl" "-MExtUtils::Command::MM" "-MTest::Harness" "-e" "undef *Test::Harness::Switches; test_harness(0, 'blib/lib', 'blib/arch')" t/*.t t/spore-method/*.t t/spore-middleware/*.t t/spore-request/*.t t/spore-response/*.t t/spore-role/*.t t/spore/*.t
t/author-eol.t ....................... skipped: these tests are for testing by the author
t/author-no-tabs.t ................... skipped: these tests are for testing by the author
t/author-pod-syntax.t ................ skipped: these tests are for testing by the author
t/spore-method/base.t ................ ok
t/spore-method/payload.t ............. ok
t/spore-middleware/anonymous.t ....... ok
t/spore-middleware/auth-basic.t ...... ok
t/spore-middleware/auth-header.t ..... ok
t/spore-middleware/auth-oauth.t ...... ok
t/spore-middleware/format-auto.t ..... ok
t/spore-middleware/format-json.t ..... ok
t/spore-middleware/format-text.t ..... ok
t/spore-middleware/format-xml.t ...... ok
t/spore-middleware/format-yaml.t ..... ok
t/spore-middleware/ns.t .............. ok
t/spore-middleware/redirection.t ..... ok
t/spore-middleware/runtime.t ......... ok
t/spore-middleware/useragent.t ....... ok
t/spore-middleware/x-do-not-track.t .. ok
t/spore-request/base.t ............... ok
t/spore-request/exception.t .......... ok
t/spore-request/finalize.t ........... ok
t/spore-request/form_data.t .......... ok
t/spore-request/headers.t ............ ok
t/spore-request/new.t ................ ok
t/spore-request/request_uri.t ........ ok
t/spore-request/script_name.t ........ ok
t/spore-request/uri.t ................ ok
t/spore-response/body.t .............. ok
t/spore-response/debug.t ............. ok
t/spore-response/headers.t ........... ok
t/spore-response/new.t ............... ok
t/spore-response/response.t .......... ok
t/spore-response/timeout.t ........... ok
t/spore-role/basic.t ................. ok
t/spore/01_new_from_string.t ......... ok
t/spore/02_enable.t .................. ok
All tests successful.
Files=37, Tests=191, 11 wallclock secs ( 0.08 usr  0.14 sys +  9.07 cusr  1.03 csys = 10.32 CPU)
Result: PASS

------------------------------
PREREQUISITES
------------------------------

Prerequisite modules loaded:

requires:

    Module                       Need Have    
    ---------------------------- ---- --------
    Carp                         0    1.36    
    Class::Load                  0    0.24    
    Digest::SHA                  0    5.95_01 
    Encode                       0    2.72_01 
    HTTP::Headers                0    6.13    
    HTTP::Request                0    6.13    
    IO::All                      0    0.86    
    IO::File                     0    1.16    
    JSON                         0    2.94    
    LWP::UserAgent               0    6.26    
    MIME::Base64                 0    3.15    
    Moose                        0    2.2005  
    Moose::Exporter              0    2.2005  
    Moose::Meta::Method          0    2.2005  
    Moose::Role                  0    2.2005  
    Moose::Util::MetaRole        0    2.2005  
    Moose::Util::TypeConstraints 0    2.2005  
    MooseX::Role::Parameterized  1.01 1.10    
    MooseX::Types                0    0.50    
    MooseX::Types::Moose         0    0.50    
    MooseX::Types::URI           0    0.08    
    overload                     0    1.26    
    Scalar::Util                 0    1.48    
    strict                       0    1.09    
    Time::HiRes                  0    1.9726  
    Try::Tiny                    0    0.28    
    URI                          0    1.71    
    URI::Escape                  0    3.31    
    warnings                     0    1.34    
    XML::Simple                  0    2.24    
    YAML                         0    1.23    

build_requires:

    Module                       Need Have    
    ---------------------------- ---- --------
    base                         0    2.22    
    ExtUtils::MakeMaker          0    7.04_02 
    File::Temp                   0    0.2304  
    Test::Exception              0    0.43    
    Test::Moose                  0    2.2005  
    Test::More                   0    1.302086

configure_requires:

    Module                       Need Have    
    ---------------------------- ---- --------
    ExtUtils::MakeMaker          0    7.04_02 


------------------------------
ENVIRONMENT AND OTHER CONTEXT
------------------------------

Environment variables:

    LANG = C
    PATH = /usr/local/bin:/usr/bin:/bin:/usr/local/sbin:/usr/sbin:/sbin:/home/cpansand/bin/linux-gnu:/home/cpansand/bin/sh:/home/cpansand/bin:/usr/games:/home/cpansand/devel:/home/eserte/src/srezic-misc/scripts
    PERL5LIB = /home/cpansand/.cpan/build/2017102706/MooseX-Types-URI-0.08-RNN6rW/blib/arch:/home/cpansand/.cpan/build/2017102706/MooseX-Types-URI-0.08-RNN6rW/blib/lib:/home/cpansand/.cpan/build/2017102706/MooseX-Types-Path-Class-0.09-PFkpIV/blib/arch:/home/cpansand/.cpan/build/2017102706/MooseX-Types-Path-Class-0.09-PFkpIV/blib/lib:/home/cpansand/.cpan/build/2017102706/URI-FromHash-0.05-S7TZhd/blib/arch:/home/cpansand/.cpan/build/2017102706/URI-FromHash-0.05-S7TZhd/blib/lib
    PERL5OPT = 
    PERL5_CPANPLUS_IS_RUNNING = 12309
    PERL5_CPAN_IS_RUNNING = 12309
    PERL5_CPAN_IS_RUNNING_IN_RECURSION = 12024,12309
    PERLDOC = -MPod::Perldoc::ToTextOverstrike
    PERL_BATCH = yes
    PERL_CANARY_STABILITY_NOPROMPT = 1
    PERL_CPAN_REPORTER_CONFIG = /var/tmp/cpansmoker-1023/2017102706/cpanreporter_000_config.ini
    PERL_EXTUTILS_AUTOINSTALL = --defaultdeps
    SHELL = /usr/bin/zsh
    TERM = screen
    TMPDIR = /var/tmp/cpansmoker-1023/2017102706

Perl special variables (and OS-specific diagnostics, for MSWin32):

    $^X = /opt/perl-5.22.3D/bin/perl
    $UID/$EUID = 1023 / 1023
    $GID = 1023 1023
    $EGID = 1023 1023

Perl module toolchain versions installed:

    Module              Have      
    ------------------- ----------
    CPAN                2.11_01   
    CPAN::Meta          2.150001  
    Cwd                 3.56_02   
    ExtUtils::CBuilder  0.280221  
    ExtUtils::Command   1.20_01   
    ExtUtils::Install   2.04      
    ExtUtils::MakeMaker 7.04_02   
    ExtUtils::Manifest  1.70      
    ExtUtils::ParseXS   3.28      
    File::Spec          3.56_02   
    JSON                2.94      
    JSON::PP            2.27300_01
    Module::Build       0.4224    
    Module::Signature   0.81      
    Parse::CPAN::Meta   1.4414_001
    Test::Harness       3.35_01   
    Test::More          1.302086  
    YAML                1.23      
    YAML::Syck          1.30      
    version             0.9909    


--

Summary of my perl5 (revision 5 version 22 subversion 3) configuration:
   
  Platform:
    osname=linux, osvers=3.16.0-4-amd64, archname=x86_64-linux-ld
    uname='linux debian8 3.16.0-4-amd64 #1 smp debian 3.16.43-2+deb8u1 (2017-06-18) x86_64 gnulinux '
    config_args='-ds -e -Dprefix=/opt/perl-5.22.3D -Duselongdouble -Dcf_email=srezic@cpan.org'
    hint=recommended, useposix=true, d_sigaction=define
    useithreads=undef, usemultiplicity=undef
    use64bitint=define, use64bitall=define, uselongdouble=define
    usemymalloc=n, bincompat5005=undef
  Compiler:
    cc='cc', ccflags ='-fwrapv -fno-strict-aliasing -pipe -fstack-protector-strong -I/usr/local/include -D_LARGEFILE_SOURCE -D_FILE_OFFSET_BITS=64 -D_FORTIFY_SOURCE=2',
    optimize='-O2',
    cppflags='-fwrapv -fno-strict-aliasing -pipe -fstack-protector-strong -I/usr/local/include'
    ccversion='', gccversion='4.9.2', gccosandvers=''
    intsize=4, longsize=8, ptrsize=8, doublesize=8, byteorder=12345678, doublekind=3
    d_longlong=define, longlongsize=8, d_longdbl=define, longdblsize=16, longdblkind=3
    ivtype='long', ivsize=8, nvtype='long double', nvsize=16, Off_t='off_t', lseeksize=8
    alignbytes=16, prototype=define
  Linker and Libraries:
    ld='cc', ldflags =' -fstack-protector-strong -L/usr/local/lib'
    libpth=/usr/local/lib /usr/lib/gcc/x86_64-linux-gnu/4.9/include-fixed /usr/include/x86_64-linux-gnu /usr/lib /lib/x86_64-linux-gnu /lib/../lib /usr/lib/x86_64-linux-gnu /usr/lib/../lib /lib
    libs=-lpthread -lnsl -lgdbm -ldb -ldl -lm -lcrypt -lutil -lc -lgdbm_compat
    perllibs=-lpthread -lnsl -ldl -lm -lcrypt -lutil -lc
    libc=libc-2.19.so, so=so, useshrplib=false, libperl=libperl.a
    gnulibc_version='2.19'
  Dynamic Linking:
    dlsrc=dl_dlopen.xs, dlext=so, d_dlsymun=undef, ccdlflags='-Wl,-E'
    cccdlflags='-fPIC', lddlflags='-shared -O2 -L/usr/local/lib -fstack-protector-strong'


Characteristics of this binary (from libperl): 
  Compile-time options: HAS_TIMES PERLIO_LAYERS PERL_DONT_CREATE_GVSV
                        PERL_HASH_FUNC_ONE_AT_A_TIME_HARD PERL_MALLOC_WRAP
                        PERL_NEW_COPY_ON_WRITE PERL_PRESERVE_IVUV
                        USE_64_BIT_ALL USE_64_BIT_INT USE_LARGE_FILES
                        USE_LOCALE USE_LOCALE_COLLATE USE_LOCALE_CTYPE
                        USE_LOCALE_NUMERIC USE_LOCALE_TIME USE_LONG_DOUBLE
                        USE_PERLIO USE_PERL_ATOF
  Built under linux
  Compiled at Jun 27 2017 20:04:01
  %ENV:
    PERL5LIB="/home/cpansand/.cpan/build/2017102706/MooseX-Types-URI-0.08-RNN6rW/blib/arch:/home/cpansand/.cpan/build/2017102706/MooseX-Types-URI-0.08-RNN6rW/blib/lib:/home/cpansand/.cpan/build/2017102706/MooseX-Types-Path-Class-0.09-PFkpIV/blib/arch:/home/cpansand/.cpan/build/2017102706/MooseX-Types-Path-Class-0.09-PFkpIV/blib/lib:/home/cpansand/.cpan/build/2017102706/URI-FromHash-0.05-S7TZhd/blib/arch:/home/cpansand/.cpan/build/2017102706/URI-FromHash-0.05-S7TZhd/blib/lib"
    PERL5OPT=""
    PERL5_CPANPLUS_IS_RUNNING="12309"
    PERL5_CPAN_IS_RUNNING="12309"
    PERL5_CPAN_IS_RUNNING_IN_RECURSION="12024,12309"
    PERLDOC="-MPod::Perldoc::ToTextOverstrike"
    PERL_BATCH="yes"
    PERL_CANARY_STABILITY_NOPROMPT="1"
    PERL_CPAN_REPORTER_CONFIG="/var/tmp/cpansmoker-1023/2017102706/cpanreporter_000_config.ini"
    PERL_EXTUTILS_AUTOINSTALL="--defaultdeps"
  @INC:
    /home/cpansand/.cpan/build/2017102706/MooseX-Types-URI-0.08-RNN6rW/blib/arch
    /home/cpansand/.cpan/build/2017102706/MooseX-Types-URI-0.08-RNN6rW/blib/lib
    /home/cpansand/.cpan/build/2017102706/MooseX-Types-Path-Class-0.09-PFkpIV/blib/arch
    /home/cpansand/.cpan/build/2017102706/MooseX-Types-Path-Class-0.09-PFkpIV/blib/lib
    /home/cpansand/.cpan/build/2017102706/URI-FromHash-0.05-S7TZhd/blib/arch
    /home/cpansand/.cpan/build/2017102706/URI-FromHash-0.05-S7TZhd/blib/lib
    /opt/perl-5.22.3D/lib/site_perl/5.22.3/x86_64-linux-ld
    /opt/perl-5.22.3D/lib/site_perl/5.22.3
    /opt/perl-5.22.3D/lib/5.22.3/x86_64-linux-ld
    /opt/perl-5.22.3D/lib/5.22.3
    .