PathTools v3.75 Perl 5 v5.32.1 darwin-2level
- Status
- Pass
- From
- Stanislaw Pusep
- Dist
-
PathTools v3.75
- Platform
- Perl 5 v5.32.1 darwin-2level
- Date
- 2022-02-11 07:10:23
- ID
- adf7a6cc-8b09-11ec-ac4d-7ada02776541
This distribution has been tested as part of the CPAN Testers
project, supporting the Perl programming language. See
http://wiki.cpantesters.org/ for more information or email
questions to cpan-testers-discuss@perl.org
--
Dear XSAWYERX,
This is a computer-generated report for PathTools-3.75
on perl 5.32.1, created by App::cpanminus::reporter 0.17 (1.7044).
Thank you for uploading your work to CPAN. Congratulations!
All tests were successful.
Sections of this report:
* Tester comments
* Program output
* Prerequisites
* Environment and other context
------------------------------
TESTER COMMENTS
------------------------------
Additional comments from tester:
none provided
------------------------------
PROGRAM OUTPUT
------------------------------
Output from '':
Building and testing PathTools-3.75
cp lib/File/Spec/AmigaOS.pm blib/lib/File/Spec/AmigaOS.pm
cp lib/File/Spec/OS2.pm blib/lib/File/Spec/OS2.pm
cp lib/File/Spec/Functions.pm blib/lib/File/Spec/Functions.pm
cp lib/File/Spec/Win32.pm blib/lib/File/Spec/Win32.pm
cp lib/File/Spec/Mac.pm blib/lib/File/Spec/Mac.pm
cp Cwd.pm blib/lib/Cwd.pm
cp lib/File/Spec.pm blib/lib/File/Spec.pm
cp lib/File/Spec/Epoc.pm blib/lib/File/Spec/Epoc.pm
cp lib/File/Spec/VMS.pm blib/lib/File/Spec/VMS.pm
cp lib/File/Spec/Unix.pm blib/lib/File/Spec/Unix.pm
cp lib/File/Spec/Cygwin.pm blib/lib/File/Spec/Cygwin.pm
Running Mkbootstrap for Cwd ()
chmod 644 "Cwd.bs"
"/Users/stan/perl5/perlbrew/perls/perl-5.32.1/bin/perl" -MExtUtils::Command::MM -e 'cp_nonempty' -- Cwd.bs blib/arch/auto/Cwd/Cwd.bs 644
"/Users/stan/perl5/perlbrew/perls/perl-5.32.1/bin/perl" "/Users/stan/perl5/perlbrew/perls/perl-5.32.1/lib/site_perl/5.32.1/ExtUtils/xsubpp" -typemap '/Users/stan/perl5/perlbrew/perls/perl-5.32.1/lib/5.32.1/ExtUtils/typemap' Cwd.xs > Cwd.xsc
mv Cwd.xsc Cwd.c
cc -c -fno-common -DPERL_DARWIN -mmacosx-version-min=12.2 -fno-strict-aliasing -pipe -fstack-protector-strong -I/usr/local/include -DPERL_USE_SAFE_PUTENV -Wno-error=implicit-function-declaration -O3 -DVERSION=\"3.75\" -DXS_VERSION=\"3.75\" "-I/Users/stan/perl5/perlbrew/perls/perl-5.32.1/lib/5.32.1/darwin-2level/CORE" -DDOUBLE_SLASHES_SPECIAL=0 Cwd.c
In file included from Cwd.xs:8:
In file included from /Users/stan/perl5/perlbrew/perls/perl-5.32.1/lib/5.32.1/darwin-2level/CORE/perl.h:3921:
In file included from /Users/stan/perl5/perlbrew/perls/perl-5.32.1/lib/5.32.1/darwin-2level/CORE/hv.h:663:
In file included from /Users/stan/perl5/perlbrew/perls/perl-5.32.1/lib/5.32.1/darwin-2level/CORE/hv_func.h:35:
In file included from /Users/stan/perl5/perlbrew/perls/perl-5.32.1/lib/5.32.1/darwin-2level/CORE/sbox32_hash.h:4:
/Users/stan/perl5/perlbrew/perls/perl-5.32.1/lib/5.32.1/darwin-2level/CORE/zaphod32_hash.h:150:5: warning: '(' and '{' tokens introducing statement expression appear in different macro expansion contexts [-Wcompound-token-split-by-macro]
ZAPHOD32_SCRAMBLE32(state[0],0x9fade23b);
^~~~~~~~~~~~~~~~~~~~~~~~~~~~~~~~~~~~~~~~
/Users/stan/perl5/perlbrew/perls/perl-5.32.1/lib/5.32.1/darwin-2level/CORE/zaphod32_hash.h:80:38: note: expanded from macro 'ZAPHOD32_SCRAMBLE32'
#define ZAPHOD32_SCRAMBLE32(v,prime) STMT_START { \
^~~~~~~~~~
/Users/stan/perl5/perlbrew/perls/perl-5.32.1/lib/5.32.1/darwin-2level/CORE/perl.h:666:29: note: expanded from macro 'STMT_START'
# define STMT_START (void)( /* gcc supports "({ STATEMENTS; })" */
^
/Users/stan/perl5/perlbrew/perls/perl-5.32.1/lib/5.32.1/darwin-2level/CORE/zaphod32_hash.h:150:5: note: '{' token is here
ZAPHOD32_SCRAMBLE32(state[0],0x9fade23b);
^~~~~~~~~~~~~~~~~~~~~~~~~~~~~~~~~~~~~~~~
/Users/stan/perl5/perlbrew/perls/perl-5.32.1/lib/5.32.1/darwin-2level/CORE/zaphod32_hash.h:80:49: note: expanded from macro 'ZAPHOD32_SCRAMBLE32'
#define ZAPHOD32_SCRAMBLE32(v,prime) STMT_START { \
^
/Users/stan/perl5/perlbrew/perls/perl-5.32.1/lib/5.32.1/darwin-2level/CORE/zaphod32_hash.h:150:5: warning: '}' and ')' tokens terminating statement expression appear in different macro expansion contexts [-Wcompound-token-split-by-macro]
ZAPHOD32_SCRAMBLE32(state[0],0x9fade23b);
^~~~~~~~~~~~~~~~~~~~~~~~~~~~~~~~~~~~~~~~
/Users/stan/perl5/perlbrew/perls/perl-5.32.1/lib/5.32.1/darwin-2level/CORE/zaphod32_hash.h:87:41: note: expanded from macro 'ZAPHOD32_SCRAMBLE32'
v ^= (v>>23); \
^
/Users/stan/perl5/perlbrew/perls/perl-5.32.1/lib/5.32.1/darwin-2level/CORE/zaphod32_hash.h:150:5: note: ')' token is here
ZAPHOD32_SCRAMBLE32(state[0],0x9fade23b);
^~~~~~~~~~~~~~~~~~~~~~~~~~~~~~~~~~~~~~~~
/Users/stan/perl5/perlbrew/perls/perl-5.32.1/lib/5.32.1/darwin-2level/CORE/zaphod32_hash.h:88:3: note: expanded from macro 'ZAPHOD32_SCRAMBLE32'
} STMT_END
^~~~~~~~
/Users/stan/perl5/perlbrew/perls/perl-5.32.1/lib/5.32.1/darwin-2level/CORE/perl.h:667:21: note: expanded from macro 'STMT_END'
# define STMT_END )
^
In file included from Cwd.xs:8:
In file included from /Users/stan/perl5/perlbrew/perls/perl-5.32.1/lib/5.32.1/darwin-2level/CORE/perl.h:3921:
In file included from /Users/stan/perl5/perlbrew/perls/perl-5.32.1/lib/5.32.1/darwin-2level/CORE/hv.h:663:
In file included from /Users/stan/perl5/perlbrew/perls/perl-5.32.1/lib/5.32.1/darwin-2level/CORE/hv_func.h:35:
In file included from /Users/stan/perl5/perlbrew/perls/perl-5.32.1/lib/5.32.1/darwin-2level/CORE/sbox32_hash.h:4:
/Users/stan/perl5/perlbrew/perls/perl-5.32.1/lib/5.32.1/darwin-2level/CORE/zaphod32_hash.h:151:5: warning: '(' and '{' tokens introducing statement expression appear in different macro expansion contexts [-Wcompound-token-split-by-macro]
ZAPHOD32_SCRAMBLE32(state[1],0xaa6f908d);
^~~~~~~~~~~~~~~~~~~~~~~~~~~~~~~~~~~~~~~~
/Users/stan/perl5/perlbrew/perls/perl-5.32.1/lib/5.32.1/darwin-2level/CORE/zaphod32_hash.h:80:38: note: expanded from macro 'ZAPHOD32_SCRAMBLE32'
#define ZAPHOD32_SCRAMBLE32(v,prime) STMT_START { \
^~~~~~~~~~
/Users/stan/perl5/perlbrew/perls/perl-5.32.1/lib/5.32.1/darwin-2level/CORE/perl.h:666:29: note: expanded from macro 'STMT_START'
# define STMT_START (void)( /* gcc supports "({ STATEMENTS; })" */
^
/Users/stan/perl5/perlbrew/perls/perl-5.32.1/lib/5.32.1/darwin-2level/CORE/zaphod32_hash.h:151:5: note: '{' token is here
ZAPHOD32_SCRAMBLE32(state[1],0xaa6f908d);
^~~~~~~~~~~~~~~~~~~~~~~~~~~~~~~~~~~~~~~~
/Users/stan/perl5/perlbrew/perls/perl-5.32.1/lib/5.32.1/darwin-2level/CORE/zaphod32_hash.h:80:49: note: expanded from macro 'ZAPHOD32_SCRAMBLE32'
#define ZAPHOD32_SCRAMBLE32(v,prime) STMT_START { \
^
/Users/stan/perl5/perlbrew/perls/perl-5.32.1/lib/5.32.1/darwin-2level/CORE/zaphod32_hash.h:151:5: warning: '}' and ')' tokens terminating statement expression appear in different macro expansion contexts [-Wcompound-token-split-by-macro]
ZAPHOD32_SCRAMBLE32(state[1],0xaa6f908d);
^~~~~~~~~~~~~~~~~~~~~~~~~~~~~~~~~~~~~~~~
/Users/stan/perl5/perlbrew/perls/perl-5.32.1/lib/5.32.1/darwin-2level/CORE/zaphod32_hash.h:87:41: note: expanded from macro 'ZAPHOD32_SCRAMBLE32'
v ^= (v>>23); \
^
/Users/stan/perl5/perlbrew/perls/perl-5.32.1/lib/5.32.1/darwin-2level/CORE/zaphod32_hash.h:151:5: note: ')' token is here
ZAPHOD32_SCRAMBLE32(state[1],0xaa6f908d);
^~~~~~~~~~~~~~~~~~~~~~~~~~~~~~~~~~~~~~~~
/Users/stan/perl5/perlbrew/perls/perl-5.32.1/lib/5.32.1/darwin-2level/CORE/zaphod32_hash.h:88:3: note: expanded from macro 'ZAPHOD32_SCRAMBLE32'
} STMT_END
^~~~~~~~
/Users/stan/perl5/perlbrew/perls/perl-5.32.1/lib/5.32.1/darwin-2level/CORE/perl.h:667:21: note: expanded from macro 'STMT_END'
# define STMT_END )
^
In file included from Cwd.xs:8:
In file included from /Users/stan/perl5/perlbrew/perls/perl-5.32.1/lib/5.32.1/darwin-2level/CORE/perl.h:3921:
In file included from /Users/stan/perl5/perlbrew/perls/perl-5.32.1/lib/5.32.1/darwin-2level/CORE/hv.h:663:
In file included from /Users/stan/perl5/perlbrew/perls/perl-5.32.1/lib/5.32.1/darwin-2level/CORE/hv_func.h:35:
In file included from /Users/stan/perl5/perlbrew/perls/perl-5.32.1/lib/5.32.1/darwin-2level/CORE/sbox32_hash.h:4:
/Users/stan/perl5/perlbrew/perls/perl-5.32.1/lib/5.32.1/darwin-2level/CORE/zaphod32_hash.h:152:5: warning: '(' and '{' tokens introducing statement expression appear in different macro expansion contexts [-Wcompound-token-split-by-macro]
ZAPHOD32_SCRAMBLE32(state[2],0xcdf6b72d);
^~~~~~~~~~~~~~~~~~~~~~~~~~~~~~~~~~~~~~~~
/Users/stan/perl5/perlbrew/perls/perl-5.32.1/lib/5.32.1/darwin-2level/CORE/zaphod32_hash.h:80:38: note: expanded from macro 'ZAPHOD32_SCRAMBLE32'
#define ZAPHOD32_SCRAMBLE32(v,prime) STMT_START { \
^~~~~~~~~~
/Users/stan/perl5/perlbrew/perls/perl-5.32.1/lib/5.32.1/darwin-2level/CORE/perl.h:666:29: note: expanded from macro 'STMT_START'
# define STMT_START (void)( /* gcc supports "({ STATEMENTS; })" */
^
/Users/stan/perl5/perlbrew/perls/perl-5.32.1/lib/5.32.1/darwin-2level/CORE/zaphod32_hash.h:152:5: note: '{' token is here
ZAPHOD32_SCRAMBLE32(state[2],0xcdf6b72d);
^~~~~~~~~~~~~~~~~~~~~~~~~~~~~~~~~~~~~~~~
/Users/stan/perl5/perlbrew/perls/perl-5.32.1/lib/5.32.1/darwin-2level/CORE/zaphod32_hash.h:80:49: note: expanded from macro 'ZAPHOD32_SCRAMBLE32'
#define ZAPHOD32_SCRAMBLE32(v,prime) STMT_START { \
^
/Users/stan/perl5/perlbrew/perls/perl-5.32.1/lib/5.32.1/darwin-2level/CORE/zaphod32_hash.h:152:5: warning: '}' and ')' tokens terminating statement expression appear in different macro expansion contexts [-Wcompound-token-split-by-macro]
ZAPHOD32_SCRAMBLE32(state[2],0xcdf6b72d);
^~~~~~~~~~~~~~~~~~~~~~~~~~~~~~~~~~~~~~~~
/Users/stan/perl5/perlbrew/perls/perl-5.32.1/lib/5.32.1/darwin-2level/CORE/zaphod32_hash.h:87:41: note: expanded from macro 'ZAPHOD32_SCRAMBLE32'
v ^= (v>>23); \
^
/Users/stan/perl5/perlbrew/perls/perl-5.32.1/lib/5.32.1/darwin-2level/CORE/zaphod32_hash.h:152:5: note: ')' token is here
ZAPHOD32_SCRAMBLE32(state[2],0xcdf6b72d);
^~~~~~~~~~~~~~~~~~~~~~~~~~~~~~~~~~~~~~~~
/Users/stan/perl5/perlbrew/perls/perl-5.32.1/lib/5.32.1/darwin-2level/CORE/zaphod32_hash.h:88:3: note: expanded from macro 'ZAPHOD32_SCRAMBLE32'
} STMT_END
^~~~~~~~
/Users/stan/perl5/perlbrew/perls/perl-5.32.1/lib/5.32.1/darwin-2level/CORE/perl.h:667:21: note: expanded from macro 'STMT_END'
# define STMT_END )
^
In file included from Cwd.xs:8:
In file included from /Users/stan/perl5/perlbrew/perls/perl-5.32.1/lib/5.32.1/darwin-2level/CORE/perl.h:3921:
In file included from /Users/stan/perl5/perlbrew/perls/perl-5.32.1/lib/5.32.1/darwin-2level/CORE/hv.h:663:
In file included from /Users/stan/perl5/perlbrew/perls/perl-5.32.1/lib/5.32.1/darwin-2level/CORE/hv_func.h:35:
In file included from /Users/stan/perl5/perlbrew/perls/perl-5.32.1/lib/5.32.1/darwin-2level/CORE/sbox32_hash.h:4:
/Users/stan/perl5/perlbrew/perls/perl-5.32.1/lib/5.32.1/darwin-2level/CORE/zaphod32_hash.h:156:5: warning: '(' and '{' tokens introducing statement expression appear in different macro expansion contexts [-Wcompound-token-split-by-macro]
ZAPHOD32_MIX(state[0],state[1],state[2],"ZAPHOD32 SEED-STATE A 1/4");
^~~~~~~~~~~~~~~~~~~~~~~~~~~~~~~~~~~~~~~~~~~~~~~~~~~~~~~~~~~~~~~~~~~~
/Users/stan/perl5/perlbrew/perls/perl-5.32.1/lib/5.32.1/darwin-2level/CORE/zaphod32_hash.h:116:37: note: expanded from macro 'ZAPHOD32_MIX'
#define ZAPHOD32_MIX(v0,v1,v2,text) STMT_START { \
^~~~~~~~~~
/Users/stan/perl5/perlbrew/perls/perl-5.32.1/lib/5.32.1/darwin-2level/CORE/perl.h:666:29: note: expanded from macro 'STMT_START'
# define STMT_START (void)( /* gcc supports "({ STATEMENTS; })" */
^
/Users/stan/perl5/perlbrew/perls/perl-5.32.1/lib/5.32.1/darwin-2level/CORE/zaphod32_hash.h:156:5: note: '{' token is here
ZAPHOD32_MIX(state[0],state[1],state[2],"ZAPHOD32 SEED-STATE A 1/4");
^~~~~~~~~~~~~~~~~~~~~~~~~~~~~~~~~~~~~~~~~~~~~~~~~~~~~~~~~~~~~~~~~~~~
/Users/stan/perl5/perlbrew/perls/perl-5.32.1/lib/5.32.1/darwin-2level/CORE/zaphod32_hash.h:116:48: note: expanded from macro 'ZAPHOD32_MIX'
#define ZAPHOD32_MIX(v0,v1,v2,text) STMT_START { \
^
/Users/stan/perl5/perlbrew/perls/perl-5.32.1/lib/5.32.1/darwin-2level/CORE/zaphod32_hash.h:156:5: warning: '}' and ')' tokens terminating statement expression appear in different macro expansion contexts [-Wcompound-token-split-by-macro]
ZAPHOD32_MIX(state[0],state[1],state[2],"ZAPHOD32 SEED-STATE A 1/4");
^~~~~~~~~~~~~~~~~~~~~~~~~~~~~~~~~~~~~~~~~~~~~~~~~~~~~~~~~~~~~~~~~~~~
/Users/stan/perl5/perlbrew/perls/perl-5.32.1/lib/5.32.1/darwin-2level/CORE/zaphod32_hash.h:124:32: note: expanded from macro 'ZAPHOD32_MIX'
v2 = ROTR32(v2, 7) ^ v0; \
^
/Users/stan/perl5/perlbrew/perls/perl-5.32.1/lib/5.32.1/darwin-2level/CORE/zaphod32_hash.h:156:5: note: ')' token is here
ZAPHOD32_MIX(state[0],state[1],state[2],"ZAPHOD32 SEED-STATE A 1/4");
^~~~~~~~~~~~~~~~~~~~~~~~~~~~~~~~~~~~~~~~~~~~~~~~~~~~~~~~~~~~~~~~~~~~
/Users/stan/perl5/perlbrew/perls/perl-5.32.1/lib/5.32.1/darwin-2level/CORE/zaphod32_hash.h:125:3: note: expanded from macro 'ZAPHOD32_MIX'
} STMT_END
^~~~~~~~
/Users/stan/perl5/perlbrew/perls/perl-5.32.1/lib/5.32.1/darwin-2level/CORE/perl.h:667:21: note: expanded from macro 'STMT_END'
# define STMT_END )
^
In file included from Cwd.xs:8:
In file included from /Users/stan/perl5/perlbrew/perls/perl-5.32.1/lib/5.32.1/darwin-2level/CORE/perl.h:3921:
In file included from /Users/stan/perl5/perlbrew/perls/perl-5.32.1/lib/5.32.1/darwin-2level/CORE/hv.h:663:
In file included from /Users/stan/perl5/perlbrew/perls/perl-5.32.1/lib/5.32.1/darwin-2level/CORE/hv_func.h:35:
In file included from /Users/stan/perl5/perlbrew/perls/perl-5.32.1/lib/5.32.1/darwin-2level/CORE/sbox32_hash.h:4:
/Users/stan/perl5/perlbrew/perls/perl-5.32.1/lib/5.32.1/darwin-2level/CORE/zaphod32_hash.h:157:5: warning: '(' and '{' tokens introducing statement expression appear in different macro expansion contexts [-Wcompound-token-split-by-macro]
ZAPHOD32_MIX(state[0],state[1],state[2],"ZAPHOD32 SEED-STATE A 2/4");
^~~~~~~~~~~~~~~~~~~~~~~~~~~~~~~~~~~~~~~~~~~~~~~~~~~~~~~~~~~~~~~~~~~~
/Users/stan/perl5/perlbrew/perls/perl-5.32.1/lib/5.32.1/darwin-2level/CORE/zaphod32_hash.h:116:37: note: expanded from macro 'ZAPHOD32_MIX'
#define ZAPHOD32_MIX(v0,v1,v2,text) STMT_START { \
^~~~~~~~~~
/Users/stan/perl5/perlbrew/perls/perl-5.32.1/lib/5.32.1/darwin-2level/CORE/perl.h:666:29: note: expanded from macro 'STMT_START'
# define STMT_START (void)( /* gcc supports "({ STATEMENTS; })" */
^
/Users/stan/perl5/perlbrew/perls/perl-5.32.1/lib/5.32.1/darwin-2level/CORE/zaphod32_hash.h:157:5: note: '{' token is here
ZAPHOD32_MIX(state[0],state[1],state[2],"ZAPHOD32 SEED-STATE A 2/4");
^~~~~~~~~~~~~~~~~~~~~~~~~~~~~~~~~~~~~~~~~~~~~~~~~~~~~~~~~~~~~~~~~~~~
/Users/stan/perl5/perlbrew/perls/perl-5.32.1/lib/5.32.1/darwin-2level/CORE/zaphod32_hash.h:116:48: note: expanded from macro 'ZAPHOD32_MIX'
#define ZAPHOD32_MIX(v0,v1,v2,text) STMT_START { \
^
/Users/stan/perl5/perlbrew/perls/perl-5.32.1/lib/5.32.1/darwin-2level/CORE/zaphod32_hash.h:157:5: warning: '}' and ')' tokens terminating statement expression appear in different macro expansion contexts [-Wcompound-token-split-by-macro]
ZAPHOD32_MIX(state[0],state[1],state[2],"ZAPHOD32 SEED-STATE A 2/4");
^~~~~~~~~~~~~~~~~~~~~~~~~~~~~~~~~~~~~~~~~~~~~~~~~~~~~~~~~~~~~~~~~~~~
/Users/stan/perl5/perlbrew/perls/perl-5.32.1/lib/5.32.1/darwin-2level/CORE/zaphod32_hash.h:124:32: note: expanded from macro 'ZAPHOD32_MIX'
v2 = ROTR32(v2, 7) ^ v0; \
^
/Users/stan/perl5/perlbrew/perls/perl-5.32.1/lib/5.32.1/darwin-2level/CORE/zaphod32_hash.h:157:5: note: ')' token is here
ZAPHOD32_MIX(state[0],state[1],state[2],"ZAPHOD32 SEED-STATE A 2/4");
^~~~~~~~~~~~~~~~~~~~~~~~~~~~~~~~~~~~~~~~~~~~~~~~~~~~~~~~~~~~~~~~~~~~
/Users/stan/perl5/perlbrew/perls/perl-5.32.1/lib/5.32.1/darwin-2level/CORE/zaphod32_hash.h:125:3: note: expanded from macro 'ZAPHOD32_MIX'
} STMT_END
^~~~~~~~
/Users/stan/perl5/perlbrew/perls/perl-5.32.1/lib/5.32.1/darwin-2level/CORE/perl.h:667:21: note: expanded from macro 'STMT_END'
# define STMT_END )
^
In file included from Cwd.xs:8:
In file included from /Users/stan/perl5/perlbrew/perls/perl-5.32.1/lib/5.32.1/darwin-2level/CORE/perl.h:3921:
In file included from /Users/stan/perl5/perlbrew/perls/perl-5.32.1/lib/5.32.1/darwin-2level/CORE/hv.h:663:
In file included from /Users/stan/perl5/perlbrew/perls/perl-5.32.1/lib/5.32.1/darwin-2level/CORE/hv_func.h:35:
In file included from /Users/stan/perl5/perlbrew/perls/perl-5.32.1/lib/5.32.1/darwin-2level/CORE/sbox32_hash.h:4:
/Users/stan/perl5/perlbrew/perls/perl-5.32.1/lib/5.32.1/darwin-2level/CORE/zaphod32_hash.h:158:5: warning: '(' and '{' tokens introducing statement expression appear in different macro expansion contexts [-Wcompound-token-split-by-macro]
ZAPHOD32_MIX(state[0],state[1],state[2],"ZAPHOD32 SEED-STATE A 3/4");
^~~~~~~~~~~~~~~~~~~~~~~~~~~~~~~~~~~~~~~~~~~~~~~~~~~~~~~~~~~~~~~~~~~~
/Users/stan/perl5/perlbrew/perls/perl-5.32.1/lib/5.32.1/darwin-2level/CORE/zaphod32_hash.h:116:37: note: expanded from macro 'ZAPHOD32_MIX'
#define ZAPHOD32_MIX(v0,v1,v2,text) STMT_START { \
^~~~~~~~~~
/Users/stan/perl5/perlbrew/perls/perl-5.32.1/lib/5.32.1/darwin-2level/CORE/perl.h:666:29: note: expanded from macro 'STMT_START'
# define STMT_START (void)( /* gcc supports "({ STATEMENTS; })" */
^
/Users/stan/perl5/perlbrew/perls/perl-5.32.1/lib/5.32.1/darwin-2level/CORE/zaphod32_hash.h:158:5: note: '{' token is here
ZAPHOD32_MIX(state[0],state[1],state[2],"ZAPHOD32 SEED-STATE A 3/4");
^~~~~~~~~~~~~~~~~~~~~~~~~~~~~~~~~~~~~~~~~~~~~~~~~~~~~~~~~~~~~~~~~~~~
/Users/stan/perl5/perlbrew/perls/perl-5.32.1/lib/5.32.1/darwin-2level/CORE/zaphod32_hash.h:116:48: note: expanded from macro 'ZAPHOD32_MIX'
#define ZAPHOD32_MIX(v0,v1,v2,text) STMT_START { \
^
/Users/stan/perl5/perlbrew/perls/perl-5.32.1/lib/5.32.1/darwin-2level/CORE/zaphod32_hash.h:158:5: warning: '}' and ')' tokens terminating statement expression appear in different macro expansion contexts [-Wcompound-token-split-by-macro]
ZAPHOD32_MIX(state[0],state[1],state[2],"ZAPHOD32 SEED-STATE A 3/4");
^~~~~~~~~~~~~~~~~~~~~~~~~~~~~~~~~~~~~~~~~~~~~~~~~~~~~~~~~~~~~~~~~~~~
/Users/stan/perl5/perlbrew/perls/perl-5.32.1/lib/5.32.1/darwin-2level/CORE/zaphod32_hash.h:124:32: note: expanded from macro 'ZAPHOD32_MIX'
v2 = ROTR32(v2, 7) ^ v0; \
^
/Users/stan/perl5/perlbrew/perls/perl-5.32.1/lib/5.32.1/darwin-2level/CORE/zaphod32_hash.h:158:5: note: ')' token is here
ZAPHOD32_MIX(state[0],state[1],state[2],"ZAPHOD32 SEED-STATE A 3/4");
^~~~~~~~~~~~~~~~~~~~~~~~~~~~~~~~~~~~~~~~~~~~~~~~~~~~~~~~~~~~~~~~~~~~
/Users/stan/perl5/perlbrew/perls/perl-5.32.1/lib/5.32.1/darwin-2level/CORE/zaphod32_hash.h:125:3: note: expanded from macro 'ZAPHOD32_MIX'
} STMT_END
^~~~~~~~
/Users/stan/perl5/perlbrew/perls/perl-5.32.1/lib/5.32.1/darwin-2level/CORE/perl.h:667:21: note: expanded from macro 'STMT_END'
# define STMT_END )
^
In file included from Cwd.xs:8:
In file included from /Users/stan/perl5/perlbrew/perls/perl-5.32.1/lib/5.32.1/darwin-2level/CORE/perl.h:3921:
In file included from /Users/stan/perl5/perlbrew/perls/perl-5.32.1/lib/5.32.1/darwin-2level/CORE/hv.h:663:
In file included from /Users/stan/perl5/perlbrew/perls/perl-5.32.1/lib/5.32.1/darwin-2level/CORE/hv_func.h:35:
In file included from /Users/stan/perl5/perlbrew/perls/perl-5.32.1/lib/5.32.1/darwin-2level/CORE/sbox32_hash.h:4:
/Users/stan/perl5/perlbrew/perls/perl-5.32.1/lib/5.32.1/darwin-2level/CORE/zaphod32_hash.h:159:5: warning: '(' and '{' tokens introducing statement expression appear in different macro expansion contexts [-Wcompound-token-split-by-macro]
ZAPHOD32_MIX(state[0],state[1],state[2],"ZAPHOD32 SEED-STATE A 4/4");
^~~~~~~~~~~~~~~~~~~~~~~~~~~~~~~~~~~~~~~~~~~~~~~~~~~~~~~~~~~~~~~~~~~~
/Users/stan/perl5/perlbrew/perls/perl-5.32.1/lib/5.32.1/darwin-2level/CORE/zaphod32_hash.h:116:37: note: expanded from macro 'ZAPHOD32_MIX'
#define ZAPHOD32_MIX(v0,v1,v2,text) STMT_START { \
^~~~~~~~~~
/Users/stan/perl5/perlbrew/perls/perl-5.32.1/lib/5.32.1/darwin-2level/CORE/perl.h:666:29: note: expanded from macro 'STMT_START'
# define STMT_START (void)( /* gcc supports "({ STATEMENTS; })" */
^
/Users/stan/perl5/perlbrew/perls/perl-5.32.1/lib/5.32.1/darwin-2level/CORE/zaphod32_hash.h:159:5: note: '{' token is here
ZAPHOD32_MIX(state[0],state[1],state[2],"ZAPHOD32 SEED-STATE A 4/4");
^~~~~~~~~~~~~~~~~~~~~~~~~~~~~~~~~~~~~~~~~~~~~~~~~~~~~~~~~~~~~~~~~~~~
/Users/stan/perl5/perlbrew/perls/perl-5.32.1/lib/5.32.1/darwin-2level/CORE/zaphod32_hash.h:116:48: note: expanded from macro 'ZAPHOD32_MIX'
#define ZAPHOD32_MIX(v0,v1,v2,text) STMT_START { \
^
/Users/stan/perl5/perlbrew/perls/perl-5.32.1/lib/5.32.1/darwin-2level/CORE/zaphod32_hash.h:159:5: warning: '}' and ')' tokens terminating statement expression appear in different macro expansion contexts [-Wcompound-token-split-by-macro]
ZAPHOD32_MIX(state[0],state[1],state[2],"ZAPHOD32 SEED-STATE A 4/4");
^~~~~~~~~~~~~~~~~~~~~~~~~~~~~~~~~~~~~~~~~~~~~~~~~~~~~~~~~~~~~~~~~~~~
/Users/stan/perl5/perlbrew/perls/perl-5.32.1/lib/5.32.1/darwin-2level/CORE/zaphod32_hash.h:124:32: note: expanded from macro 'ZAPHOD32_MIX'
v2 = ROTR32(v2, 7) ^ v0; \
^
/Users/stan/perl5/perlbrew/perls/perl-5.32.1/lib/5.32.1/darwin-2level/CORE/zaphod32_hash.h:159:5: note: ')' token is here
ZAPHOD32_MIX(state[0],state[1],state[2],"ZAPHOD32 SEED-STATE A 4/4");
^~~~~~~~~~~~~~~~~~~~~~~~~~~~~~~~~~~~~~~~~~~~~~~~~~~~~~~~~~~~~~~~~~~~
/Users/stan/perl5/perlbrew/perls/perl-5.32.1/lib/5.32.1/darwin-2level/CORE/zaphod32_hash.h:125:3: note: expanded from macro 'ZAPHOD32_MIX'
} STMT_END
^~~~~~~~
/Users/stan/perl5/perlbrew/perls/perl-5.32.1/lib/5.32.1/darwin-2level/CORE/perl.h:667:21: note: expanded from macro 'STMT_END'
# define STMT_END )
^
In file included from Cwd.xs:8:
In file included from /Users/stan/perl5/perlbrew/perls/perl-5.32.1/lib/5.32.1/darwin-2level/CORE/perl.h:3921:
In file included from /Users/stan/perl5/perlbrew/perls/perl-5.32.1/lib/5.32.1/darwin-2level/CORE/hv.h:663:
In file included from /Users/stan/perl5/perlbrew/perls/perl-5.32.1/lib/5.32.1/darwin-2level/CORE/hv_func.h:35:
In file included from /Users/stan/perl5/perlbrew/perls/perl-5.32.1/lib/5.32.1/darwin-2level/CORE/sbox32_hash.h:4:
/Users/stan/perl5/perlbrew/perls/perl-5.32.1/lib/5.32.1/darwin-2level/CORE/zaphod32_hash.h:162:5: warning: '(' and '{' tokens introducing statement expression appear in different macro expansion contexts [-Wcompound-token-split-by-macro]
ZAPHOD32_SCRAMBLE32(state[0],0xc95d22a9);
^~~~~~~~~~~~~~~~~~~~~~~~~~~~~~~~~~~~~~~~
/Users/stan/perl5/perlbrew/perls/perl-5.32.1/lib/5.32.1/darwin-2level/CORE/zaphod32_hash.h:80:38: note: expanded from macro 'ZAPHOD32_SCRAMBLE32'
#define ZAPHOD32_SCRAMBLE32(v,prime) STMT_START { \
^~~~~~~~~~
/Users/stan/perl5/perlbrew/perls/perl-5.32.1/lib/5.32.1/darwin-2level/CORE/perl.h:666:29: note: expanded from macro 'STMT_START'
# define STMT_START (void)( /* gcc supports "({ STATEMENTS; })" */
^
/Users/stan/perl5/perlbrew/perls/perl-5.32.1/lib/5.32.1/darwin-2level/CORE/zaphod32_hash.h:162:5: note: '{' token is here
ZAPHOD32_SCRAMBLE32(state[0],0xc95d22a9);
^~~~~~~~~~~~~~~~~~~~~~~~~~~~~~~~~~~~~~~~
/Users/stan/perl5/perlbrew/perls/perl-5.32.1/lib/5.32.1/darwin-2level/CORE/zaphod32_hash.h:80:49: note: expanded from macro 'ZAPHOD32_SCRAMBLE32'
#define ZAPHOD32_SCRAMBLE32(v,prime) STMT_START { \
^
/Users/stan/perl5/perlbrew/perls/perl-5.32.1/lib/5.32.1/darwin-2level/CORE/zaphod32_hash.h:162:5: warning: '}' and ')' tokens terminating statement expression appear in different macro expansion contexts [-Wcompound-token-split-by-macro]
ZAPHOD32_SCRAMBLE32(state[0],0xc95d22a9);
^~~~~~~~~~~~~~~~~~~~~~~~~~~~~~~~~~~~~~~~
/Users/stan/perl5/perlbrew/perls/perl-5.32.1/lib/5.32.1/darwin-2level/CORE/zaphod32_hash.h:87:41: note: expanded from macro 'ZAPHOD32_SCRAMBLE32'
v ^= (v>>23); \
^
/Users/stan/perl5/perlbrew/perls/perl-5.32.1/lib/5.32.1/darwin-2level/CORE/zaphod32_hash.h:162:5: note: ')' token is here
ZAPHOD32_SCRAMBLE32(state[0],0xc95d22a9);
^~~~~~~~~~~~~~~~~~~~~~~~~~~~~~~~~~~~~~~~
/Users/stan/perl5/perlbrew/perls/perl-5.32.1/lib/5.32.1/darwin-2level/CORE/zaphod32_hash.h:88:3: note: expanded from macro 'ZAPHOD32_SCRAMBLE32'
} STMT_END
^~~~~~~~
/Users/stan/perl5/perlbrew/perls/perl-5.32.1/lib/5.32.1/darwin-2level/CORE/perl.h:667:21: note: expanded from macro 'STMT_END'
# define STMT_END )
^
In file included from Cwd.xs:8:
In file included from /Users/stan/perl5/perlbrew/perls/perl-5.32.1/lib/5.32.1/darwin-2level/CORE/perl.h:3921:
In file included from /Users/stan/perl5/perlbrew/perls/perl-5.32.1/lib/5.32.1/darwin-2level/CORE/hv.h:663:
In file included from /Users/stan/perl5/perlbrew/perls/perl-5.32.1/lib/5.32.1/darwin-2level/CORE/hv_func.h:35:
In file included from /Users/stan/perl5/perlbrew/perls/perl-5.32.1/lib/5.32.1/darwin-2level/CORE/sbox32_hash.h:4:
/Users/stan/perl5/perlbrew/perls/perl-5.32.1/lib/5.32.1/darwin-2level/CORE/zaphod32_hash.h:163:5: warning: '(' and '{' tokens introducing statement expression appear in different macro expansion contexts [-Wcompound-token-split-by-macro]
ZAPHOD32_SCRAMBLE32(state[1],0x8497242b);
^~~~~~~~~~~~~~~~~~~~~~~~~~~~~~~~~~~~~~~~
/Users/stan/perl5/perlbrew/perls/perl-5.32.1/lib/5.32.1/darwin-2level/CORE/zaphod32_hash.h:80:38: note: expanded from macro 'ZAPHOD32_SCRAMBLE32'
#define ZAPHOD32_SCRAMBLE32(v,prime) STMT_START { \
^~~~~~~~~~
/Users/stan/perl5/perlbrew/perls/perl-5.32.1/lib/5.32.1/darwin-2level/CORE/perl.h:666:29: note: expanded from macro 'STMT_START'
# define STMT_START (void)( /* gcc supports "({ STATEMENTS; })" */
^
/Users/stan/perl5/perlbrew/perls/perl-5.32.1/lib/5.32.1/darwin-2level/CORE/zaphod32_hash.h:163:5: note: '{' token is here
ZAPHOD32_SCRAMBLE32(state[1],0x8497242b);
^~~~~~~~~~~~~~~~~~~~~~~~~~~~~~~~~~~~~~~~
/Users/stan/perl5/perlbrew/perls/perl-5.32.1/lib/5.32.1/darwin-2level/CORE/zaphod32_hash.h:80:49: note: expanded from macro 'ZAPHOD32_SCRAMBLE32'
#define ZAPHOD32_SCRAMBLE32(v,prime) STMT_START { \
^
/Users/stan/perl5/perlbrew/perls/perl-5.32.1/lib/5.32.1/darwin-2level/CORE/zaphod32_hash.h:163:5: warning: '}' and ')' tokens terminating statement expression appear in different macro expansion contexts [-Wcompound-token-split-by-macro]
ZAPHOD32_SCRAMBLE32(state[1],0x8497242b);
^~~~~~~~~~~~~~~~~~~~~~~~~~~~~~~~~~~~~~~~
/Users/stan/perl5/perlbrew/perls/perl-5.32.1/lib/5.32.1/darwin-2level/CORE/zaphod32_hash.h:87:41: note: expanded from macro 'ZAPHOD32_SCRAMBLE32'
v ^= (v>>23); \
^
/Users/stan/perl5/perlbrew/perls/perl-5.32.1/lib/5.32.1/darwin-2level/CORE/zaphod32_hash.h:163:5: note: ')' token is here
ZAPHOD32_SCRAMBLE32(state[1],0x8497242b);
^~~~~~~~~~~~~~~~~~~~~~~~~~~~~~~~~~~~~~~~
/Users/stan/perl5/perlbrew/perls/perl-5.32.1/lib/5.32.1/darwin-2level/CORE/zaphod32_hash.h:88:3: note: expanded from macro 'ZAPHOD32_SCRAMBLE32'
} STMT_END
^~~~~~~~
/Users/stan/perl5/perlbrew/perls/perl-5.32.1/lib/5.32.1/darwin-2level/CORE/perl.h:667:21: note: expanded from macro 'STMT_END'
# define STMT_END )
^
In file included from Cwd.xs:8:
In file included from /Users/stan/perl5/perlbrew/perls/perl-5.32.1/lib/5.32.1/darwin-2level/CORE/perl.h:3921:
In file included from /Users/stan/perl5/perlbrew/perls/perl-5.32.1/lib/5.32.1/darwin-2level/CORE/hv.h:663:
In file included from /Users/stan/perl5/perlbrew/perls/perl-5.32.1/lib/5.32.1/darwin-2level/CORE/hv_func.h:35:
In file included from /Users/stan/perl5/perlbrew/perls/perl-5.32.1/lib/5.32.1/darwin-2level/CORE/sbox32_hash.h:4:
/Users/stan/perl5/perlbrew/perls/perl-5.32.1/lib/5.32.1/darwin-2level/CORE/zaphod32_hash.h:164:5: warning: '(' and '{' tokens introducing statement expression appear in different macro expansion contexts [-Wcompound-token-split-by-macro]
ZAPHOD32_SCRAMBLE32(state[2],0x9c5cc4e9);
^~~~~~~~~~~~~~~~~~~~~~~~~~~~~~~~~~~~~~~~
/Users/stan/perl5/perlbrew/perls/perl-5.32.1/lib/5.32.1/darwin-2level/CORE/zaphod32_hash.h:80:38: note: expanded from macro 'ZAPHOD32_SCRAMBLE32'
#define ZAPHOD32_SCRAMBLE32(v,prime) STMT_START { \
^~~~~~~~~~
/Users/stan/perl5/perlbrew/perls/perl-5.32.1/lib/5.32.1/darwin-2level/CORE/perl.h:666:29: note: expanded from macro 'STMT_START'
# define STMT_START (void)( /* gcc supports "({ STATEMENTS; })" */
^
/Users/stan/perl5/perlbrew/perls/perl-5.32.1/lib/5.32.1/darwin-2level/CORE/zaphod32_hash.h:164:5: note: '{' token is here
ZAPHOD32_SCRAMBLE32(state[2],0x9c5cc4e9);
^~~~~~~~~~~~~~~~~~~~~~~~~~~~~~~~~~~~~~~~
/Users/stan/perl5/perlbrew/perls/perl-5.32.1/lib/5.32.1/darwin-2level/CORE/zaphod32_hash.h:80:49: note: expanded from macro 'ZAPHOD32_SCRAMBLE32'
#define ZAPHOD32_SCRAMBLE32(v,prime) STMT_START { \
^
/Users/stan/perl5/perlbrew/perls/perl-5.32.1/lib/5.32.1/darwin-2level/CORE/zaphod32_hash.h:164:5: warning: '}' and ')' tokens terminating statement expression appear in different macro expansion contexts [-Wcompound-token-split-by-macro]
ZAPHOD32_SCRAMBLE32(state[2],0x9c5cc4e9);
^~~~~~~~~~~~~~~~~~~~~~~~~~~~~~~~~~~~~~~~
/Users/stan/perl5/perlbrew/perls/perl-5.32.1/lib/5.32.1/darwin-2level/CORE/zaphod32_hash.h:87:41: note: expanded from macro 'ZAPHOD32_SCRAMBLE32'
v ^= (v>>23); \
^
/Users/stan/perl5/perlbrew/perls/perl-5.32.1/lib/5.32.1/darwin-2level/CORE/zaphod32_hash.h:164:5: note: ')' token is here
ZAPHOD32_SCRAMBLE32(state[2],0x9c5cc4e9);
^~~~~~~~~~~~~~~~~~~~~~~~~~~~~~~~~~~~~~~~
/Users/stan/perl5/perlbrew/perls/perl-5.32.1/lib/5.32.1/darwin-2level/CORE/zaphod32_hash.h:88:3: note: expanded from macro 'ZAPHOD32_SCRAMBLE32'
} STMT_END
^~~~~~~~
/Users/stan/perl5/perlbrew/perls/perl-5.32.1/lib/5.32.1/darwin-2level/CORE/perl.h:667:21: note: expanded from macro 'STMT_END'
# define STMT_END )
^
In file included from Cwd.xs:8:
In file included from /Users/stan/perl5/perlbrew/perls/perl-5.32.1/lib/5.32.1/darwin-2level/CORE/perl.h:3921:
In file included from /Users/stan/perl5/perlbrew/perls/perl-5.32.1/lib/5.32.1/darwin-2level/CORE/hv.h:663:
In file included from /Users/stan/perl5/perlbrew/perls/perl-5.32.1/lib/5.32.1/darwin-2level/CORE/hv_func.h:35:
In file included from /Users/stan/perl5/perlbrew/perls/perl-5.32.1/lib/5.32.1/darwin-2level/CORE/sbox32_hash.h:4:
/Users/stan/perl5/perlbrew/perls/perl-5.32.1/lib/5.32.1/darwin-2level/CORE/zaphod32_hash.h:167:5: warning: '(' and '{' tokens introducing statement expression appear in different macro expansion contexts [-Wcompound-token-split-by-macro]
ZAPHOD32_MIX(state[0],state[1],state[2],"ZAPHOD32 SEED-STATE B 1/5");
^~~~~~~~~~~~~~~~~~~~~~~~~~~~~~~~~~~~~~~~~~~~~~~~~~~~~~~~~~~~~~~~~~~~
/Users/stan/perl5/perlbrew/perls/perl-5.32.1/lib/5.32.1/darwin-2level/CORE/zaphod32_hash.h:116:37: note: expanded from macro 'ZAPHOD32_MIX'
#define ZAPHOD32_MIX(v0,v1,v2,text) STMT_START { \
^~~~~~~~~~
/Users/stan/perl5/perlbrew/perls/perl-5.32.1/lib/5.32.1/darwin-2level/CORE/perl.h:666:29: note: expanded from macro 'STMT_START'
# define STMT_START (void)( /* gcc supports "({ STATEMENTS; })" */
^
/Users/stan/perl5/perlbrew/perls/perl-5.32.1/lib/5.32.1/darwin-2level/CORE/zaphod32_hash.h:167:5: note: '{' token is here
ZAPHOD32_MIX(state[0],state[1],state[2],"ZAPHOD32 SEED-STATE B 1/5");
^~~~~~~~~~~~~~~~~~~~~~~~~~~~~~~~~~~~~~~~~~~~~~~~~~~~~~~~~~~~~~~~~~~~
/Users/stan/perl5/perlbrew/perls/perl-5.32.1/lib/5.32.1/darwin-2level/CORE/zaphod32_hash.h:116:48: note: expanded from macro 'ZAPHOD32_MIX'
#define ZAPHOD32_MIX(v0,v1,v2,text) STMT_START { \
^
/Users/stan/perl5/perlbrew/perls/perl-5.32.1/lib/5.32.1/darwin-2level/CORE/zaphod32_hash.h:167:5: warning: '}' and ')' tokens terminating statement expression appear in different macro expansion contexts [-Wcompound-token-split-by-macro]
ZAPHOD32_MIX(state[0],state[1],state[2],"ZAPHOD32 SEED-STATE B 1/5");
^~~~~~~~~~~~~~~~~~~~~~~~~~~~~~~~~~~~~~~~~~~~~~~~~~~~~~~~~~~~~~~~~~~~
/Users/stan/perl5/perlbrew/perls/perl-5.32.1/lib/5.32.1/darwin-2level/CORE/zaphod32_hash.h:124:32: note: expanded from macro 'ZAPHOD32_MIX'
v2 = ROTR32(v2, 7) ^ v0; \
^
/Users/stan/perl5/perlbrew/perls/perl-5.32.1/lib/5.32.1/darwin-2level/CORE/zaphod32_hash.h:167:5: note: ')' token is here
ZAPHOD32_MIX(state[0],state[1],state[2],"ZAPHOD32 SEED-STATE B 1/5");
^~~~~~~~~~~~~~~~~~~~~~~~~~~~~~~~~~~~~~~~~~~~~~~~~~~~~~~~~~~~~~~~~~~~
/Users/stan/perl5/perlbrew/perls/perl-5.32.1/lib/5.32.1/darwin-2level/CORE/zaphod32_hash.h:125:3: note: expanded from macro 'ZAPHOD32_MIX'
} STMT_END
^~~~~~~~
/Users/stan/perl5/perlbrew/perls/perl-5.32.1/lib/5.32.1/darwin-2level/CORE/perl.h:667:21: note: expanded from macro 'STMT_END'
# define STMT_END )
^
In file included from Cwd.xs:8:
In file included from /Users/stan/perl5/perlbrew/perls/perl-5.32.1/lib/5.32.1/darwin-2level/CORE/perl.h:3921:
In file included from /Users/stan/perl5/perlbrew/perls/perl-5.32.1/lib/5.32.1/darwin-2level/CORE/hv.h:663:
In file included from /Users/stan/perl5/perlbrew/perls/perl-5.32.1/lib/5.32.1/darwin-2level/CORE/hv_func.h:35:
In file included from /Users/stan/perl5/perlbrew/perls/perl-5.32.1/lib/5.32.1/darwin-2level/CORE/sbox32_hash.h:4:
/Users/stan/perl5/perlbrew/perls/perl-5.32.1/lib/5.32.1/darwin-2level/CORE/zaphod32_hash.h:168:5: warning: '(' and '{' tokens introducing statement expression appear in different macro expansion contexts [-Wcompound-token-split-by-macro]
ZAPHOD32_MIX(state[0],state[1],state[2],"ZAPHOD32 SEED-STATE B 2/5");
^~~~~~~~~~~~~~~~~~~~~~~~~~~~~~~~~~~~~~~~~~~~~~~~~~~~~~~~~~~~~~~~~~~~
/Users/stan/perl5/perlbrew/perls/perl-5.32.1/lib/5.32.1/darwin-2level/CORE/zaphod32_hash.h:116:37: note: expanded from macro 'ZAPHOD32_MIX'
#define ZAPHOD32_MIX(v0,v1,v2,text) STMT_START { \
^~~~~~~~~~
/Users/stan/perl5/perlbrew/perls/perl-5.32.1/lib/5.32.1/darwin-2level/CORE/perl.h:666:29: note: expanded from macro 'STMT_START'
# define STMT_START (void)( /* gcc supports "({ STATEMENTS; })" */
^
/Users/stan/perl5/perlbrew/perls/perl-5.32.1/lib/5.32.1/darwin-2level/CORE/zaphod32_hash.h:168:5: note: '{' token is here
ZAPHOD32_MIX(state[0],state[1],state[2],"ZAPHOD32 SEED-STATE B 2/5");
^~~~~~~~~~~~~~~~~~~~~~~~~~~~~~~~~~~~~~~~~~~~~~~~~~~~~~~~~~~~~~~~~~~~
/Users/stan/perl5/perlbrew/perls/perl-5.32.1/lib/5.32.1/darwin-2level/CORE/zaphod32_hash.h:116:48: note: expanded from macro 'ZAPHOD32_MIX'
#define ZAPHOD32_MIX(v0,v1,v2,text) STMT_START { \
^
/Users/stan/perl5/perlbrew/perls/perl-5.32.1/lib/5.32.1/darwin-2level/CORE/zaphod32_hash.h:168:5: warning: '}' and ')' tokens terminating statement expression appear in different macro expansion contexts [-Wcompound-token-split-by-macro]
ZAPHOD32_MIX(state[0],state[1],state[2],"ZAPHOD32 SEED-STATE B 2/5");
^~~~~~~~~~~~~~~~~~~~~~~~~~~~~~~~~~~~~~~~~~~~~~~~~~~~~~~~~~~~~~~~~~~~
/Users/stan/perl5/perlbrew/perls/perl-5.32.1/lib/5.32.1/darwin-2level/CORE/zaphod32_hash.h:124:32: note: expanded from macro 'ZAPHOD32_MIX'
v2 = ROTR32(v2, 7) ^ v0; \
^
/Users/stan/perl5/perlbrew/perls/perl-5.32.1/lib/5.32.1/darwin-2level/CORE/zaphod32_hash.h:168:5: note: ')' token is here
ZAPHOD32_MIX(state[0],state[1],state[2],"ZAPHOD32 SEED-STATE B 2/5");
^~~~~~~~~~~~~~~~~~~~~~~~~~~~~~~~~~~~~~~~~~~~~~~~~~~~~~~~~~~~~~~~~~~~
/Users/stan/perl5/perlbrew/perls/perl-5.32.1/lib/5.32.1/darwin-2level/CORE/zaphod32_hash.h:125:3: note: expanded from macro 'ZAPHOD32_MIX'
} STMT_END
^~~~~~~~
/Users/stan/perl5/perlbrew/perls/perl-5.32.1/lib/5.32.1/darwin-2level/CORE/perl.h:667:21: note: expanded from macro 'STMT_END'
# define STMT_END )
^
In file included from Cwd.xs:8:
In file included from /Users/stan/perl5/perlbrew/perls/perl-5.32.1/lib/5.32.1/darwin-2level/CORE/perl.h:3921:
In file included from /Users/stan/perl5/perlbrew/perls/perl-5.32.1/lib/5.32.1/darwin-2level/CORE/hv.h:663:
In file included from /Users/stan/perl5/perlbrew/perls/perl-5.32.1/lib/5.32.1/darwin-2level/CORE/hv_func.h:35:
In file included from /Users/stan/perl5/perlbrew/perls/perl-5.32.1/lib/5.32.1/darwin-2level/CORE/sbox32_hash.h:4:
/Users/stan/perl5/perlbrew/perls/perl-5.32.1/lib/5.32.1/darwin-2level/CORE/zaphod32_hash.h:169:5: warning: '(' and '{' tokens introducing statement expression appear in different macro expansion contexts [-Wcompound-token-split-by-macro]
ZAPHOD32_MIX(state[0],state[1],state[2],"ZAPHOD32 SEED-STATE B 3/5");
^~~~~~~~~~~~~~~~~~~~~~~~~~~~~~~~~~~~~~~~~~~~~~~~~~~~~~~~~~~~~~~~~~~~
/Users/stan/perl5/perlbrew/perls/perl-5.32.1/lib/5.32.1/darwin-2level/CORE/zaphod32_hash.h:116:37: note: expanded from macro 'ZAPHOD32_MIX'
#define ZAPHOD32_MIX(v0,v1,v2,text) STMT_START { \
^~~~~~~~~~
/Users/stan/perl5/perlbrew/perls/perl-5.32.1/lib/5.32.1/darwin-2level/CORE/perl.h:666:29: note: expanded from macro 'STMT_START'
# define STMT_START (void)( /* gcc supports "({ STATEMENTS; })" */
^
/Users/stan/perl5/perlbrew/perls/perl-5.32.1/lib/5.32.1/darwin-2level/CORE/zaphod32_hash.h:169:5: note: '{' token is here
ZAPHOD32_MIX(state[0],state[1],state[2],"ZAPHOD32 SEED-STATE B 3/5");
^~~~~~~~~~~~~~~~~~~~~~~~~~~~~~~~~~~~~~~~~~~~~~~~~~~~~~~~~~~~~~~~~~~~
/Users/stan/perl5/perlbrew/perls/perl-5.32.1/lib/5.32.1/darwin-2level/CORE/zaphod32_hash.h:116:48: note: expanded from macro 'ZAPHOD32_MIX'
#define ZAPHOD32_MIX(v0,v1,v2,text) STMT_START { \
^
/Users/stan/perl5/perlbrew/perls/perl-5.32.1/lib/5.32.1/darwin-2level/CORE/zaphod32_hash.h:169:5: warning: '}' and ')' tokens terminating statement expression appear in different macro expansion contexts [-Wcompound-token-split-by-macro]
ZAPHOD32_MIX(state[0],state[1],state[2],"ZAPHOD32 SEED-STATE B 3/5");
^~~~~~~~~~~~~~~~~~~~~~~~~~~~~~~~~~~~~~~~~~~~~~~~~~~~~~~~~~~~~~~~~~~~
/Users/stan/perl5/perlbrew/perls/perl-5.32.1/lib/5.32.1/darwin-2level/CORE/zaphod32_hash.h:124:32: note: expanded from macro 'ZAPHOD32_MIX'
v2 = ROTR32(v2, 7) ^ v0; \
^
/Users/stan/perl5/perlbrew/perls/perl-5.32.1/lib/5.32.1/darwin-2level/CORE/zaphod32_hash.h:169:5: note: ')' token is here
ZAPHOD32_MIX(state[0],state[1],state[2],"ZAPHOD32 SEED-STATE B 3/5");
^~~~~~~~~~~~~~~~~~~~~~~~~~~~~~~~~~~~~~~~~~~~~~~~~~~~~~~~~~~~~~~~~~~~
/Users/stan/perl5/perlbrew/perls/perl-5.32.1/lib/5.32.1/darwin-2level/CORE/zaphod32_hash.h:125:3: note: expanded from macro 'ZAPHOD32_MIX'
} STMT_END
^~~~~~~~
/Users/stan/perl5/perlbrew/perls/perl-5.32.1/lib/5.32.1/darwin-2level/CORE/perl.h:667:21: note: expanded from macro 'STMT_END'
# define STMT_END )
^
In file included from Cwd.xs:8:
In file included from /Users/stan/perl5/perlbrew/perls/perl-5.32.1/lib/5.32.1/darwin-2level/CORE/perl.h:3921:
In file included from /Users/stan/perl5/perlbrew/perls/perl-5.32.1/lib/5.32.1/darwin-2level/CORE/hv.h:663:
In file included from /Users/stan/perl5/perlbrew/perls/perl-5.32.1/lib/5.32.1/darwin-2level/CORE/hv_func.h:35:
In file included from /Users/stan/perl5/perlbrew/perls/perl-5.32.1/lib/5.32.1/darwin-2level/CORE/sbox32_hash.h:4:
/Users/stan/perl5/perlbrew/perls/perl-5.32.1/lib/5.32.1/darwin-2level/CORE/zaphod32_hash.h:170:5: warning: '(' and '{' tokens introducing statement expression appear in different macro expansion contexts [-Wcompound-token-split-by-macro]
ZAPHOD32_MIX(state[0],state[1],state[2],"ZAPHOD32 SEED-STATE B 4/5");
^~~~~~~~~~~~~~~~~~~~~~~~~~~~~~~~~~~~~~~~~~~~~~~~~~~~~~~~~~~~~~~~~~~~
/Users/stan/perl5/perlbrew/perls/perl-5.32.1/lib/5.32.1/darwin-2level/CORE/zaphod32_hash.h:116:37: note: expanded from macro 'ZAPHOD32_MIX'
#define ZAPHOD32_MIX(v0,v1,v2,text) STMT_START { \
^~~~~~~~~~
/Users/stan/perl5/perlbrew/perls/perl-5.32.1/lib/5.32.1/darwin-2level/CORE/perl.h:666:29: note: expanded from macro 'STMT_START'
# define STMT_START (void)( /* gcc supports "({ STATEMENTS; })" */
^
/Users/stan/perl5/perlbrew/perls/perl-5.32.1/lib/5.32.1/darwin-2level/CORE/zaphod32_hash.h:170:5: note: '{' token is here
ZAPHOD32_MIX(state[0],state[1],state[2],"ZAPHOD32 SEED-STATE B 4/5");
^~~~~~~~~~~~~~~~~~~~~~~~~~~~~~~~~~~~~~~~~~~~~~~~~~~~~~~~~~~~~~~~~~~~
/Users/stan/perl5/perlbrew/perls/perl-5.32.1/lib/5.32.1/darwin-2level/CORE/zaphod32_hash.h:116:48: note: expanded from macro 'ZAPHOD32_MIX'
#define ZAPHOD32_MIX(v0,v1,v2,text) STMT_START { \
^
/Users/stan/perl5/perlbrew/perls/perl-5.32.1/lib/5.32.1/darwin-2level/CORE/zaphod32_hash.h:170:5: warning: '}' and ')' tokens terminating statement expression appear in different macro expansion contexts [-Wcompound-token-split-by-macro]
ZAPHOD32_MIX(state[0],state[1],state[2],"ZAPHOD32 SEED-STATE B 4/5");
^~~~~~~~~~~~~~~~~~~~~~~~~~~~~~~~~~~~~~~~~~~~~~~~~~~~~~~~~~~~~~~~~~~~
/Users/stan/perl5/perlbrew/perls/perl-5.32.1/lib/5.32.1/darwin-2level/CORE/zaphod32_hash.h:124:32: note: expanded from macro 'ZAPHOD32_MIX'
v2 = ROTR32(v2, 7) ^ v0; \
^
/Users/stan/perl5/perlbrew/perls/perl-5.32.1/lib/5.32.1/darwin-2level/CORE/zaphod32_hash.h:170:5: note: ')' token is here
ZAPHOD32_MIX(state[0],state[1],state[2],"ZAPHOD32 SEED-STATE B 4/5");
^~~~~~~~~~~~~~~~~~~~~~~~~~~~~~~~~~~~~~~~~~~~~~~~~~~~~~~~~~~~~~~~~~~~
/Users/stan/perl5/perlbrew/perls/perl-5.32.1/lib/5.32.1/darwin-2level/CORE/zaphod32_hash.h:125:3: note: expanded from macro 'ZAPHOD32_MIX'
} STMT_END
^~~~~~~~
/Users/stan/perl5/perlbrew/perls/perl-5.32.1/lib/5.32.1/darwin-2level/CORE/perl.h:667:21: note: expanded from macro 'STMT_END'
# define STMT_END )
^
In file included from Cwd.xs:8:
In file included from /Users/stan/perl5/perlbrew/perls/perl-5.32.1/lib/5.32.1/darwin-2level/CORE/perl.h:3921:
In file included from /Users/stan/perl5/perlbrew/perls/perl-5.32.1/lib/5.32.1/darwin-2level/CORE/hv.h:663:
In file included from /Users/stan/perl5/perlbrew/perls/perl-5.32.1/lib/5.32.1/darwin-2level/CORE/hv_func.h:35:
In file included from /Users/stan/perl5/perlbrew/perls/perl-5.32.1/lib/5.32.1/darwin-2level/CORE/sbox32_hash.h:4:
/Users/stan/perl5/perlbrew/perls/perl-5.32.1/lib/5.32.1/darwin-2level/CORE/zaphod32_hash.h:171:5: warning: '(' and '{' tokens introducing statement expression appear in different macro expansion contexts [-Wcompound-token-split-by-macro]
ZAPHOD32_MIX(state[0],state[1],state[2],"ZAPHOD32 SEED-STATE B 5/5");
^~~~~~~~~~~~~~~~~~~~~~~~~~~~~~~~~~~~~~~~~~~~~~~~~~~~~~~~~~~~~~~~~~~~
/Users/stan/perl5/perlbrew/perls/perl-5.32.1/lib/5.32.1/darwin-2level/CORE/zaphod32_hash.h:116:37: note: expanded from macro 'ZAPHOD32_MIX'
#define ZAPHOD32_MIX(v0,v1,v2,text) STMT_START { \
^~~~~~~~~~
/Users/stan/perl5/perlbrew/perls/perl-5.32.1/lib/5.32.1/darwin-2level/CORE/perl.h:666:29: note: expanded from macro 'STMT_START'
# define STMT_START (void)( /* gcc supports "({ STATEMENTS; })" */
^
/Users/stan/perl5/perlbrew/perls/perl-5.32.1/lib/5.32.1/darwin-2level/CORE/zaphod32_hash.h:171:5: note: '{' token is here
ZAPHOD32_MIX(state[0],state[1],state[2],"ZAPHOD32 SEED-STATE B 5/5");
^~~~~~~~~~~~~~~~~~~~~~~~~~~~~~~~~~~~~~~~~~~~~~~~~~~~~~~~~~~~~~~~~~~~
/Users/stan/perl5/perlbrew/perls/perl-5.32.1/lib/5.32.1/darwin-2level/CORE/zaphod32_hash.h:116:48: note: expanded from macro 'ZAPHOD32_MIX'
#define ZAPHOD32_MIX(v0,v1,v2,text) STMT_START { \
^
/Users/stan/perl5/perlbrew/perls/perl-5.32.1/lib/5.32.1/darwin-2level/CORE/zaphod32_hash.h:171:5: warning: '}' and ')' tokens terminating statement expression appear in different macro expansion contexts [-Wcompound-token-split-by-macro]
ZAPHOD32_MIX(state[0],state[1],state[2],"ZAPHOD32 SEED-STATE B 5/5");
^~~~~~~~~~~~~~~~~~~~~~~~~~~~~~~~~~~~~~~~~~~~~~~~~~~~~~~~~~~~~~~~~~~~
/Users/stan/perl5/perlbrew/perls/perl-5.32.1/lib/5.32.1/darwin-2level/CORE/zaphod32_hash.h:124:32: note: expanded from macro 'ZAPHOD32_MIX'
v2 = ROTR32(v2, 7) ^ v0; \
^
/Users/stan/perl5/perlbrew/perls/perl-5.32.1/lib/5.32.1/darwin-2level/CORE/zaphod32_hash.h:171:5: note: ')' token is here
ZAPHOD32_MIX(state[0],state[1],state[2],"ZAPHOD32 SEED-STATE B 5/5");
^~~~~~~~~~~~~~~~~~~~~~~~~~~~~~~~~~~~~~~~~~~~~~~~~~~~~~~~~~~~~~~~~~~~
/Users/stan/perl5/perlbrew/perls/perl-5.32.1/lib/5.32.1/darwin-2level/CORE/zaphod32_hash.h:125:3: note: expanded from macro 'ZAPHOD32_MIX'
} STMT_END
^~~~~~~~
/Users/stan/perl5/perlbrew/perls/perl-5.32.1/lib/5.32.1/darwin-2level/CORE/perl.h:667:21: note: expanded from macro 'STMT_END'
# define STMT_END )
^
In file included from Cwd.xs:8:
In file included from /Users/stan/perl5/perlbrew/perls/perl-5.32.1/lib/5.32.1/darwin-2level/CORE/perl.h:3921:
In file included from /Users/stan/perl5/perlbrew/perls/perl-5.32.1/lib/5.32.1/darwin-2level/CORE/hv.h:663:
In file included from /Users/stan/perl5/perlbrew/perls/perl-5.32.1/lib/5.32.1/darwin-2level/CORE/hv_func.h:35:
In file included from /Users/stan/perl5/perlbrew/perls/perl-5.32.1/lib/5.32.1/darwin-2level/CORE/sbox32_hash.h:4:
/Users/stan/perl5/perlbrew/perls/perl-5.32.1/lib/5.32.1/darwin-2level/CORE/zaphod32_hash.h:247:13: warning: '(' and '{' tokens introducing statement expression appear in different macro expansion contexts [-Wcompound-token-split-by-macro]
ZAPHOD32_MIX(v0,v1,v2,"MIX 2-WORDS A");
^~~~~~~~~~~~~~~~~~~~~~~~~~~~~~~~~~~~~~
/Users/stan/perl5/perlbrew/perls/perl-5.32.1/lib/5.32.1/darwin-2level/CORE/zaphod32_hash.h:116:37: note: expanded from macro 'ZAPHOD32_MIX'
#define ZAPHOD32_MIX(v0,v1,v2,text) STMT_START { \
^~~~~~~~~~
/Users/stan/perl5/perlbrew/perls/perl-5.32.1/lib/5.32.1/darwin-2level/CORE/perl.h:666:29: note: expanded from macro 'STMT_START'
# define STMT_START (void)( /* gcc supports "({ STATEMENTS; })" */
^
/Users/stan/perl5/perlbrew/perls/perl-5.32.1/lib/5.32.1/darwin-2level/CORE/zaphod32_hash.h:247:13: note: '{' token is here
ZAPHOD32_MIX(v0,v1,v2,"MIX 2-WORDS A");
^~~~~~~~~~~~~~~~~~~~~~~~~~~~~~~~~~~~~~
/Users/stan/perl5/perlbrew/perls/perl-5.32.1/lib/5.32.1/darwin-2level/CORE/zaphod32_hash.h:116:48: note: expanded from macro 'ZAPHOD32_MIX'
#define ZAPHOD32_MIX(v0,v1,v2,text) STMT_START { \
^
/Users/stan/perl5/perlbrew/perls/perl-5.32.1/lib/5.32.1/darwin-2level/CORE/zaphod32_hash.h:247:13: warning: '}' and ')' tokens terminating statement expression appear in different macro expansion contexts [-Wcompound-token-split-by-macro]
ZAPHOD32_MIX(v0,v1,v2,"MIX 2-WORDS A");
^~~~~~~~~~~~~~~~~~~~~~~~~~~~~~~~~~~~~~
/Users/stan/perl5/perlbrew/perls/perl-5.32.1/lib/5.32.1/darwin-2level/CORE/zaphod32_hash.h:124:32: note: expanded from macro 'ZAPHOD32_MIX'
v2 = ROTR32(v2, 7) ^ v0; \
^
/Users/stan/perl5/perlbrew/perls/perl-5.32.1/lib/5.32.1/darwin-2level/CORE/zaphod32_hash.h:247:13: note: ')' token is here
ZAPHOD32_MIX(v0,v1,v2,"MIX 2-WORDS A");
^~~~~~~~~~~~~~~~~~~~~~~~~~~~~~~~~~~~~~
/Users/stan/perl5/perlbrew/perls/perl-5.32.1/lib/5.32.1/darwin-2level/CORE/zaphod32_hash.h:125:3: note: expanded from macro 'ZAPHOD32_MIX'
} STMT_END
^~~~~~~~
/Users/stan/perl5/perlbrew/perls/perl-5.32.1/lib/5.32.1/darwin-2level/CORE/perl.h:667:21: note: expanded from macro 'STMT_END'
# define STMT_END )
^
In file included from Cwd.xs:8:
In file included from /Users/stan/perl5/perlbrew/perls/perl-5.32.1/lib/5.32.1/darwin-2level/CORE/perl.h:3921:
In file included from /Users/stan/perl5/perlbrew/perls/perl-5.32.1/lib/5.32.1/darwin-2level/CORE/hv.h:663:
In file included from /Users/stan/perl5/perlbrew/perls/perl-5.32.1/lib/5.32.1/darwin-2level/CORE/hv_func.h:35:
In file included from /Users/stan/perl5/perlbrew/perls/perl-5.32.1/lib/5.32.1/darwin-2level/CORE/sbox32_hash.h:4:
/Users/stan/perl5/perlbrew/perls/perl-5.32.1/lib/5.32.1/darwin-2level/CORE/zaphod32_hash.h:268:5: warning: '(' and '{' tokens introducing statement expression appear in different macro expansion contexts [-Wcompound-token-split-by-macro]
ZAPHOD32_FINALIZE(v0,v1,v2);
^~~~~~~~~~~~~~~~~~~~~~~~~~~
/Users/stan/perl5/perlbrew/perls/perl-5.32.1/lib/5.32.1/darwin-2level/CORE/zaphod32_hash.h:90:37: note: expanded from macro 'ZAPHOD32_FINALIZE'
#define ZAPHOD32_FINALIZE(v0,v1,v2) STMT_START { \
^~~~~~~~~~
/Users/stan/perl5/perlbrew/perls/perl-5.32.1/lib/5.32.1/darwin-2level/CORE/perl.h:666:29: note: expanded from macro 'STMT_START'
# define STMT_START (void)( /* gcc supports "({ STATEMENTS; })" */
^
/Users/stan/perl5/perlbrew/perls/perl-5.32.1/lib/5.32.1/darwin-2level/CORE/zaphod32_hash.h:268:5: note: '{' token is here
ZAPHOD32_FINALIZE(v0,v1,v2);
^~~~~~~~~~~~~~~~~~~~~~~~~~~
/Users/stan/perl5/perlbrew/perls/perl-5.32.1/lib/5.32.1/darwin-2level/CORE/zaphod32_hash.h:90:48: note: expanded from macro 'ZAPHOD32_FINALIZE'
#define ZAPHOD32_FINALIZE(v0,v1,v2) STMT_START { \
^
/Users/stan/perl5/perlbrew/perls/perl-5.32.1/lib/5.32.1/darwin-2level/CORE/zaphod32_hash.h:268:5: warning: '}' and ')' tokens terminating statement expression appear in different macro expansion contexts [-Wcompound-token-split-by-macro]
ZAPHOD32_FINALIZE(v0,v1,v2);
^~~~~~~~~~~~~~~~~~~~~~~~~~~
/Users/stan/perl5/perlbrew/perls/perl-5.32.1/lib/5.32.1/darwin-2level/CORE/zaphod32_hash.h:113:36: note: expanded from macro 'ZAPHOD32_FINALIZE'
v1 = ROTL32(v1, 17); \
^
/Users/stan/perl5/perlbrew/perls/perl-5.32.1/lib/5.32.1/darwin-2level/CORE/zaphod32_hash.h:268:5: note: ')' token is here
ZAPHOD32_FINALIZE(v0,v1,v2);
^~~~~~~~~~~~~~~~~~~~~~~~~~~
/Users/stan/perl5/perlbrew/perls/perl-5.32.1/lib/5.32.1/darwin-2level/CORE/zaphod32_hash.h:114:3: note: expanded from macro 'ZAPHOD32_FINALIZE'
} STMT_END
^~~~~~~~
/Users/stan/perl5/perlbrew/perls/perl-5.32.1/lib/5.32.1/darwin-2level/CORE/perl.h:667:21: note: expanded from macro 'STMT_END'
# define STMT_END )
^
In file included from Cwd.xs:8:
In file included from /Users/stan/perl5/perlbrew/perls/perl-5.32.1/lib/5.32.1/darwin-2level/CORE/perl.h:3921:
In file included from /Users/stan/perl5/perlbrew/perls/perl-5.32.1/lib/5.32.1/darwin-2level/CORE/hv.h:663:
In file included from /Users/stan/perl5/perlbrew/perls/perl-5.32.1/lib/5.32.1/darwin-2level/CORE/hv_func.h:35:
/Users/stan/perl5/perlbrew/perls/perl-5.32.1/lib/5.32.1/darwin-2level/CORE/sbox32_hash.h:1448:9: warning: '(' and '{' tokens introducing statement expression appear in different macro expansion contexts [-Wcompound-token-split-by-macro]
SBOX32_MIX3(s0,s1,s2,"SEED STATE");
^~~~~~~~~~~~~~~~~~~~~~~~~~~~~~~~~~
/Users/stan/perl5/perlbrew/perls/perl-5.32.1/lib/5.32.1/darwin-2level/CORE/sbox32_hash.h:99:36: note: expanded from macro 'SBOX32_MIX3'
#define SBOX32_MIX3(v0,v1,v2,text) STMT_START { \
^~~~~~~~~~
/Users/stan/perl5/perlbrew/perls/perl-5.32.1/lib/5.32.1/darwin-2level/CORE/perl.h:666:29: note: expanded from macro 'STMT_START'
# define STMT_START (void)( /* gcc supports "({ STATEMENTS; })" */
^
/Users/stan/perl5/perlbrew/perls/perl-5.32.1/lib/5.32.1/darwin-2level/CORE/sbox32_hash.h:1448:9: note: '{' token is here
SBOX32_MIX3(s0,s1,s2,"SEED STATE");
^~~~~~~~~~~~~~~~~~~~~~~~~~~~~~~~~~
/Users/stan/perl5/perlbrew/perls/perl-5.32.1/lib/5.32.1/darwin-2level/CORE/sbox32_hash.h:99:47: note: expanded from macro 'SBOX32_MIX3'
#define SBOX32_MIX3(v0,v1,v2,text) STMT_START { \
^
/Users/stan/perl5/perlbrew/perls/perl-5.32.1/lib/5.32.1/darwin-2level/CORE/sbox32_hash.h:1448:9: warning: '}' and ')' tokens terminating statement expression appear in different macro expansion contexts [-Wcompound-token-split-by-macro]
SBOX32_MIX3(s0,s1,s2,"SEED STATE");
^~~~~~~~~~~~~~~~~~~~~~~~~~~~~~~~~~
/Users/stan/perl5/perlbrew/perls/perl-5.32.1/lib/5.32.1/darwin-2level/CORE/sbox32_hash.h:107:32: note: expanded from macro 'SBOX32_MIX3'
v2 = ROTR32(v2, 7) ^ v0; \
^
/Users/stan/perl5/perlbrew/perls/perl-5.32.1/lib/5.32.1/darwin-2level/CORE/sbox32_hash.h:1448:9: note: ')' token is here
SBOX32_MIX3(s0,s1,s2,"SEED STATE");
^~~~~~~~~~~~~~~~~~~~~~~~~~~~~~~~~~
/Users/stan/perl5/perlbrew/perls/perl-5.32.1/lib/5.32.1/darwin-2level/CORE/sbox32_hash.h:108:3: note: expanded from macro 'SBOX32_MIX3'
} STMT_END
^~~~~~~~
/Users/stan/perl5/perlbrew/perls/perl-5.32.1/lib/5.32.1/darwin-2level/CORE/perl.h:667:21: note: expanded from macro 'STMT_END'
# define STMT_END )
^
In file included from Cwd.xs:8:
In file included from /Users/stan/perl5/perlbrew/perls/perl-5.32.1/lib/5.32.1/darwin-2level/CORE/perl.h:3921:
In file included from /Users/stan/perl5/perlbrew/perls/perl-5.32.1/lib/5.32.1/darwin-2level/CORE/hv.h:663:
In file included from /Users/stan/perl5/perlbrew/perls/perl-5.32.1/lib/5.32.1/darwin-2level/CORE/hv_func.h:35:
/Users/stan/perl5/perlbrew/perls/perl-5.32.1/lib/5.32.1/darwin-2level/CORE/sbox32_hash.h:1453:13: warning: '(' and '{' tokens introducing statement expression appear in different macro expansion contexts [-Wcompound-token-split-by-macro]
XORSHIFT96_set(*state_cursor,s0,s1,s2,t1);
^~~~~~~~~~~~~~~~~~~~~~~~~~~~~~~~~~~~~~~~~
/Users/stan/perl5/perlbrew/perls/perl-5.32.1/lib/5.32.1/darwin-2level/CORE/sbox32_hash.h:1393:35: note: expanded from macro 'XORSHIFT96_set'
#define XORSHIFT96_set(r,x,y,z,t) STMT_START { \
^~~~~~~~~~
/Users/stan/perl5/perlbrew/perls/perl-5.32.1/lib/5.32.1/darwin-2level/CORE/perl.h:666:29: note: expanded from macro 'STMT_START'
# define STMT_START (void)( /* gcc supports "({ STATEMENTS; })" */
^
/Users/stan/perl5/perlbrew/perls/perl-5.32.1/lib/5.32.1/darwin-2level/CORE/sbox32_hash.h:1453:13: note: '{' token is here
XORSHIFT96_set(*state_cursor,s0,s1,s2,t1);
^~~~~~~~~~~~~~~~~~~~~~~~~~~~~~~~~~~~~~~~~
/Users/stan/perl5/perlbrew/perls/perl-5.32.1/lib/5.32.1/darwin-2level/CORE/sbox32_hash.h:1393:46: note: expanded from macro 'XORSHIFT96_set'
#define XORSHIFT96_set(r,x,y,z,t) STMT_START { \
^
/Users/stan/perl5/perlbrew/perls/perl-5.32.1/lib/5.32.1/darwin-2level/CORE/sbox32_hash.h:1453:13: warning: '}' and ')' tokens terminating statement expression appear in different macro expansion contexts [-Wcompound-token-split-by-macro]
XORSHIFT96_set(*state_cursor,s0,s1,s2,t1);
^~~~~~~~~~~~~~~~~~~~~~~~~~~~~~~~~~~~~~~~~
/Users/stan/perl5/perlbrew/perls/perl-5.32.1/lib/5.32.1/darwin-2level/CORE/sbox32_hash.h:1396:57: note: expanded from macro 'XORSHIFT96_set'
r = z = (z ^ ( z >> 26 ) ) ^ ( t ^ ( t >> 5 ) ); \
^
/Users/stan/perl5/perlbrew/perls/perl-5.32.1/lib/5.32.1/darwin-2level/CORE/sbox32_hash.h:1453:13: note: ')' token is here
XORSHIFT96_set(*state_cursor,s0,s1,s2,t1);
^~~~~~~~~~~~~~~~~~~~~~~~~~~~~~~~~~~~~~~~~
/Users/stan/perl5/perlbrew/perls/perl-5.32.1/lib/5.32.1/darwin-2level/CORE/sbox32_hash.h:1397:3: note: expanded from macro 'XORSHIFT96_set'
} STMT_END
^~~~~~~~
/Users/stan/perl5/perlbrew/perls/perl-5.32.1/lib/5.32.1/darwin-2level/CORE/perl.h:667:21: note: expanded from macro 'STMT_END'
# define STMT_END )
^
In file included from Cwd.xs:8:
In file included from /Users/stan/perl5/perlbrew/perls/perl-5.32.1/lib/5.32.1/darwin-2level/CORE/perl.h:3921:
In file included from /Users/stan/perl5/perlbrew/perls/perl-5.32.1/lib/5.32.1/darwin-2level/CORE/hv.h:663:
In file included from /Users/stan/perl5/perlbrew/perls/perl-5.32.1/lib/5.32.1/darwin-2level/CORE/hv_func.h:35:
/Users/stan/perl5/perlbrew/perls/perl-5.32.1/lib/5.32.1/darwin-2level/CORE/sbox32_hash.h:1456:5: warning: '(' and '{' tokens introducing statement expression appear in different macro expansion contexts [-Wcompound-token-split-by-macro]
XORSHIFT96_set(*state,s0,s1,s2,t2);
^~~~~~~~~~~~~~~~~~~~~~~~~~~~~~~~~~
/Users/stan/perl5/perlbrew/perls/perl-5.32.1/lib/5.32.1/darwin-2level/CORE/sbox32_hash.h:1393:35: note: expanded from macro 'XORSHIFT96_set'
#define XORSHIFT96_set(r,x,y,z,t) STMT_START { \
^~~~~~~~~~
/Users/stan/perl5/perlbrew/perls/perl-5.32.1/lib/5.32.1/darwin-2level/CORE/perl.h:666:29: note: expanded from macro 'STMT_START'
# define STMT_START (void)( /* gcc supports "({ STATEMENTS; })" */
^
/Users/stan/perl5/perlbrew/perls/perl-5.32.1/lib/5.32.1/darwin-2level/CORE/sbox32_hash.h:1456:5: note: '{' token is here
XORSHIFT96_set(*state,s0,s1,s2,t2);
^~~~~~~~~~~~~~~~~~~~~~~~~~~~~~~~~~
/Users/stan/perl5/perlbrew/perls/perl-5.32.1/lib/5.32.1/darwin-2level/CORE/sbox32_hash.h:1393:46: note: expanded from macro 'XORSHIFT96_set'
#define XORSHIFT96_set(r,x,y,z,t) STMT_START { \
^
/Users/stan/perl5/perlbrew/perls/perl-5.32.1/lib/5.32.1/darwin-2level/CORE/sbox32_hash.h:1456:5: warning: '}' and ')' tokens terminating statement expression appear in different macro expansion contexts [-Wcompound-token-split-by-macro]
XORSHIFT96_set(*state,s0,s1,s2,t2);
^~~~~~~~~~~~~~~~~~~~~~~~~~~~~~~~~~
/Users/stan/perl5/perlbrew/perls/perl-5.32.1/lib/5.32.1/darwin-2level/CORE/sbox32_hash.h:1396:57: note: expanded from macro 'XORSHIFT96_set'
r = z = (z ^ ( z >> 26 ) ) ^ ( t ^ ( t >> 5 ) ); \
^
/Users/stan/perl5/perlbrew/perls/perl-5.32.1/lib/5.32.1/darwin-2level/CORE/sbox32_hash.h:1456:5: note: ')' token is here
XORSHIFT96_set(*state,s0,s1,s2,t2);
^~~~~~~~~~~~~~~~~~~~~~~~~~~~~~~~~~
/Users/stan/perl5/perlbrew/perls/perl-5.32.1/lib/5.32.1/darwin-2level/CORE/sbox32_hash.h:1397:3: note: expanded from macro 'XORSHIFT96_set'
} STMT_END
^~~~~~~~
/Users/stan/perl5/perlbrew/perls/perl-5.32.1/lib/5.32.1/darwin-2level/CORE/perl.h:667:21: note: expanded from macro 'STMT_END'
# define STMT_END )
^
In file included from Cwd.xs:8:
In file included from /Users/stan/perl5/perlbrew/perls/perl-5.32.1/lib/5.32.1/darwin-2level/CORE/perl.h:3921:
In file included from /Users/stan/perl5/perlbrew/perls/perl-5.32.1/lib/5.32.1/darwin-2level/CORE/hv.h:663:
In file included from /Users/stan/perl5/perlbrew/perls/perl-5.32.1/lib/5.32.1/darwin-2level/CORE/hv_func.h:35:
/Users/stan/perl5/perlbrew/perls/perl-5.32.1/lib/5.32.1/darwin-2level/CORE/sbox32_hash.h:1482:9: warning: '(' and '{' tokens introducing statement expression appear in different macro expansion contexts [-Wcompound-token-split-by-macro]
SBOX32_MIX4(s0,s1,s2,s3,"SEED STATE");
^~~~~~~~~~~~~~~~~~~~~~~~~~~~~~~~~~~~~
/Users/stan/perl5/perlbrew/perls/perl-5.32.1/lib/5.32.1/darwin-2level/CORE/sbox32_hash.h:85:39: note: expanded from macro 'SBOX32_MIX4'
#define SBOX32_MIX4(v0,v1,v2,v3,text) STMT_START { \
^~~~~~~~~~
/Users/stan/perl5/perlbrew/perls/perl-5.32.1/lib/5.32.1/darwin-2level/CORE/perl.h:666:29: note: expanded from macro 'STMT_START'
# define STMT_START (void)( /* gcc supports "({ STATEMENTS; })" */
^
/Users/stan/perl5/perlbrew/perls/perl-5.32.1/lib/5.32.1/darwin-2level/CORE/sbox32_hash.h:1482:9: note: '{' token is here
SBOX32_MIX4(s0,s1,s2,s3,"SEED STATE");
^~~~~~~~~~~~~~~~~~~~~~~~~~~~~~~~~~~~~
/Users/stan/perl5/perlbrew/perls/perl-5.32.1/lib/5.32.1/darwin-2level/CORE/sbox32_hash.h:85:50: note: expanded from macro 'SBOX32_MIX4'
#define SBOX32_MIX4(v0,v1,v2,v3,text) STMT_START { \
^
/Users/stan/perl5/perlbrew/perls/perl-5.32.1/lib/5.32.1/darwin-2level/CORE/sbox32_hash.h:1482:9: warning: '}' and ')' tokens terminating statement expression appear in different macro expansion contexts [-Wcompound-token-split-by-macro]
SBOX32_MIX4(s0,s1,s2,s3,"SEED STATE");
^~~~~~~~~~~~~~~~~~~~~~~~~~~~~~~~~~~~~
/Users/stan/perl5/perlbrew/perls/perl-5.32.1/lib/5.32.1/darwin-2level/CORE/sbox32_hash.h:96:37: note: expanded from macro 'SBOX32_MIX4'
v2 = ROTL32(v2, 4) - v0; \
^
/Users/stan/perl5/perlbrew/perls/perl-5.32.1/lib/5.32.1/darwin-2level/CORE/sbox32_hash.h:1482:9: note: ')' token is here
SBOX32_MIX4(s0,s1,s2,s3,"SEED STATE");
^~~~~~~~~~~~~~~~~~~~~~~~~~~~~~~~~~~~~
/Users/stan/perl5/perlbrew/perls/perl-5.32.1/lib/5.32.1/darwin-2level/CORE/sbox32_hash.h:97:3: note: expanded from macro 'SBOX32_MIX4'
} STMT_END
^~~~~~~~
/Users/stan/perl5/perlbrew/perls/perl-5.32.1/lib/5.32.1/darwin-2level/CORE/perl.h:667:21: note: expanded from macro 'STMT_END'
# define STMT_END )
^
In file included from Cwd.xs:8:
In file included from /Users/stan/perl5/perlbrew/perls/perl-5.32.1/lib/5.32.1/darwin-2level/CORE/perl.h:3921:
In file included from /Users/stan/perl5/perlbrew/perls/perl-5.32.1/lib/5.32.1/darwin-2level/CORE/hv.h:663:
In file included from /Users/stan/perl5/perlbrew/perls/perl-5.32.1/lib/5.32.1/darwin-2level/CORE/hv_func.h:35:
/Users/stan/perl5/perlbrew/perls/perl-5.32.1/lib/5.32.1/darwin-2level/CORE/sbox32_hash.h:1487:13: warning: '(' and '{' tokens introducing statement expression appear in different macro expansion contexts [-Wcompound-token-split-by-macro]
XORSHIFT128_set(*state_cursor,s0,s1,s2,s3,t1);
^~~~~~~~~~~~~~~~~~~~~~~~~~~~~~~~~~~~~~~~~~~~~
/Users/stan/perl5/perlbrew/perls/perl-5.32.1/lib/5.32.1/darwin-2level/CORE/sbox32_hash.h:1399:38: note: expanded from macro 'XORSHIFT128_set'
#define XORSHIFT128_set(r,x,y,z,w,t) STMT_START { \
^~~~~~~~~~
/Users/stan/perl5/perlbrew/perls/perl-5.32.1/lib/5.32.1/darwin-2level/CORE/perl.h:666:29: note: expanded from macro 'STMT_START'
# define STMT_START (void)( /* gcc supports "({ STATEMENTS; })" */
^
/Users/stan/perl5/perlbrew/perls/perl-5.32.1/lib/5.32.1/darwin-2level/CORE/sbox32_hash.h:1487:13: note: '{' token is here
XORSHIFT128_set(*state_cursor,s0,s1,s2,s3,t1);
^~~~~~~~~~~~~~~~~~~~~~~~~~~~~~~~~~~~~~~~~~~~~
/Users/stan/perl5/perlbrew/perls/perl-5.32.1/lib/5.32.1/darwin-2level/CORE/sbox32_hash.h:1399:49: note: expanded from macro 'XORSHIFT128_set'
#define XORSHIFT128_set(r,x,y,z,w,t) STMT_START { \
^
/Users/stan/perl5/perlbrew/perls/perl-5.32.1/lib/5.32.1/darwin-2level/CORE/sbox32_hash.h:1487:13: warning: '}' and ')' tokens terminating statement expression appear in different macro expansion contexts [-Wcompound-token-split-by-macro]
XORSHIFT128_set(*state_cursor,s0,s1,s2,s3,t1);
^~~~~~~~~~~~~~~~~~~~~~~~~~~~~~~~~~~~~~~~~~~~~
/Users/stan/perl5/perlbrew/perls/perl-5.32.1/lib/5.32.1/darwin-2level/CORE/sbox32_hash.h:1402:57: note: expanded from macro 'XORSHIFT128_set'
r = w = ( w ^ ( w >> 29 ) ) ^ ( t ^ ( t >> 12 ) ); \
^
/Users/stan/perl5/perlbrew/perls/perl-5.32.1/lib/5.32.1/darwin-2level/CORE/sbox32_hash.h:1487:13: note: ')' token is here
XORSHIFT128_set(*state_cursor,s0,s1,s2,s3,t1);
^~~~~~~~~~~~~~~~~~~~~~~~~~~~~~~~~~~~~~~~~~~~~
/Users/stan/perl5/perlbrew/perls/perl-5.32.1/lib/5.32.1/darwin-2level/CORE/sbox32_hash.h:1403:3: note: expanded from macro 'XORSHIFT128_set'
} STMT_END
^~~~~~~~
/Users/stan/perl5/perlbrew/perls/perl-5.32.1/lib/5.32.1/darwin-2level/CORE/perl.h:667:21: note: expanded from macro 'STMT_END'
# define STMT_END )
^
In file included from Cwd.xs:8:
In file included from /Users/stan/perl5/perlbrew/perls/perl-5.32.1/lib/5.32.1/darwin-2level/CORE/perl.h:3921:
In file included from /Users/stan/perl5/perlbrew/perls/perl-5.32.1/lib/5.32.1/darwin-2level/CORE/hv.h:663:
In file included from /Users/stan/perl5/perlbrew/perls/perl-5.32.1/lib/5.32.1/darwin-2level/CORE/hv_func.h:35:
/Users/stan/perl5/perlbrew/perls/perl-5.32.1/lib/5.32.1/darwin-2level/CORE/sbox32_hash.h:1490:5: warning: '(' and '{' tokens introducing statement expression appear in different macro expansion contexts [-Wcompound-token-split-by-macro]
XORSHIFT128_set(*state,s0,s1,s2,s3,t2);
^~~~~~~~~~~~~~~~~~~~~~~~~~~~~~~~~~~~~~
/Users/stan/perl5/perlbrew/perls/perl-5.32.1/lib/5.32.1/darwin-2level/CORE/sbox32_hash.h:1399:38: note: expanded from macro 'XORSHIFT128_set'
#define XORSHIFT128_set(r,x,y,z,w,t) STMT_START { \
^~~~~~~~~~
/Users/stan/perl5/perlbrew/perls/perl-5.32.1/lib/5.32.1/darwin-2level/CORE/perl.h:666:29: note: expanded from macro 'STMT_START'
# define STMT_START (void)( /* gcc supports "({ STATEMENTS; })" */
^
/Users/stan/perl5/perlbrew/perls/perl-5.32.1/lib/5.32.1/darwin-2level/CORE/sbox32_hash.h:1490:5: note: '{' token is here
XORSHIFT128_set(*state,s0,s1,s2,s3,t2);
^~~~~~~~~~~~~~~~~~~~~~~~~~~~~~~~~~~~~~
/Users/stan/perl5/perlbrew/perls/perl-5.32.1/lib/5.32.1/darwin-2level/CORE/sbox32_hash.h:1399:49: note: expanded from macro 'XORSHIFT128_set'
#define XORSHIFT128_set(r,x,y,z,w,t) STMT_START { \
^
/Users/stan/perl5/perlbrew/perls/perl-5.32.1/lib/5.32.1/darwin-2level/CORE/sbox32_hash.h:1490:5: warning: '}' and ')' tokens terminating statement expression appear in different macro expansion contexts [-Wcompound-token-split-by-macro]
XORSHIFT128_set(*state,s0,s1,s2,s3,t2);
^~~~~~~~~~~~~~~~~~~~~~~~~~~~~~~~~~~~~~
/Users/stan/perl5/perlbrew/perls/perl-5.32.1/lib/5.32.1/darwin-2level/CORE/sbox32_hash.h:1402:57: note: expanded from macro 'XORSHIFT128_set'
r = w = ( w ^ ( w >> 29 ) ) ^ ( t ^ ( t >> 12 ) ); \
^
/Users/stan/perl5/perlbrew/perls/perl-5.32.1/lib/5.32.1/darwin-2level/CORE/sbox32_hash.h:1490:5: note: ')' token is here
XORSHIFT128_set(*state,s0,s1,s2,s3,t2);
^~~~~~~~~~~~~~~~~~~~~~~~~~~~~~~~~~~~~~
/Users/stan/perl5/perlbrew/perls/perl-5.32.1/lib/5.32.1/darwin-2level/CORE/sbox32_hash.h:1403:3: note: expanded from macro 'XORSHIFT128_set'
} STMT_END
^~~~~~~~
/Users/stan/perl5/perlbrew/perls/perl-5.32.1/lib/5.32.1/darwin-2level/CORE/perl.h:667:21: note: expanded from macro 'STMT_END'
# define STMT_END )
^
In file included from Cwd.xs:8:
In file included from /Users/stan/perl5/perlbrew/perls/perl-5.32.1/lib/5.32.1/darwin-2level/CORE/perl.h:3921:
In file included from /Users/stan/perl5/perlbrew/perls/perl-5.32.1/lib/5.32.1/darwin-2level/CORE/hv.h:663:
In file included from /Users/stan/perl5/perlbrew/perls/perl-5.32.1/lib/5.32.1/darwin-2level/CORE/hv_func.h:55:
/Users/stan/perl5/perlbrew/perls/perl-5.32.1/lib/5.32.1/darwin-2level/CORE/stadtx_hash.h:113:5: warning: '(' and '{' tokens introducing statement expression appear in different macro expansion contexts [-Wcompound-token-split-by-macro]
STADTX_SCRAMBLE64(state[0],UINT64_C(0x801178846e899d17));
^~~~~~~~~~~~~~~~~~~~~~~~~~~~~~~~~~~~~~~~~~~~~~~~~~~~~~~~
/Users/stan/perl5/perlbrew/perls/perl-5.32.1/lib/5.32.1/darwin-2level/CORE/stadtx_hash.h:72:36: note: expanded from macro 'STADTX_SCRAMBLE64'
#define STADTX_SCRAMBLE64(v,prime) STMT_START { \
^~~~~~~~~~
/Users/stan/perl5/perlbrew/perls/perl-5.32.1/lib/5.32.1/darwin-2level/CORE/perl.h:666:29: note: expanded from macro 'STMT_START'
# define STMT_START (void)( /* gcc supports "({ STATEMENTS; })" */
^
/Users/stan/perl5/perlbrew/perls/perl-5.32.1/lib/5.32.1/darwin-2level/CORE/stadtx_hash.h:113:5: note: '{' token is here
STADTX_SCRAMBLE64(state[0],UINT64_C(0x801178846e899d17));
^~~~~~~~~~~~~~~~~~~~~~~~~~~~~~~~~~~~~~~~~~~~~~~~~~~~~~~~
/Users/stan/perl5/perlbrew/perls/perl-5.32.1/lib/5.32.1/darwin-2level/CORE/stadtx_hash.h:72:47: note: expanded from macro 'STADTX_SCRAMBLE64'
#define STADTX_SCRAMBLE64(v,prime) STMT_START { \
^
/Users/stan/perl5/perlbrew/perls/perl-5.32.1/lib/5.32.1/darwin-2level/CORE/stadtx_hash.h:113:5: warning: '}' and ')' tokens terminating statement expression appear in different macro expansion contexts [-Wcompound-token-split-by-macro]
STADTX_SCRAMBLE64(state[0],UINT64_C(0x801178846e899d17));
^~~~~~~~~~~~~~~~~~~~~~~~~~~~~~~~~~~~~~~~~~~~~~~~~~~~~~~~
/Users/stan/perl5/perlbrew/perls/perl-5.32.1/lib/5.32.1/darwin-2level/CORE/stadtx_hash.h:79:45: note: expanded from macro 'STADTX_SCRAMBLE64'
v ^= (v >> 46); \
^
/Users/stan/perl5/perlbrew/perls/perl-5.32.1/lib/5.32.1/darwin-2level/CORE/stadtx_hash.h:113:5: note: ')' token is here
STADTX_SCRAMBLE64(state[0],UINT64_C(0x801178846e899d17));
^~~~~~~~~~~~~~~~~~~~~~~~~~~~~~~~~~~~~~~~~~~~~~~~~~~~~~~~
/Users/stan/perl5/perlbrew/perls/perl-5.32.1/lib/5.32.1/darwin-2level/CORE/stadtx_hash.h:80:3: note: expanded from macro 'STADTX_SCRAMBLE64'
} STMT_END
^~~~~~~~
/Users/stan/perl5/perlbrew/perls/perl-5.32.1/lib/5.32.1/darwin-2level/CORE/perl.h:667:21: note: expanded from macro 'STMT_END'
# define STMT_END )
^
In file included from Cwd.xs:8:
In file included from /Users/stan/perl5/perlbrew/perls/perl-5.32.1/lib/5.32.1/darwin-2level/CORE/perl.h:3921:
In file included from /Users/stan/perl5/perlbrew/perls/perl-5.32.1/lib/5.32.1/darwin-2level/CORE/hv.h:663:
In file included from /Users/stan/perl5/perlbrew/perls/perl-5.32.1/lib/5.32.1/darwin-2level/CORE/hv_func.h:55:
/Users/stan/perl5/perlbrew/perls/perl-5.32.1/lib/5.32.1/darwin-2level/CORE/stadtx_hash.h:114:5: warning: '(' and '{' tokens introducing statement expression appear in different macro expansion contexts [-Wcompound-token-split-by-macro]
STADTX_SCRAMBLE64(state[0],UINT64_C(0xdd51e5d1c9a5a151));
^~~~~~~~~~~~~~~~~~~~~~~~~~~~~~~~~~~~~~~~~~~~~~~~~~~~~~~~
/Users/stan/perl5/perlbrew/perls/perl-5.32.1/lib/5.32.1/darwin-2level/CORE/stadtx_hash.h:72:36: note: expanded from macro 'STADTX_SCRAMBLE64'
#define STADTX_SCRAMBLE64(v,prime) STMT_START { \
^~~~~~~~~~
/Users/stan/perl5/perlbrew/perls/perl-5.32.1/lib/5.32.1/darwin-2level/CORE/perl.h:666:29: note: expanded from macro 'STMT_START'
# define STMT_START (void)( /* gcc supports "({ STATEMENTS; })" */
^
/Users/stan/perl5/perlbrew/perls/perl-5.32.1/lib/5.32.1/darwin-2level/CORE/stadtx_hash.h:114:5: note: '{' token is here
STADTX_SCRAMBLE64(state[0],UINT64_C(0xdd51e5d1c9a5a151));
^~~~~~~~~~~~~~~~~~~~~~~~~~~~~~~~~~~~~~~~~~~~~~~~~~~~~~~~
/Users/stan/perl5/perlbrew/perls/perl-5.32.1/lib/5.32.1/darwin-2level/CORE/stadtx_hash.h:72:47: note: expanded from macro 'STADTX_SCRAMBLE64'
#define STADTX_SCRAMBLE64(v,prime) STMT_START { \
^
/Users/stan/perl5/perlbrew/perls/perl-5.32.1/lib/5.32.1/darwin-2level/CORE/stadtx_hash.h:114:5: warning: '}' and ')' tokens terminating statement expression appear in different macro expansion contexts [-Wcompound-token-split-by-macro]
STADTX_SCRAMBLE64(state[0],UINT64_C(0xdd51e5d1c9a5a151));
^~~~~~~~~~~~~~~~~~~~~~~~~~~~~~~~~~~~~~~~~~~~~~~~~~~~~~~~
/Users/stan/perl5/perlbrew/perls/perl-5.32.1/lib/5.32.1/darwin-2level/CORE/stadtx_hash.h:79:45: note: expanded from macro 'STADTX_SCRAMBLE64'
v ^= (v >> 46); \
^
/Users/stan/perl5/perlbrew/perls/perl-5.32.1/lib/5.32.1/darwin-2level/CORE/stadtx_hash.h:114:5: note: ')' token is here
STADTX_SCRAMBLE64(state[0],UINT64_C(0xdd51e5d1c9a5a151));
^~~~~~~~~~~~~~~~~~~~~~~~~~~~~~~~~~~~~~~~~~~~~~~~~~~~~~~~
/Users/stan/perl5/perlbrew/perls/perl-5.32.1/lib/5.32.1/darwin-2level/CORE/stadtx_hash.h:80:3: note: expanded from macro 'STADTX_SCRAMBLE64'
} STMT_END
^~~~~~~~
/Users/stan/perl5/perlbrew/perls/perl-5.32.1/lib/5.32.1/darwin-2level/CORE/perl.h:667:21: note: expanded from macro 'STMT_END'
# define STMT_END )
^
In file included from Cwd.xs:8:
In file included from /Users/stan/perl5/perlbrew/perls/perl-5.32.1/lib/5.32.1/darwin-2level/CORE/perl.h:3921:
In file included from /Users/stan/perl5/perlbrew/perls/perl-5.32.1/lib/5.32.1/darwin-2level/CORE/hv.h:663:
In file included from /Users/stan/perl5/perlbrew/perls/perl-5.32.1/lib/5.32.1/darwin-2level/CORE/hv_func.h:55:
/Users/stan/perl5/perlbrew/perls/perl-5.32.1/lib/5.32.1/darwin-2level/CORE/stadtx_hash.h:115:5: warning: '(' and '{' tokens introducing statement expression appear in different macro expansion contexts [-Wcompound-token-split-by-macro]
STADTX_SCRAMBLE64(state[1],UINT64_C(0x93a7d6c8c62e4835));
^~~~~~~~~~~~~~~~~~~~~~~~~~~~~~~~~~~~~~~~~~~~~~~~~~~~~~~~
/Users/stan/perl5/perlbrew/perls/perl-5.32.1/lib/5.32.1/darwin-2level/CORE/stadtx_hash.h:72:36: note: expanded from macro 'STADTX_SCRAMBLE64'
#define STADTX_SCRAMBLE64(v,prime) STMT_START { \
^~~~~~~~~~
/Users/stan/perl5/perlbrew/perls/perl-5.32.1/lib/5.32.1/darwin-2level/CORE/perl.h:666:29: note: expanded from macro 'STMT_START'
# define STMT_START (void)( /* gcc supports "({ STATEMENTS; })" */
^
/Users/stan/perl5/perlbrew/perls/perl-5.32.1/lib/5.32.1/darwin-2level/CORE/stadtx_hash.h:115:5: note: '{' token is here
STADTX_SCRAMBLE64(state[1],UINT64_C(0x93a7d6c8c62e4835));
^~~~~~~~~~~~~~~~~~~~~~~~~~~~~~~~~~~~~~~~~~~~~~~~~~~~~~~~
/Users/stan/perl5/perlbrew/perls/perl-5.32.1/lib/5.32.1/darwin-2level/CORE/stadtx_hash.h:72:47: note: expanded from macro 'STADTX_SCRAMBLE64'
#define STADTX_SCRAMBLE64(v,prime) STMT_START { \
^
/Users/stan/perl5/perlbrew/perls/perl-5.32.1/lib/5.32.1/darwin-2level/CORE/stadtx_hash.h:115:5: warning: '}' and ')' tokens terminating statement expression appear in different macro expansion contexts [-Wcompound-token-split-by-macro]
STADTX_SCRAMBLE64(state[1],UINT64_C(0x93a7d6c8c62e4835));
^~~~~~~~~~~~~~~~~~~~~~~~~~~~~~~~~~~~~~~~~~~~~~~~~~~~~~~~
/Users/stan/perl5/perlbrew/perls/perl-5.32.1/lib/5.32.1/darwin-2level/CORE/stadtx_hash.h:79:45: note: expanded from macro 'STADTX_SCRAMBLE64'
v ^= (v >> 46); \
^
/Users/stan/perl5/perlbrew/perls/perl-5.32.1/lib/5.32.1/darwin-2level/CORE/stadtx_hash.h:115:5: note: ')' token is here
STADTX_SCRAMBLE64(state[1],UINT64_C(0x93a7d6c8c62e4835));
^~~~~~~~~~~~~~~~~~~~~~~~~~~~~~~~~~~~~~~~~~~~~~~~~~~~~~~~
/Users/stan/perl5/perlbrew/perls/perl-5.32.1/lib/5.32.1/darwin-2level/CORE/stadtx_hash.h:80:3: note: expanded from macro 'STADTX_SCRAMBLE64'
} STMT_END
^~~~~~~~
/Users/stan/perl5/perlbrew/perls/perl-5.32.1/lib/5.32.1/darwin-2level/CORE/perl.h:667:21: note: expanded from macro 'STMT_END'
# define STMT_END )
^
In file included from Cwd.xs:8:
In file included from /Users/stan/perl5/perlbrew/perls/perl-5.32.1/lib/5.32.1/darwin-2level/CORE/perl.h:3921:
In file included from /Users/stan/perl5/perlbrew/perls/perl-5.32.1/lib/5.32.1/darwin-2level/CORE/hv.h:663:
In file included from /Users/stan/perl5/perlbrew/perls/perl-5.32.1/lib/5.32.1/darwin-2level/CORE/hv_func.h:55:
/Users/stan/perl5/perlbrew/perls/perl-5.32.1/lib/5.32.1/darwin-2level/CORE/stadtx_hash.h:116:5: warning: '(' and '{' tokens introducing statement expression appear in different macro expansion contexts [-Wcompound-token-split-by-macro]
STADTX_SCRAMBLE64(state[1],UINT64_C(0x803340f36895c2b5));
^~~~~~~~~~~~~~~~~~~~~~~~~~~~~~~~~~~~~~~~~~~~~~~~~~~~~~~~
/Users/stan/perl5/perlbrew/perls/perl-5.32.1/lib/5.32.1/darwin-2level/CORE/stadtx_hash.h:72:36: note: expanded from macro 'STADTX_SCRAMBLE64'
#define STADTX_SCRAMBLE64(v,prime) STMT_START { \
^~~~~~~~~~
/Users/stan/perl5/perlbrew/perls/perl-5.32.1/lib/5.32.1/darwin-2level/CORE/perl.h:666:29: note: expanded from macro 'STMT_START'
# define STMT_START (void)( /* gcc supports "({ STATEMENTS; })" */
^
/Users/stan/perl5/perlbrew/perls/perl-5.32.1/lib/5.32.1/darwin-2level/CORE/stadtx_hash.h:116:5: note: '{' token is here
STADTX_SCRAMBLE64(state[1],UINT64_C(0x803340f36895c2b5));
^~~~~~~~~~~~~~~~~~~~~~~~~~~~~~~~~~~~~~~~~~~~~~~~~~~~~~~~
/Users/stan/perl5/perlbrew/perls/perl-5.32.1/lib/5.32.1/darwin-2level/CORE/stadtx_hash.h:72:47: note: expanded from macro 'STADTX_SCRAMBLE64'
#define STADTX_SCRAMBLE64(v,prime) STMT_START { \
^
/Users/stan/perl5/perlbrew/perls/perl-5.32.1/lib/5.32.1/darwin-2level/CORE/stadtx_hash.h:116:5: warning: '}' and ')' tokens terminating statement expression appear in different macro expansion contexts [-Wcompound-token-split-by-macro]
STADTX_SCRAMBLE64(state[1],UINT64_C(0x803340f36895c2b5));
^~~~~~~~~~~~~~~~~~~~~~~~~~~~~~~~~~~~~~~~~~~~~~~~~~~~~~~~
/Users/stan/perl5/perlbrew/perls/perl-5.32.1/lib/5.32.1/darwin-2level/CORE/stadtx_hash.h:79:45: note: expanded from macro 'STADTX_SCRAMBLE64'
v ^= (v >> 46); \
^
/Users/stan/perl5/perlbrew/perls/perl-5.32.1/lib/5.32.1/darwin-2level/CORE/stadtx_hash.h:116:5: note: ')' token is here
STADTX_SCRAMBLE64(state[1],UINT64_C(0x803340f36895c2b5));
^~~~~~~~~~~~~~~~~~~~~~~~~~~~~~~~~~~~~~~~~~~~~~~~~~~~~~~~
/Users/stan/perl5/perlbrew/perls/perl-5.32.1/lib/5.32.1/darwin-2level/CORE/stadtx_hash.h:80:3: note: expanded from macro 'STADTX_SCRAMBLE64'
} STMT_END
^~~~~~~~
/Users/stan/perl5/perlbrew/perls/perl-5.32.1/lib/5.32.1/darwin-2level/CORE/perl.h:667:21: note: expanded from macro 'STMT_END'
# define STMT_END )
^
In file included from Cwd.xs:8:
In file included from /Users/stan/perl5/perlbrew/perls/perl-5.32.1/lib/5.32.1/darwin-2level/CORE/perl.h:3921:
In file included from /Users/stan/perl5/perlbrew/perls/perl-5.32.1/lib/5.32.1/darwin-2level/CORE/hv.h:663:
In file included from /Users/stan/perl5/perlbrew/perls/perl-5.32.1/lib/5.32.1/darwin-2level/CORE/hv_func.h:55:
/Users/stan/perl5/perlbrew/perls/perl-5.32.1/lib/5.32.1/darwin-2level/CORE/stadtx_hash.h:117:5: warning: '(' and '{' tokens introducing statement expression appear in different macro expansion contexts [-Wcompound-token-split-by-macro]
STADTX_SCRAMBLE64(state[2],UINT64_C(0xbea9344eb7565eeb));
^~~~~~~~~~~~~~~~~~~~~~~~~~~~~~~~~~~~~~~~~~~~~~~~~~~~~~~~
/Users/stan/perl5/perlbrew/perls/perl-5.32.1/lib/5.32.1/darwin-2level/CORE/stadtx_hash.h:72:36: note: expanded from macro 'STADTX_SCRAMBLE64'
#define STADTX_SCRAMBLE64(v,prime) STMT_START { \
^~~~~~~~~~
/Users/stan/perl5/perlbrew/perls/perl-5.32.1/lib/5.32.1/darwin-2level/CORE/perl.h:666:29: note: expanded from macro 'STMT_START'
# define STMT_START (void)( /* gcc supports "({ STATEMENTS; })" */
^
/Users/stan/perl5/perlbrew/perls/perl-5.32.1/lib/5.32.1/darwin-2level/CORE/stadtx_hash.h:117:5: note: '{' token is here
STADTX_SCRAMBLE64(state[2],UINT64_C(0xbea9344eb7565eeb));
^~~~~~~~~~~~~~~~~~~~~~~~~~~~~~~~~~~~~~~~~~~~~~~~~~~~~~~~
/Users/stan/perl5/perlbrew/perls/perl-5.32.1/lib/5.32.1/darwin-2level/CORE/stadtx_hash.h:72:47: note: expanded from macro 'STADTX_SCRAMBLE64'
#define STADTX_SCRAMBLE64(v,prime) STMT_START { \
^
/Users/stan/perl5/perlbrew/perls/perl-5.32.1/lib/5.32.1/darwin-2level/CORE/stadtx_hash.h:117:5: warning: '}' and ')' tokens terminating statement expression appear in different macro expansion contexts [-Wcompound-token-split-by-macro]
STADTX_SCRAMBLE64(state[2],UINT64_C(0xbea9344eb7565eeb));
^~~~~~~~~~~~~~~~~~~~~~~~~~~~~~~~~~~~~~~~~~~~~~~~~~~~~~~~
/Users/stan/perl5/perlbrew/perls/perl-5.32.1/lib/5.32.1/darwin-2level/CORE/stadtx_hash.h:79:45: note: expanded from macro 'STADTX_SCRAMBLE64'
v ^= (v >> 46); \
^
/Users/stan/perl5/perlbrew/perls/perl-5.32.1/lib/5.32.1/darwin-2level/CORE/stadtx_hash.h:117:5: note: ')' token is here
STADTX_SCRAMBLE64(state[2],UINT64_C(0xbea9344eb7565eeb));
^~~~~~~~~~~~~~~~~~~~~~~~~~~~~~~~~~~~~~~~~~~~~~~~~~~~~~~~
/Users/stan/perl5/perlbrew/perls/perl-5.32.1/lib/5.32.1/darwin-2level/CORE/stadtx_hash.h:80:3: note: expanded from macro 'STADTX_SCRAMBLE64'
} STMT_END
^~~~~~~~
/Users/stan/perl5/perlbrew/perls/perl-5.32.1/lib/5.32.1/darwin-2level/CORE/perl.h:667:21: note: expanded from macro 'STMT_END'
# define STMT_END )
^
In file included from Cwd.xs:8:
In file included from /Users/stan/perl5/perlbrew/perls/perl-5.32.1/lib/5.32.1/darwin-2level/CORE/perl.h:3921:
In file included from /Users/stan/perl5/perlbrew/perls/perl-5.32.1/lib/5.32.1/darwin-2level/CORE/hv.h:663:
In file included from /Users/stan/perl5/perlbrew/perls/perl-5.32.1/lib/5.32.1/darwin-2level/CORE/hv_func.h:55:
/Users/stan/perl5/perlbrew/perls/perl-5.32.1/lib/5.32.1/darwin-2level/CORE/stadtx_hash.h:118:5: warning: '(' and '{' tokens introducing statement expression appear in different macro expansion contexts [-Wcompound-token-split-by-macro]
STADTX_SCRAMBLE64(state[2],UINT64_C(0xcd95d1e509b995cd));
^~~~~~~~~~~~~~~~~~~~~~~~~~~~~~~~~~~~~~~~~~~~~~~~~~~~~~~~
/Users/stan/perl5/perlbrew/perls/perl-5.32.1/lib/5.32.1/darwin-2level/CORE/stadtx_hash.h:72:36: note: expanded from macro 'STADTX_SCRAMBLE64'
#define STADTX_SCRAMBLE64(v,prime) STMT_START { \
^~~~~~~~~~
/Users/stan/perl5/perlbrew/perls/perl-5.32.1/lib/5.32.1/darwin-2level/CORE/perl.h:666:29: note: expanded from macro 'STMT_START'
# define STMT_START (void)( /* gcc supports "({ STATEMENTS; })" */
^
/Users/stan/perl5/perlbrew/perls/perl-5.32.1/lib/5.32.1/darwin-2level/CORE/stadtx_hash.h:118:5: note: '{' token is here
STADTX_SCRAMBLE64(state[2],UINT64_C(0xcd95d1e509b995cd));
^~~~~~~~~~~~~~~~~~~~~~~~~~~~~~~~~~~~~~~~~~~~~~~~~~~~~~~~
/Users/stan/perl5/perlbrew/perls/perl-5.32.1/lib/5.32.1/darwin-2level/CORE/stadtx_hash.h:72:47: note: expanded from macro 'STADTX_SCRAMBLE64'
#define STADTX_SCRAMBLE64(v,prime) STMT_START { \
^
/Users/stan/perl5/perlbrew/perls/perl-5.32.1/lib/5.32.1/darwin-2level/CORE/stadtx_hash.h:118:5: warning: '}' and ')' tokens terminating statement expression appear in different macro expansion contexts [-Wcompound-token-split-by-macro]
STADTX_SCRAMBLE64(state[2],UINT64_C(0xcd95d1e509b995cd));
^~~~~~~~~~~~~~~~~~~~~~~~~~~~~~~~~~~~~~~~~~~~~~~~~~~~~~~~
/Users/stan/perl5/perlbrew/perls/perl-5.32.1/lib/5.32.1/darwin-2level/CORE/stadtx_hash.h:79:45: note: expanded from macro 'STADTX_SCRAMBLE64'
v ^= (v >> 46); \
^
/Users/stan/perl5/perlbrew/perls/perl-5.32.1/lib/5.32.1/darwin-2level/CORE/stadtx_hash.h:118:5: note: ')' token is here
STADTX_SCRAMBLE64(state[2],UINT64_C(0xcd95d1e509b995cd));
^~~~~~~~~~~~~~~~~~~~~~~~~~~~~~~~~~~~~~~~~~~~~~~~~~~~~~~~
/Users/stan/perl5/perlbrew/perls/perl-5.32.1/lib/5.32.1/darwin-2level/CORE/stadtx_hash.h:80:3: note: expanded from macro 'STADTX_SCRAMBLE64'
} STMT_END
^~~~~~~~
/Users/stan/perl5/perlbrew/perls/perl-5.32.1/lib/5.32.1/darwin-2level/CORE/perl.h:667:21: note: expanded from macro 'STMT_END'
# define STMT_END )
^
In file included from Cwd.xs:8:
In file included from /Users/stan/perl5/perlbrew/perls/perl-5.32.1/lib/5.32.1/darwin-2level/CORE/perl.h:3921:
In file included from /Users/stan/perl5/perlbrew/perls/perl-5.32.1/lib/5.32.1/darwin-2level/CORE/hv.h:663:
In file included from /Users/stan/perl5/perlbrew/perls/perl-5.32.1/lib/5.32.1/darwin-2level/CORE/hv_func.h:55:
/Users/stan/perl5/perlbrew/perls/perl-5.32.1/lib/5.32.1/darwin-2level/CORE/stadtx_hash.h:119:5: warning: '(' and '{' tokens introducing statement expression appear in different macro expansion contexts [-Wcompound-token-split-by-macro]
STADTX_SCRAMBLE64(state[3],UINT64_C(0x9999791977e30c13));
^~~~~~~~~~~~~~~~~~~~~~~~~~~~~~~~~~~~~~~~~~~~~~~~~~~~~~~~
/Users/stan/perl5/perlbrew/perls/perl-5.32.1/lib/5.32.1/darwin-2level/CORE/stadtx_hash.h:72:36: note: expanded from macro 'STADTX_SCRAMBLE64'
#define STADTX_SCRAMBLE64(v,prime) STMT_START { \
^~~~~~~~~~
/Users/stan/perl5/perlbrew/perls/perl-5.32.1/lib/5.32.1/darwin-2level/CORE/perl.h:666:29: note: expanded from macro 'STMT_START'
# define STMT_START (void)( /* gcc supports "({ STATEMENTS; })" */
^
/Users/stan/perl5/perlbrew/perls/perl-5.32.1/lib/5.32.1/darwin-2level/CORE/stadtx_hash.h:119:5: note: '{' token is here
STADTX_SCRAMBLE64(state[3],UINT64_C(0x9999791977e30c13));
^~~~~~~~~~~~~~~~~~~~~~~~~~~~~~~~~~~~~~~~~~~~~~~~~~~~~~~~
/Users/stan/perl5/perlbrew/perls/perl-5.32.1/lib/5.32.1/darwin-2level/CORE/stadtx_hash.h:72:47: note: expanded from macro 'STADTX_SCRAMBLE64'
#define STADTX_SCRAMBLE64(v,prime) STMT_START { \
^
/Users/stan/perl5/perlbrew/perls/perl-5.32.1/lib/5.32.1/darwin-2level/CORE/stadtx_hash.h:119:5: warning: '}' and ')' tokens terminating statement expression appear in different macro expansion contexts [-Wcompound-token-split-by-macro]
STADTX_SCRAMBLE64(state[3],UINT64_C(0x9999791977e30c13));
^~~~~~~~~~~~~~~~~~~~~~~~~~~~~~~~~~~~~~~~~~~~~~~~~~~~~~~~
/Users/stan/perl5/perlbrew/perls/perl-5.32.1/lib/5.32.1/darwin-2level/CORE/stadtx_hash.h:79:45: note: expanded from macro 'STADTX_SCRAMBLE64'
v ^= (v >> 46); \
^
/Users/stan/perl5/perlbrew/perls/perl-5.32.1/lib/5.32.1/darwin-2level/CORE/stadtx_hash.h:119:5: note: ')' token is here
STADTX_SCRAMBLE64(state[3],UINT64_C(0x9999791977e30c13));
^~~~~~~~~~~~~~~~~~~~~~~~~~~~~~~~~~~~~~~~~~~~~~~~~~~~~~~~
/Users/stan/perl5/perlbrew/perls/perl-5.32.1/lib/5.32.1/darwin-2level/CORE/stadtx_hash.h:80:3: note: expanded from macro 'STADTX_SCRAMBLE64'
} STMT_END
^~~~~~~~
/Users/stan/perl5/perlbrew/perls/perl-5.32.1/lib/5.32.1/darwin-2level/CORE/perl.h:667:21: note: expanded from macro 'STMT_END'
# define STMT_END )
^
In file included from Cwd.xs:8:
In file included from /Users/stan/perl5/perlbrew/perls/perl-5.32.1/lib/5.32.1/darwin-2level/CORE/perl.h:3921:
In file included from /Users/stan/perl5/perlbrew/perls/perl-5.32.1/lib/5.32.1/darwin-2level/CORE/hv.h:663:
In file included from /Users/stan/perl5/perlbrew/perls/perl-5.32.1/lib/5.32.1/darwin-2level/CORE/hv_func.h:55:
/Users/stan/perl5/perlbrew/perls/perl-5.32.1/lib/5.32.1/darwin-2level/CORE/stadtx_hash.h:120:5: warning: '(' and '{' tokens introducing statement expression appear in different macro expansion contexts [-Wcompound-token-split-by-macro]
STADTX_SCRAMBLE64(state[3],UINT64_C(0xaab8b6b05abfc6cd));
^~~~~~~~~~~~~~~~~~~~~~~~~~~~~~~~~~~~~~~~~~~~~~~~~~~~~~~~
/Users/stan/perl5/perlbrew/perls/perl-5.32.1/lib/5.32.1/darwin-2level/CORE/stadtx_hash.h:72:36: note: expanded from macro 'STADTX_SCRAMBLE64'
#define STADTX_SCRAMBLE64(v,prime) STMT_START { \
^~~~~~~~~~
/Users/stan/perl5/perlbrew/perls/perl-5.32.1/lib/5.32.1/darwin-2level/CORE/perl.h:666:29: note: expanded from macro 'STMT_START'
# define STMT_START (void)( /* gcc supports "({ STATEMENTS; })" */
^
/Users/stan/perl5/perlbrew/perls/perl-5.32.1/lib/5.32.1/darwin-2level/CORE/stadtx_hash.h:120:5: note: '{' token is here
STADTX_SCRAMBLE64(state[3],UINT64_C(0xaab8b6b05abfc6cd));
^~~~~~~~~~~~~~~~~~~~~~~~~~~~~~~~~~~~~~~~~~~~~~~~~~~~~~~~
/Users/stan/perl5/perlbrew/perls/perl-5.32.1/lib/5.32.1/darwin-2level/CORE/stadtx_hash.h:72:47: note: expanded from macro 'STADTX_SCRAMBLE64'
#define STADTX_SCRAMBLE64(v,prime) STMT_START { \
^
/Users/stan/perl5/perlbrew/perls/perl-5.32.1/lib/5.32.1/darwin-2level/CORE/stadtx_hash.h:120:5: warning: '}' and ')' tokens terminating statement expression appear in different macro expansion contexts [-Wcompound-token-split-by-macro]
STADTX_SCRAMBLE64(state[3],UINT64_C(0xaab8b6b05abfc6cd));
^~~~~~~~~~~~~~~~~~~~~~~~~~~~~~~~~~~~~~~~~~~~~~~~~~~~~~~~
/Users/stan/perl5/perlbrew/perls/perl-5.32.1/lib/5.32.1/darwin-2level/CORE/stadtx_hash.h:79:45: note: expanded from macro 'STADTX_SCRAMBLE64'
v ^= (v >> 46); \
^
/Users/stan/perl5/perlbrew/perls/perl-5.32.1/lib/5.32.1/darwin-2level/CORE/stadtx_hash.h:120:5: note: ')' token is here
STADTX_SCRAMBLE64(state[3],UINT64_C(0xaab8b6b05abfc6cd));
^~~~~~~~~~~~~~~~~~~~~~~~~~~~~~~~~~~~~~~~~~~~~~~~~~~~~~~~
/Users/stan/perl5/perlbrew/perls/perl-5.32.1/lib/5.32.1/darwin-2level/CORE/stadtx_hash.h:80:3: note: expanded from macro 'STADTX_SCRAMBLE64'
} STMT_END
^~~~~~~~
/Users/stan/perl5/perlbrew/perls/perl-5.32.1/lib/5.32.1/darwin-2level/CORE/perl.h:667:21: note: expanded from macro 'STMT_END'
# define STMT_END )
^
In file included from Cwd.xs:8:
In file included from /Users/stan/perl5/perlbrew/perls/perl-5.32.1/lib/5.32.1/darwin-2level/CORE/perl.h:3921:
In file included from /Users/stan/perl5/perlbrew/perls/perl-5.32.1/lib/5.32.1/darwin-2level/CORE/hv.h:663:
/Users/stan/perl5/perlbrew/perls/perl-5.32.1/lib/5.32.1/darwin-2level/CORE/hv_func.h:107:5: warning: '(' and '{' tokens introducing statement expression appear in different macro expansion contexts [-Wcompound-token-split-by-macro]
_PERL_HASH_SEED_STATE(seed,state);
^~~~~~~~~~~~~~~~~~~~~~~~~~~~~~~~~
/Users/stan/perl5/perlbrew/perls/perl-5.32.1/lib/5.32.1/darwin-2level/CORE/hv_func.h:91:43: note: expanded from macro '_PERL_HASH_SEED_STATE'
#define _PERL_HASH_SEED_STATE(seed,state) STMT_START { \
^~~~~~~~~~
/Users/stan/perl5/perlbrew/perls/perl-5.32.1/lib/5.32.1/darwin-2level/CORE/perl.h:666:29: note: expanded from macro 'STMT_START'
# define STMT_START (void)( /* gcc supports "({ STATEMENTS; })" */
^
/Users/stan/perl5/perlbrew/perls/perl-5.32.1/lib/5.32.1/darwin-2level/CORE/hv_func.h:107:5: note: '{' token is here
_PERL_HASH_SEED_STATE(seed,state);
^~~~~~~~~~~~~~~~~~~~~~~~~~~~~~~~~
/Users/stan/perl5/perlbrew/perls/perl-5.32.1/lib/5.32.1/darwin-2level/CORE/hv_func.h:91:54: note: expanded from macro '_PERL_HASH_SEED_STATE'
#define _PERL_HASH_SEED_STATE(seed,state) STMT_START { \
^
/Users/stan/perl5/perlbrew/perls/perl-5.32.1/lib/5.32.1/darwin-2level/CORE/hv_func.h:107:5: warning: '}' and ')' tokens terminating statement expression appear in different macro expansion contexts [-Wcompound-token-split-by-macro]
_PERL_HASH_SEED_STATE(seed,state);
^~~~~~~~~~~~~~~~~~~~~~~~~~~~~~~~~
/Users/stan/perl5/perlbrew/perls/perl-5.32.1/lib/5.32.1/darwin-2level/CORE/hv_func.h:93:93: note: expanded from macro '_PERL_HASH_SEED_STATE'
sbox32_seed_state96(seed + __PERL_HASH_SEED_BYTES, state + __PERL_HASH_STATE_BYTES); \
^
/Users/stan/perl5/perlbrew/perls/perl-5.32.1/lib/5.32.1/darwin-2level/CORE/hv_func.h:107:5: note: ')' token is here
_PERL_HASH_SEED_STATE(seed,state);
^~~~~~~~~~~~~~~~~~~~~~~~~~~~~~~~~
/Users/stan/perl5/perlbrew/perls/perl-5.32.1/lib/5.32.1/darwin-2level/CORE/hv_func.h:94:3: note: expanded from macro '_PERL_HASH_SEED_STATE'
} STMT_END
^~~~~~~~
/Users/stan/perl5/perlbrew/perls/perl-5.32.1/lib/5.32.1/darwin-2level/CORE/perl.h:667:21: note: expanded from macro 'STMT_END'
# define STMT_END )
^
In file included from Cwd.xs:8:
In file included from /Users/stan/perl5/perlbrew/perls/perl-5.32.1/lib/5.32.1/darwin-2level/CORE/perl.h:3921:
In file included from /Users/stan/perl5/perlbrew/perls/perl-5.32.1/lib/5.32.1/darwin-2level/CORE/hv.h:663:
/Users/stan/perl5/perlbrew/perls/perl-5.32.1/lib/5.32.1/darwin-2level/CORE/hv_func.h:274:6: warning: '(' and '{' tokens introducing statement expression appear in different macro expansion contexts [-Wcompound-token-split-by-macro]
,SIPROUND;
^~~~~~~~
/Users/stan/perl5/perlbrew/perls/perl-5.32.1/lib/5.32.1/darwin-2level/CORE/hv_func.h:175:3: note: expanded from macro 'SIPROUND'
STMT_START { \
^~~~~~~~~~
/Users/stan/perl5/perlbrew/perls/perl-5.32.1/lib/5.32.1/darwin-2level/CORE/perl.h:666:29: note: expanded from macro 'STMT_START'
# define STMT_START (void)( /* gcc supports "({ STATEMENTS; })" */
^
/Users/stan/perl5/perlbrew/perls/perl-5.32.1/lib/5.32.1/darwin-2level/CORE/hv_func.h:219:5: note: expanded from macro 'PERL_SIPHASH_FNC'
SIP_ROUNDS; \
^~~~~~~~~~
/Users/stan/perl5/perlbrew/perls/perl-5.32.1/lib/5.32.1/darwin-2level/CORE/hv_func.h:274:6: note: '{' token is here
,SIPROUND;
^~~~~~~~
/Users/stan/perl5/perlbrew/perls/perl-5.32.1/lib/5.32.1/darwin-2level/CORE/hv_func.h:175:14: note: expanded from macro 'SIPROUND'
STMT_START { \
^
/Users/stan/perl5/perlbrew/perls/perl-5.32.1/lib/5.32.1/darwin-2level/CORE/hv_func.h:219:5: note: expanded from macro 'PERL_SIPHASH_FNC'
SIP_ROUNDS; \
^~~~~~~~~~
/Users/stan/perl5/perlbrew/perls/perl-5.32.1/lib/5.32.1/darwin-2level/CORE/hv_func.h:274:6: warning: '}' and ')' tokens terminating statement expression appear in different macro expansion contexts [-Wcompound-token-split-by-macro]
,SIPROUND;
^~~~~~~~
/Users/stan/perl5/perlbrew/perls/perl-5.32.1/lib/5.32.1/darwin-2level/CORE/hv_func.h:180:3: note: expanded from macro 'SIPROUND'
} STMT_END
^
/Users/stan/perl5/perlbrew/perls/perl-5.32.1/lib/5.32.1/darwin-2level/CORE/hv_func.h:219:5: note: expanded from macro 'PERL_SIPHASH_FNC'
SIP_ROUNDS; \
^~~~~~~~~~
/Users/stan/perl5/perlbrew/perls/perl-5.32.1/lib/5.32.1/darwin-2level/CORE/hv_func.h:274:6: note: ')' token is here
,SIPROUND;
^~~~~~~~
/Users/stan/perl5/perlbrew/perls/perl-5.32.1/lib/5.32.1/darwin-2level/CORE/hv_func.h:180:5: note: expanded from macro 'SIPROUND'
} STMT_END
^~~~~~~~
/Users/stan/perl5/perlbrew/perls/perl-5.32.1/lib/5.32.1/darwin-2level/CORE/perl.h:667:21: note: expanded from macro 'STMT_END'
# define STMT_END )
^
/Users/stan/perl5/perlbrew/perls/perl-5.32.1/lib/5.32.1/darwin-2level/CORE/hv_func.h:219:5: note: expanded from macro 'PERL_SIPHASH_FNC'
SIP_ROUNDS; \
^~~~~~~~~~
/Users/stan/perl5/perlbrew/perls/perl-5.32.1/lib/5.32.1/darwin-2level/CORE/hv_func.h:274:6: warning: '(' and '{' tokens introducing statement expression appear in different macro expansion contexts [-Wcompound-token-split-by-macro]
,SIPROUND;
^~~~~~~~
/Users/stan/perl5/perlbrew/perls/perl-5.32.1/lib/5.32.1/darwin-2level/CORE/hv_func.h:175:3: note: expanded from macro 'SIPROUND'
STMT_START { \
^~~~~~~~~~
/Users/stan/perl5/perlbrew/perls/perl-5.32.1/lib/5.32.1/darwin-2level/CORE/perl.h:666:29: note: expanded from macro 'STMT_START'
# define STMT_START (void)( /* gcc supports "({ STATEMENTS; })" */
^
/Users/stan/perl5/perlbrew/perls/perl-5.32.1/lib/5.32.1/darwin-2level/CORE/hv_func.h:238:3: note: expanded from macro 'PERL_SIPHASH_FNC'
SIP_ROUNDS; \
^~~~~~~~~~
/Users/stan/perl5/perlbrew/perls/perl-5.32.1/lib/5.32.1/darwin-2level/CORE/hv_func.h:274:6: note: '{' token is here
,SIPROUND;
^~~~~~~~
/Users/stan/perl5/perlbrew/perls/perl-5.32.1/lib/5.32.1/darwin-2level/CORE/hv_func.h:175:14: note: expanded from macro 'SIPROUND'
STMT_START { \
^
/Users/stan/perl5/perlbrew/perls/perl-5.32.1/lib/5.32.1/darwin-2level/CORE/hv_func.h:238:3: note: expanded from macro 'PERL_SIPHASH_FNC'
SIP_ROUNDS; \
^~~~~~~~~~
/Users/stan/perl5/perlbrew/perls/perl-5.32.1/lib/5.32.1/darwin-2level/CORE/hv_func.h:274:6: warning: '}' and ')' tokens terminating statement expression appear in different macro expansion contexts [-Wcompound-token-split-by-macro]
,SIPROUND;
^~~~~~~~
/Users/stan/perl5/perlbrew/perls/perl-5.32.1/lib/5.32.1/darwin-2level/CORE/hv_func.h:180:3: note: expanded from macro 'SIPROUND'
} STMT_END
^
/Users/stan/perl5/perlbrew/perls/perl-5.32.1/lib/5.32.1/darwin-2level/CORE/hv_func.h:238:3: note: expanded from macro 'PERL_SIPHASH_FNC'
SIP_ROUNDS; \
^~~~~~~~~~
/Users/stan/perl5/perlbrew/perls/perl-5.32.1/lib/5.32.1/darwin-2level/CORE/hv_func.h:274:6: note: ')' token is here
,SIPROUND;
^~~~~~~~
/Users/stan/perl5/perlbrew/perls/perl-5.32.1/lib/5.32.1/darwin-2level/CORE/hv_func.h:180:5: note: expanded from macro 'SIPROUND'
} STMT_END
^~~~~~~~
/Users/stan/perl5/perlbrew/perls/perl-5.32.1/lib/5.32.1/darwin-2level/CORE/perl.h:667:21: note: expanded from macro 'STMT_END'
# define STMT_END )
^
/Users/stan/perl5/perlbrew/perls/perl-5.32.1/lib/5.32.1/darwin-2level/CORE/hv_func.h:238:3: note: expanded from macro 'PERL_SIPHASH_FNC'
SIP_ROUNDS; \
^~~~~~~~~~
/Users/stan/perl5/perlbrew/perls/perl-5.32.1/lib/5.32.1/darwin-2level/CORE/hv_func.h:275:6: warning: '(' and '{' tokens introducing statement expression appear in different macro expansion contexts [-Wcompound-token-split-by-macro]
,SIPROUND;SIPROUND;SIPROUND;
^~~~~~~~
/Users/stan/perl5/perlbrew/perls/perl-5.32.1/lib/5.32.1/darwin-2level/CORE/hv_func.h:175:3: note: expanded from macro 'SIPROUND'
STMT_START { \
^~~~~~~~~~
/Users/stan/perl5/perlbrew/perls/perl-5.32.1/lib/5.32.1/darwin-2level/CORE/perl.h:666:29: note: expanded from macro 'STMT_START'
# define STMT_START (void)( /* gcc supports "({ STATEMENTS; })" */
^
/Users/stan/perl5/perlbrew/perls/perl-5.32.1/lib/5.32.1/darwin-2level/CORE/hv_func.h:244:3: note: expanded from macro 'PERL_SIPHASH_FNC'
SIP_FINAL_ROUNDS \
^~~~~~~~~~~~~~~~
/Users/stan/perl5/perlbrew/perls/perl-5.32.1/lib/5.32.1/darwin-2level/CORE/hv_func.h:275:6: note: '{' token is here
,SIPROUND;SIPROUND;SIPROUND;
^~~~~~~~
/Users/stan/perl5/perlbrew/perls/perl-5.32.1/lib/5.32.1/darwin-2level/CORE/hv_func.h:175:14: note: expanded from macro 'SIPROUND'
STMT_START { \
^
/Users/stan/perl5/perlbrew/perls/perl-5.32.1/lib/5.32.1/darwin-2level/CORE/hv_func.h:244:3: note: expanded from macro 'PERL_SIPHASH_FNC'
SIP_FINAL_ROUNDS \
^~~~~~~~~~~~~~~~
/Users/stan/perl5/perlbrew/perls/perl-5.32.1/lib/5.32.1/darwin-2level/CORE/hv_func.h:275:6: warning: '}' and ')' tokens terminating statement expression appear in different macro expansion contexts [-Wcompound-token-split-by-macro]
,SIPROUND;SIPROUND;SIPROUND;
^~~~~~~~
/Users/stan/perl5/perlbrew/perls/perl-5.32.1/lib/5.32.1/darwin-2level/CORE/hv_func.h:180:3: note: expanded from macro 'SIPROUND'
} STMT_END
^
/Users/stan/perl5/perlbrew/perls/perl-5.32.1/lib/5.32.1/darwin-2level/CORE/hv_func.h:244:3: note: expanded from macro 'PERL_SIPHASH_FNC'
SIP_FINAL_ROUNDS \
^~~~~~~~~~~~~~~~
/Users/stan/perl5/perlbrew/perls/perl-5.32.1/lib/5.32.1/darwin-2level/CORE/hv_func.h:275:6: note: ')' token is here
,SIPROUND;SIPROUND;SIPROUND;
^~~~~~~~
/Users/stan/perl5/perlbrew/perls/perl-5.32.1/lib/5.32.1/darwin-2level/CORE/hv_func.h:180:5: note: expanded from macro 'SIPROUND'
} STMT_END
^~~~~~~~
/Users/stan/perl5/perlbrew/perls/perl-5.32.1/lib/5.32.1/darwin-2level/CORE/perl.h:667:21: note: expanded from macro 'STMT_END'
# define STMT_END )
^
/Users/stan/perl5/perlbrew/perls/perl-5.32.1/lib/5.32.1/darwin-2level/CORE/hv_func.h:244:3: note: expanded from macro 'PERL_SIPHASH_FNC'
SIP_FINAL_ROUNDS \
^~~~~~~~~~~~~~~~
/Users/stan/perl5/perlbrew/perls/perl-5.32.1/lib/5.32.1/darwin-2level/CORE/hv_func.h:275:15: warning: '(' and '{' tokens introducing statement expression appear in different macro expansion contexts [-Wcompound-token-split-by-macro]
,SIPROUND;SIPROUND;SIPROUND;
^~~~~~~~
/Users/stan/perl5/perlbrew/perls/perl-5.32.1/lib/5.32.1/darwin-2level/CORE/hv_func.h:175:3: note: expanded from macro 'SIPROUND'
STMT_START { \
^~~~~~~~~~
/Users/stan/perl5/perlbrew/perls/perl-5.32.1/lib/5.32.1/darwin-2level/CORE/perl.h:666:29: note: expanded from macro 'STMT_START'
# define STMT_START (void)( /* gcc supports "({ STATEMENTS; })" */
^
/Users/stan/perl5/perlbrew/perls/perl-5.32.1/lib/5.32.1/darwin-2level/CORE/hv_func.h:244:3: note: expanded from macro 'PERL_SIPHASH_FNC'
SIP_FINAL_ROUNDS \
^~~~~~~~~~~~~~~~
/Users/stan/perl5/perlbrew/perls/perl-5.32.1/lib/5.32.1/darwin-2level/CORE/hv_func.h:275:15: note: '{' token is here
,SIPROUND;SIPROUND;SIPROUND;
^~~~~~~~
/Users/stan/perl5/perlbrew/perls/perl-5.32.1/lib/5.32.1/darwin-2level/CORE/hv_func.h:175:14: note: expanded from macro 'SIPROUND'
STMT_START { \
^
/Users/stan/perl5/perlbrew/perls/perl-5.32.1/lib/5.32.1/darwin-2level/CORE/hv_func.h:244:3: note: expanded from macro 'PERL_SIPHASH_FNC'
SIP_FINAL_ROUNDS \
^~~~~~~~~~~~~~~~
/Users/stan/perl5/perlbrew/perls/perl-5.32.1/lib/5.32.1/darwin-2level/CORE/hv_func.h:275:15: warning: '}' and ')' tokens terminating statement expression appear in different macro expansion contexts [-Wcompound-token-split-by-macro]
,SIPROUND;SIPROUND;SIPROUND;
^~~~~~~~
/Users/stan/perl5/perlbrew/perls/perl-5.32.1/lib/5.32.1/darwin-2level/CORE/hv_func.h:180:3: note: expanded from macro 'SIPROUND'
} STMT_END
^
/Users/stan/perl5/perlbrew/perls/perl-5.32.1/lib/5.32.1/darwin-2level/CORE/hv_func.h:244:3: note: expanded from macro 'PERL_SIPHASH_FNC'
SIP_FINAL_ROUNDS \
^~~~~~~~~~~~~~~~
/Users/stan/perl5/perlbrew/perls/perl-5.32.1/lib/5.32.1/darwin-2level/CORE/hv_func.h:275:15: note: ')' token is here
,SIPROUND;SIPROUND;SIPROUND;
^~~~~~~~
/Users/stan/perl5/perlbrew/perls/perl-5.32.1/lib/5.32.1/darwin-2level/CORE/hv_func.h:180:5: note: expanded from macro 'SIPROUND'
} STMT_END
^~~~~~~~
/Users/stan/perl5/perlbrew/perls/perl-5.32.1/lib/5.32.1/darwin-2level/CORE/perl.h:667:21: note: expanded from macro 'STMT_END'
# define STMT_END )
^
/Users/stan/perl5/perlbrew/perls/perl-5.32.1/lib/5.32.1/darwin-2level/CORE/hv_func.h:244:3: note: expanded from macro 'PERL_SIPHASH_FNC'
SIP_FINAL_ROUNDS \
^~~~~~~~~~~~~~~~
/Users/stan/perl5/perlbrew/perls/perl-5.32.1/lib/5.32.1/darwin-2level/CORE/hv_func.h:275:24: warning: '(' and '{' tokens introducing statement expression appear in different macro expansion contexts [-Wcompound-token-split-by-macro]
,SIPROUND;SIPROUND;SIPROUND;
^~~~~~~~
/Users/stan/perl5/perlbrew/perls/perl-5.32.1/lib/5.32.1/darwin-2level/CORE/hv_func.h:175:3: note: expanded from macro 'SIPROUND'
STMT_START { \
^~~~~~~~~~
/Users/stan/perl5/perlbrew/perls/perl-5.32.1/lib/5.32.1/darwin-2level/CORE/perl.h:666:29: note: expanded from macro 'STMT_START'
# define STMT_START (void)( /* gcc supports "({ STATEMENTS; })" */
^
/Users/stan/perl5/perlbrew/perls/perl-5.32.1/lib/5.32.1/darwin-2level/CORE/hv_func.h:244:3: note: expanded from macro 'PERL_SIPHASH_FNC'
SIP_FINAL_ROUNDS \
^~~~~~~~~~~~~~~~
/Users/stan/perl5/perlbrew/perls/perl-5.32.1/lib/5.32.1/darwin-2level/CORE/hv_func.h:275:24: note: '{' token is here
,SIPROUND;SIPROUND;SIPROUND;
^~~~~~~~
/Users/stan/perl5/perlbrew/perls/perl-5.32.1/lib/5.32.1/darwin-2level/CORE/hv_func.h:175:14: note: expanded from macro 'SIPROUND'
STMT_START { \
^
/Users/stan/perl5/perlbrew/perls/perl-5.32.1/lib/5.32.1/darwin-2level/CORE/hv_func.h:244:3: note: expanded from macro 'PERL_SIPHASH_FNC'
SIP_FINAL_ROUNDS \
^~~~~~~~~~~~~~~~
/Users/stan/perl5/perlbrew/perls/perl-5.32.1/lib/5.32.1/darwin-2level/CORE/hv_func.h:275:24: warning: '}' and ')' tokens terminating statement expression appear in different macro expansion contexts [-Wcompound-token-split-by-macro]
,SIPROUND;SIPROUND;SIPROUND;
^~~~~~~~
/Users/stan/perl5/perlbrew/perls/perl-5.32.1/lib/5.32.1/darwin-2level/CORE/hv_func.h:180:3: note: expanded from macro 'SIPROUND'
} STMT_END
^
/Users/stan/perl5/perlbrew/perls/perl-5.32.1/lib/5.32.1/darwin-2level/CORE/hv_func.h:244:3: note: expanded from macro 'PERL_SIPHASH_FNC'
SIP_FINAL_ROUNDS \
^~~~~~~~~~~~~~~~
/Users/stan/perl5/perlbrew/perls/perl-5.32.1/lib/5.32.1/darwin-2level/CORE/hv_func.h:275:24: note: ')' token is here
,SIPROUND;SIPROUND;SIPROUND;
^~~~~~~~
/Users/stan/perl5/perlbrew/perls/perl-5.32.1/lib/5.32.1/darwin-2level/CORE/hv_func.h:180:5: note: expanded from macro 'SIPROUND'
} STMT_END
^~~~~~~~
/Users/stan/perl5/perlbrew/perls/perl-5.32.1/lib/5.32.1/darwin-2level/CORE/perl.h:667:21: note: expanded from macro 'STMT_END'
# define STMT_END )
^
/Users/stan/perl5/perlbrew/perls/perl-5.32.1/lib/5.32.1/darwin-2level/CORE/hv_func.h:244:3: note: expanded from macro 'PERL_SIPHASH_FNC'
SIP_FINAL_ROUNDS \
^~~~~~~~~~~~~~~~
/Users/stan/perl5/perlbrew/perls/perl-5.32.1/lib/5.32.1/darwin-2level/CORE/hv_func.h:280:6: warning: '(' and '{' tokens introducing statement expression appear in different macro expansion contexts [-Wcompound-token-split-by-macro]
,SIPROUND;SIPROUND;
^~~~~~~~
/Users/stan/perl5/perlbrew/perls/perl-5.32.1/lib/5.32.1/darwin-2level/CORE/hv_func.h:175:3: note: expanded from macro 'SIPROUND'
STMT_START { \
^~~~~~~~~~
/Users/stan/perl5/perlbrew/perls/perl-5.32.1/lib/5.32.1/darwin-2level/CORE/perl.h:666:29: note: expanded from macro 'STMT_START'
# define STMT_START (void)( /* gcc supports "({ STATEMENTS; })" */
^
/Users/stan/perl5/perlbrew/perls/perl-5.32.1/lib/5.32.1/darwin-2level/CORE/hv_func.h:219:5: note: expanded from macro 'PERL_SIPHASH_FNC'
SIP_ROUNDS; \
^~~~~~~~~~
/Users/stan/perl5/perlbrew/perls/perl-5.32.1/lib/5.32.1/darwin-2level/CORE/hv_func.h:280:6: note: '{' token is here
,SIPROUND;SIPROUND;
^~~~~~~~
/Users/stan/perl5/perlbrew/perls/perl-5.32.1/lib/5.32.1/darwin-2level/CORE/hv_func.h:175:14: note: expanded from macro 'SIPROUND'
STMT_START { \
^
/Users/stan/perl5/perlbrew/perls/perl-5.32.1/lib/5.32.1/darwin-2level/CORE/hv_func.h:219:5: note: expanded from macro 'PERL_SIPHASH_FNC'
SIP_ROUNDS; \
^~~~~~~~~~
/Users/stan/perl5/perlbrew/perls/perl-5.32.1/lib/5.32.1/darwin-2level/CORE/hv_func.h:280:6: warning: '}' and ')' tokens terminating statement expression appear in different macro expansion contexts [-Wcompound-token-split-by-macro]
,SIPROUND;SIPROUND;
^~~~~~~~
/Users/stan/perl5/perlbrew/perls/perl-5.32.1/lib/5.32.1/darwin-2level/CORE/hv_func.h:180:3: note: expanded from macro 'SIPROUND'
} STMT_END
^
/Users/stan/perl5/perlbrew/perls/perl-5.32.1/lib/5.32.1/darwin-2level/CORE/hv_func.h:219:5: note: expanded from macro 'PERL_SIPHASH_FNC'
SIP_ROUNDS; \
^~~~~~~~~~
/Users/stan/perl5/perlbrew/perls/perl-5.32.1/lib/5.32.1/darwin-2level/CORE/hv_func.h:280:6: note: ')' token is here
,SIPROUND;SIPROUND;
^~~~~~~~
/Users/stan/perl5/perlbrew/perls/perl-5.32.1/lib/5.32.1/darwin-2level/CORE/hv_func.h:180:5: note: expanded from macro 'SIPROUND'
} STMT_END
^~~~~~~~
/Users/stan/perl5/perlbrew/perls/perl-5.32.1/lib/5.32.1/darwin-2level/CORE/perl.h:667:21: note: expanded from macro 'STMT_END'
# define STMT_END )
^
/Users/stan/perl5/perlbrew/perls/perl-5.32.1/lib/5.32.1/darwin-2level/CORE/hv_func.h:219:5: note: expanded from macro 'PERL_SIPHASH_FNC'
SIP_ROUNDS; \
^~~~~~~~~~
/Users/stan/perl5/perlbrew/perls/perl-5.32.1/lib/5.32.1/darwin-2level/CORE/hv_func.h:280:15: warning: '(' and '{' tokens introducing statement expression appear in different macro expansion contexts [-Wcompound-token-split-by-macro]
,SIPROUND;SIPROUND;
^~~~~~~~
/Users/stan/perl5/perlbrew/perls/perl-5.32.1/lib/5.32.1/darwin-2level/CORE/hv_func.h:175:3: note: expanded from macro 'SIPROUND'
STMT_START { \
^~~~~~~~~~
/Users/stan/perl5/perlbrew/perls/perl-5.32.1/lib/5.32.1/darwin-2level/CORE/perl.h:666:29: note: expanded from macro 'STMT_START'
# define STMT_START (void)( /* gcc supports "({ STATEMENTS; })" */
^
/Users/stan/perl5/perlbrew/perls/perl-5.32.1/lib/5.32.1/darwin-2level/CORE/hv_func.h:219:5: note: expanded from macro 'PERL_SIPHASH_FNC'
SIP_ROUNDS; \
^~~~~~~~~~
/Users/stan/perl5/perlbrew/perls/perl-5.32.1/lib/5.32.1/darwin-2level/CORE/hv_func.h:280:15: note: '{' token is here
,SIPROUND;SIPROUND;
^~~~~~~~
/Users/stan/perl5/perlbrew/perls/perl-5.32.1/lib/5.32.1/darwin-2level/CORE/hv_func.h:175:14: note: expanded from macro 'SIPROUND'
STMT_START { \
^
/Users/stan/perl5/perlbrew/perls/perl-5.32.1/lib/5.32.1/darwin-2level/CORE/hv_func.h:219:5: note: expanded from macro 'PERL_SIPHASH_FNC'
SIP_ROUNDS; \
^~~~~~~~~~
/Users/stan/perl5/perlbrew/perls/perl-5.32.1/lib/5.32.1/darwin-2level/CORE/hv_func.h:280:15: warning: '}' and ')' tokens terminating statement expression appear in different macro expansion contexts [-Wcompound-token-split-by-macro]
,SIPROUND;SIPROUND;
^~~~~~~~
/Users/stan/perl5/perlbrew/perls/perl-5.32.1/lib/5.32.1/darwin-2level/CORE/hv_func.h:180:3: note: expanded from macro 'SIPROUND'
} STMT_END
^
/Users/stan/perl5/perlbrew/perls/perl-5.32.1/lib/5.32.1/darwin-2level/CORE/hv_func.h:219:5: note: expanded from macro 'PERL_SIPHASH_FNC'
SIP_ROUNDS; \
^~~~~~~~~~
/Users/stan/perl5/perlbrew/perls/perl-5.32.1/lib/5.32.1/darwin-2level/CORE/hv_func.h:280:15: note: ')' token is here
,SIPROUND;SIPROUND;
^~~~~~~~
/Users/stan/perl5/perlbrew/perls/perl-5.32.1/lib/5.32.1/darwin-2level/CORE/hv_func.h:180:5: note: expanded from macro 'SIPROUND'
} STMT_END
^~~~~~~~
/Users/stan/perl5/perlbrew/perls/perl-5.32.1/lib/5.32.1/darwin-2level/CORE/perl.h:667:21: note: expanded from macro 'STMT_END'
# define STMT_END )
^
/Users/stan/perl5/perlbrew/perls/perl-5.32.1/lib/5.32.1/darwin-2level/CORE/hv_func.h:219:5: note: expanded from macro 'PERL_SIPHASH_FNC'
SIP_ROUNDS; \
^~~~~~~~~~
/Users/stan/perl5/perlbrew/perls/perl-5.32.1/lib/5.32.1/darwin-2level/CORE/hv_func.h:280:6: warning: '(' and '{' tokens introducing statement expression appear in different macro expansion contexts [-Wcompound-token-split-by-macro]
,SIPROUND;SIPROUND;
^~~~~~~~
/Users/stan/perl5/perlbrew/perls/perl-5.32.1/lib/5.32.1/darwin-2level/CORE/hv_func.h:175:3: note: expanded from macro 'SIPROUND'
STMT_START { \
^~~~~~~~~~
/Users/stan/perl5/perlbrew/perls/perl-5.32.1/lib/5.32.1/darwin-2level/CORE/perl.h:666:29: note: expanded from macro 'STMT_START'
# define STMT_START (void)( /* gcc supports "({ STATEMENTS; })" */
^
/Users/stan/perl5/perlbrew/perls/perl-5.32.1/lib/5.32.1/darwin-2level/CORE/hv_func.h:238:3: note: expanded from macro 'PERL_SIPHASH_FNC'
SIP_ROUNDS; \
^~~~~~~~~~
/Users/stan/perl5/perlbrew/perls/perl-5.32.1/lib/5.32.1/darwin-2level/CORE/hv_func.h:280:6: note: '{' token is here
,SIPROUND;SIPROUND;
^~~~~~~~
/Users/stan/perl5/perlbrew/perls/perl-5.32.1/lib/5.32.1/darwin-2level/CORE/hv_func.h:175:14: note: expanded from macro 'SIPROUND'
STMT_START { \
^
/Users/stan/perl5/perlbrew/perls/perl-5.32.1/lib/5.32.1/darwin-2level/CORE/hv_func.h:238:3: note: expanded from macro 'PERL_SIPHASH_FNC'
SIP_ROUNDS; \
^~~~~~~~~~
/Users/stan/perl5/perlbrew/perls/perl-5.32.1/lib/5.32.1/darwin-2level/CORE/hv_func.h:280:6: warning: '}' and ')' tokens terminating statement expression appear in different macro expansion contexts [-Wcompound-token-split-by-macro]
,SIPROUND;SIPROUND;
^~~~~~~~
/Users/stan/perl5/perlbrew/perls/perl-5.32.1/lib/5.32.1/darwin-2level/CORE/hv_func.h:180:3: note: expanded from macro 'SIPROUND'
} STMT_END
^
/Users/stan/perl5/perlbrew/perls/perl-5.32.1/lib/5.32.1/darwin-2level/CORE/hv_func.h:238:3: note: expanded from macro 'PERL_SIPHASH_FNC'
SIP_ROUNDS; \
^~~~~~~~~~
/Users/stan/perl5/perlbrew/perls/perl-5.32.1/lib/5.32.1/darwin-2level/CORE/hv_func.h:280:6: note: ')' token is here
,SIPROUND;SIPROUND;
^~~~~~~~
/Users/stan/perl5/perlbrew/perls/perl-5.32.1/lib/5.32.1/darwin-2level/CORE/hv_func.h:180:5: note: expanded from macro 'SIPROUND'
} STMT_END
^~~~~~~~
/Users/stan/perl5/perlbrew/perls/perl-5.32.1/lib/5.32.1/darwin-2level/CORE/perl.h:667:21: note: expanded from macro 'STMT_END'
# define STMT_END )
^
/Users/stan/perl5/perlbrew/perls/perl-5.32.1/lib/5.32.1/darwin-2level/CORE/hv_func.h:238:3: note: expanded from macro 'PERL_SIPHASH_FNC'
SIP_ROUNDS; \
^~~~~~~~~~
/Users/stan/perl5/perlbrew/perls/perl-5.32.1/lib/5.32.1/darwin-2level/CORE/hv_func.h:280:15: warning: '(' and '{' tokens introducing statement expression appear in different macro expansion contexts [-Wcompound-token-split-by-macro]
,SIPROUND;SIPROUND;
^~~~~~~~
/Users/stan/perl5/perlbrew/perls/perl-5.32.1/lib/5.32.1/darwin-2level/CORE/hv_func.h:175:3: note: expanded from macro 'SIPROUND'
STMT_START { \
^~~~~~~~~~
/Users/stan/perl5/perlbrew/perls/perl-5.32.1/lib/5.32.1/darwin-2level/CORE/perl.h:666:29: note: expanded from macro 'STMT_START'
# define STMT_START (void)( /* gcc supports "({ STATEMENTS; })" */
^
/Users/stan/perl5/perlbrew/perls/perl-5.32.1/lib/5.32.1/darwin-2level/CORE/hv_func.h:238:3: note: expanded from macro 'PERL_SIPHASH_FNC'
SIP_ROUNDS; \
^~~~~~~~~~
/Users/stan/perl5/perlbrew/perls/perl-5.32.1/lib/5.32.1/darwin-2level/CORE/hv_func.h:280:15: note: '{' token is here
,SIPROUND;SIPROUND;
^~~~~~~~
/Users/stan/perl5/perlbrew/perls/perl-5.32.1/lib/5.32.1/darwin-2level/CORE/hv_func.h:175:14: note: expanded from macro 'SIPROUND'
STMT_START { \
^
/Users/stan/perl5/perlbrew/perls/perl-5.32.1/lib/5.32.1/darwin-2level/CORE/hv_func.h:238:3: note: expanded from macro 'PERL_SIPHASH_FNC'
SIP_ROUNDS; \
^~~~~~~~~~
/Users/stan/perl5/perlbrew/perls/perl-5.32.1/lib/5.32.1/darwin-2level/CORE/hv_func.h:280:15: warning: '}' and ')' tokens terminating statement expression appear in different macro expansion contexts [-Wcompound-token-split-by-macro]
,SIPROUND;SIPROUND;
^~~~~~~~
/Users/stan/perl5/perlbrew/perls/perl-5.32.1/lib/5.32.1/darwin-2level/CORE/hv_func.h:180:3: note: expanded from macro 'SIPROUND'
} STMT_END
^
/Users/stan/perl5/perlbrew/perls/perl-5.32.1/lib/5.32.1/darwin-2level/CORE/hv_func.h:238:3: note: expanded from macro 'PERL_SIPHASH_FNC'
SIP_ROUNDS; \
^~~~~~~~~~
/Users/stan/perl5/perlbrew/perls/perl-5.32.1/lib/5.32.1/darwin-2level/CORE/hv_func.h:280:15: note: ')' token is here
,SIPROUND;SIPROUND;
^~~~~~~~
/Users/stan/perl5/perlbrew/perls/perl-5.32.1/lib/5.32.1/darwin-2level/CORE/hv_func.h:180:5: note: expanded from macro 'SIPROUND'
} STMT_END
^~~~~~~~
/Users/stan/perl5/perlbrew/perls/perl-5.32.1/lib/5.32.1/darwin-2level/CORE/perl.h:667:21: note: expanded from macro 'STMT_END'
# define STMT_END )
^
/Users/stan/perl5/perlbrew/perls/perl-5.32.1/lib/5.32.1/darwin-2level/CORE/hv_func.h:238:3: note: expanded from macro 'PERL_SIPHASH_FNC'
SIP_ROUNDS; \
^~~~~~~~~~
/Users/stan/perl5/perlbrew/perls/perl-5.32.1/lib/5.32.1/darwin-2level/CORE/hv_func.h:281:6: warning: '(' and '{' tokens introducing statement expression appear in different macro expansion contexts [-Wcompound-token-split-by-macro]
,SIPROUND;SIPROUND;SIPROUND;SIPROUND;
^~~~~~~~
/Users/stan/perl5/perlbrew/perls/perl-5.32.1/lib/5.32.1/darwin-2level/CORE/hv_func.h:175:3: note: expanded from macro 'SIPROUND'
STMT_START { \
^~~~~~~~~~
/Users/stan/perl5/perlbrew/perls/perl-5.32.1/lib/5.32.1/darwin-2level/CORE/perl.h:666:29: note: expanded from macro 'STMT_START'
# define STMT_START (void)( /* gcc supports "({ STATEMENTS; })" */
^
/Users/stan/perl5/perlbrew/perls/perl-5.32.1/lib/5.32.1/darwin-2level/CORE/hv_func.h:244:3: note: expanded from macro 'PERL_SIPHASH_FNC'
SIP_FINAL_ROUNDS \
^~~~~~~~~~~~~~~~
/Users/stan/perl5/perlbrew/perls/perl-5.32.1/lib/5.32.1/darwin-2level/CORE/hv_func.h:281:6: note: '{' token is here
,SIPROUND;SIPROUND;SIPROUND;SIPROUND;
^~~~~~~~
/Users/stan/perl5/perlbrew/perls/perl-5.32.1/lib/5.32.1/darwin-2level/CORE/hv_func.h:175:14: note: expanded from macro 'SIPROUND'
STMT_START { \
^
/Users/stan/perl5/perlbrew/perls/perl-5.32.1/lib/5.32.1/darwin-2level/CORE/hv_func.h:244:3: note: expanded from macro 'PERL_SIPHASH_FNC'
SIP_FINAL_ROUNDS \
^~~~~~~~~~~~~~~~
/Users/stan/perl5/perlbrew/perls/perl-5.32.1/lib/5.32.1/darwin-2level/CORE/hv_func.h:281:6: warning: '}' and ')' tokens terminating statement expression appear in different macro expansion contexts [-Wcompound-token-split-by-macro]
,SIPROUND;SIPROUND;SIPROUND;SIPROUND;
^~~~~~~~
/Users/stan/perl5/perlbrew/perls/perl-5.32.1/lib/5.32.1/darwin-2level/CORE/hv_func.h:180:3: note: expanded from macro 'SIPROUND'
} STMT_END
^
/Users/stan/perl5/perlbrew/perls/perl-5.32.1/lib/5.32.1/darwin-2level/CORE/hv_func.h:244:3: note: expanded from macro 'PERL_SIPHASH_FNC'
SIP_FINAL_ROUNDS \
^~~~~~~~~~~~~~~~
/Users/stan/perl5/perlbrew/perls/perl-5.32.1/lib/5.32.1/darwin-2level/CORE/hv_func.h:281:6: note: ')' token is here
,SIPROUND;SIPROUND;SIPROUND;SIPROUND;
^~~~~~~~
/Users/stan/perl5/perlbrew/perls/perl-5.32.1/lib/5.32.1/darwin-2level/CORE/hv_func.h:180:5: note: expanded from macro 'SIPROUND'
} STMT_END
^~~~~~~~
/Users/stan/perl5/perlbrew/perls/perl-5.32.1/lib/5.32.1/darwin-2level/CORE/perl.h:667:21: note: expanded from macro 'STMT_END'
# define STMT_END )
^
/Users/stan/perl5/perlbrew/perls/perl-5.32.1/lib/5.32.1/darwin-2level/CORE/hv_func.h:244:3: note: expanded from macro 'PERL_SIPHASH_FNC'
SIP_FINAL_ROUNDS \
^~~~~~~~~~~~~~~~
/Users/stan/perl5/perlbrew/perls/perl-5.32.1/lib/5.32.1/darwin-2level/CORE/hv_func.h:281:15: warning: '(' and '{' tokens introducing statement expression appear in different macro expansion contexts [-Wcompound-token-split-by-macro]
,SIPROUND;SIPROUND;SIPROUND;SIPROUND;
^~~~~~~~
/Users/stan/perl5/perlbrew/perls/perl-5.32.1/lib/5.32.1/darwin-2level/CORE/hv_func.h:175:3: note: expanded from macro 'SIPROUND'
STMT_START { \
^~~~~~~~~~
/Users/stan/perl5/perlbrew/perls/perl-5.32.1/lib/5.32.1/darwin-2level/CORE/perl.h:666:29: note: expanded from macro 'STMT_START'
# define STMT_START (void)( /* gcc supports "({ STATEMENTS; })" */
^
/Users/stan/perl5/perlbrew/perls/perl-5.32.1/lib/5.32.1/darwin-2level/CORE/hv_func.h:244:3: note: expanded from macro 'PERL_SIPHASH_FNC'
SIP_FINAL_ROUNDS \
^~~~~~~~~~~~~~~~
/Users/stan/perl5/perlbrew/perls/perl-5.32.1/lib/5.32.1/darwin-2level/CORE/hv_func.h:281:15: note: '{' token is here
,SIPROUND;SIPROUND;SIPROUND;SIPROUND;
^~~~~~~~
/Users/stan/perl5/perlbrew/perls/perl-5.32.1/lib/5.32.1/darwin-2level/CORE/hv_func.h:175:14: note: expanded from macro 'SIPROUND'
STMT_START { \
^
/Users/stan/perl5/perlbrew/perls/perl-5.32.1/lib/5.32.1/darwin-2level/CORE/hv_func.h:244:3: note: expanded from macro 'PERL_SIPHASH_FNC'
SIP_FINAL_ROUNDS \
^~~~~~~~~~~~~~~~
/Users/stan/perl5/perlbrew/perls/perl-5.32.1/lib/5.32.1/darwin-2level/CORE/hv_func.h:281:15: warning: '}' and ')' tokens terminating statement expression appear in different macro expansion contexts [-Wcompound-token-split-by-macro]
,SIPROUND;SIPROUND;SIPROUND;SIPROUND;
^~~~~~~~
/Users/stan/perl5/perlbrew/perls/perl-5.32.1/lib/5.32.1/darwin-2level/CORE/hv_func.h:180:3: note: expanded from macro 'SIPROUND'
} STMT_END
^
/Users/stan/perl5/perlbrew/perls/perl-5.32.1/lib/5.32.1/darwin-2level/CORE/hv_func.h:244:3: note: expanded from macro 'PERL_SIPHASH_FNC'
SIP_FINAL_ROUNDS \
^~~~~~~~~~~~~~~~
/Users/stan/perl5/perlbrew/perls/perl-5.32.1/lib/5.32.1/darwin-2level/CORE/hv_func.h:281:15: note: ')' token is here
,SIPROUND;SIPROUND;SIPROUND;SIPROUND;
^~~~~~~~
/Users/stan/perl5/perlbrew/perls/perl-5.32.1/lib/5.32.1/darwin-2level/CORE/hv_func.h:180:5: note: expanded from macro 'SIPROUND'
} STMT_END
^~~~~~~~
/Users/stan/perl5/perlbrew/perls/perl-5.32.1/lib/5.32.1/darwin-2level/CORE/perl.h:667:21: note: expanded from macro 'STMT_END'
# define STMT_END )
^
/Users/stan/perl5/perlbrew/perls/perl-5.32.1/lib/5.32.1/darwin-2level/CORE/hv_func.h:244:3: note: expanded from macro 'PERL_SIPHASH_FNC'
SIP_FINAL_ROUNDS \
^~~~~~~~~~~~~~~~
/Users/stan/perl5/perlbrew/perls/perl-5.32.1/lib/5.32.1/darwin-2level/CORE/hv_func.h:281:24: warning: '(' and '{' tokens introducing statement expression appear in different macro expansion contexts [-Wcompound-token-split-by-macro]
,SIPROUND;SIPROUND;SIPROUND;SIPROUND;
^~~~~~~~
/Users/stan/perl5/perlbrew/perls/perl-5.32.1/lib/5.32.1/darwin-2level/CORE/hv_func.h:175:3: note: expanded from macro 'SIPROUND'
STMT_START { \
^~~~~~~~~~
/Users/stan/perl5/perlbrew/perls/perl-5.32.1/lib/5.32.1/darwin-2level/CORE/perl.h:666:29: note: expanded from macro 'STMT_START'
# define STMT_START (void)( /* gcc supports "({ STATEMENTS; })" */
^
/Users/stan/perl5/perlbrew/perls/perl-5.32.1/lib/5.32.1/darwin-2level/CORE/hv_func.h:244:3: note: expanded from macro 'PERL_SIPHASH_FNC'
SIP_FINAL_ROUNDS \
^~~~~~~~~~~~~~~~
/Users/stan/perl5/perlbrew/perls/perl-5.32.1/lib/5.32.1/darwin-2level/CORE/hv_func.h:281:24: note: '{' token is here
,SIPROUND;SIPROUND;SIPROUND;SIPROUND;
^~~~~~~~
/Users/stan/perl5/perlbrew/perls/perl-5.32.1/lib/5.32.1/darwin-2level/CORE/hv_func.h:175:14: note: expanded from macro 'SIPROUND'
STMT_START { \
^
/Users/stan/perl5/perlbrew/perls/perl-5.32.1/lib/5.32.1/darwin-2level/CORE/hv_func.h:244:3: note: expanded from macro 'PERL_SIPHASH_FNC'
SIP_FINAL_ROUNDS \
^~~~~~~~~~~~~~~~
/Users/stan/perl5/perlbrew/perls/perl-5.32.1/lib/5.32.1/darwin-2level/CORE/hv_func.h:281:24: warning: '}' and ')' tokens terminating statement expression appear in different macro expansion contexts [-Wcompound-token-split-by-macro]
,SIPROUND;SIPROUND;SIPROUND;SIPROUND;
^~~~~~~~
/Users/stan/perl5/perlbrew/perls/perl-5.32.1/lib/5.32.1/darwin-2level/CORE/hv_func.h:180:3: note: expanded from macro 'SIPROUND'
} STMT_END
^
/Users/stan/perl5/perlbrew/perls/perl-5.32.1/lib/5.32.1/darwin-2level/CORE/hv_func.h:244:3: note: expanded from macro 'PERL_SIPHASH_FNC'
SIP_FINAL_ROUNDS \
^~~~~~~~~~~~~~~~
/Users/stan/perl5/perlbrew/perls/perl-5.32.1/lib/5.32.1/darwin-2level/CORE/hv_func.h:281:24: note: ')' token is here
,SIPROUND;SIPROUND;SIPROUND;SIPROUND;
^~~~~~~~
/Users/stan/perl5/perlbrew/perls/perl-5.32.1/lib/5.32.1/darwin-2level/CORE/hv_func.h:180:5: note: expanded from macro 'SIPROUND'
} STMT_END
^~~~~~~~
/Users/stan/perl5/perlbrew/perls/perl-5.32.1/lib/5.32.1/darwin-2level/CORE/perl.h:667:21: note: expanded from macro 'STMT_END'
# define STMT_END )
^
/Users/stan/perl5/perlbrew/perls/perl-5.32.1/lib/5.32.1/darwin-2level/CORE/hv_func.h:244:3: note: expanded from macro 'PERL_SIPHASH_FNC'
SIP_FINAL_ROUNDS \
^~~~~~~~~~~~~~~~
/Users/stan/perl5/perlbrew/perls/perl-5.32.1/lib/5.32.1/darwin-2level/CORE/hv_func.h:281:33: warning: '(' and '{' tokens introducing statement expression appear in different macro expansion contexts [-Wcompound-token-split-by-macro]
,SIPROUND;SIPROUND;SIPROUND;SIPROUND;
^~~~~~~~
/Users/stan/perl5/perlbrew/perls/perl-5.32.1/lib/5.32.1/darwin-2level/CORE/hv_func.h:175:3: note: expanded from macro 'SIPROUND'
STMT_START { \
^~~~~~~~~~
/Users/stan/perl5/perlbrew/perls/perl-5.32.1/lib/5.32.1/darwin-2level/CORE/perl.h:666:29: note: expanded from macro 'STMT_START'
# define STMT_START (void)( /* gcc supports "({ STATEMENTS; })" */
^
/Users/stan/perl5/perlbrew/perls/perl-5.32.1/lib/5.32.1/darwin-2level/CORE/hv_func.h:244:3: note: expanded from macro 'PERL_SIPHASH_FNC'
SIP_FINAL_ROUNDS \
^~~~~~~~~~~~~~~~
/Users/stan/perl5/perlbrew/perls/perl-5.32.1/lib/5.32.1/darwin-2level/CORE/hv_func.h:281:33: note: '{' token is here
,SIPROUND;SIPROUND;SIPROUND;SIPROUND;
^~~~~~~~
/Users/stan/perl5/perlbrew/perls/perl-5.32.1/lib/5.32.1/darwin-2level/CORE/hv_func.h:175:14: note: expanded from macro 'SIPROUND'
STMT_START { \
^
/Users/stan/perl5/perlbrew/perls/perl-5.32.1/lib/5.32.1/darwin-2level/CORE/hv_func.h:244:3: note: expanded from macro 'PERL_SIPHASH_FNC'
SIP_FINAL_ROUNDS \
^~~~~~~~~~~~~~~~
/Users/stan/perl5/perlbrew/perls/perl-5.32.1/lib/5.32.1/darwin-2level/CORE/hv_func.h:281:33: warning: '}' and ')' tokens terminating statement expression appear in different macro expansion contexts [-Wcompound-token-split-by-macro]
,SIPROUND;SIPROUND;SIPROUND;SIPROUND;
^~~~~~~~
/Users/stan/perl5/perlbrew/perls/perl-5.32.1/lib/5.32.1/darwin-2level/CORE/hv_func.h:180:3: note: expanded from macro 'SIPROUND'
} STMT_END
^
/Users/stan/perl5/perlbrew/perls/perl-5.32.1/lib/5.32.1/darwin-2level/CORE/hv_func.h:244:3: note: expanded from macro 'PERL_SIPHASH_FNC'
SIP_FINAL_ROUNDS \
^~~~~~~~~~~~~~~~
/Users/stan/perl5/perlbrew/perls/perl-5.32.1/lib/5.32.1/darwin-2level/CORE/hv_func.h:281:33: note: ')' token is here
,SIPROUND;SIPROUND;SIPROUND;SIPROUND;
^~~~~~~~
/Users/stan/perl5/perlbrew/perls/perl-5.32.1/lib/5.32.1/darwin-2level/CORE/hv_func.h:180:5: note: expanded from macro 'SIPROUND'
} STMT_END
^~~~~~~~
/Users/stan/perl5/perlbrew/perls/perl-5.32.1/lib/5.32.1/darwin-2level/CORE/perl.h:667:21: note: expanded from macro 'STMT_END'
# define STMT_END )
^
/Users/stan/perl5/perlbrew/perls/perl-5.32.1/lib/5.32.1/darwin-2level/CORE/hv_func.h:244:3: note: expanded from macro 'PERL_SIPHASH_FNC'
SIP_FINAL_ROUNDS \
^~~~~~~~~~~~~~~~
In file included from Cwd.xs:8:
In file included from /Users/stan/perl5/perlbrew/perls/perl-5.32.1/lib/5.32.1/darwin-2level/CORE/perl.h:6161:
/Users/stan/perl5/perlbrew/perls/perl-5.32.1/lib/5.32.1/darwin-2level/CORE/inline.h:2209:5: warning: '(' and '{' tokens introducing statement expression appear in different macro expansion contexts [-Wcompound-token-split-by-macro]
CX_POP_SAVEARRAY(cx);
^~~~~~~~~~~~~~~~~~~~
/Users/stan/perl5/perlbrew/perls/perl-5.32.1/lib/5.32.1/darwin-2level/CORE/cop.h:657:5: note: expanded from macro 'CX_POP_SAVEARRAY'
STMT_START { \
^~~~~~~~~~
/Users/stan/perl5/perlbrew/perls/perl-5.32.1/lib/5.32.1/darwin-2level/CORE/perl.h:666:29: note: expanded from macro 'STMT_START'
# define STMT_START (void)( /* gcc supports "({ STATEMENTS; })" */
^
/Users/stan/perl5/perlbrew/perls/perl-5.32.1/lib/5.32.1/darwin-2level/CORE/inline.h:2209:5: note: '{' token is here
CX_POP_SAVEARRAY(cx);
^~~~~~~~~~~~~~~~~~~~
/Users/stan/perl5/perlbrew/perls/perl-5.32.1/lib/5.32.1/darwin-2level/CORE/cop.h:657:16: note: expanded from macro 'CX_POP_SAVEARRAY'
STMT_START { \
^
In file included from Cwd.xs:8:
In file included from /Users/stan/perl5/perlbrew/perls/perl-5.32.1/lib/5.32.1/darwin-2level/CORE/perl.h:6161:
/Users/stan/perl5/perlbrew/perls/perl-5.32.1/lib/5.32.1/darwin-2level/CORE/inline.h:2209:5: warning: '}' and ')' tokens terminating statement expression appear in different macro expansion contexts [-Wcompound-token-split-by-macro]
CX_POP_SAVEARRAY(cx);
^~~~~~~~~~~~~~~~~~~~
/Users/stan/perl5/perlbrew/perls/perl-5.32.1/lib/5.32.1/darwin-2level/CORE/cop.h:662:5: note: expanded from macro 'CX_POP_SAVEARRAY'
} STMT_END
^
/Users/stan/perl5/perlbrew/perls/perl-5.32.1/lib/5.32.1/darwin-2level/CORE/inline.h:2209:5: note: ')' token is here
CX_POP_SAVEARRAY(cx);
^~~~~~~~~~~~~~~~~~~~
/Users/stan/perl5/perlbrew/perls/perl-5.32.1/lib/5.32.1/darwin-2level/CORE/cop.h:662:7: note: expanded from macro 'CX_POP_SAVEARRAY'
} STMT_END
^~~~~~~~
/Users/stan/perl5/perlbrew/perls/perl-5.32.1/lib/5.32.1/darwin-2level/CORE/perl.h:667:21: note: expanded from macro 'STMT_END'
# define STMT_END )
^
In file included from Cwd.xs:8:
In file included from /Users/stan/perl5/perlbrew/perls/perl-5.32.1/lib/5.32.1/darwin-2level/CORE/perl.h:6161:
/Users/stan/perl5/perlbrew/perls/perl-5.32.1/lib/5.32.1/darwin-2level/CORE/inline.h:2215:9: warning: '(' and '{' tokens introducing statement expression appear in different macro expansion contexts [-Wcompound-token-split-by-macro]
CLEAR_ARGARRAY(av);
^~~~~~~~~~~~~~~~~~
/Users/stan/perl5/perlbrew/perls/perl-5.32.1/lib/5.32.1/darwin-2level/CORE/cop.h:667:5: note: expanded from macro 'CLEAR_ARGARRAY'
STMT_START { \
^~~~~~~~~~
/Users/stan/perl5/perlbrew/perls/perl-5.32.1/lib/5.32.1/darwin-2level/CORE/perl.h:666:29: note: expanded from macro 'STMT_START'
# define STMT_START (void)( /* gcc supports "({ STATEMENTS; })" */
^
/Users/stan/perl5/perlbrew/perls/perl-5.32.1/lib/5.32.1/darwin-2level/CORE/inline.h:2215:9: note: '{' token is here
CLEAR_ARGARRAY(av);
^~~~~~~~~~~~~~~~~~
/Users/stan/perl5/perlbrew/perls/perl-5.32.1/lib/5.32.1/darwin-2level/CORE/cop.h:667:16: note: expanded from macro 'CLEAR_ARGARRAY'
STMT_START { \
^
In file included from Cwd.xs:8:
In file included from /Users/stan/perl5/perlbrew/perls/perl-5.32.1/lib/5.32.1/darwin-2level/CORE/perl.h:6161:
/Users/stan/perl5/perlbrew/perls/perl-5.32.1/lib/5.32.1/darwin-2level/CORE/inline.h:2215:9: warning: '}' and ')' tokens terminating statement expression appear in different macro expansion contexts [-Wcompound-token-split-by-macro]
CLEAR_ARGARRAY(av);
^~~~~~~~~~~~~~~~~~
/Users/stan/perl5/perlbrew/perls/perl-5.32.1/lib/5.32.1/darwin-2level/CORE/cop.h:671:5: note: expanded from macro 'CLEAR_ARGARRAY'
} STMT_END
^
/Users/stan/perl5/perlbrew/perls/perl-5.32.1/lib/5.32.1/darwin-2level/CORE/inline.h:2215:9: note: ')' token is here
CLEAR_ARGARRAY(av);
^~~~~~~~~~~~~~~~~~
/Users/stan/perl5/perlbrew/perls/perl-5.32.1/lib/5.32.1/darwin-2level/CORE/cop.h:671:7: note: expanded from macro 'CLEAR_ARGARRAY'
} STMT_END
^~~~~~~~
/Users/stan/perl5/perlbrew/perls/perl-5.32.1/lib/5.32.1/darwin-2level/CORE/perl.h:667:21: note: expanded from macro 'STMT_END'
# define STMT_END )
^
Cwd.xs:541:5: warning: '(' and '{' tokens introducing statement expression appear in different macro expansion contexts [-Wcompound-token-split-by-macro]
SvCUR_set(retval, o - SvPVX(retval));
^~~~~~~~~~~~~~~~~~~~~~~~~~~~~~~~~~~~
/Users/stan/perl5/perlbrew/perls/perl-5.32.1/lib/5.32.1/darwin-2level/CORE/sv.h:1338:2: note: expanded from macro 'SvCUR_set'
STMT_START { \
^~~~~~~~~~
./ppport.h:4305:31: note: expanded from macro 'STMT_START'
# define STMT_START (void)( /* gcc supports ``({ STATEMENTS; })'' */
^
Cwd.xs:541:5: note: '{' token is here
SvCUR_set(retval, o - SvPVX(retval));
^~~~~~~~~~~~~~~~~~~~~~~~~~~~~~~~~~~~
/Users/stan/perl5/perlbrew/perls/perl-5.32.1/lib/5.32.1/darwin-2level/CORE/sv.h:1338:13: note: expanded from macro 'SvCUR_set'
STMT_START { \
^
Cwd.xs:541:5: warning: '}' and ')' tokens terminating statement expression appear in different macro expansion contexts [-Wcompound-token-split-by-macro]
SvCUR_set(retval, o - SvPVX(retval));
^~~~~~~~~~~~~~~~~~~~~~~~~~~~~~~~~~~~
/Users/stan/perl5/perlbrew/perls/perl-5.32.1/lib/5.32.1/darwin-2level/CORE/sv.h:1343:43: note: expanded from macro 'SvCUR_set'
(((XPV*) SvANY(sv))->xpv_cur = (val)); } STMT_END
^
Cwd.xs:541:5: note: ')' token is here
SvCUR_set(retval, o - SvPVX(retval));
^~~~~~~~~~~~~~~~~~~~~~~~~~~~~~~~~~~~
/Users/stan/perl5/perlbrew/perls/perl-5.32.1/lib/5.32.1/darwin-2level/CORE/sv.h:1343:45: note: expanded from macro 'SvCUR_set'
(((XPV*) SvANY(sv))->xpv_cur = (val)); } STMT_END
^~~~~~~~
./ppport.h:4306:25: note: expanded from macro 'STMT_END'
# define STMT_END )
^
Cwd.xs:542:5: warning: '(' and '{' tokens introducing statement expression appear in different macro expansion contexts [-Wcompound-token-split-by-macro]
SvTAINT(retval);
^~~~~~~~~~~~~~~
/Users/stan/perl5/perlbrew/perls/perl-5.32.1/lib/5.32.1/darwin-2level/CORE/sv.h:1498:5: note: expanded from macro 'SvTAINT'
STMT_START { \
^~~~~~~~~~
./ppport.h:4305:31: note: expanded from macro 'STMT_START'
# define STMT_START (void)( /* gcc supports ``({ STATEMENTS; })'' */
^
Cwd.xs:542:5: note: '{' token is here
SvTAINT(retval);
^~~~~~~~~~~~~~~
/Users/stan/perl5/perlbrew/perls/perl-5.32.1/lib/5.32.1/darwin-2level/CORE/sv.h:1498:16: note: expanded from macro 'SvTAINT'
STMT_START { \
^
Cwd.xs:542:5: warning: '(' and '{' tokens introducing statement expression appear in different macro expansion contexts [-Wcompound-token-split-by-macro]
SvTAINT(retval);
^~~~~~~~~~~~~~~
/Users/stan/perl5/perlbrew/perls/perl-5.32.1/lib/5.32.1/darwin-2level/CORE/sv.h:1501:13: note: expanded from macro 'SvTAINT'
SvTAINTED_on(sv); \
^~~~~~~~~~~~~~~~
/Users/stan/perl5/perlbrew/perls/perl-5.32.1/lib/5.32.1/darwin-2level/CORE/sv.h:1494:27: note: expanded from macro 'SvTAINTED_on'
#define SvTAINTED_on(sv) STMT_START{ if(UNLIKELY(TAINTING_get)){sv_taint(sv);} }STMT_END
^~~~~~~~~~
./ppport.h:4305:31: note: expanded from macro 'STMT_START'
# define STMT_START (void)( /* gcc supports ``({ STATEMENTS; })'' */
^
Cwd.xs:542:5: note: '{' token is here
SvTAINT(retval);
^~~~~~~~~~~~~~~
/Users/stan/perl5/perlbrew/perls/perl-5.32.1/lib/5.32.1/darwin-2level/CORE/sv.h:1501:13: note: expanded from macro 'SvTAINT'
SvTAINTED_on(sv); \
^~~~~~~~~~~~~~~~
/Users/stan/perl5/perlbrew/perls/perl-5.32.1/lib/5.32.1/darwin-2level/CORE/sv.h:1494:37: note: expanded from macro 'SvTAINTED_on'
#define SvTAINTED_on(sv) STMT_START{ if(UNLIKELY(TAINTING_get)){sv_taint(sv);} }STMT_END
^
Cwd.xs:542:5: warning: '}' and ')' tokens terminating statement expression appear in different macro expansion contexts [-Wcompound-token-split-by-macro]
SvTAINT(retval);
^~~~~~~~~~~~~~~
/Users/stan/perl5/perlbrew/perls/perl-5.32.1/lib/5.32.1/darwin-2level/CORE/sv.h:1501:13: note: expanded from macro 'SvTAINT'
SvTAINTED_on(sv); \
^~~~~~~~~~~~~~~~
/Users/stan/perl5/perlbrew/perls/perl-5.32.1/lib/5.32.1/darwin-2level/CORE/sv.h:1494:83: note: expanded from macro 'SvTAINTED_on'
#define SvTAINTED_on(sv) STMT_START{ if(UNLIKELY(TAINTING_get)){sv_taint(sv);} }STMT_END
^
Cwd.xs:542:5: note: ')' token is here
SvTAINT(retval);
^~~~~~~~~~~~~~~
/Users/stan/perl5/perlbrew/perls/perl-5.32.1/lib/5.32.1/darwin-2level/CORE/sv.h:1501:13: note: expanded from macro 'SvTAINT'
SvTAINTED_on(sv); \
^~~~~~~~~~~~~~~~
/Users/stan/perl5/perlbrew/perls/perl-5.32.1/lib/5.32.1/darwin-2level/CORE/sv.h:1494:84: note: expanded from macro 'SvTAINTED_on'
#define SvTAINTED_on(sv) STMT_START{ if(UNLIKELY(TAINTING_get)){sv_taint(sv);} }STMT_END
^~~~~~~~
./ppport.h:4306:25: note: expanded from macro 'STMT_END'
# define STMT_END )
^
Cwd.xs:542:5: warning: '}' and ')' tokens terminating statement expression appear in different macro expansion contexts [-Wcompound-token-split-by-macro]
SvTAINT(retval);
^~~~~~~~~~~~~~~
/Users/stan/perl5/perlbrew/perls/perl-5.32.1/lib/5.32.1/darwin-2level/CORE/sv.h:1502:5: note: expanded from macro 'SvTAINT'
} STMT_END
^
Cwd.xs:542:5: note: ')' token is here
SvTAINT(retval);
^~~~~~~~~~~~~~~
/Users/stan/perl5/perlbrew/perls/perl-5.32.1/lib/5.32.1/darwin-2level/CORE/sv.h:1502:7: note: expanded from macro 'SvTAINT'
} STMT_END
^~~~~~~~
./ppport.h:4306:25: note: expanded from macro 'STMT_END'
# define STMT_END )
^
Cwd.c:716:5: warning: '(' and '{' tokens introducing statement expression appear in different macro expansion contexts [-Wcompound-token-split-by-macro]
XSRETURN_EMPTY;
^~~~~~~~~~~~~~
/Users/stan/perl5/perlbrew/perls/perl-5.32.1/lib/5.32.1/darwin-2level/CORE/XSUB.h:330:24: note: expanded from macro 'XSRETURN_EMPTY'
#define XSRETURN_EMPTY STMT_START { XSRETURN(0); } STMT_END
^~~~~~~~~~
./ppport.h:4305:31: note: expanded from macro 'STMT_START'
# define STMT_START (void)( /* gcc supports ``({ STATEMENTS; })'' */
^
Cwd.c:716:5: note: '{' token is here
XSRETURN_EMPTY;
^~~~~~~~~~~~~~
/Users/stan/perl5/perlbrew/perls/perl-5.32.1/lib/5.32.1/darwin-2level/CORE/XSUB.h:330:35: note: expanded from macro 'XSRETURN_EMPTY'
#define XSRETURN_EMPTY STMT_START { XSRETURN(0); } STMT_END
^
Cwd.c:716:5: warning: '(' and '{' tokens introducing statement expression appear in different macro expansion contexts [-Wcompound-token-split-by-macro]
XSRETURN_EMPTY;
^~~~~~~~~~~~~~
/Users/stan/perl5/perlbrew/perls/perl-5.32.1/lib/5.32.1/darwin-2level/CORE/XSUB.h:330:52: note: expanded from macro 'XSRETURN_EMPTY'
#define XSRETURN_EMPTY STMT_START { XSRETURN(0); } STMT_END
^~~~~~~~~~~
/Users/stan/perl5/perlbrew/perls/perl-5.32.1/lib/5.32.1/darwin-2level/CORE/XSUB.h:315:5: note: expanded from macro 'XSRETURN'
STMT_START { \
^~~~~~~~~~
./ppport.h:4305:31: note: expanded from macro 'STMT_START'
# define STMT_START (void)( /* gcc supports ``({ STATEMENTS; })'' */
^
Cwd.c:716:5: note: '{' token is here
XSRETURN_EMPTY;
^~~~~~~~~~~~~~
/Users/stan/perl5/perlbrew/perls/perl-5.32.1/lib/5.32.1/darwin-2level/CORE/XSUB.h:330:52: note: expanded from macro 'XSRETURN_EMPTY'
#define XSRETURN_EMPTY STMT_START { XSRETURN(0); } STMT_END
^~~~~~~~~~~
/Users/stan/perl5/perlbrew/perls/perl-5.32.1/lib/5.32.1/darwin-2level/CORE/XSUB.h:315:16: note: expanded from macro 'XSRETURN'
STMT_START { \
^
Cwd.c:716:5: warning: '}' and ')' tokens terminating statement expression appear in different macro expansion contexts [-Wcompound-token-split-by-macro]
XSRETURN_EMPTY;
^~~~~~~~~~~~~~
/Users/stan/perl5/perlbrew/perls/perl-5.32.1/lib/5.32.1/darwin-2level/CORE/XSUB.h:330:52: note: expanded from macro 'XSRETURN_EMPTY'
#define XSRETURN_EMPTY STMT_START { XSRETURN(0); } STMT_END
^~~~~~~~~~~
/Users/stan/perl5/perlbrew/perls/perl-5.32.1/lib/5.32.1/darwin-2level/CORE/XSUB.h:320:5: note: expanded from macro 'XSRETURN'
} STMT_END
^
Cwd.c:716:5: note: ')' token is here
XSRETURN_EMPTY;
^~~~~~~~~~~~~~
/Users/stan/perl5/perlbrew/perls/perl-5.32.1/lib/5.32.1/darwin-2level/CORE/XSUB.h:330:52: note: expanded from macro 'XSRETURN_EMPTY'
#define XSRETURN_EMPTY STMT_START { XSRETURN(0); } STMT_END
^~~~~~~~~~~
/Users/stan/perl5/perlbrew/perls/perl-5.32.1/lib/5.32.1/darwin-2level/CORE/XSUB.h:320:7: note: expanded from macro 'XSRETURN'
} STMT_END
^~~~~~~~
./ppport.h:4306:25: note: expanded from macro 'STMT_END'
# define STMT_END )
^
Cwd.c:716:5: warning: '}' and ')' tokens terminating statement expression appear in different macro expansion contexts [-Wcompound-token-split-by-macro]
XSRETURN_EMPTY;
^~~~~~~~~~~~~~
/Users/stan/perl5/perlbrew/perls/perl-5.32.1/lib/5.32.1/darwin-2level/CORE/XSUB.h:330:65: note: expanded from macro 'XSRETURN_EMPTY'
#define XSRETURN_EMPTY STMT_START { XSRETURN(0); } STMT_END
^
Cwd.c:716:5: note: ')' token is here
XSRETURN_EMPTY;
^~~~~~~~~~~~~~
/Users/stan/perl5/perlbrew/perls/perl-5.32.1/lib/5.32.1/darwin-2level/CORE/XSUB.h:330:67: note: expanded from macro 'XSRETURN_EMPTY'
#define XSRETURN_EMPTY STMT_START { XSRETURN(0); } STMT_END
^~~~~~~~
./ppport.h:4306:25: note: expanded from macro 'STMT_END'
# define STMT_END )
^
Cwd.xs:579:16: warning: '(' and '{' tokens introducing statement expression appear in different macro expansion contexts [-Wcompound-token-split-by-macro]
XSprePUSH; PUSHTARG;
^~~~~~~~
/Users/stan/perl5/perlbrew/perls/perl-5.32.1/lib/5.32.1/darwin-2level/CORE/pp.h:456:18: note: expanded from macro 'PUSHTARG'
#define PUSHTARG STMT_START { SvSETMAGIC(TARG); PUSHs(TARG); } STMT_END
^~~~~~~~~~
./ppport.h:4305:31: note: expanded from macro 'STMT_START'
# define STMT_START (void)( /* gcc supports ``({ STATEMENTS; })'' */
^
Cwd.xs:579:16: note: '{' token is here
XSprePUSH; PUSHTARG;
^~~~~~~~
/Users/stan/perl5/perlbrew/perls/perl-5.32.1/lib/5.32.1/darwin-2level/CORE/pp.h:456:29: note: expanded from macro 'PUSHTARG'
#define PUSHTARG STMT_START { SvSETMAGIC(TARG); PUSHs(TARG); } STMT_END
^
Cwd.xs:579:16: warning: '(' and '{' tokens introducing statement expression appear in different macro expansion contexts [-Wcompound-token-split-by-macro]
XSprePUSH; PUSHTARG;
^~~~~~~~
/Users/stan/perl5/perlbrew/perls/perl-5.32.1/lib/5.32.1/darwin-2level/CORE/pp.h:456:31: note: expanded from macro 'PUSHTARG'
#define PUSHTARG STMT_START { SvSETMAGIC(TARG); PUSHs(TARG); } STMT_END
^~~~~~~~~~~~~~~~
/Users/stan/perl5/perlbrew/perls/perl-5.32.1/lib/5.32.1/darwin-2level/CORE/sv.h:2144:23: note: expanded from macro 'SvSETMAGIC'
#define SvSETMAGIC(x) STMT_START { if (UNLIKELY(SvSMAGICAL(x))) mg_set(x); } STMT_END
^~~~~~~~~~
./ppport.h:4305:31: note: expanded from macro 'STMT_START'
# define STMT_START (void)( /* gcc supports ``({ STATEMENTS; })'' */
^
Cwd.xs:579:16: note: '{' token is here
XSprePUSH; PUSHTARG;
^~~~~~~~
/Users/stan/perl5/perlbrew/perls/perl-5.32.1/lib/5.32.1/darwin-2level/CORE/pp.h:456:31: note: expanded from macro 'PUSHTARG'
#define PUSHTARG STMT_START { SvSETMAGIC(TARG); PUSHs(TARG); } STMT_END
^~~~~~~~~~~~~~~~
/Users/stan/perl5/perlbrew/perls/perl-5.32.1/lib/5.32.1/darwin-2level/CORE/sv.h:2144:34: note: expanded from macro 'SvSETMAGIC'
#define SvSETMAGIC(x) STMT_START { if (UNLIKELY(SvSMAGICAL(x))) mg_set(x); } STMT_END
^
Cwd.xs:579:16: warning: '}' and ')' tokens terminating statement expression appear in different macro expansion contexts [-Wcompound-token-split-by-macro]
XSprePUSH; PUSHTARG;
^~~~~~~~
/Users/stan/perl5/perlbrew/perls/perl-5.32.1/lib/5.32.1/darwin-2level/CORE/pp.h:456:31: note: expanded from macro 'PUSHTARG'
#define PUSHTARG STMT_START { SvSETMAGIC(TARG); PUSHs(TARG); } STMT_END
^~~~~~~~~~~~~~~~
/Users/stan/perl5/perlbrew/perls/perl-5.32.1/lib/5.32.1/darwin-2level/CORE/sv.h:2144:76: note: expanded from macro 'SvSETMAGIC'
#define SvSETMAGIC(x) STMT_START { if (UNLIKELY(SvSMAGICAL(x))) mg_set(x); } STMT_END
^
Cwd.xs:579:16: note: ')' token is here
XSprePUSH; PUSHTARG;
^~~~~~~~
/Users/stan/perl5/perlbrew/perls/perl-5.32.1/lib/5.32.1/darwin-2level/CORE/pp.h:456:31: note: expanded from macro 'PUSHTARG'
#define PUSHTARG STMT_START { SvSETMAGIC(TARG); PUSHs(TARG); } STMT_END
^~~~~~~~~~~~~~~~
/Users/stan/perl5/perlbrew/perls/perl-5.32.1/lib/5.32.1/darwin-2level/CORE/sv.h:2144:78: note: expanded from macro 'SvSETMAGIC'
#define SvSETMAGIC(x) STMT_START { if (UNLIKELY(SvSMAGICAL(x))) mg_set(x); } STMT_END
^~~~~~~~
./ppport.h:4306:25: note: expanded from macro 'STMT_END'
# define STMT_END )
^
Cwd.xs:579:16: warning: '}' and ')' tokens terminating statement expression appear in different macro expansion contexts [-Wcompound-token-split-by-macro]
XSprePUSH; PUSHTARG;
^~~~~~~~
/Users/stan/perl5/perlbrew/perls/perl-5.32.1/lib/5.32.1/darwin-2level/CORE/pp.h:456:62: note: expanded from macro 'PUSHTARG'
#define PUSHTARG STMT_START { SvSETMAGIC(TARG); PUSHs(TARG); } STMT_END
^
Cwd.xs:579:16: note: ')' token is here
XSprePUSH; PUSHTARG;
^~~~~~~~
/Users/stan/perl5/perlbrew/perls/perl-5.32.1/lib/5.32.1/darwin-2level/CORE/pp.h:456:64: note: expanded from macro 'PUSHTARG'
#define PUSHTARG STMT_START { SvSETMAGIC(TARG); PUSHs(TARG); } STMT_END
^~~~~~~~
./ppport.h:4306:25: note: expanded from macro 'STMT_END'
# define STMT_END )
^
Cwd.xs:580:5: warning: '(' and '{' tokens introducing statement expression appear in different macro expansion contexts [-Wcompound-token-split-by-macro]
SvTAINTED_on(TARG);
^~~~~~~~~~~~~~~~~~
/Users/stan/perl5/perlbrew/perls/perl-5.32.1/lib/5.32.1/darwin-2level/CORE/sv.h:1494:27: note: expanded from macro 'SvTAINTED_on'
#define SvTAINTED_on(sv) STMT_START{ if(UNLIKELY(TAINTING_get)){sv_taint(sv);} }STMT_END
^~~~~~~~~~
./ppport.h:4305:31: note: expanded from macro 'STMT_START'
# define STMT_START (void)( /* gcc supports ``({ STATEMENTS; })'' */
^
Cwd.xs:580:5: note: '{' token is here
SvTAINTED_on(TARG);
^~~~~~~~~~~~~~~~~~
/Users/stan/perl5/perlbrew/perls/perl-5.32.1/lib/5.32.1/darwin-2level/CORE/sv.h:1494:37: note: expanded from macro 'SvTAINTED_on'
#define SvTAINTED_on(sv) STMT_START{ if(UNLIKELY(TAINTING_get)){sv_taint(sv);} }STMT_END
^
Cwd.xs:580:5: warning: '}' and ')' tokens terminating statement expression appear in different macro expansion contexts [-Wcompound-token-split-by-macro]
SvTAINTED_on(TARG);
^~~~~~~~~~~~~~~~~~
/Users/stan/perl5/perlbrew/perls/perl-5.32.1/lib/5.32.1/darwin-2level/CORE/sv.h:1494:83: note: expanded from macro 'SvTAINTED_on'
#define SvTAINTED_on(sv) STMT_START{ if(UNLIKELY(TAINTING_get)){sv_taint(sv);} }STMT_END
^
Cwd.xs:580:5: note: ')' token is here
SvTAINTED_on(TARG);
^~~~~~~~~~~~~~~~~~
/Users/stan/perl5/perlbrew/perls/perl-5.32.1/lib/5.32.1/darwin-2level/CORE/sv.h:1494:84: note: expanded from macro 'SvTAINTED_on'
#define SvTAINTED_on(sv) STMT_START{ if(UNLIKELY(TAINTING_get)){sv_taint(sv);} }STMT_END
^~~~~~~~
./ppport.h:4306:25: note: expanded from macro 'STMT_END'
# define STMT_END )
^
Cwd.xs:601:2: warning: '(' and '{' tokens introducing statement expression appear in different macro expansion contexts [-Wcompound-token-split-by-macro]
SvTAINTED_on(TARG);
^~~~~~~~~~~~~~~~~~
/Users/stan/perl5/perlbrew/perls/perl-5.32.1/lib/5.32.1/darwin-2level/CORE/sv.h:1494:27: note: expanded from macro 'SvTAINTED_on'
#define SvTAINTED_on(sv) STMT_START{ if(UNLIKELY(TAINTING_get)){sv_taint(sv);} }STMT_END
^~~~~~~~~~
./ppport.h:4305:31: note: expanded from macro 'STMT_START'
# define STMT_START (void)( /* gcc supports ``({ STATEMENTS; })'' */
^
Cwd.xs:601:2: note: '{' token is here
SvTAINTED_on(TARG);
^~~~~~~~~~~~~~~~~~
/Users/stan/perl5/perlbrew/perls/perl-5.32.1/lib/5.32.1/darwin-2level/CORE/sv.h:1494:37: note: expanded from macro 'SvTAINTED_on'
#define SvTAINTED_on(sv) STMT_START{ if(UNLIKELY(TAINTING_get)){sv_taint(sv);} }STMT_END
^
Cwd.xs:601:2: warning: '}' and ')' tokens terminating statement expression appear in different macro expansion contexts [-Wcompound-token-split-by-macro]
SvTAINTED_on(TARG);
^~~~~~~~~~~~~~~~~~
/Users/stan/perl5/perlbrew/perls/perl-5.32.1/lib/5.32.1/darwin-2level/CORE/sv.h:1494:83: note: expanded from macro 'SvTAINTED_on'
#define SvTAINTED_on(sv) STMT_START{ if(UNLIKELY(TAINTING_get)){sv_taint(sv);} }STMT_END
^
Cwd.xs:601:2: note: ')' token is here
SvTAINTED_on(TARG);
^~~~~~~~~~~~~~~~~~
/Users/stan/perl5/perlbrew/perls/perl-5.32.1/lib/5.32.1/darwin-2level/CORE/sv.h:1494:84: note: expanded from macro 'SvTAINTED_on'
#define SvTAINTED_on(sv) STMT_START{ if(UNLIKELY(TAINTING_get)){sv_taint(sv);} }STMT_END
^~~~~~~~
./ppport.h:4306:25: note: expanded from macro 'STMT_END'
# define STMT_END )
^
Cwd.xs:607:5: warning: '(' and '{' tokens introducing statement expression appear in different macro expansion contexts [-Wcompound-token-split-by-macro]
SvTAINTED_on(TARG);
^~~~~~~~~~~~~~~~~~
/Users/stan/perl5/perlbrew/perls/perl-5.32.1/lib/5.32.1/darwin-2level/CORE/sv.h:1494:27: note: expanded from macro 'SvTAINTED_on'
#define SvTAINTED_on(sv) STMT_START{ if(UNLIKELY(TAINTING_get)){sv_taint(sv);} }STMT_END
^~~~~~~~~~
./ppport.h:4305:31: note: expanded from macro 'STMT_START'
# define STMT_START (void)( /* gcc supports ``({ STATEMENTS; })'' */
^
Cwd.xs:607:5: note: '{' token is here
SvTAINTED_on(TARG);
^~~~~~~~~~~~~~~~~~
/Users/stan/perl5/perlbrew/perls/perl-5.32.1/lib/5.32.1/darwin-2level/CORE/sv.h:1494:37: note: expanded from macro 'SvTAINTED_on'
#define SvTAINTED_on(sv) STMT_START{ if(UNLIKELY(TAINTING_get)){sv_taint(sv);} }STMT_END
^
Cwd.xs:607:5: warning: '}' and ')' tokens terminating statement expression appear in different macro expansion contexts [-Wcompound-token-split-by-macro]
SvTAINTED_on(TARG);
^~~~~~~~~~~~~~~~~~
/Users/stan/perl5/perlbrew/perls/perl-5.32.1/lib/5.32.1/darwin-2level/CORE/sv.h:1494:83: note: expanded from macro 'SvTAINTED_on'
#define SvTAINTED_on(sv) STMT_START{ if(UNLIKELY(TAINTING_get)){sv_taint(sv);} }STMT_END
^
Cwd.xs:607:5: note: ')' token is here
SvTAINTED_on(TARG);
^~~~~~~~~~~~~~~~~~
/Users/stan/perl5/perlbrew/perls/perl-5.32.1/lib/5.32.1/darwin-2level/CORE/sv.h:1494:84: note: expanded from macro 'SvTAINTED_on'
#define SvTAINTED_on(sv) STMT_START{ if(UNLIKELY(TAINTING_get)){sv_taint(sv);} }STMT_END
^~~~~~~~
./ppport.h:4306:25: note: expanded from macro 'STMT_END'
# define STMT_END )
^
Cwd.c:869:5: warning: '(' and '{' tokens introducing statement expression appear in different macro expansion contexts [-Wcompound-token-split-by-macro]
XSRETURN(1);
^~~~~~~~~~~
/Users/stan/perl5/perlbrew/perls/perl-5.32.1/lib/5.32.1/darwin-2level/CORE/XSUB.h:315:5: note: expanded from macro 'XSRETURN'
STMT_START { \
^~~~~~~~~~
./ppport.h:4305:31: note: expanded from macro 'STMT_START'
# define STMT_START (void)( /* gcc supports ``({ STATEMENTS; })'' */
^
Cwd.c:869:5: note: '{' token is here
XSRETURN(1);
^~~~~~~~~~~
/Users/stan/perl5/perlbrew/perls/perl-5.32.1/lib/5.32.1/darwin-2level/CORE/XSUB.h:315:16: note: expanded from macro 'XSRETURN'
STMT_START { \
^
Cwd.c:869:5: warning: '}' and ')' tokens terminating statement expression appear in different macro expansion contexts [-Wcompound-token-split-by-macro]
XSRETURN(1);
^~~~~~~~~~~
/Users/stan/perl5/perlbrew/perls/perl-5.32.1/lib/5.32.1/darwin-2level/CORE/XSUB.h:320:5: note: expanded from macro 'XSRETURN'
} STMT_END
^
Cwd.c:869:5: note: ')' token is here
XSRETURN(1);
^~~~~~~~~~~
/Users/stan/perl5/perlbrew/perls/perl-5.32.1/lib/5.32.1/darwin-2level/CORE/XSUB.h:320:7: note: expanded from macro 'XSRETURN'
} STMT_END
^~~~~~~~
./ppport.h:4306:25: note: expanded from macro 'STMT_END'
# define STMT_END )
^
Cwd.c:895:5: warning: '(' and '{' tokens introducing statement expression appear in different macro expansion contexts [-Wcompound-token-split-by-macro]
XSRETURN(1);
^~~~~~~~~~~
/Users/stan/perl5/perlbrew/perls/perl-5.32.1/lib/5.32.1/darwin-2level/CORE/XSUB.h:315:5: note: expanded from macro 'XSRETURN'
STMT_START { \
^~~~~~~~~~
./ppport.h:4305:31: note: expanded from macro 'STMT_START'
# define STMT_START (void)( /* gcc supports ``({ STATEMENTS; })'' */
^
Cwd.c:895:5: note: '{' token is here
XSRETURN(1);
^~~~~~~~~~~
/Users/stan/perl5/perlbrew/perls/perl-5.32.1/lib/5.32.1/darwin-2level/CORE/XSUB.h:315:16: note: expanded from macro 'XSRETURN'
STMT_START { \
^
Cwd.c:895:5: warning: '}' and ')' tokens terminating statement expression appear in different macro expansion contexts [-Wcompound-token-split-by-macro]
XSRETURN(1);
^~~~~~~~~~~
/Users/stan/perl5/perlbrew/perls/perl-5.32.1/lib/5.32.1/darwin-2level/CORE/XSUB.h:320:5: note: expanded from macro 'XSRETURN'
} STMT_END
^
Cwd.c:895:5: note: ')' token is here
XSRETURN(1);
^~~~~~~~~~~
/Users/stan/perl5/perlbrew/perls/perl-5.32.1/lib/5.32.1/darwin-2level/CORE/XSUB.h:320:7: note: expanded from macro 'XSRETURN'
} STMT_END
^~~~~~~~
./ppport.h:4306:25: note: expanded from macro 'STMT_END'
# define STMT_END )
^
Cwd.xs:670:5: warning: '(' and '{' tokens introducing statement expression appear in different macro expansion contexts [-Wcompound-token-split-by-macro]
EXTEND(SP, items+1);
^~~~~~~~~~~~~~~~~~~
/Users/stan/perl5/perlbrew/perls/perl-5.32.1/lib/5.32.1/darwin-2level/CORE/pp.h:371:25: note: expanded from macro 'EXTEND'
# define EXTEND(p,n) STMT_START { \
^~~~~~~~~~
./ppport.h:4305:31: note: expanded from macro 'STMT_START'
# define STMT_START (void)( /* gcc supports ``({ STATEMENTS; })'' */
^
Cwd.xs:670:5: note: '{' token is here
EXTEND(SP, items+1);
^~~~~~~~~~~~~~~~~~~
/Users/stan/perl5/perlbrew/perls/perl-5.32.1/lib/5.32.1/darwin-2level/CORE/pp.h:371:36: note: expanded from macro 'EXTEND'
# define EXTEND(p,n) STMT_START { \
^
Cwd.xs:670:5: warning: '}' and ')' tokens terminating statement expression appear in different macro expansion contexts [-Wcompound-token-split-by-macro]
EXTEND(SP, items+1);
^~~~~~~~~~~~~~~~~~~
/Users/stan/perl5/perlbrew/perls/perl-5.32.1/lib/5.32.1/darwin-2level/CORE/pp.h:376:28: note: expanded from macro 'EXTEND'
} } STMT_END
^
Cwd.xs:670:5: note: ')' token is here
EXTEND(SP, items+1);
^~~~~~~~~~~~~~~~~~~
/Users/stan/perl5/perlbrew/perls/perl-5.32.1/lib/5.32.1/darwin-2level/CORE/pp.h:376:30: note: expanded from macro 'EXTEND'
} } STMT_END
^~~~~~~~
./ppport.h:4306:25: note: expanded from macro 'STMT_END'
# define STMT_END )
^
Cwd.xs:678:2: warning: '(' and '{' tokens introducing statement expression appear in different macro expansion contexts [-Wcompound-token-split-by-macro]
PUSHMARK(SP);
^~~~~~~~~~~~
/Users/stan/perl5/perlbrew/perls/perl-5.32.1/lib/5.32.1/darwin-2level/CORE/pp.h:59:5: note: expanded from macro 'PUSHMARK'
STMT_START { \
^~~~~~~~~~
./ppport.h:4305:31: note: expanded from macro 'STMT_START'
# define STMT_START (void)( /* gcc supports ``({ STATEMENTS; })'' */
^
Cwd.xs:678:2: note: '{' token is here
PUSHMARK(SP);
^~~~~~~~~~~~
/Users/stan/perl5/perlbrew/perls/perl-5.32.1/lib/5.32.1/darwin-2level/CORE/pp.h:59:16: note: expanded from macro 'PUSHMARK'
STMT_START { \
^
Cwd.xs:678:2: warning: '}' and ')' tokens terminating statement expression appear in different macro expansion contexts [-Wcompound-token-split-by-macro]
PUSHMARK(SP);
^~~~~~~~~~~~
/Users/stan/perl5/perlbrew/perls/perl-5.32.1/lib/5.32.1/darwin-2level/CORE/pp.h:68:5: note: expanded from macro 'PUSHMARK'
} STMT_END
^
Cwd.xs:678:2: note: ')' token is here
PUSHMARK(SP);
^~~~~~~~~~~~
/Users/stan/perl5/perlbrew/perls/perl-5.32.1/lib/5.32.1/darwin-2level/CORE/pp.h:68:7: note: expanded from macro 'PUSHMARK'
} STMT_END
^~~~~~~~
./ppport.h:4306:25: note: expanded from macro 'STMT_END'
# define STMT_END )
^
Cwd.xs:679:2: warning: '(' and '{' tokens introducing statement expression appear in different macro expansion contexts [-Wcompound-token-split-by-macro]
EXTEND(SP, 2);
^~~~~~~~~~~~~
/Users/stan/perl5/perlbrew/perls/perl-5.32.1/lib/5.32.1/darwin-2level/CORE/pp.h:371:25: note: expanded from macro 'EXTEND'
# define EXTEND(p,n) STMT_START { \
^~~~~~~~~~
./ppport.h:4305:31: note: expanded from macro 'STMT_START'
# define STMT_START (void)( /* gcc supports ``({ STATEMENTS; })'' */
^
Cwd.xs:679:2: note: '{' token is here
EXTEND(SP, 2);
^~~~~~~~~~~~~
/Users/stan/perl5/perlbrew/perls/perl-5.32.1/lib/5.32.1/darwin-2level/CORE/pp.h:371:36: note: expanded from macro 'EXTEND'
# define EXTEND(p,n) STMT_START { \
^
Cwd.xs:679:2: warning: '}' and ')' tokens terminating statement expression appear in different macro expansion contexts [-Wcompound-token-split-by-macro]
EXTEND(SP, 2);
^~~~~~~~~~~~~
/Users/stan/perl5/perlbrew/perls/perl-5.32.1/lib/5.32.1/darwin-2level/CORE/pp.h:376:28: note: expanded from macro 'EXTEND'
} } STMT_END
^
Cwd.xs:679:2: note: ')' token is here
EXTEND(SP, 2);
^~~~~~~~~~~~~
/Users/stan/perl5/perlbrew/perls/perl-5.32.1/lib/5.32.1/darwin-2level/CORE/pp.h:376:30: note: expanded from macro 'EXTEND'
} } STMT_END
^~~~~~~~
./ppport.h:4306:25: note: expanded from macro 'STMT_END'
# define STMT_END )
^
Cwd.c:937:5: warning: '(' and '{' tokens introducing statement expression appear in different macro expansion contexts [-Wcompound-token-split-by-macro]
XSRETURN(1);
^~~~~~~~~~~
/Users/stan/perl5/perlbrew/perls/perl-5.32.1/lib/5.32.1/darwin-2level/CORE/XSUB.h:315:5: note: expanded from macro 'XSRETURN'
STMT_START { \
^~~~~~~~~~
./ppport.h:4305:31: note: expanded from macro 'STMT_START'
# define STMT_START (void)( /* gcc supports ``({ STATEMENTS; })'' */
^
Cwd.c:937:5: note: '{' token is here
XSRETURN(1);
^~~~~~~~~~~
/Users/stan/perl5/perlbrew/perls/perl-5.32.1/lib/5.32.1/darwin-2level/CORE/XSUB.h:315:16: note: expanded from macro 'XSRETURN'
STMT_START { \
^
Cwd.c:937:5: warning: '}' and ')' tokens terminating statement expression appear in different macro expansion contexts [-Wcompound-token-split-by-macro]
XSRETURN(1);
^~~~~~~~~~~
/Users/stan/perl5/perlbrew/perls/perl-5.32.1/lib/5.32.1/darwin-2level/CORE/XSUB.h:320:5: note: expanded from macro 'XSRETURN'
} STMT_END
^
Cwd.c:937:5: note: ')' token is here
XSRETURN(1);
^~~~~~~~~~~
/Users/stan/perl5/perlbrew/perls/perl-5.32.1/lib/5.32.1/darwin-2level/CORE/XSUB.h:320:7: note: expanded from macro 'XSRETURN'
} STMT_END
^~~~~~~~
./ppport.h:4306:25: note: expanded from macro 'STMT_END'
# define STMT_END )
^
Cwd.xs:698:5: warning: '(' and '{' tokens introducing statement expression appear in different macro expansion contexts [-Wcompound-token-split-by-macro]
EXTEND(SP, items+1);
^~~~~~~~~~~~~~~~~~~
/Users/stan/perl5/perlbrew/perls/perl-5.32.1/lib/5.32.1/darwin-2level/CORE/pp.h:371:25: note: expanded from macro 'EXTEND'
# define EXTEND(p,n) STMT_START { \
^~~~~~~~~~
./ppport.h:4305:31: note: expanded from macro 'STMT_START'
# define STMT_START (void)( /* gcc supports ``({ STATEMENTS; })'' */
^
Cwd.xs:698:5: note: '{' token is here
EXTEND(SP, items+1);
^~~~~~~~~~~~~~~~~~~
/Users/stan/perl5/perlbrew/perls/perl-5.32.1/lib/5.32.1/darwin-2level/CORE/pp.h:371:36: note: expanded from macro 'EXTEND'
# define EXTEND(p,n) STMT_START { \
^
Cwd.xs:698:5: warning: '}' and ')' tokens terminating statement expression appear in different macro expansion contexts [-Wcompound-token-split-by-macro]
EXTEND(SP, items+1);
^~~~~~~~~~~~~~~~~~~
/Users/stan/perl5/perlbrew/perls/perl-5.32.1/lib/5.32.1/darwin-2level/CORE/pp.h:376:28: note: expanded from macro 'EXTEND'
} } STMT_END
^
Cwd.xs:698:5: note: ')' token is here
EXTEND(SP, items+1);
^~~~~~~~~~~~~~~~~~~
/Users/stan/perl5/perlbrew/perls/perl-5.32.1/lib/5.32.1/darwin-2level/CORE/pp.h:376:30: note: expanded from macro 'EXTEND'
} } STMT_END
^~~~~~~~
./ppport.h:4306:25: note: expanded from macro 'STMT_END'
# define STMT_END )
^
Cwd.c:963:5: warning: '(' and '{' tokens introducing statement expression appear in different macro expansion contexts [-Wcompound-token-split-by-macro]
XSRETURN(1);
^~~~~~~~~~~
/Users/stan/perl5/perlbrew/perls/perl-5.32.1/lib/5.32.1/darwin-2level/CORE/XSUB.h:315:5: note: expanded from macro 'XSRETURN'
STMT_START { \
^~~~~~~~~~
./ppport.h:4305:31: note: expanded from macro 'STMT_START'
# define STMT_START (void)( /* gcc supports ``({ STATEMENTS; })'' */
^
Cwd.c:963:5: note: '{' token is here
XSRETURN(1);
^~~~~~~~~~~
/Users/stan/perl5/perlbrew/perls/perl-5.32.1/lib/5.32.1/darwin-2level/CORE/XSUB.h:315:16: note: expanded from macro 'XSRETURN'
STMT_START { \
^
Cwd.c:963:5: warning: '}' and ')' tokens terminating statement expression appear in different macro expansion contexts [-Wcompound-token-split-by-macro]
XSRETURN(1);
^~~~~~~~~~~
/Users/stan/perl5/perlbrew/perls/perl-5.32.1/lib/5.32.1/darwin-2level/CORE/XSUB.h:320:5: note: expanded from macro 'XSRETURN'
} STMT_END
^
Cwd.c:963:5: note: ')' token is here
XSRETURN(1);
^~~~~~~~~~~
/Users/stan/perl5/perlbrew/perls/perl-5.32.1/lib/5.32.1/darwin-2level/CORE/XSUB.h:320:7: note: expanded from macro 'XSRETURN'
} STMT_END
^~~~~~~~
./ppport.h:4306:25: note: expanded from macro 'STMT_END'
# define STMT_END )
^
Cwd.xs:732:2: warning: '(' and '{' tokens introducing statement expression appear in different macro expansion contexts [-Wcompound-token-split-by-macro]
PUSHMARK(SP);
^~~~~~~~~~~~
/Users/stan/perl5/perlbrew/perls/perl-5.32.1/lib/5.32.1/darwin-2level/CORE/pp.h:59:5: note: expanded from macro 'PUSHMARK'
STMT_START { \
^~~~~~~~~~
./ppport.h:4305:31: note: expanded from macro 'STMT_START'
# define STMT_START (void)( /* gcc supports ``({ STATEMENTS; })'' */
^
Cwd.xs:732:2: note: '{' token is here
PUSHMARK(SP);
^~~~~~~~~~~~
/Users/stan/perl5/perlbrew/perls/perl-5.32.1/lib/5.32.1/darwin-2level/CORE/pp.h:59:16: note: expanded from macro 'PUSHMARK'
STMT_START { \
^
Cwd.xs:732:2: warning: '}' and ')' tokens terminating statement expression appear in different macro expansion contexts [-Wcompound-token-split-by-macro]
PUSHMARK(SP);
^~~~~~~~~~~~
/Users/stan/perl5/perlbrew/perls/perl-5.32.1/lib/5.32.1/darwin-2level/CORE/pp.h:68:5: note: expanded from macro 'PUSHMARK'
} STMT_END
^
Cwd.xs:732:2: note: ')' token is here
PUSHMARK(SP);
^~~~~~~~~~~~
/Users/stan/perl5/perlbrew/perls/perl-5.32.1/lib/5.32.1/darwin-2level/CORE/pp.h:68:7: note: expanded from macro 'PUSHMARK'
} STMT_END
^~~~~~~~
./ppport.h:4306:25: note: expanded from macro 'STMT_END'
# define STMT_END )
^
Cwd.xs:733:2: warning: '(' and '{' tokens introducing statement expression appear in different macro expansion contexts [-Wcompound-token-split-by-macro]
EXTEND(SP, 2);
^~~~~~~~~~~~~
/Users/stan/perl5/perlbrew/perls/perl-5.32.1/lib/5.32.1/darwin-2level/CORE/pp.h:371:25: note: expanded from macro 'EXTEND'
# define EXTEND(p,n) STMT_START { \
^~~~~~~~~~
./ppport.h:4305:31: note: expanded from macro 'STMT_START'
# define STMT_START (void)( /* gcc supports ``({ STATEMENTS; })'' */
^
Cwd.xs:733:2: note: '{' token is here
EXTEND(SP, 2);
^~~~~~~~~~~~~
/Users/stan/perl5/perlbrew/perls/perl-5.32.1/lib/5.32.1/darwin-2level/CORE/pp.h:371:36: note: expanded from macro 'EXTEND'
# define EXTEND(p,n) STMT_START { \
^
Cwd.xs:733:2: warning: '}' and ')' tokens terminating statement expression appear in different macro expansion contexts [-Wcompound-token-split-by-macro]
EXTEND(SP, 2);
^~~~~~~~~~~~~
/Users/stan/perl5/perlbrew/perls/perl-5.32.1/lib/5.32.1/darwin-2level/CORE/pp.h:376:28: note: expanded from macro 'EXTEND'
} } STMT_END
^
Cwd.xs:733:2: note: ')' token is here
EXTEND(SP, 2);
^~~~~~~~~~~~~
/Users/stan/perl5/perlbrew/perls/perl-5.32.1/lib/5.32.1/darwin-2level/CORE/pp.h:376:30: note: expanded from macro 'EXTEND'
} } STMT_END
^~~~~~~~
./ppport.h:4306:25: note: expanded from macro 'STMT_END'
# define STMT_END )
^
Cwd.xs:749:6: warning: '(' and '{' tokens introducing statement expression appear in different macro expansion contexts [-Wcompound-token-split-by-macro]
PUSHMARK(&ST(-1));
^~~~~~~~~~~~~~~~~
/Users/stan/perl5/perlbrew/perls/perl-5.32.1/lib/5.32.1/darwin-2level/CORE/pp.h:59:5: note: expanded from macro 'PUSHMARK'
STMT_START { \
^~~~~~~~~~
./ppport.h:4305:31: note: expanded from macro 'STMT_START'
# define STMT_START (void)( /* gcc supports ``({ STATEMENTS; })'' */
^
Cwd.xs:749:6: note: '{' token is here
PUSHMARK(&ST(-1));
^~~~~~~~~~~~~~~~~
/Users/stan/perl5/perlbrew/perls/perl-5.32.1/lib/5.32.1/darwin-2level/CORE/pp.h:59:16: note: expanded from macro 'PUSHMARK'
STMT_START { \
^
Cwd.xs:749:6: warning: '}' and ')' tokens terminating statement expression appear in different macro expansion contexts [-Wcompound-token-split-by-macro]
PUSHMARK(&ST(-1));
^~~~~~~~~~~~~~~~~
/Users/stan/perl5/perlbrew/perls/perl-5.32.1/lib/5.32.1/darwin-2level/CORE/pp.h:68:5: note: expanded from macro 'PUSHMARK'
} STMT_END
^
Cwd.xs:749:6: note: ')' token is here
PUSHMARK(&ST(-1));
^~~~~~~~~~~~~~~~~
/Users/stan/perl5/perlbrew/perls/perl-5.32.1/lib/5.32.1/darwin-2level/CORE/pp.h:68:7: note: expanded from macro 'PUSHMARK'
} STMT_END
^~~~~~~~
./ppport.h:4306:25: note: expanded from macro 'STMT_END'
# define STMT_END )
^
Cwd.c:1036:5: warning: '(' and '{' tokens introducing statement expression appear in different macro expansion contexts [-Wcompound-token-split-by-macro]
XSRETURN(1);
^~~~~~~~~~~
/Users/stan/perl5/perlbrew/perls/perl-5.32.1/lib/5.32.1/darwin-2level/CORE/XSUB.h:315:5: note: expanded from macro 'XSRETURN'
STMT_START { \
^~~~~~~~~~
./ppport.h:4305:31: note: expanded from macro 'STMT_START'
# define STMT_START (void)( /* gcc supports ``({ STATEMENTS; })'' */
^
Cwd.c:1036:5: note: '{' token is here
XSRETURN(1);
^~~~~~~~~~~
/Users/stan/perl5/perlbrew/perls/perl-5.32.1/lib/5.32.1/darwin-2level/CORE/XSUB.h:315:16: note: expanded from macro 'XSRETURN'
STMT_START { \
^
Cwd.c:1036:5: warning: '}' and ')' tokens terminating statement expression appear in different macro expansion contexts [-Wcompound-token-split-by-macro]
XSRETURN(1);
^~~~~~~~~~~
/Users/stan/perl5/perlbrew/perls/perl-5.32.1/lib/5.32.1/darwin-2level/CORE/XSUB.h:320:5: note: expanded from macro 'XSRETURN'
} STMT_END
^
Cwd.c:1036:5: note: ')' token is here
XSRETURN(1);
^~~~~~~~~~~
/Users/stan/perl5/perlbrew/perls/perl-5.32.1/lib/5.32.1/darwin-2level/CORE/XSUB.h:320:7: note: expanded from macro 'XSRETURN'
} STMT_END
^~~~~~~~
./ppport.h:4306:25: note: expanded from macro 'STMT_END'
# define STMT_END )
^
Cwd.c:1073:5: warning: '(' and '{' tokens introducing statement expression appear in different macro expansion contexts [-Wcompound-token-split-by-macro]
XSRETURN(1);
^~~~~~~~~~~
/Users/stan/perl5/perlbrew/perls/perl-5.32.1/lib/5.32.1/darwin-2level/CORE/XSUB.h:315:5: note: expanded from macro 'XSRETURN'
STMT_START { \
^~~~~~~~~~
./ppport.h:4305:31: note: expanded from macro 'STMT_START'
# define STMT_START (void)( /* gcc supports ``({ STATEMENTS; })'' */
^
Cwd.c:1073:5: note: '{' token is here
XSRETURN(1);
^~~~~~~~~~~
/Users/stan/perl5/perlbrew/perls/perl-5.32.1/lib/5.32.1/darwin-2level/CORE/XSUB.h:315:16: note: expanded from macro 'XSRETURN'
STMT_START { \
^
Cwd.c:1073:5: warning: '}' and ')' tokens terminating statement expression appear in different macro expansion contexts [-Wcompound-token-split-by-macro]
XSRETURN(1);
^~~~~~~~~~~
/Users/stan/perl5/perlbrew/perls/perl-5.32.1/lib/5.32.1/darwin-2level/CORE/XSUB.h:320:5: note: expanded from macro 'XSRETURN'
} STMT_END
^
Cwd.c:1073:5: note: ')' token is here
XSRETURN(1);
^~~~~~~~~~~
/Users/stan/perl5/perlbrew/perls/perl-5.32.1/lib/5.32.1/darwin-2level/CORE/XSUB.h:320:7: note: expanded from macro 'XSRETURN'
} STMT_END
^~~~~~~~
./ppport.h:4306:25: note: expanded from macro 'STMT_END'
# define STMT_END )
^
140 warnings generated.
rm -f blib/arch/auto/Cwd/Cwd.bundle
cc -mmacosx-version-min=12.2 -bundle -undefined dynamic_lookup -L/usr/local/lib -fstack-protector-strong Cwd.o -o blib/arch/auto/Cwd/Cwd.bundle \
\
chmod 755 blib/arch/auto/Cwd/Cwd.bundle
Manifying 11 pod documents
"/Users/stan/perl5/perlbrew/perls/perl-5.32.1/bin/perl" -MExtUtils::Command::MM -e 'cp_nonempty' -- Cwd.bs blib/arch/auto/Cwd/Cwd.bs 644
PERL_DL_NONLAZY=1 "/Users/stan/perl5/perlbrew/perls/perl-5.32.1/bin/perl" "-MExtUtils::Command::MM" "-MTest::Harness" "-e" "undef *Test::Harness::Switches; test_harness(0, 'blib/lib', 'blib/arch')" t/*.t
t/abs2rel.t ........ ok
t/crossplatform.t .. ok
t/cwd.t ............ ok
t/cwd_enoent.t ..... ok
t/Functions.t ...... ok
t/rel2abs2rel.t .... ok
t/Spec-taint.t ..... ok
t/Spec.t ........... ok
t/taint.t .......... ok
t/tmpdir.t ......... ok
t/win32.t .......... skipped: this is not win32
All tests successful.
Files=11, Tests=847, 1 wallclock secs ( 0.06 usr 0.02 sys + 0.67 cusr 0.13 csys = 0.88 CPU)
Result: PASS
------------------------------
PREREQUISITES
------------------------------
Prerequisite modules loaded:
No requirements found
------------------------------
ENVIRONMENT AND OTHER CONTEXT
------------------------------
Environment variables:
LANG = en_US.UTF-8
LC_ALL = en_US.UTF-8
LC_CTYPE = UTF-8
LC_TERMINAL = iTerm2
LC_TERMINAL_VERSION = 3.4.14
LDFLAGS = -L/usr/local/opt/curl/lib
PATH = /Users/stan/perl5/perlbrew/bin:/Users/stan/perl5/perlbrew/perls/perl-5.32.1/bin:/usr/local/opt/mysql-client/bin:/usr/local/Caskroom/google-cloud-sdk/latest/google-cloud-sdk/bin:/usr/local/opt/curl/bin:/usr/local/bin:/usr/bin:/bin:/usr/sbin:/sbin:/opt/X11/bin:/Users/stan/.vim/bin:/Users/stan/bin:/Users/stan/node_modules/.bin:/usr/local/sbin:/usr/local/opt/mysql-client/bin:/usr/local/Caskroom/google-cloud-sdk/latest/google-cloud-sdk/bin:/usr/local/opt/curl/bin
PERLBREW_HOME = /Users/stan/.perlbrew
PERLBREW_MANPATH = /Users/stan/perl5/perlbrew/perls/perl-5.32.1/man
PERLBREW_PATH = /Users/stan/perl5/perlbrew/bin:/Users/stan/perl5/perlbrew/perls/perl-5.32.1/bin
PERLBREW_PERL = perl-5.32.1
PERLBREW_ROOT = /Users/stan/perl5/perlbrew
PERLBREW_SHELLRC_VERSION = 0.92
PERLBREW_VERSION = 0.92
PERL_MM_USE_DEFAULT = 1
SHELL = /usr/local/bin/zsh
TERM = screen
TMPDIR = /var/folders/tk/hx6fvpsj3yzbyd1k1br945mc0000gn/T/
Perl special variables (and OS-specific diagnostics, for MSWin32):
EGID = 20 20 12 61 79 80 81 98 701 33 100 204 250 395 398 101 400
EUID = 501
EXECUTABLE_NAME = /Users/stan/perl5/perlbrew/perls/perl-5.32.1/bin/perl
GID = 20 20 12 61 79 80 81 98 701 33 100 204 250 395 398 101 400
UID = 501
Perl module toolchain versions installed:
Module Have
------------------- --------
CPAN 2.29
CPAN::Meta 2.150010
Cwd 3.75
ExtUtils::CBuilder 0.280236
ExtUtils::Command 7.64
ExtUtils::Install 2.20
ExtUtils::MakeMaker 7.64
ExtUtils::Manifest 1.73
ExtUtils::ParseXS 3.44
File::Spec 3.75
JSON 4.05
JSON::PP 4.07
Module::Build 0.4231
Module::Signature 0.88
Parse::CPAN::Meta 2.150010
Test::Harness 3.42
Test::More 1.302188
YAML 1.30
YAML::Syck n/a
version 0.9929
--
Summary of my perl5 (revision 5 version 32 subversion 1) configuration:
Platform:
osname=darwin
osvers=21.3.0
archname=darwin-2level
uname='darwin imac.fritz.box 21.3.0 darwin kernel version 21.3.0: wed jan 5 21:37:58 pst 2022; root:xnu-8019.80.24~20release_x86_64 x86_64 '
config_args='-de -Dprefix=/Users/stan/perl5/perlbrew/perls/perl-5.32.1 -Aeval:scriptdir=/Users/stan/perl5/perlbrew/perls/perl-5.32.1/bin'
hint=recommended
useposix=true
d_sigaction=define
useithreads=undef
usemultiplicity=undef
use64bitint=define
use64bitall=define
uselongdouble=undef
usemymalloc=n
default_inc_excludes_dot=define
bincompat5005=undef
Compiler:
cc='cc'
ccflags ='-fno-common -DPERL_DARWIN -mmacosx-version-min=12.2 -fno-strict-aliasing -pipe -fstack-protector-strong -I/usr/local/include -DPERL_USE_SAFE_PUTENV'
optimize='-O3'
cppflags='-fno-common -DPERL_DARWIN -mmacosx-version-min=12.2 -fno-strict-aliasing -pipe -fstack-protector-strong -I/usr/local/include'
ccversion=''
gccversion='Apple LLVM 13.0.0 (clang-1300.0.29.30)'
gccosandvers=''
intsize=4
longsize=8
ptrsize=8
doublesize=8
byteorder=12345678
doublekind=3
d_longlong=define
longlongsize=8
d_longdbl=define
longdblsize=16
longdblkind=3
ivtype='long'
ivsize=8
nvtype='double'
nvsize=8
Off_t='off_t'
lseeksize=8
alignbytes=8
prototype=define
Linker and Libraries:
ld='cc'
ldflags =' -mmacosx-version-min=12.2 -fstack-protector-strong -L/usr/local/lib'
libpth=/usr/local/lib /Library/Developer/CommandLineTools/usr/lib/clang/13.0.0/lib /Library/Developer/CommandLineTools/SDKs/MacOSX.sdk/usr/lib /Library/Developer/CommandLineTools/usr/lib /usr/lib
libs=-lgdbm -ldb
perllibs=
libc=
so=dylib
useshrplib=false
libperl=libperl.a
gnulibc_version=''
Dynamic Linking:
dlsrc=dl_dlopen.xs
dlext=bundle
d_dlsymun=undef
ccdlflags=' '
cccdlflags=' '
lddlflags=' -mmacosx-version-min=12.2 -bundle -undefined dynamic_lookup -L/usr/local/lib -fstack-protector-strong'
Characteristics of this binary (from libperl):
Compile-time options:
HAS_TIMES
PERLIO_LAYERS
PERL_COPY_ON_WRITE
PERL_DONT_CREATE_GVSV
PERL_MALLOC_WRAP
PERL_OP_PARENT
PERL_PRESERVE_IVUV
PERL_USE_SAFE_PUTENV
USE_64_BIT_ALL
USE_64_BIT_INT
USE_LARGE_FILES
USE_LOCALE
USE_LOCALE_COLLATE
USE_LOCALE_CTYPE
USE_LOCALE_NUMERIC
USE_LOCALE_TIME
USE_PERLIO
USE_PERL_ATOF
Locally applied patches:
Devel::PatchPerl 2.08
Built under darwin
Compiled at Feb 10 2022 22:29:44
%ENV:
PERLBREW_HOME="/Users/stan/.perlbrew"
PERLBREW_MANPATH="/Users/stan/perl5/perlbrew/perls/perl-5.32.1/man"
PERLBREW_PATH="/Users/stan/perl5/perlbrew/bin:/Users/stan/perl5/perlbrew/perls/perl-5.32.1/bin"
PERLBREW_PERL="perl-5.32.1"
PERLBREW_ROOT="/Users/stan/perl5/perlbrew"
PERLBREW_SHELLRC_VERSION="0.92"
PERLBREW_VERSION="0.92"
PERL_MM_USE_DEFAULT="1"
@INC:
/Users/stan/perl5/perlbrew/perls/perl-5.32.1/lib/site_perl/5.32.1/darwin-2level
/Users/stan/perl5/perlbrew/perls/perl-5.32.1/lib/site_perl/5.32.1
/Users/stan/perl5/perlbrew/perls/perl-5.32.1/lib/5.32.1/darwin-2level
/Users/stan/perl5/perlbrew/perls/perl-5.32.1/lib/5.32.1