Back
From: metabase:user:314402c4-2aae-11df-837a-5e0a49663a4f
Subject: PASS Test-LWP-Recorder-0.1.1 v5.23.4 FreeBSD
Date: 2015-11-16T13:26:44Z
This distribution has been tested as part of the CPAN Testers
project, supporting the Perl programming language. See
http://wiki.cpantesters.org/ for more information or email
questions to cpan-testers-discuss@perl.org
--
Dear Edward J. Allen III,
This is a computer-generated report for Test-LWP-Recorder-0.1.1
on perl 5.23.4, created by CPAN-Reporter-1.2015.
Thank you for uploading your work to CPAN. Congratulations!
All tests were successful.
Sections of this report:
* Tester comments
* Program output
* Prerequisites
* Environment and other context
------------------------------
TESTER COMMENTS
------------------------------
Additional comments from tester:
none provided
------------------------------
PROGRAM OUTPUT
------------------------------
Output from './Build test':
t/00-compile.t ................ ok
#
#
# perl: v5.23.4 (wanted 5.006) on freebsd from /usr/perl5.23.4p/bin/perl5.23.4
#
# Carp => 1.37 (want any version)
# Digest::MD5 => 2.54 (want any version)
# File::Find => 1.31 (want any version)
# File::Slurp => 9999.19 (want any version)
# File::Spec => 3.58 (want any version)
# File::Temp => 0.2304 (want any version)
# HTTP::Response => 6.11 (want any version)
# HTTP::Status => 6.11 (want any version)
# LWP::UserAgent => 6.13 (want any version)
# LWPx::Record::DataSection => 0.01 (want any version)
# List::Util => 1.4201 (want any version)
# Module::Build => 0.4214 (want 0.3601)
# Pod::Coverage::TrustPod => 0.100003 (want any version)
# Test::More => 1.001014 (want 0.88)
# Test::Pod => 1.51 (want 1.41)
# Test::Pod::Coverage => 1.10 (want 1.08)
# base => 2.22 (want any version)
# lib => 0.63 (want any version)
# strict => 1.09 (want any version)
# warnings => 1.35 (want any version)
#
# Thanks for using my code. I hope it works for you.
# If not, please try and include this output in the bug report.
# That will help me reproduce the issue and solve you problem.
#
t/000-report-versions-tiny.t .. ok
t/author-critic.t ............. skipped: these tests are for testing by the author
t/author-pod-spell.t .......... skipped: these tests are for testing by the author
t/lwpxtest.t .................. ok
t/lwpxtest_02.t ............... ok
t/release-pod-coverage.t ...... skipped: these tests are for release candidate testing
t/release-pod-linkcheck.t ..... skipped: these tests are for release candidate testing
t/release-pod-syntax.t ........ skipped: these tests are for release candidate testing
All tests successful.
Files=9, Tests=14, 3 wallclock secs ( 0.09 usr 0.05 sys + 1.91 cusr 0.34 csys = 2.38 CPU)
Result: PASS
------------------------------
PREREQUISITES
------------------------------
Prerequisite modules loaded:
requires:
Module Need Have
------------------------- ------ --------
base 0 2.22
Carp 0 1.37
Digest::MD5 0 2.54
File::Slurp 0 9999.19
File::Spec 0 3.58
HTTP::Response 0 6.11
HTTP::Status 0 6.11
List::Util 0 1.42_01
LWP::UserAgent 0 6.13
perl 5.006 5.023004
strict 0 1.09
warnings 0 1.35
build_requires:
Module Need Have
------------------------- ------ --------
File::Find 0 1.31
File::Temp 0 0.2304
lib 0 0.63
LWPx::Record::DataSection 0 0.01
Module::Build 0.3601 0.4214
Test::More 0.88 1.001014
configure_requires:
Module Need Have
------------------------- ------ --------
Module::Build 0.3601 0.4214
------------------------------
ENVIRONMENT AND OTHER CONTEXT
------------------------------
Environment variables:
LC_ALL = de_DE.ISO8859-1
PATH = /usr/local/bin:/usr/bin:/bin:/usr/local/sbin:/usr/sbin:/sbin:/home/cpansand/bin/freebsd10.1:/home/cpansand/bin/sh:/home/cpansand/bin:/usr/games:/home/cpansand/devel:/home/eserte/src/srezic-misc/scripts
PERL5LIB =
PERL5OPT =
PERL5_CPANPLUS_IS_RUNNING = 31538
PERL5_CPAN_IS_RUNNING = 31538
PERL5_CPAN_IS_RUNNING_IN_RECURSION = 31498,31538
PERLDOC = -MPod::Perldoc::ToTextOverstrike
PERL_BATCH = yes
PERL_CANARY_STABILITY_NOPROMPT = 1
PERL_CPAN_REPORTER_CONFIG = /var/tmp/cpansmoker-1023/2015111612/cpanreporter_000_config.ini
PERL_EXTUTILS_AUTOINSTALL = --defaultdeps
SHELL = /usr/local/bin/zsh
TERM = screen
TMPDIR = /var/tmp/cpansmoker-1023/2015111612
Perl special variables (and OS-specific diagnostics, for MSWin32):
$^X = /usr/perl5.23.4p/bin/perl5.23.4
$UID/$EUID = 1023 / 1023
$GID = 1023 1023
$EGID = 1023 1023
Perl module toolchain versions installed:
Module Have
------------------- --------
CPAN 2.11
CPAN::Meta 2.150005
Cwd 3.58
ExtUtils::CBuilder 0.280224
ExtUtils::Command 7.10
ExtUtils::Install 2.04
ExtUtils::MakeMaker 7.10
ExtUtils::Manifest 1.70
ExtUtils::ParseXS 3.30
File::Spec 3.58
JSON 2.90
JSON::PP 2.27300
Module::Build 0.4214
Module::Signature n/a
Parse::CPAN::Meta 1.4417
Test::Harness 3.35
Test::More 1.001014
YAML 1.15
YAML::Syck 1.29
version 0.9912
--
Summary of my perl5 (revision 5 version 23 subversion 4) configuration:
Platform:
osname=freebsd, osvers=10.1-release, archname=amd64-freebsd
uname='freebsd cvrsnica-freebsd-101.herceg.de 10.1-release freebsd 10.1-release #0 r274401: tue nov 11 21:02:49 utc 2014 root@releng1.nyi.freebsd.org:usrobjusrsrcsysgeneric amd64 '
config_args='-ds -e -Dprefix=/usr/perl5.23.4p -Dusedevel -Dusemallocwrap=no -Dcf_email=srezic@cpan.org'
hint=recommended, useposix=true, d_sigaction=define
useithreads=undef, usemultiplicity=undef
use64bitint=define, use64bitall=define, uselongdouble=undef
usemymalloc=n, bincompat5005=undef
Compiler:
cc='cc', ccflags ='-DHAS_FPSETMASK -DHAS_FLOATINGPOINT_H -fno-strict-aliasing -pipe -fstack-protector -I/usr/local/include -D_FORTIFY_SOURCE=2',
optimize='-O',
cppflags='-DHAS_FPSETMASK -DHAS_FLOATINGPOINT_H -fno-strict-aliasing -pipe -fstack-protector -I/usr/local/include'
ccversion='', gccversion='4.2.1 Compatible FreeBSD Clang 3.4.1 (tags/RELEASE_34/dot1-final 208032)', gccosandvers=''
intsize=4, longsize=8, ptrsize=8, doublesize=8, byteorder=12345678, doublekind=3
d_longlong=define, longlongsize=8, d_longdbl=define, longdblsize=16, longdblkind=3
ivtype='long', ivsize=8, nvtype='double', nvsize=8, Off_t='off_t', lseeksize=8
alignbytes=8, prototype=define
Linker and Libraries:
ld='cc', ldflags ='-pthread -Wl,-E -fstack-protector -L/usr/local/lib'
libpth=/usr/lib /usr/local/lib /usr/include/clang/3.4.1 /usr/lib
libs=-lpthread -lgdbm -lm -lcrypt -lutil -lc
perllibs=-lpthread -lm -lcrypt -lutil -lc
libc=, so=so, useshrplib=false, libperl=libperl.a
gnulibc_version=''
Dynamic Linking:
dlsrc=dl_dlopen.xs, dlext=so, d_dlsymun=undef, ccdlflags=' '
cccdlflags='-DPIC -fPIC', lddlflags='-shared -L/usr/local/lib -fstack-protector'
Characteristics of this binary (from libperl):
Compile-time options: HAS_TIMES PERLIO_LAYERS PERL_COPY_ON_WRITE
PERL_DONT_CREATE_GVSV
PERL_HASH_FUNC_ONE_AT_A_TIME_HARD PERL_PRESERVE_IVUV
PERL_USE_DEVEL USE_64_BIT_ALL USE_64_BIT_INT
USE_LARGE_FILES USE_LOCALE USE_LOCALE_COLLATE
USE_LOCALE_CTYPE USE_LOCALE_NUMERIC USE_LOCALE_TIME
USE_PERLIO USE_PERL_ATOF
Built under freebsd
Compiled at Oct 30 2015 15:31:28
%ENV:
PERL5LIB=""
PERL5OPT=""
PERL5_CPANPLUS_IS_RUNNING="31538"
PERL5_CPAN_IS_RUNNING="31538"
PERL5_CPAN_IS_RUNNING_IN_RECURSION="31498,31538"
PERLDOC="-MPod::Perldoc::ToTextOverstrike"
PERL_BATCH="yes"
PERL_CANARY_STABILITY_NOPROMPT="1"
PERL_CPAN_REPORTER_CONFIG="/var/tmp/cpansmoker-1023/2015111612/cpanreporter_000_config.ini"
PERL_EXTUTILS_AUTOINSTALL="--defaultdeps"
@INC:
/usr/perl5.23.4p/lib/site_perl/5.23.4/amd64-freebsd
/usr/perl5.23.4p/lib/site_perl/5.23.4
/usr/perl5.23.4p/lib/5.23.4/amd64-freebsd
/usr/perl5.23.4p/lib/5.23.4
.