Math-PlanePath v127 Perl 5 v5.18.4 x86_64-linux

Status
Pass
From
Slaven Rezić (SREZIC)
Dist
Math-PlanePath v127
Platform
Perl 5 v5.18.4 x86_64-linux
Date
2019-08-17 13:41:11
ID
ad15f1c8-c0f4-11e9-8ac7-c5701f24ea8f
This distribution has been tested as part of the CPAN Testers
project, supporting the Perl programming language.  See
http://wiki.cpantesters.org/ for more information or email
questions to cpan-testers-discuss@perl.org


--
Dear Kevin Ryde,

This is a computer-generated report for Math-PlanePath-127
on perl 5.18.4, created by CPAN-Reporter-1.2018.

Thank you for uploading your work to CPAN.  Congratulations!
All tests were successful.

Sections of this report:

    * Tester comments
    * Program output
    * Prerequisites
    * Environment and other context

------------------------------
TESTER COMMENTS
------------------------------

Additional comments from tester:

none provided

------------------------------
PROGRAM OUTPUT
------------------------------

Output from '/usr/bin/make test':

PERL_DL_NONLAZY=1 /opt/perl-5.18.4/bin/perl5.18.4 "-MExtUtils::Command::MM" "-e" "test_harness(0, 'blib/lib', 'blib/arch')" t/*.t
t/AlternatePaper.t .............. ok
t/AlternatePaperMidpoint.t ...... ok
t/AlternateTerdragon.t .......... ok
t/AnvilSpiral.t ................. ok
t/ArchimedeanChords.t ........... ok
t/AztecDiamondRings.t ........... ok
# modulo operator dodginess ((~0)%2) != ((~0)&1): no (good)
# round_down_pow(3) tests stop for round-off at i=34
# round_up_pow(3) tests stop for round-off at i=33
t/Base-Digits.t ................. ok
# Data::Float not available
t/Base-Generic.t ................ ok
t/BetaOmeta.t ................... ok
# Math::BigFloat version 1.998
# Math::BigInt version 1.9991
# +inf is inf
# -inf is -inf
# nan is NaN
t/bigfloat.t .................... ok
# skip due to Math::BigInt::Lite not available -- Can't locate Math/BigInt/Lite.pm in @INC (you may need to install the Math::BigInt::Lite module) (@INC contains: t /home/cpansand/.cpan/build/2019081713/Math-PlanePath-127-iK4Apz/blib/lib /home/cpansand/.cpan/build/2019081713/Math-PlanePath-127-iK4Apz/blib/arch /home/cpansand/.cpan/build/2019081713/Math-Libm-1.00-TtXWCJ/blib/arch /home/cpansand/.cpan/build/2019081713/Math-Libm-1.00-TtXWCJ/blib/lib /home/cpansand/.cpan/build/2019081713/constant-defer-6-651ktR/blib/arch /home/cpansand/.cpan/build/2019081713/constant-defer-6-651ktR/blib/lib /opt/perl-5.18.4/lib/site_perl/5.18.4/x86_64-linux /opt/perl-5.18.4/lib/site_perl/5.18.4 /opt/perl-5.18.4/lib/5.18.4/x86_64-linux /opt/perl-5.18.4/lib/5.18.4 .) at t/bigint-lite.t line 31.
# 
t/bigint-lite.t ................. ok
# Math::BigInt version 1.9991
# Math::BigInt version 1.9991
t/bigint.t ...................... ok
t/CCurve.t ...................... ok
# bitwise check rule=2
# bitwise check rule=4
# bitwise check rule=6
# bitwise check rule=10
# bitwise check rule=12
# bitwise check rule=14
# bitwise check rule=16
# bitwise check rule=18
# bitwise check rule=20
# bitwise check rule=24
# bitwise check rule=26
# bitwise check rule=34
# bitwise check rule=36
# bitwise check rule=38
# bitwise check rule=42
# bitwise check rule=44
# bitwise check rule=46
# bitwise check rule=48
# bitwise check rule=50
# bitwise check rule=52
# bitwise check rule=54
# bitwise check rule=56
# bitwise check rule=57
# bitwise check rule=58
# bitwise check rule=60
# bitwise check rule=66
# bitwise check rule=68
# bitwise check rule=74
# bitwise check rule=76
# bitwise check rule=80
# bitwise check rule=82
# bitwise check rule=84
# bitwise check rule=88
# bitwise check rule=90
# bitwise check rule=98
# bitwise check rule=99
# bitwise check rule=100
# bitwise check rule=102
# bitwise check rule=106
# bitwise check rule=108
# bitwise check rule=112
# bitwise check rule=114
# bitwise check rule=116
# bitwise check rule=120
# bitwise check rule=122
# bitwise check rule=130
# bitwise check rule=132
# bitwise check rule=134
# bitwise check rule=138
# bitwise check rule=140
# bitwise check rule=142
# bitwise check rule=144
# bitwise check rule=146
# bitwise check rule=148
# bitwise check rule=151
# bitwise check rule=152
# bitwise check rule=154
# bitwise check rule=159
# bitwise check rule=162
# bitwise check rule=164
# bitwise check rule=166
# bitwise check rule=170
# bitwise check rule=172
# bitwise check rule=174
# bitwise check rule=176
# bitwise check rule=178
# bitwise check rule=179
# bitwise check rule=180
# bitwise check rule=183
# bitwise check rule=184
# bitwise check rule=186
# bitwise check rule=190
# bitwise check rule=191
# bitwise check rule=194
# bitwise check rule=196
# bitwise check rule=202
# bitwise check rule=204
# bitwise check rule=206
# bitwise check rule=208
# bitwise check rule=210
# bitwise check rule=212
# bitwise check rule=215
# bitwise check rule=216
# bitwise check rule=218
# bitwise check rule=220
# bitwise check rule=222
# bitwise check rule=223
# bitwise check rule=226
# bitwise check rule=228
# bitwise check rule=234
# bitwise check rule=236
# bitwise check rule=238
# bitwise check rule=240
# bitwise check rule=242
# bitwise check rule=244
# bitwise check rule=246
# bitwise check rule=247
# bitwise check rule=248
# bitwise check rule=250
# bitwise check rule=252
# bitwise check rule=254
# bitwise check rule=255
# bitwise checks 102
t/CellularRule.t ................ ok
t/CellularRule190.t ............. ok
t/CfracDigits.t ................. ok
t/ChanTree.t .................... ok
t/CincoCurve.t .................. ok
t/Columns-load.t ................ ok
t/Columns.t ..................... ok
t/ComplexMinus.t ................ ok
t/ComplexPlus.t ................. ok
t/CoprimeColumns.t .............. ok
t/Corner.t ...................... ok
t/CornerReplicate.t ............. ok
t/CubicBase.t ................... ok
t/DekkingCurve.t ................ ok
t/DiagonalRationals.t ........... ok
t/Diagonals.t ................... ok
t/DiamondArms.t ................. ok
t/DiamondSpiral.t ............... ok
t/DigitGroups.t ................. ok
t/DivisibleColumns.t ............ ok
t/DragonCurve.t ................. ok
t/DragonMidpoint.t .............. ok
t/DragonRounded.t ............... ok
t/FactorRationals.t ............. ok
t/FibonacciWordFractal.t ........ ok
t/File.t ........................ ok
t/FilledRings.t ................. ok
t/Flowsnake.t ................... ok
t/FlowsnakeCentres.t ............ ok
t/GcdRationals.t ................ ok
t/GosperIslands.t ............... ok
t/GosperReplicate.t ............. ok
t/GosperSide.t .................. ok
t/GrayCode.t .................... ok
t/GreekKeySpiral.t .............. ok
t/HexArms.t ..................... ok
t/HexSpiral-load.t .............. ok
t/HexSpiral.t ................... ok
t/HexSpiralSkewed-unskew.t ...... ok
t/HexSpiralSkewed.t ............. ok
t/HilbertCurve-load.t ........... ok
t/HilbertCurve.t ................ ok
t/HilbertSpiral.t ............... ok
t/HIndexing.t ................... ok
t/Hypot.t ....................... ok
t/HypotOctant.t ................. ok
t/ImaginaryBase.t ............... ok
t/ImaginaryHalf.t ............... ok
t/KnightSpiral.t ................ ok
t/KochCurve.t ................... ok
t/KochelCurve.t ................. ok
t/KochPeaks.t ................... ok
t/KochSnowflakes.t .............. ok
t/KochSquareflakes.t ............ ok
t/LTiling.t ..................... ok
t/MultipleRings.t ............... ok
# skip due to Number::Fraction 1.14 not available -- Can't locate Number/Fraction.pm in @INC (you may need to install the Number::Fraction module) (@INC contains: t /home/cpansand/.cpan/build/2019081713/Math-PlanePath-127-iK4Apz/blib/lib /home/cpansand/.cpan/build/2019081713/Math-PlanePath-127-iK4Apz/blib/arch /home/cpansand/.cpan/build/2019081713/Math-Libm-1.00-TtXWCJ/blib/arch /home/cpansand/.cpan/build/2019081713/Math-Libm-1.00-TtXWCJ/blib/lib /home/cpansand/.cpan/build/2019081713/constant-defer-6-651ktR/blib/arch /home/cpansand/.cpan/build/2019081713/constant-defer-6-651ktR/blib/lib /opt/perl-5.18.4/lib/site_perl/5.18.4/x86_64-linux /opt/perl-5.18.4/lib/site_perl/5.18.4 /opt/perl-5.18.4/lib/5.18.4/x86_64-linux /opt/perl-5.18.4/lib/5.18.4 .) at (eval 1) line 1.
# BEGIN failed--compilation aborted at (eval 1) line 1.
# 
t/number-fraction.t ............. ok
# skip due to Math::NumSeq not available -- Can't locate Math/NumSeq.pm in @INC (you may need to install the Math::NumSeq module) (@INC contains: t /home/cpansand/.cpan/build/2019081713/Math-PlanePath-127-iK4Apz/blib/lib /home/cpansand/.cpan/build/2019081713/Math-PlanePath-127-iK4Apz/blib/arch /home/cpansand/.cpan/build/2019081713/Math-Libm-1.00-TtXWCJ/blib/arch /home/cpansand/.cpan/build/2019081713/Math-Libm-1.00-TtXWCJ/blib/lib /home/cpansand/.cpan/build/2019081713/constant-defer-6-651ktR/blib/arch /home/cpansand/.cpan/build/2019081713/constant-defer-6-651ktR/blib/lib /opt/perl-5.18.4/lib/site_perl/5.18.4/x86_64-linux /opt/perl-5.18.4/lib/site_perl/5.18.4 /opt/perl-5.18.4/lib/5.18.4/x86_64-linux /opt/perl-5.18.4/lib/5.18.4 .) at t/NumSeq-PlanePathCoord.t line 31.
# 
t/NumSeq-PlanePathCoord.t ....... ok
# skip due to Math::NumSeq not available -- Can't locate Math/NumSeq.pm in @INC (you may need to install the Math::NumSeq module) (@INC contains: t /home/cpansand/.cpan/build/2019081713/Math-PlanePath-127-iK4Apz/blib/lib /home/cpansand/.cpan/build/2019081713/Math-PlanePath-127-iK4Apz/blib/arch /home/cpansand/.cpan/build/2019081713/Math-Libm-1.00-TtXWCJ/blib/arch /home/cpansand/.cpan/build/2019081713/Math-Libm-1.00-TtXWCJ/blib/lib /home/cpansand/.cpan/build/2019081713/constant-defer-6-651ktR/blib/arch /home/cpansand/.cpan/build/2019081713/constant-defer-6-651ktR/blib/lib /opt/perl-5.18.4/lib/site_perl/5.18.4/x86_64-linux /opt/perl-5.18.4/lib/site_perl/5.18.4 /opt/perl-5.18.4/lib/5.18.4/x86_64-linux /opt/perl-5.18.4/lib/5.18.4 .) at t/NumSeq-PlanePathDelta.t line 35.
# 
t/NumSeq-PlanePathDelta.t ....... ok
# skip due to Math::NumSeq not available -- Can't locate Math/NumSeq.pm in @INC (you may need to install the Math::NumSeq module) (@INC contains: t /home/cpansand/.cpan/build/2019081713/Math-PlanePath-127-iK4Apz/blib/lib /home/cpansand/.cpan/build/2019081713/Math-PlanePath-127-iK4Apz/blib/arch /home/cpansand/.cpan/build/2019081713/Math-Libm-1.00-TtXWCJ/blib/arch /home/cpansand/.cpan/build/2019081713/Math-Libm-1.00-TtXWCJ/blib/lib /home/cpansand/.cpan/build/2019081713/constant-defer-6-651ktR/blib/arch /home/cpansand/.cpan/build/2019081713/constant-defer-6-651ktR/blib/lib /opt/perl-5.18.4/lib/site_perl/5.18.4/x86_64-linux /opt/perl-5.18.4/lib/site_perl/5.18.4 /opt/perl-5.18.4/lib/5.18.4/x86_64-linux /opt/perl-5.18.4/lib/5.18.4 .) at t/NumSeq-PlanePathN.t line 31.
# 
t/NumSeq-PlanePathN.t ........... ok
# skip due to Math::NumSeq not available -- Can't locate Math/NumSeq.pm in @INC (you may need to install the Math::NumSeq module) (@INC contains: t /home/cpansand/.cpan/build/2019081713/Math-PlanePath-127-iK4Apz/blib/lib /home/cpansand/.cpan/build/2019081713/Math-PlanePath-127-iK4Apz/blib/arch /home/cpansand/.cpan/build/2019081713/Math-Libm-1.00-TtXWCJ/blib/arch /home/cpansand/.cpan/build/2019081713/Math-Libm-1.00-TtXWCJ/blib/lib /home/cpansand/.cpan/build/2019081713/constant-defer-6-651ktR/blib/arch /home/cpansand/.cpan/build/2019081713/constant-defer-6-651ktR/blib/lib /opt/perl-5.18.4/lib/site_perl/5.18.4/x86_64-linux /opt/perl-5.18.4/lib/site_perl/5.18.4 /opt/perl-5.18.4/lib/5.18.4/x86_64-linux /opt/perl-5.18.4/lib/5.18.4 .) at t/NumSeq-PlanePathTurn.t line 35.
# 
t/NumSeq-PlanePathTurn.t ........ ok
t/PeanoCurve-load.t ............. ok
t/PeanoCurve.t .................. ok
t/PixelRings.t .................. ok
t/PlanePath.t ................... ok
t/PyramidRows.t ................. ok
# have_53bits: 1
t/PythagoreanTree.t ............. ok
t/QuadricCurve.t ................ ok
t/QuadricIslands.t .............. ok
t/QuintetCentres.t .............. ok
t/QuintetCurve.t ................ ok
t/QuintetReplicate.t ............ ok
t/RationalsTree.t ............... ok
t/Rows-load.t ................... ok
t/Rows.t ........................ ok
t/SacksSpiral.t ................. ok
t/SierpinskiArrowhead.t ......... ok
t/SierpinskiArrowheadCentres.t .. ok
t/SierpinskiCurve.t ............. ok
t/SierpinskiCurveStair.t ........ ok
t/SierpinskiTriangle.t .......... ok
t/SquareReplicate.t ............. ok
t/SquareSpiral.t ................ ok
t/Staircase.t ................... ok
t/StaircaseAlternating.t ........ ok
t/TerdragonCurve.t .............. ok
t/TerdragonMidpoint.t ........... ok
t/TheodorusSpiral.t ............. ok
t/TriangularHypot.t ............. ok
t/UlamWarburton.t ............... ok
t/UlamWarburtonQuarter.t ........ ok
t/VogelFloret.t ................. ok
t/WythoffArray.t ................ ok
t/ZOrderCurve.t ................. ok
All tests successful.
Files=107, Tests=35229,  8 wallclock secs ( 1.05 usr  0.70 sys +  6.22 cusr  0.69 csys =  8.66 CPU)
Result: PASS

------------------------------
PREREQUISITES
------------------------------

Prerequisite modules loaded:

requires:

    Module              Need  Have    
    ------------------- ----- --------
    constant            1.02  1.27    
    constant::defer     5     6       
    List::Util          0     1.27    
    Math::Libm          0     1.00    
    perl                5.004 5.018004

build_requires:

    Module              Need  Have    
    ------------------- ----- --------
    ExtUtils::MakeMaker 0     6.66    
    Test                0     1.26    

configure_requires:

    Module              Need  Have    
    ------------------- ----- --------
    ExtUtils::MakeMaker 0     6.66    


------------------------------
ENVIRONMENT AND OTHER CONTEXT
------------------------------

Environment variables:

    LANG = en_US.UTF-8
    PATH = /usr/local/bin:/usr/bin:/bin:/usr/local/sbin:/usr/sbin:/sbin:/home/cpansand/bin/linux-gnu:/home/cpansand/bin/sh:/home/cpansand/bin:/usr/games:/home/cpansand/devel:/home/eserte/src/srezic-misc/scripts
    PERL5LIB = /home/cpansand/.cpan/build/2019081713/Math-Libm-1.00-TtXWCJ/blib/arch:/home/cpansand/.cpan/build/2019081713/Math-Libm-1.00-TtXWCJ/blib/lib:/home/cpansand/.cpan/build/2019081713/constant-defer-6-651ktR/blib/arch:/home/cpansand/.cpan/build/2019081713/constant-defer-6-651ktR/blib/lib
    PERL5OPT = 
    PERL5_CPANPLUS_IS_RUNNING = 27670
    PERL5_CPAN_IS_RUNNING = 27670
    PERL5_CPAN_IS_RUNNING_IN_RECURSION = 27577,27670
    PERLDOC = -MPod::Perldoc::ToTextOverstrike
    PERL_BATCH = yes
    PERL_CANARY_STABILITY_NOPROMPT = 1
    PERL_CPAN_REPORTER_CONFIG = /var/tmp/cpansmoker-1023/2019081713/cpanreporter_000_config.ini
    PERL_EXTUTILS_AUTOINSTALL = --defaultdeps
    SHELL = /usr/bin/zsh
    TERM = screen
    TMPDIR = /var/tmp/cpansmoker-1023/2019081713

Perl special variables (and OS-specific diagnostics, for MSWin32):

    $^X = /opt/perl-5.18.4/bin/perl5.18.4
    $UID/$EUID = 1023 / 1023
    $GID = 1023 1023
    $EGID = 1023 1023

Perl module toolchain versions installed:

    Module              Have    
    ------------------- --------
    CPAN                2.00    
    CPAN::Meta          2.150010
    Cwd                 3.40    
    ExtUtils::CBuilder  0.280210
    ExtUtils::Command   1.17    
    ExtUtils::Install   1.59    
    ExtUtils::MakeMaker 6.66    
    ExtUtils::Manifest  1.63    
    ExtUtils::ParseXS   3.18    
    File::Spec          3.40    
    JSON                n/a     
    JSON::PP            4.04    
    Module::Build       0.4229  
    Module::Signature   n/a     
    Parse::CPAN::Meta   2.150010
    Test::Harness       3.42    
    Test::More          1.302164
    YAML                1.29    
    YAML::Syck          1.31    
    version             0.9902  


--

Summary of my perl5 (revision 5 version 18 subversion 4) configuration:
   
  Platform:
    osname=linux, osvers=4.4.0-157-generic, archname=x86_64-linux
    uname='linux ubuntu16 4.4.0-157-generic #185-ubuntu smp tue jul 23 09:17:01 utc 2019 x86_64 x86_64 x86_64 gnulinux '
    config_args='-ds -e -Dprefix=/opt/perl-5.18.4 -Dcf_email=srezic@cpan.org'
    hint=recommended, useposix=true, d_sigaction=define
    useithreads=undef, usemultiplicity=undef
    useperlio=define, d_sfio=undef, uselargefiles=define, usesocks=undef
    use64bitint=define, use64bitall=define, uselongdouble=undef
    usemymalloc=n, bincompat5005=undef
  Compiler:
    cc='cc', ccflags ='-fwrapv -fno-strict-aliasing -pipe -fstack-protector -I/usr/local/include -D_LARGEFILE_SOURCE -D_FILE_OFFSET_BITS=64',
    optimize='-O2',
    cppflags='-fwrapv -fno-strict-aliasing -pipe -fstack-protector -I/usr/local/include'
    ccversion='', gccversion='5.4.0 20160609', gccosandvers=''
    intsize=4, longsize=8, ptrsize=8, doublesize=8, byteorder=12345678
    d_longlong=define, longlongsize=8, d_longdbl=define, longdblsize=16
    ivtype='long', ivsize=8, nvtype='double', nvsize=8, Off_t='off_t', lseeksize=8
    alignbytes=8, prototype=define
  Linker and Libraries:
    ld='cc', ldflags =' -fstack-protector -L/usr/local/lib'
    libpth=/usr/local/lib /lib/x86_64-linux-gnu /lib/../lib /usr/lib/x86_64-linux-gnu /usr/lib/../lib /lib /usr/lib
    libs=-lnsl -ldb -ldl -lm -lcrypt -lutil -lc
    perllibs=-lnsl -ldl -lm -lcrypt -lutil -lc
    libc=libc-2.23.so, so=so, useshrplib=false, libperl=libperl.a
    gnulibc_version='2.23'
  Dynamic Linking:
    dlsrc=dl_dlopen.xs, dlext=so, d_dlsymun=undef, ccdlflags='-Wl,-E'
    cccdlflags='-fPIC', lddlflags='-shared -O2 -L/usr/local/lib -fstack-protector'


Characteristics of this binary (from libperl): 
  Compile-time options: HAS_TIMES PERLIO_LAYERS PERL_DONT_CREATE_GVSV
                        PERL_HASH_FUNC_ONE_AT_A_TIME_HARD PERL_MALLOC_WRAP
                        PERL_PRESERVE_IVUV PERL_SAWAMPERSAND USE_64_BIT_ALL
                        USE_64_BIT_INT USE_LARGE_FILES USE_LOCALE
                        USE_LOCALE_COLLATE USE_LOCALE_CTYPE
                        USE_LOCALE_NUMERIC USE_PERLIO USE_PERL_ATOF
  Locally applied patches:
	Devel::PatchPerl 1.64
  Built under linux
  Compiled at Aug  6 2019 18:40:30
  %ENV:
    PERL5LIB="/home/cpansand/.cpan/build/2019081713/Math-Libm-1.00-TtXWCJ/blib/arch:/home/cpansand/.cpan/build/2019081713/Math-Libm-1.00-TtXWCJ/blib/lib:/home/cpansand/.cpan/build/2019081713/constant-defer-6-651ktR/blib/arch:/home/cpansand/.cpan/build/2019081713/constant-defer-6-651ktR/blib/lib"
    PERL5OPT=""
    PERL5_CPANPLUS_IS_RUNNING="27670"
    PERL5_CPAN_IS_RUNNING="27670"
    PERL5_CPAN_IS_RUNNING_IN_RECURSION="27577,27670"
    PERLDOC="-MPod::Perldoc::ToTextOverstrike"
    PERL_BATCH="yes"
    PERL_CANARY_STABILITY_NOPROMPT="1"
    PERL_CPAN_REPORTER_CONFIG="/var/tmp/cpansmoker-1023/2019081713/cpanreporter_000_config.ini"
    PERL_EXTUTILS_AUTOINSTALL="--defaultdeps"
  @INC:
    /home/cpansand/.cpan/build/2019081713/Math-Libm-1.00-TtXWCJ/blib/arch
    /home/cpansand/.cpan/build/2019081713/Math-Libm-1.00-TtXWCJ/blib/lib
    /home/cpansand/.cpan/build/2019081713/constant-defer-6-651ktR/blib/arch
    /home/cpansand/.cpan/build/2019081713/constant-defer-6-651ktR/blib/lib
    /opt/perl-5.18.4/lib/site_perl/5.18.4/x86_64-linux
    /opt/perl-5.18.4/lib/site_perl/5.18.4
    /opt/perl-5.18.4/lib/5.18.4/x86_64-linux
    /opt/perl-5.18.4/lib/5.18.4
    .