Report for Net-Braintree-0.27.0

Back
From: metabase:user:314402c4-2aae-11df-837a-5e0a49663a4f
Subject: PASS Net-Braintree-0.27.0 v5.21.9 FreeBSD
Date: 2015-03-06T00:35:22Z

This distribution has been tested as part of the CPAN Testers
project, supporting the Perl programming language.  See
http://wiki.cpantesters.org/ for more information or email
questions to cpan-testers-discuss@perl.org


--
Dear Braintree Devs,

This is a computer-generated report for Net-Braintree-0.27.0
on perl 5.21.9, created by CPAN-Reporter-1.2011.

Thank you for uploading your work to CPAN.  Congratulations!
All tests were successful.

Sections of this report:

    * Tester comments
    * Program output
    * Prerequisites
    * Environment and other context

------------------------------
TESTER COMMENTS
------------------------------

Additional comments from tester:

none provided

------------------------------
PROGRAM OUTPUT
------------------------------

Output from '/usr/bin/make test':

PERL_DL_NONLAZY=1 "/usr/perl5.21.9p/bin/perl5.21.9" "-MExtUtils::Command::MM" "-MTest::Harness" "-e" "undef *Test::Harness::Switches; test_harness(0, 'inc', 'blib/lib', 'blib/arch'); " t/*t
# Testing Net::Braintree 0.27.0, Perl 5.021009, /usr/perl5.21.9p/bin/perl5.21.9
t/00-load.t ............................ ok
t/address.t ............................ ok
t/advanced_search.t .................... ok
t/boilerplate.t ........................ ok
t/client_token.t ....................... ok
t/configuration.t ...................... ok
t/credit_card.t ........................ ok
t/customer.t ........................... ok
t/digest.t ............................. ok
t/inflate_xml.t ........................ ok
t/manifest.t ........................... skipped: Author tests not required for installation
t/merchant_account.t ................... ok
t/pod.t ................................ ok
t/resource_collection.t ................ ok
t/result.t ............................. ok
t/subscription.t ....................... ok
t/transaction.t ........................ ok
t/transparent_redirect.t ............... ok
t/transparent_redirect_query_string.t .. ok
t/util.t ............................... ok
t/validation_error.t ................... ok
t/validation_error_collection.t ........ ok
t/validations_test.t ................... ok
t/webhook_notification.t ............... ok
t/xml.t ................................ ok
t/xml_builder.t ........................ ok
All tests successful.

Test Summary Report
-------------------
t/boilerplate.t                      (Wstat: 0 Tests: 3 Failed: 0)
  TODO passed:   2-3
Files=26, Tests=212, 38 wallclock secs ( 0.22 usr  0.12 sys + 33.87 cusr  2.84 csys = 37.05 CPU)
Result: PASS

------------------------------
PREREQUISITES
------------------------------

Prerequisite modules loaded:

requires:

    Module                      Need  Have        
    --------------------------- ----- ------------
    Data::GUID                  0     0.048       
    DateTime                    0     1.18        
    DateTime::Format::Atom      0     v1.0.2      
    DateTime::Format::Strptime  0     1.56        
    Digest                      0     1.17        
    Digest::HMAC_SHA1           0     1.03        
    Digest::SHA1                0     2.13        
    Digest::SHA256              0     0.01        
    File::Spec                  0.80  3.53        
    Hash::Inflator              0     1.100820    
    JSON                        0     2.90        
    local::lib                  0     2.000015    
    LWP                         6.02  6.13        
    LWP::Protocol::https        0     6.06        
    MIME::Base64                0     3.15        
    Module::Install::TestTarget 0     0.19        
    Moose                       0     2.1403      
    Mozilla::CA                 0     20141217    
    perl                        5.006 5.021009    
    Test::More                  0     1.301001_098
    Test::Pod                   0     1.48        
    Test::Warn                  0     0.30        
    Try::Tiny                   0     0.22        
    URI::Query                  0     0.10        
    XML::LibXML                 0     2.0118      
    XML::Simple                 0     2.20        

build_requires:

    Module                      Need  Have        
    --------------------------- ----- ------------
    ExtUtils::MakeMaker         6.42  7.04        
    Test::More                  0     1.301001_098
    Test::Pod                   0     1.48        
    Test::Warn                  0     0.30        
    Try::Tiny                   0     0.22        


------------------------------
ENVIRONMENT AND OTHER CONTEXT
------------------------------

Environment variables:

    DBIC_NO_WARN_BAD_PERL = 1
    LC_ALL = de_DE.ISO8859-1
    PATH = /usr/local/bin:/usr/bin:/bin:/usr/local/sbin:/usr/sbin:/sbin:/home/cpansand/bin/freebsd10.0:/home/cpansand/bin/sh:/home/cpansand/bin:/usr/games:/home/cpansand/devel:/home/eserte/src/srezic-misc/scripts
    PERL5LIB = 
    PERL5OPT = 
    PERL5_CPANPLUS_IS_RUNNING = 66352
    PERL5_CPAN_IS_RUNNING = 66352
    PERL5_CPAN_IS_RUNNING_IN_RECURSION = 96082,66352
    PERLDOC = -MPod::Perldoc::ToTextOverstrike
    PERL_BATCH = yes
    PERL_CPAN_REPORTER_CONFIG = /var/tmp/cpansmoker-1023/mNGemgG3kh_config.ini
    PERL_EXTUTILS_AUTOINSTALL = --defaultdeps
    PERL_HTML_DISPLAY_CLASS = HTML::Display::Mozilla
    SHELL = /usr/local/bin/zsh
    TERM = screen
    TMPDIR = /var/tmp/cpansmoker-1023

Perl special variables (and OS-specific diagnostics, for MSWin32):

    $^X = /usr/perl5.21.9p/bin/perl5.21.9
    $UID/$EUID = 1023 / 1023
    $GID = 1023 1023
    $EGID = 1023 1023

Perl module toolchain versions installed:

    Module              Have        
    ------------------- ------------
    CPAN                2.05        
    CPAN::Meta          2.143240    
    Cwd                 3.54        
    ExtUtils::CBuilder  0.280221    
    ExtUtils::Command   1.20        
    ExtUtils::Install   2.04        
    ExtUtils::MakeMaker 7.04        
    ExtUtils::Manifest  1.70        
    ExtUtils::ParseXS   3.27        
    File::Spec          3.53        
    JSON                2.90        
    JSON::PP            2.27300     
    Module::Build       0.4211      
    Module::Signature   n/a         
    Parse::CPAN::Meta   1.4414      
    Test::Harness       3.35        
    Test::More          1.301001_098
    YAML                1.14        
    YAML::Syck          1.29        
    version             0.9909      


--

Summary of my perl5 (revision 5 version 21 subversion 9) configuration:
   
  Platform:
    osname=freebsd, osvers=10.1-release, archname=amd64-freebsd
    uname='freebsd cvrsnica-freebsd-101.herceg.de 10.1-release freebsd 10.1-release #0 r274401: tue nov 11 21:02:49 utc 2014 root@releng1.nyi.freebsd.org:usrobjusrsrcsysgeneric amd64 '
    config_args='-ds -e -Dprefix=/usr/perl5.21.9p -Dusedevel -Dusemallocwrap=no'
    hint=recommended, useposix=true, d_sigaction=define
    useithreads=undef, usemultiplicity=undef
    use64bitint=define, use64bitall=define, uselongdouble=undef
    usemymalloc=n, bincompat5005=undef
  Compiler:
    cc='cc', ccflags ='-DHAS_FPSETMASK -DHAS_FLOATINGPOINT_H -fno-strict-aliasing -pipe -fstack-protector -I/usr/local/include -D_FORTIFY_SOURCE=2',
    optimize='-O',
    cppflags='-DHAS_FPSETMASK -DHAS_FLOATINGPOINT_H -fno-strict-aliasing -pipe -fstack-protector -I/usr/local/include'
    ccversion='', gccversion='4.2.1 Compatible FreeBSD Clang 3.4.1 (tags/RELEASE_34/dot1-final 208032)', gccosandvers=''
    intsize=4, longsize=8, ptrsize=8, doublesize=8, byteorder=12345678, doublekind=3
    d_longlong=define, longlongsize=8, d_longdbl=define, longdblsize=16, longdblkind=3
    ivtype='long', ivsize=8, nvtype='double', nvsize=8, Off_t='off_t', lseeksize=8
    alignbytes=8, prototype=define
  Linker and Libraries:
    ld='cc', ldflags ='-pthread -Wl,-E  -fstack-protector -L/usr/local/lib'
    libpth=/usr/lib /usr/local/lib /usr/include/clang/3.4.1 /usr/lib
    libs=-lpthread -lgdbm -lm -lcrypt -lutil -lc
    perllibs=-lpthread -lm -lcrypt -lutil -lc
    libc=, so=so, useshrplib=false, libperl=libperl.a
    gnulibc_version=''
  Dynamic Linking:
    dlsrc=dl_dlopen.xs, dlext=so, d_dlsymun=undef, ccdlflags=' '
    cccdlflags='-DPIC -fPIC', lddlflags='-shared  -L/usr/local/lib -fstack-protector'


Characteristics of this binary (from libperl): 
  Compile-time options: HAS_TIMES PERLIO_LAYERS PERL_DONT_CREATE_GVSV
                        PERL_HASH_FUNC_ONE_AT_A_TIME_HARD
                        PERL_NEW_COPY_ON_WRITE PERL_PRESERVE_IVUV
                        PERL_USE_DEVEL USE_64_BIT_ALL USE_64_BIT_INT
                        USE_LARGE_FILES USE_LOCALE USE_LOCALE_COLLATE
                        USE_LOCALE_CTYPE USE_LOCALE_NUMERIC USE_LOCALE_TIME
                        USE_PERLIO USE_PERL_ATOF
  Built under freebsd
  Compiled at Feb 21 2015 09:35:35
  %ENV:
    PERL5LIB=""
    PERL5OPT=""
    PERL5_CPANPLUS_IS_RUNNING="66352"
    PERL5_CPAN_IS_RUNNING="66352"
    PERL5_CPAN_IS_RUNNING_IN_RECURSION="96082,66352"
    PERLDOC="-MPod::Perldoc::ToTextOverstrike"
    PERL_BATCH="yes"
    PERL_CPAN_REPORTER_CONFIG="/var/tmp/cpansmoker-1023/mNGemgG3kh_config.ini"
    PERL_EXTUTILS_AUTOINSTALL="--defaultdeps"
    PERL_HTML_DISPLAY_CLASS="HTML::Display::Mozilla"
  @INC:
    /usr/perl5.21.9p/lib/site_perl/5.21.9/amd64-freebsd
    /usr/perl5.21.9p/lib/site_perl/5.21.9
    /usr/perl5.21.9p/lib/5.21.9/amd64-freebsd
    /usr/perl5.21.9p/lib/5.21.9
    .