Test-TempDir v0.11 Perl 5 v5.8.9 i686-linux-thread-multi-64int
        
            - Status
- Pass
- From
- Chris Williams (BINGOS)
- Dist
- 
                Test-TempDir v0.11
            
- Platform
- Perl 5 v5.8.9 i686-linux-thread-multi-64int
- Date
- 2020-07-30 00:21:54
- ID
- ac31eb8c-d1fa-11ea-9066-e374b0ba08e8
This distribution has been tested as part of the CPAN Testers
project, supporting the Perl programming language.  See
http://wiki.cpantesters.org/ for more information or email
questions to cpan-testers-discuss@perl.org
--
Dear ETHER,
This is a computer-generated error report created automatically by
CPANPLUS, version 0.9908. Testers personal comments may appear
at the end of this report.
Thank you for uploading your work to CPAN.  Congratulations!
All tests were successful.
TEST RESULTS:
Below is the error stack from stage 'make test':
# 
# Versions for all modules listed in MYMETA.json (including optional ones):
# 
# === Configure Requires ===
# 
#     Module               Want  Have
#     ------------------- ----- -----
#     ExtUtils::MakeMaker   any  7.44
#     Module::Build::Tiny 0.034 0.039
# 
# === Test Requires ===
# 
#     Module           Want     Have
#     ---------------- ---- --------
#     File::Path       2.04     2.16
#     File::Spec        any     3.75
#     Module::Metadata  any 1.000037
#     Test::More       0.88 1.302175
#     Test::Requires    any     0.11
#     ok                any 1.302175
# 
# === Test Recommends ===
# 
#     Module         Want     Have
#     ---------- -------- --------
#     CPAN::Meta 2.120900 2.150010
# 
# === Runtime Requires ===
# 
#     Module                         Want     Have
#     ---------------------------- ------ --------
#     Carp                            any     1.50
#     File::Spec                      any     3.75
#     File::Temp                   0.2308   0.2309
#     Moose                           any   2.2013
#     Moose::Util::TypeConstraints    any   2.2013
#     MooseX::Types::Path::Class      any     0.09
#     Path::Class                     any     0.37
#     Sub::Exporter                   any    0.987
#     Test::Builder                   any 1.302175
#     namespace::autoclean           0.08     0.29
#     strict                          any     1.03
#     warnings                        any  1.05_01
# 
# === Runtime Recommends ===
# 
#     Module             Want    Have
#     ------------------ ---- -------
#     Directory::Scratch  any missing
# 
# === Other Modules ===
# 
#     Module             Have
#     --------------- -------
#     Encode             2.26
#     File::Temp       0.2309
#     JSON::PP           4.04
#     Module::Runtime   0.016
#     Sub::Name          0.26
#     YAML            missing
#     autodie         missing
# 
t/00-report-prereqs.t .. ok
t/00_load.t ............ ok
t/basic.t .............. ok
t/directory_scratch.t .. skipped: Test requires module 'Directory::Scratch' but it's not found
t/factory.t ............ ok
t/handle.t ............. ok
All tests successful.
Files=6, Tests=60,  1 wallclock secs ( 0.03 usr  0.00 sys +  1.35 cusr  0.06 csys =  1.44 CPU)
Result: PASS
PREREQUISITES:
Here is a list of prerequisites you specified and versions we
managed to load:
	  Module Name                        Have     Want
	  Carp                               1.50        0
	  File::Path                         2.16     2.04
	  File::Spec                         3.75        0
	  File::Temp                       0.2309   0.2308
	  Module::Metadata               1.000037        0
	  Moose                            2.2013        0
	  Moose::Util::TypeConstraints     2.2013        0
	  MooseX::Types::Path::Class         0.09        0
	  Path::Class                        0.37        0
	  Sub::Exporter                     0.987        0
	  Test::Builder                  1.302175        0
	  Test::More                     1.302175     0.88
	  Test::Requires                     0.11        0
	  namespace::autoclean               0.29     0.08
	  ok                             1.302175        0
	  strict                             1.03        0
	  warnings                        1.05_01        0
Perl module toolchain versions installed:
	Module Name                        Have
	CPANPLUS                         0.9908
	CPANPLUS::Dist::Build              0.90
	Cwd                                3.75
	ExtUtils::CBuilder             0.280234
	ExtUtils::Command                  7.44
	ExtUtils::Install                  2.16
	ExtUtils::MakeMaker                7.44
	ExtUtils::Manifest                 1.72
	ExtUtils::ParseXS                  3.35
	File::Spec                         3.75
	Module::Build                    0.4231
	Pod::Parser                        1.35
	Pod::Simple                        3.40
	Test2                          1.302175
	Test::Harness                      3.42
	Test::More                     1.302175
	version                          0.9924
******************************** NOTE ********************************
The comments above are created mechanically, possibly without manual
checking by the sender.  As there are many people performing automatic
tests on each upload to CPAN, it is likely that you will receive
identical messages about the same problem.
If you believe that the message is mistaken, please reply to the first
one with correction and/or additional informations, and do not take
it personally.  We appreciate your patience. :)
**********************************************************************
Additional comments:
This report was machine-generated by CPANPLUS::Dist::YACSmoke 1.08.
Powered by minismokebox version 0.68
CPANPLUS is prefering Build.PL
------------------------------
ENVIRONMENT AND OTHER CONTEXT
------------------------------
Environment variables:
    AUTOMATED_TESTING = 1
    LANG = en_GB.UTF-8
    LANGUAGE = en_GB:en
    NONINTERACTIVE_TESTING = 1
    PATH = /usr/local/bin:/usr/bin:/bin:/usr/local/games:/usr/games
    PERL5LIB = /home/cpan/pit/jail/128xT5Qmlu/lib/perl5:/home/cpan/pit/rel/conf/perl-5.8.9/.cpanplus/5.8.9/build/uTZyCiwNRo/MooseX-Types-0.50/blib/lib:/home/cpan/pit/rel/conf/perl-5.8.9/.cpanplus/5.8.9/build/uTZyCiwNRo/MooseX-Types-0.50/blib/arch:/home/cpan/pit/rel/conf/perl-5.8.9/.cpanplus/5.8.9/build/Ib3jg_fwks/Path-Class-0.37/blib/lib:/home/cpan/pit/rel/conf/perl-5.8.9/.cpanplus/5.8.9/build/Ib3jg_fwks/Path-Class-0.37/blib/arch:/home/cpan/pit/rel/conf/perl-5.8.9/.cpanplus/5.8.9/build/X5GEvCxyBz/MooseX-Types-Path-Class-0.09/blib/lib:/home/cpan/pit/rel/conf/perl-5.8.9/.cpanplus/5.8.9/build/X5GEvCxyBz/MooseX-Types-Path-Class-0.09/blib/arch:/home/cpan/pit/rel/conf/perl-5.8.9/.cpanplus/5.8.9/build/JP_ZSC_fJz/Test-TempDir-0.11/blib/lib:/home/cpan/pit/rel/conf/perl-5.8.9/.cpanplus/5.8.9/build/JP_ZSC_fJz/Test-TempDir-0.11/blib/arch
    PERL5_CPANPLUS_IS_RUNNING = 32522
    PERL5_CPANPLUS_IS_VERSION = 0.9908
    PERL5_MINISMOKEBOX = 0.68
    PERL5_YACSMOKE_BASE = /home/cpan/pit/rel/conf/perl-5.8.9
    PERL_EXTUTILS_AUTOINSTALL = --defaultdeps
    PERL_LOCAL_LIB_ROOT = /home/cpan/pit/jail/128xT5Qmlu
    PERL_MB_OPT = --install_base "/home/cpan/pit/jail/128xT5Qmlu"
    PERL_MM_OPT = INSTALL_BASE=/home/cpan/pit/jail/128xT5Qmlu
    PERL_MM_USE_DEFAULT = 1
    SHELL = /bin/bash
    TERM = screen
Perl special variables (and OS-specific diagnostics, for MSWin32):
    Perl: $^X = /home/cpan/pit/rel/perl-5.8.9/bin/perl
    UID:  $<  = 1001
    EUID: $>  = 1001
    GID:  $(  = 1001 1001
    EGID: $)  = 1001 1001
-------------------------------
--
Summary of my perl5 (revision 5 version 8 subversion 9) configuration:
  Platform:
    osname=linux, osvers=4.19.0-6-686, archname=i686-linux-thread-multi-64int
    uname='linux dagobah 4.19.0-6-686 #1 smp debian 4.19.67-2+deb10u2 (2019-11-11) i686 gnulinux '
    config_args='-des -Dprefix=/home/cpan/pit/rel/perl-5.8.9 -Dusethreads -Duse64bitint'
    hint=recommended, useposix=true, d_sigaction=define
    usethreads=define use5005threads=undef useithreads=define usemultiplicity=define
    useperlio=define d_sfio=undef uselargefiles=define usesocks=undef
    use64bitint=define use64bitall=undef uselongdouble=undef
    usemymalloc=n, bincompat5005=undef
  Compiler:
    cc='cc', ccflags ='-D_REENTRANT -D_GNU_SOURCE -fwrapv -fno-strict-aliasing -pipe -I/usr/local/include -D_LARGEFILE_SOURCE -D_FILE_OFFSET_BITS=64',
    optimize='-O2',
    cppflags='-D_REENTRANT -D_GNU_SOURCE -fwrapv -fno-strict-aliasing -pipe -I/usr/local/include'
    ccversion='', gccversion='8.3.0', gccosandvers=''
    intsize=4, longsize=4, ptrsize=4, doublesize=8, byteorder=12345678
    d_longlong=define, longlongsize=8, d_longdbl=define, longdblsize=12
    ivtype='long long', ivsize=8, nvtype='double', nvsize=8, Off_t='off_t', lseeksize=8
    alignbytes=4, prototype=define
  Linker and Libraries:
    ld='cc', ldflags =' -L/usr/local/lib'
    libpth=/usr/local/lib /lib/i386-linux-gnu /lib/../lib /usr/lib/i386-linux-gnu /usr/lib/../lib /lib /usr/lib /lib64 /usr/lib64
    libs=-lnsl -lgdbm -ldl -lm -lcrypt -lutil -lpthread -lc
    perllibs=-lnsl -ldl -lm -lcrypt -lutil -lpthread -lc
    libc=libc-2.28.so, so=so, useshrplib=false, libperl=libperl.a
    gnulibc_version='2.28'
  Dynamic Linking:
    dlsrc=dl_dlopen.xs, dlext=so, d_dlsymun=undef, ccdlflags='-Wl,-E'
    cccdlflags='-fPIC', lddlflags='-shared -O2 -L/usr/local/lib'
Characteristics of this binary (from libperl): 
  Compile-time options: MULTIPLICITY PERL_IMPLICIT_CONTEXT PERL_MALLOC_WRAP
                        USE_64_BIT_INT USE_FAST_STDIO USE_ITHREADS
                        USE_LARGE_FILES USE_PERLIO USE_REENTRANT_API
  Locally applied patches:
	Devel::PatchPerl 1.80
  Built under linux
  Compiled at Nov 29 2019 01:31:54
  %ENV:
    PERL5LIB="/home/cpan/pit/jail/128xT5Qmlu/lib/perl5:/home/cpan/pit/rel/conf/perl-5.8.9/.cpanplus/5.8.9/build/uTZyCiwNRo/MooseX-Types-0.50/blib/lib:/home/cpan/pit/rel/conf/perl-5.8.9/.cpanplus/5.8.9/build/uTZyCiwNRo/MooseX-Types-0.50/blib/arch:/home/cpan/pit/rel/conf/perl-5.8.9/.cpanplus/5.8.9/build/Ib3jg_fwks/Path-Class-0.37/blib/lib:/home/cpan/pit/rel/conf/perl-5.8.9/.cpanplus/5.8.9/build/Ib3jg_fwks/Path-Class-0.37/blib/arch:/home/cpan/pit/rel/conf/perl-5.8.9/.cpanplus/5.8.9/build/X5GEvCxyBz/MooseX-Types-Path-Class-0.09/blib/lib:/home/cpan/pit/rel/conf/perl-5.8.9/.cpanplus/5.8.9/build/X5GEvCxyBz/MooseX-Types-Path-Class-0.09/blib/arch:/home/cpan/pit/rel/conf/perl-5.8.9/.cpanplus/5.8.9/build/JP_ZSC_fJz/Test-TempDir-0.11/blib/lib:/home/cpan/pit/rel/conf/perl-5.8.9/.cpanplus/5.8.9/build/JP_ZSC_fJz/Test-TempDir-0.11/blib/arch"
    PERL5_CPANPLUS_IS_RUNNING="32522"
    PERL5_CPANPLUS_IS_VERSION="0.9908"
    PERL5_MINISMOKEBOX="0.68"
    PERL5_YACSMOKE_BASE="/home/cpan/pit/rel/conf/perl-5.8.9"
    PERL_EXTUTILS_AUTOINSTALL="--defaultdeps"
    PERL_LOCAL_LIB_ROOT="/home/cpan/pit/jail/128xT5Qmlu"
    PERL_MB_OPT="--install_base "/home/cpan/pit/jail/128xT5Qmlu""
    PERL_MM_OPT="INSTALL_BASE=/home/cpan/pit/jail/128xT5Qmlu"
    PERL_MM_USE_DEFAULT="1"
  @INC:
    /home/cpan/pit/jail/128xT5Qmlu/lib/perl5/5.8.9/i686-linux-thread-multi-64int
    /home/cpan/pit/jail/128xT5Qmlu/lib/perl5/5.8.9
    /home/cpan/pit/jail/128xT5Qmlu/lib/perl5/i686-linux-thread-multi-64int
    /home/cpan/pit/jail/128xT5Qmlu/lib/perl5
    /home/cpan/pit/rel/conf/perl-5.8.9/.cpanplus/5.8.9/build/uTZyCiwNRo/MooseX-Types-0.50/blib/lib
    /home/cpan/pit/rel/conf/perl-5.8.9/.cpanplus/5.8.9/build/uTZyCiwNRo/MooseX-Types-0.50/blib/arch
    /home/cpan/pit/rel/conf/perl-5.8.9/.cpanplus/5.8.9/build/Ib3jg_fwks/Path-Class-0.37/blib/lib
    /home/cpan/pit/rel/conf/perl-5.8.9/.cpanplus/5.8.9/build/Ib3jg_fwks/Path-Class-0.37/blib/arch
    /home/cpan/pit/rel/conf/perl-5.8.9/.cpanplus/5.8.9/build/X5GEvCxyBz/MooseX-Types-Path-Class-0.09/blib/lib
    /home/cpan/pit/rel/conf/perl-5.8.9/.cpanplus/5.8.9/build/X5GEvCxyBz/MooseX-Types-Path-Class-0.09/blib/arch
    /home/cpan/pit/rel/conf/perl-5.8.9/.cpanplus/5.8.9/build/JP_ZSC_fJz/Test-TempDir-0.11/blib/lib
    /home/cpan/pit/rel/conf/perl-5.8.9/.cpanplus/5.8.9/build/JP_ZSC_fJz/Test-TempDir-0.11/blib/arch
    /home/cpan/pit/rel/perl-5.8.9/lib/5.8.9/i686-linux-thread-multi-64int
    /home/cpan/pit/rel/perl-5.8.9/lib/5.8.9
    /home/cpan/pit/rel/perl-5.8.9/lib/site_perl/5.8.9/i686-linux-thread-multi-64int
    /home/cpan/pit/rel/perl-5.8.9/lib/site_perl/5.8.9
    .