Dist-Zilla-Plugin-Git v2.043 Perl 5 v5.26.1 i386-linux-thread-multi-64int

Status
Pass
From
ARTO
Dist
Dist-Zilla-Plugin-Git v2.043
Platform
Perl 5 v5.26.1 i386-linux-thread-multi-64int
Date
2017-12-11 20:41:32
ID
ac0ff064-deb3-11e7-9b2c-e771379c4e8a
This distribution has been tested as part of the CPAN Testers
project, supporting the Perl programming language.  See
http://wiki.cpantesters.org/ for more information or email
questions to cpan-testers-discuss@perl.org


--
Dear Karen Etheridge,

This is a computer-generated report for Dist-Zilla-Plugin-Git-2.043
on perl 5.26.1, created by CPAN-Reporter-1.2018.

Thank you for uploading your work to CPAN.  Congratulations!
All tests were successful.

Sections of this report:

    * Tester comments
    * Program output
    * Prerequisites
    * Environment and other context

------------------------------
TESTER COMMENTS
------------------------------

Additional comments from tester:

none provided

------------------------------
PROGRAM OUTPUT
------------------------------

Output from '/usr/bin/make test':

"/usr/bin/perl" "-Iblib/arch" "-Iblib/lib" Makefile_git.PL Makefile_git
PERL_DL_NONLAZY=1 "/usr/bin/perl" "-MExtUtils::Command::MM" "-MTest::Harness" "-e" "undef *Test::Harness::Switches; test_harness(0, 'blib/lib', 'blib/arch')" t/*.t
# 
# Versions for all modules listed in MYMETA.json (including optional ones):
# 
# === Configure Requires ===
# 
#     Module              Want   Have
#     ------------------- ---- ------
#     ExtUtils::MakeMaker  any   7.30
#     Text::ParseWords     any   3.30
#     version              any 0.9918
# 
# === Build Requires ===
# 
#     Module              Want Have
#     ------------------- ---- ----
#     ExtUtils::MakeMaker  any 7.30
# 
# === Test Requires ===
# 
#     Module                            Want     Have
#     -------------------------------- ----- --------
#     CPAN::Meta::Check                0.011    0.014
#     CPAN::Meta::Requirements           any    2.140
#     Devel::SimpleTrace                 any     0.08
#     Dist::Zilla::File::InMemory        any    6.010
#     Dist::Zilla::Plugin::Config::Git   any     0.92
#     Dist::Zilla::Role::Releaser        any    6.010
#     Dist::Zilla::Tester                any    6.010
#     Encode                             any     2.93
#     Exporter                           any     5.72
#     ExtUtils::MakeMaker                any     7.30
#     File::Copy                         any     2.32
#     File::Copy::Recursive              any     0.38
#     File::Path                        2.07     2.15
#     File::Spec                         any     3.67
#     File::Which                        any     1.22
#     File::pushd                        any    1.014
#     Log::Dispatchouli                  any    2.015
#     Test::DZil                         any    6.010
#     Test::Fatal                        any    0.014
#     Test::More                        0.88 1.302120
#     lib                                any     0.64
#     utf8                               any     1.19
# 
# === Test Recommends ===
# 
#     Module         Want     Have
#     ---------- -------- --------
#     CPAN::Meta 2.120900 2.150010
# 
# === Runtime Requires ===
# 
#     Module                                 Want     Have
#     ---------------------------------- -------- --------
#     Cwd                                     any     3.67
#     DateTime                                any     1.44
#     Dist::Zilla                               4    6.010
#     Dist::Zilla::Plugin::GatherDir     4.200016    6.010
#     Dist::Zilla::Role::AfterBuild           any    6.010
#     Dist::Zilla::Role::AfterMint            any    6.010
#     Dist::Zilla::Role::AfterRelease         any    6.010
#     Dist::Zilla::Role::BeforeRelease        any    6.010
#     Dist::Zilla::Role::FilePruner           any    6.010
#     Dist::Zilla::Role::GitConfig            any     0.92
#     Dist::Zilla::Role::PluginBundle         any    6.010
#     Dist::Zilla::Role::VersionProvider      any    6.010
#     File::Spec::Functions                   any     3.67
#     File::Temp                              any   0.2304
#     File::chdir                             any   0.1010
#     Git::Wrapper                          0.021    0.047
#     IPC::Open3                              any     1.20
#     IPC::System::Simple                     any     1.25
#     List::Util                             1.45     1.49
#     Module::Runtime                         any    0.016
#     Moose                                   any   2.2009
#     Moose::Role                             any   2.2009
#     Moose::Util::TypeConstraints            any   2.2009
#     MooseX::Has::Sugar                      any 1.000006
#     MooseX::Types::Moose                    any     0.50
#     MooseX::Types::Path::Tiny             0.010    0.012
#     Path::Tiny                            0.048    0.104
#     String::Formatter                       any 0.102084
#     Try::Tiny                               any     0.28
#     Version::Next                           any    1.000
#     constant                                any     1.33
#     namespace::autoclean                   0.09     0.28
#     strict                                  any     1.11
#     version                                0.80   0.9918
#     warnings                                any     1.37
# 
# === Other Modules ===
# 
#     Module           Have
#     ------------- -------
#     JSON::PP      2.97000
#     Pod::Coverage    0.23
#     Sub::Name        0.21
#     YAML             1.24
#     autodie          2.29
# 
t/00-report-prereqs.t ........... ok
# git version 2.14.3
t/000-report-git-version.t ...... ok
t/check.t ....................... ok
t/commit-build-custom.t ......... ok
t/commit-build-src-as-parent.t .. ok
t/commit-build.t ................ ok
t/commit-dirtydir.t ............. ok
t/commit-message.t .............. ok
t/commit-utf8.t ................. ok
t/commit-ws.t ................... ok
t/commit.t ...................... ok
t/gatherdir-multi.t ............. ok
t/gatherdir.t ................... ok
t/push-gitconfig.t .............. ok
t/push-multi.t .................. ok
t/push.t ........................ ok
t/repo-dir.t .................... ok
t/tag-signed.t .................. ok
t/tag.t ......................... ok
t/version-by-branch.t ........... ok
t/version-default.t ............. ok
t/version-extraction.t .......... ok
t/version-regexp.t .............. ok
t/zzz-check-breaks.t ............ ok
All tests successful.
Files=24, Tests=207, 144 wallclock secs ( 0.24 usr  0.06 sys + 87.57 cusr 11.78 csys = 99.65 CPU)
Result: PASS

------------------------------
PREREQUISITES
------------------------------

Prerequisite modules loaded:

requires:

    Module                             Need     Have    
    ---------------------------------- -------- --------
    constant                           0        1.33    
    Cwd                                0        3.67    
    DateTime                           0        1.44    
    Dist::Zilla                        4        6.010   
    Dist::Zilla::Plugin::GatherDir     4.200016 6.010   
    Dist::Zilla::Role::AfterBuild      0        6.010   
    Dist::Zilla::Role::AfterMint       0        6.010   
    Dist::Zilla::Role::AfterRelease    0        6.010   
    Dist::Zilla::Role::BeforeRelease   0        6.010   
    Dist::Zilla::Role::FilePruner      0        6.010   
    Dist::Zilla::Role::GitConfig       0        0.92    
    Dist::Zilla::Role::PluginBundle    0        6.010   
    Dist::Zilla::Role::VersionProvider 0        6.010   
    File::chdir                        0        0.1010  
    File::Spec::Functions              0        3.67    
    File::Temp                         0        0.2304  
    Git::Wrapper                       0.021    0.047   
    IPC::Open3                         0        1.20    
    IPC::System::Simple                0        1.25    
    List::Util                         1.45     1.49    
    Module::Runtime                    0        0.016   
    Moose                              0        2.2009  
    Moose::Role                        0        2.2009  
    Moose::Util::TypeConstraints       0        2.2009  
    MooseX::Has::Sugar                 0        1.000006
    MooseX::Types::Moose               0        0.50    
    MooseX::Types::Path::Tiny          0.010    0.012   
    namespace::autoclean               0.09     0.28    
    Path::Tiny                         0.048    0.104   
    perl                               5.010    5.026001
    strict                             0        1.11    
    String::Formatter                  0        0.102084
    Try::Tiny                          0        0.28    
    version                            0.80     0.9918  
    Version::Next                      0        1.000   
    warnings                           0        1.37    

build_requires:

    Module                             Need     Have    
    ---------------------------------- -------- --------
    CPAN::Meta::Check                  0.011    0.014   
    CPAN::Meta::Requirements           0        2.140   
    Devel::SimpleTrace                 0        0.08    
    Dist::Zilla::File::InMemory        0        6.010   
    Dist::Zilla::Plugin::Config::Git   0        0.92    
    Dist::Zilla::Role::Releaser        0        6.010   
    Dist::Zilla::Tester                0        6.010   
    Encode                             0        2.93    
    Exporter                           0        5.72    
    ExtUtils::MakeMaker                0        7.30    
    File::Copy                         0        2.32    
    File::Copy::Recursive              0        0.38    
    File::Path                         2.07     2.15    
    File::pushd                        0        1.014   
    File::Spec                         0        3.67    
    File::Which                        0        1.22    
    lib                                0        0.64    
    Log::Dispatchouli                  0        2.015   
    Test::DZil                         0        6.010   
    Test::Fatal                        0        0.014   
    Test::More                         0.88     1.302120
    utf8                               0        1.19    

configure_requires:

    Module                             Need     Have    
    ---------------------------------- -------- --------
    ExtUtils::MakeMaker                0        7.30    
    perl                               5.010    5.026001
    Text::ParseWords                   0        3.30    
    version                            0        0.9918  

opt_build_requires:

    Module                             Need     Have    
    ---------------------------------- -------- --------
    CPAN::Meta                         2.120900 2.150010


------------------------------
ENVIRONMENT AND OTHER CONTEXT
------------------------------

Environment variables:

    LANG = en
    LC_ADDRESS = en_US.iso88591
    LC_ALL = en_US.iso88591
    LC_COLLATE = en_US.iso88591
    LC_CTYPE = en_US.iso88591
    LC_IDENTIFICATION = en_US.iso88591
    LC_MEASUREMENT = en_US.iso88591
    LC_MESSAGES = en_US.iso88591
    LC_MONETARY = en_US.iso88591
    LC_NAME = en_US.iso88591
    LC_NUMERIC = en_US.iso88591
    LC_PAPER = A4
    LC_TELEPHONE = en_US.iso88591
    LC_TIME = POSIX
    NONINTERACTIVE_TESTING = 1
    PATH = /bin:/sbin:/usr/bin:/usr/sbin:/usr/local/bin:/usr/local/sbin
    PERL5LIB = 
    PERL5OPT = 
    PERL5_CPANPLUS_IS_RUNNING = 14903
    PERL5_CPAN_IS_RUNNING = 14903
    PERL_MM_USE_DEFAULT = 1
    PERL_USE_UNSAFE_INC = 1
    SHELL = /bin/zsh

Perl special variables (and OS-specific diagnostics, for MSWin32):

    $^X = /usr/bin/perl
    $UID/$EUID = 500 / 500
    $GID = 500 10 12 157 466 480 487 493 494 500
    $EGID = 500 10 12 157 466 480 487 493 494 500

Perl module toolchain versions installed:

    Module              Have    
    ------------------- --------
    CPAN                2.18    
    CPAN::Meta          2.150010
    Cwd                 3.67    
    ExtUtils::CBuilder  0.280230
    ExtUtils::Command   7.30    
    ExtUtils::Install   2.14    
    ExtUtils::MakeMaker 7.30    
    ExtUtils::Manifest  1.70    
    ExtUtils::ParseXS   3.35    
    File::Spec          3.67    
    JSON                2.97000 
    JSON::PP            2.97000 
    Module::Build       0.4224  
    Module::Signature   0.81    
    Parse::CPAN::Meta   2.150010
    Test::Harness       3.39    
    Test::More          1.302120
    YAML                1.24    
    YAML::Syck          1.30    
    version             0.9918  


--

Summary of my perl5 (revision 5 version 26 subversion 1) configuration:
   
  Platform:
    osname=linux
    osvers=4.12.9-300.fc26.x86_64
    archname=i386-linux-thread-multi-64int
    uname='linux buildvm-22.phx2.fedoraproject.org 4.12.9-300.fc26.x86_64 #1 smp fri aug 25 13:09:43 utc 2017 i686 i686 i386 gnulinux '
    config_args='-des -Doptimize=none -Dccflags=-O2 -g -pipe -Wall -Werror=format-security -Wp,-D_FORTIFY_SOURCE=2 -fexceptions -fstack-protector-strong --param=ssp-buffer-size=4 -grecord-gcc-switches -specs=/usr/lib/rpm/redhat/redhat-hardened-cc1 -m32 -march=i686 -fasynchronous-unwind-tables -Dldflags=-Wl,-z,relro -specs=/usr/lib/rpm/redhat/redhat-hardened-ld -Dccdlflags=-Wl,--enable-new-dtags -Wl,-z,relro -specs=/usr/lib/rpm/redhat/redhat-hardened-ld -Dlddlflags=-shared -Wl,-z,relro -specs=/usr/lib/rpm/redhat/redhat-hardened-ld -Dshrpdir=/usr/lib -DDEBUGGING=-g -Dversion=5.26.1 -Dmyhostname=localhost -Dperladmin=root@localhost -Dcc=gcc -Dcf_by=Red Hat, Inc. -Dprefix=/usr -Dvendorprefix=/usr -Dsiteprefix=/usr/local -Dsitelib=/usr/local/share/perl5 -Dsitearch=/usr/local/lib/perl5 -Dprivlib=/usr/share/perl5 -Dvendorlib=/usr/share/perl5/vendor_perl -Darchlib=/usr/lib/perl5 -Dvendorarch=/usr/lib/perl5/vendor_perl -Darchname=i386-linux-thread-multi -Duseshrplib -Dusethreads -Duseithreads -Dusedtrace=/usr/bin/dtrace -Duselargefiles -Dd_semctl_semun -Di_db -Ui_ndbm -Di_gdbm -Di_shadow -Di_syslog -Dman3ext=3pm -Duseperlio -Dinstallusrbinperl=n -Ubincompat5005 -Uversiononly -Dpager=/usr/bin/less -isr -Dd_gethostent_r_proto -Ud_endhostent_r_proto -Ud_sethostent_r_proto -Ud_endprotoent_r_proto -Ud_setprotoent_r_proto -Ud_endservent_r_proto -Ud_setservent_r_proto -Dscriptdir=/usr/bin -Dusesitecustomize -Duse64bitint'
    hint=recommended
    useposix=true
    d_sigaction=define
    useithreads=define
    usemultiplicity=define
    use64bitint=define
    use64bitall=undef
    uselongdouble=undef
    usemymalloc=n
    default_inc_excludes_dot=define
    bincompat5005=undef
  Compiler:
    cc='gcc'
    ccflags ='-D_REENTRANT -D_GNU_SOURCE -O2 -g -pipe -Wall -Werror=format-security -Wp,-D_FORTIFY_SOURCE=2 -fexceptions -fstack-protector-strong --param=ssp-buffer-size=4 -grecord-gcc-switches -specs=/usr/lib/rpm/redhat/redhat-hardened-cc1 -m32 -march=i686 -fasynchronous-unwind-tables -fwrapv -fno-strict-aliasing -I/usr/local/include -D_LARGEFILE_SOURCE -D_FILE_OFFSET_BITS=64'
    optimize='  -g'
    cppflags='-D_REENTRANT -D_GNU_SOURCE -O2 -g -pipe -Wall -Werror=format-security -Wp,-D_FORTIFY_SOURCE=2 -fexceptions -fstack-protector-strong --param=ssp-buffer-size=4 -grecord-gcc-switches -specs=/usr/lib/rpm/redhat/redhat-hardened-cc1 -m32 -march=i686 -fasynchronous-unwind-tables -fwrapv -fno-strict-aliasing -I/usr/local/include'
    ccversion=''
    gccversion='7.1.1 20170802 (Red Hat 7.1.1-7)'
    gccosandvers=''
    intsize=4
    longsize=4
    ptrsize=4
    doublesize=8
    byteorder=12345678
    doublekind=3
    d_longlong=define
    longlongsize=8
    d_longdbl=define
    longdblsize=12
    longdblkind=3
    ivtype='long long'
    ivsize=8
    nvtype='double'
    nvsize=8
    Off_t='off_t'
    lseeksize=8
    alignbytes=4
    prototype=define
  Linker and Libraries:
    ld='gcc'
    ldflags ='-Wl,-z,relro -specs=/usr/lib/rpm/redhat/redhat-hardened-ld -fstack-protector-strong -L/usr/local/lib'
    libpth=/usr/local/lib /usr/lib /lib
    libs=-lpthread -lresolv -lnsl -lgdbm -ldb -ldl -lm -lcrypt -lutil -lc -lgdbm_compat
    perllibs=-lpthread -lresolv -lnsl -ldl -lm -lcrypt -lutil -lc
    libc=libc-2.26.so
    so=so
    useshrplib=true
    libperl=libperl.so
    gnulibc_version='2.26'
  Dynamic Linking:
    dlsrc=dl_dlopen.xs
    dlext=so
    d_dlsymun=undef
    ccdlflags='-Wl,--enable-new-dtags -Wl,-z,relro -specs=/usr/lib/rpm/redhat/redhat-hardened-ld'
    cccdlflags='-fPIC'
    lddlflags='-shared -Wl,-z,relro -specs=/usr/lib/rpm/redhat/redhat-hardened-ld -L/usr/local/lib -fstack-protector-strong'


Characteristics of this binary (from libperl): 
  Compile-time options:
    HAS_TIMES
    MULTIPLICITY
    PERLIO_LAYERS
    PERL_COPY_ON_WRITE
    PERL_DONT_CREATE_GVSV
    PERL_IMPLICIT_CONTEXT
    PERL_MALLOC_WRAP
    PERL_OP_PARENT
    PERL_PRESERVE_IVUV
    USE_64_BIT_INT
    USE_ITHREADS
    USE_LARGE_FILES
    USE_LOCALE
    USE_LOCALE_COLLATE
    USE_LOCALE_CTYPE
    USE_LOCALE_NUMERIC
    USE_LOCALE_TIME
    USE_PERLIO
    USE_PERL_ATOF
    USE_REENTRANT_API
    USE_SITECUSTOMIZE
  Locally applied patches:
    Fedora Patch1: Removes date check, Fedora/RHEL specific
    Fedora Patch4: use libresolv instead of libbind
    Fedora Patch5: USE_MM_LD_RUN_PATH
    Fedora Patch6: Provide MM::maybe_command independently (bug #1129443)
    Fedora Patch7: Dont run one io test due to random builder failures
    Fedora Patch15: Define SONAME for libperl.so
    Fedora Patch16: Install libperl.so to -Dshrpdir value
    Fedora Patch22: Document Math::BigInt::CalcEmu requires Math::BigInt (CPAN RT#85015)
    Fedora Patch26: Make *DBM_File desctructors thread-safe (RT#61912)
    Fedora Patch27: Make PadlistNAMES() lvalue again (CPAN RT#101063)
    Fedora Patch30: Replace EU::MakeMaker dependency with EU::MM::Utils in IPC::Cmd (bug #1129443)
    Fedora Patch31: Make File::Glob more resistant against degenerative matching (RT#131211)
    Fedora Patch34: Fix cloning :via handles on thread creation (RT#131221)
    Fedora Patch36: Fix glob UTF-8 flag on a glob reassignment (RT#131263)
    Fedora Patch38: Fix handling backslashes in PATH environment variable when executing "perl -S" (RT#129183)
    Fedora Patch45: Fix File::Glob rt131211.t test random failures
    Fedora Patch46: Fix t/op/hash.t test random failures
    Fedora Patch47: Parse caret variables with subscripts as normal variables inside ${...} escaping (RT#131664)
    Fedora Patch49: Do not display too many bytes when reporting malformed UTF-8 character
    Fedora Patch51: Fix error message for "our sub foo::bar" (RT#131679)
    Fedora Patch52: Fix executing arybase::_tie_it() in Safe compartement (RT#131588)
    Fedora Patch54: Fix splitting non-ASCII strings if unicode_strings feature is enabled (RT#130907)
    Fedora Patch55: Fix compiler warnings in code generated by ExtUtils::Constant (CPAN RT#63832)
    Fedora Patch56: Fix compiler warnings in code generated by ExtUtils::Constant (CPAN RT#101487)
    Fedora Patch58: Fix unreliable Time-HiRes tests (CPAN RT#122819)
    Fedora Patch200: Link XS modules to libperl.so with EU::CBuilder on Linux
    Fedora Patch201: Link XS modules to libperl.so with EU::MM on Linux
  Built under linux
  Compiled at Sep 25 2017 14:15:14
  %ENV:
    PERL5LIB=""
    PERL5OPT=""
    PERL5_CPANPLUS_IS_RUNNING="14903"
    PERL5_CPAN_IS_RUNNING="14903"
    PERL_MM_USE_DEFAULT="1"
    PERL_USE_UNSAFE_INC="1"
  @INC:
    /usr/local/lib/perl5
    /usr/local/share/perl5
    /usr/lib/perl5/vendor_perl
    /usr/share/perl5/vendor_perl
    /usr/lib/perl5
    /usr/share/perl5
    .