Report for Net-Braintree-0.30.0

Back
From: metabase:user:314402c4-2aae-11df-837a-5e0a49663a4f
Subject: PASS Net-Braintree-0.30.0 v5.24.1 GNU/Linux
Date: 2017-04-11T20:01:37Z

This distribution has been tested as part of the CPAN Testers
project, supporting the Perl programming language.  See
http://wiki.cpantesters.org/ for more information or email
questions to cpan-testers-discuss@perl.org


--
Dear Braintree Devs,

This is a computer-generated report for Net-Braintree-0.30.0
on perl 5.24.1, created by CPAN-Reporter-1.2018.

Thank you for uploading your work to CPAN.  Congratulations!
All tests were successful.

Sections of this report:

    * Tester comments
    * Program output
    * Prerequisites
    * Environment and other context

------------------------------
TESTER COMMENTS
------------------------------

Additional comments from tester:

none provided

------------------------------
PROGRAM OUTPUT
------------------------------

Output from '/usr/bin/make test':

PERL_DL_NONLAZY=1 "/opt/perl-5.24.1t/bin/perl" "-MExtUtils::Command::MM" "-MTest::Harness" "-e" "undef *Test::Harness::Switches; test_harness(0, 'inc', 'blib/lib', 'blib/arch'); " t/*t
# Testing Net::Braintree 0.30.0, Perl 5.024001, /opt/perl-5.24.1t/bin/perl
t/00-load.t ............................ ok
t/address.t ............................ ok
t/advanced_search.t .................... ok
t/boilerplate.t ........................ ok
t/client_token.t ....................... ok
t/configuration.t ...................... ok
t/credit_card.t ........................ ok
t/customer.t ........................... ok
t/digest.t ............................. ok
t/inflate_xml.t ........................ ok
t/manifest.t ........................... skipped: Author tests not required for installation
t/merchant_account.t ................... ok
t/pod.t ................................ ok
t/resource_collection.t ................ ok
t/result.t ............................. ok
t/subscription.t ....................... ok
t/transaction.t ........................ ok
t/transparent_redirect.t ............... ok
t/transparent_redirect_query_string.t .. ok
t/util.t ............................... ok
t/validation_error.t ................... ok
t/validation_error_collection.t ........ ok
t/validations_test.t ................... ok
t/webhook_notification.t ............... ok
t/xml.t ................................ ok
t/xml_builder.t ........................ ok
All tests successful.

Test Summary Report
-------------------
t/boilerplate.t                      (Wstat: 0 Tests: 3 Failed: 0)
  TODO passed:   2-3
Files=26, Tests=213, 22 wallclock secs ( 0.14 usr  0.04 sys + 20.58 cusr  1.44 csys = 22.20 CPU)
Result: PASS

------------------------------
PREREQUISITES
------------------------------

Prerequisite modules loaded:

requires:

    Module                      Need  Have    
    --------------------------- ----- --------
    Data::GUID                  0     0.049   
    DateTime                    0     1.42    
    DateTime::Format::Atom      0     v1.2.0  
    DateTime::Format::Strptime  0     1.73    
    Digest                      0     1.17_01 
    Digest::HMAC_SHA1           0     1.03    
    Digest::SHA1                0     2.13    
    Digest::SHA256              0     0.01    
    File::Spec                  0.80  3.63_01 
    Hash::Inflator              0     1.100820
    JSON                        0     2.90    
    local::lib                  0     2.000019
    LWP                         6.02  6.23    
    LWP::Protocol::https        0     6.07    
    MIME::Base64                0     3.15    
    Module::Install::TestTarget 0     0.19    
    Moose                       0     2.2004  
    Mozilla::CA                 0     20160104
    perl                        5.006 5.024001
    Test::Moose                 0     2.2004  
    Test::More                  0     1.302078
    Test::Pod                   0     1.51    
    Test::Warn                  0     0.32    
    Try::Tiny                   0     0.28    
    URI::Query                  0     0.16    
    XML::LibXML                 0     2.0129  
    XML::Simple                 0     2.22    

build_requires:

    Module                      Need  Have    
    --------------------------- ----- --------
    ExtUtils::MakeMaker         6.42  7.24    
    Test::Moose                 0     2.2004  
    Test::More                  0     1.302078
    Test::Pod                   0     1.51    
    Test::Warn                  0     0.32    
    Try::Tiny                   0     0.28    


------------------------------
ENVIRONMENT AND OTHER CONTEXT
------------------------------

Environment variables:

    LANG = en_US.UTF-8
    LANGUAGE = en_US:en
    PATH = /usr/local/bin:/usr/bin:/bin:/usr/local/sbin:/usr/sbin:/sbin:/home/cpansand/bin/linux-gnu:/home/cpansand/bin/sh:/home/cpansand/bin:/usr/games:/home/cpansand/devel:/home/eserte/src/srezic-misc/scripts
    PERL5LIB = /home/cpansand/.cpan/build/2017041115/DateTime-Format-Atom-v1.2.0-0xcmoR/blib/arch:/home/cpansand/.cpan/build/2017041115/DateTime-Format-Atom-v1.2.0-0xcmoR/blib/lib:/home/cpansand/.cpan/build/2017041115/SHA256-0.01-JuqSmH/blib/arch:/home/cpansand/.cpan/build/2017041115/SHA256-0.01-JuqSmH/blib/lib:/home/cpansand/.cpan/build/2017041115/Hash-Inflator-1.100820-juWowq/blib/arch:/home/cpansand/.cpan/build/2017041115/Hash-Inflator-1.100820-juWowq/blib/lib:/home/cpansand/.cpan/build/2017041115/Module-Install-TestTarget-0.19-zrwVel/blib/arch:/home/cpansand/.cpan/build/2017041115/Module-Install-TestTarget-0.19-zrwVel/blib/lib
    PERL5OPT = 
    PERL5_CPANPLUS_IS_RUNNING = 5410
    PERL5_CPAN_IS_RUNNING = 5410
    PERL5_CPAN_IS_RUNNING_IN_RECURSION = 5310,5410
    PERLDOC = -MPod::Perldoc::ToTextOverstrike
    PERL_BATCH = yes
    PERL_CANARY_STABILITY_NOPROMPT = 1
    PERL_CPAN_REPORTER_CONFIG = /var/tmp/cpansmoker-1002/2017041115/cpanreporter_000_config.ini
    PERL_EXTUTILS_AUTOINSTALL = --defaultdeps
    PERL_USE_UNSAFE_INC = 1
    SHELL = /bin/zsh
    TERM = screen
    TMPDIR = /var/tmp/cpansmoker-1002/2017041115

Perl special variables (and OS-specific diagnostics, for MSWin32):

    $^X = /opt/perl-5.24.1t/bin/perl
    $UID/$EUID = 1002 / 1002
    $GID = 1002 1002
    $EGID = 1002 1002

Perl module toolchain versions installed:

    Module              Have      
    ------------------- ----------
    CPAN                2.11_01   
    CPAN::Meta          2.150005  
    Cwd                 3.63_01   
    ExtUtils::CBuilder  0.280225  
    ExtUtils::Command   7.24      
    ExtUtils::Install   2.04      
    ExtUtils::MakeMaker 7.24      
    ExtUtils::Manifest  1.70      
    ExtUtils::ParseXS   3.31      
    File::Spec          3.63_01   
    JSON                2.90      
    JSON::PP            2.27400   
    Module::Build       0.4220    
    Module::Signature   0.81      
    Parse::CPAN::Meta   1.4417_001
    Test::Harness       3.38      
    Test::More          1.302078  
    YAML                1.22      
    YAML::Syck          1.29      
    version             0.9916    


--

Summary of my perl5 (revision 5 version 24 subversion 1) configuration:
   
  Platform:
    osname=linux, osvers=4.8.0-2-amd64, archname=x86_64-linux-thread-multi
    uname='linux prod4 4.8.0-2-amd64 #1 smp debian 4.8.15-2 (2017-01-04) x86_64 gnulinux '
    config_args='-ds -e -Dprefix=/opt/perl-5.24.1t -Dusethreads -Dcf_email=srezic@cpan.org'
    hint=recommended, useposix=true, d_sigaction=define
    useithreads=define, usemultiplicity=define
    use64bitint=define, use64bitall=define, uselongdouble=undef
    usemymalloc=n, bincompat5005=undef
  Compiler:
    cc='cc', ccflags ='-D_REENTRANT -D_GNU_SOURCE -fwrapv -fno-strict-aliasing -pipe -fstack-protector-strong -I/usr/local/include -D_LARGEFILE_SOURCE -D_FILE_OFFSET_BITS=64',
    optimize='-O2',
    cppflags='-D_REENTRANT -D_GNU_SOURCE -fwrapv -fno-strict-aliasing -pipe -fstack-protector-strong -I/usr/local/include'
    ccversion='', gccversion='6.3.0 20170124', gccosandvers=''
    intsize=4, longsize=8, ptrsize=8, doublesize=8, byteorder=12345678, doublekind=3
    d_longlong=define, longlongsize=8, d_longdbl=define, longdblsize=16, longdblkind=3
    ivtype='long', ivsize=8, nvtype='double', nvsize=8, Off_t='off_t', lseeksize=8
    alignbytes=8, prototype=define
  Linker and Libraries:
    ld='cc', ldflags =' -fstack-protector-strong -L/usr/local/lib'
    libpth=/usr/local/lib /usr/lib/gcc/x86_64-linux-gnu/6/include-fixed /usr/include/x86_64-linux-gnu /usr/lib /lib/x86_64-linux-gnu /lib/../lib /usr/lib/x86_64-linux-gnu /usr/lib/../lib /lib
    libs=-lpthread -lnsl -lgdbm -ldb -ldl -lm -lcrypt -lutil -lc -lgdbm_compat
    perllibs=-lpthread -lnsl -ldl -lm -lcrypt -lutil -lc
    libc=libc-2.24.so, so=so, useshrplib=false, libperl=libperl.a
    gnulibc_version='2.24'
  Dynamic Linking:
    dlsrc=dl_dlopen.xs, dlext=so, d_dlsymun=undef, ccdlflags='-Wl,-E'
    cccdlflags='-fPIC', lddlflags='-shared -O2 -L/usr/local/lib -fstack-protector-strong'


Characteristics of this binary (from libperl): 
  Compile-time options: HAS_TIMES MULTIPLICITY PERLIO_LAYERS
                        PERL_COPY_ON_WRITE PERL_DONT_CREATE_GVSV
                        PERL_HASH_FUNC_ONE_AT_A_TIME_HARD
                        PERL_IMPLICIT_CONTEXT PERL_MALLOC_WRAP
                        PERL_PRESERVE_IVUV USE_64_BIT_ALL USE_64_BIT_INT
                        USE_ITHREADS USE_LARGE_FILES USE_LOCALE
                        USE_LOCALE_COLLATE USE_LOCALE_CTYPE
                        USE_LOCALE_NUMERIC USE_LOCALE_TIME USE_PERLIO
                        USE_PERL_ATOF USE_REENTRANT_API
  Built under linux
  Compiled at Feb  9 2017 22:34:23
  %ENV:
    PERL5LIB="/home/cpansand/.cpan/build/2017041115/DateTime-Format-Atom-v1.2.0-0xcmoR/blib/arch:/home/cpansand/.cpan/build/2017041115/DateTime-Format-Atom-v1.2.0-0xcmoR/blib/lib:/home/cpansand/.cpan/build/2017041115/SHA256-0.01-JuqSmH/blib/arch:/home/cpansand/.cpan/build/2017041115/SHA256-0.01-JuqSmH/blib/lib:/home/cpansand/.cpan/build/2017041115/Hash-Inflator-1.100820-juWowq/blib/arch:/home/cpansand/.cpan/build/2017041115/Hash-Inflator-1.100820-juWowq/blib/lib:/home/cpansand/.cpan/build/2017041115/Module-Install-TestTarget-0.19-zrwVel/blib/arch:/home/cpansand/.cpan/build/2017041115/Module-Install-TestTarget-0.19-zrwVel/blib/lib"
    PERL5OPT=""
    PERL5_CPANPLUS_IS_RUNNING="5410"
    PERL5_CPAN_IS_RUNNING="5410"
    PERL5_CPAN_IS_RUNNING_IN_RECURSION="5310,5410"
    PERLDOC="-MPod::Perldoc::ToTextOverstrike"
    PERL_BATCH="yes"
    PERL_CANARY_STABILITY_NOPROMPT="1"
    PERL_CPAN_REPORTER_CONFIG="/var/tmp/cpansmoker-1002/2017041115/cpanreporter_000_config.ini"
    PERL_EXTUTILS_AUTOINSTALL="--defaultdeps"
    PERL_USE_UNSAFE_INC="1"
  @INC:
    /home/cpansand/.cpan/build/2017041115/DateTime-Format-Atom-v1.2.0-0xcmoR/blib/arch
    /home/cpansand/.cpan/build/2017041115/DateTime-Format-Atom-v1.2.0-0xcmoR/blib/lib
    /home/cpansand/.cpan/build/2017041115/SHA256-0.01-JuqSmH/blib/arch
    /home/cpansand/.cpan/build/2017041115/SHA256-0.01-JuqSmH/blib/lib
    /home/cpansand/.cpan/build/2017041115/Hash-Inflator-1.100820-juWowq/blib/arch
    /home/cpansand/.cpan/build/2017041115/Hash-Inflator-1.100820-juWowq/blib/lib
    /home/cpansand/.cpan/build/2017041115/Module-Install-TestTarget-0.19-zrwVel/blib/arch
    /home/cpansand/.cpan/build/2017041115/Module-Install-TestTarget-0.19-zrwVel/blib/lib
    /opt/perl-5.24.1t/lib/site_perl/5.24.1/x86_64-linux-thread-multi
    /opt/perl-5.24.1t/lib/site_perl/5.24.1
    /opt/perl-5.24.1t/lib/5.24.1/x86_64-linux-thread-multi
    /opt/perl-5.24.1t/lib/5.24.1
    .