Test-Moose-More v0.050 Perl 5 v5.26.2 i86pc-solaris
- Status
- Pass
- From
- Nigel Horne
- Dist
-
Test-Moose-More v0.050
- Platform
- Perl 5 v5.26.2 i86pc-solaris
- Date
- 2020-03-29 10:40:13
- ID
- abaecc90-71a9-11ea-8df2-e03005623f55
This distribution has been tested as part of the CPAN Testers
project, supporting the Perl programming language. See
http://wiki.cpantesters.org/ for more information or email
questions to cpan-testers-discuss@perl.org
--
Dear Chris Weyl,
This is a computer-generated report for Test-Moose-More-0.050
on perl 5.26.2, created by CPAN-Reporter-1.2018.
Thank you for uploading your work to CPAN. Congratulations!
All tests were successful.
Sections of this report:
* Tester comments
* Program output
* Prerequisites
* Environment and other context
------------------------------
TESTER COMMENTS
------------------------------
Additional comments from tester:
this report is from an automated smoke testing program
and was not reviewed by a human for accuracy
------------------------------
PROGRAM OUTPUT
------------------------------
Output from '/usr/bin/make test':
PERL_DL_NONLAZY=1 "/export/home/njh/perl5/perlbrew/perls/perl-5.26.2/bin/perl" "-MExtUtils::Command::MM" "-MTest::Harness" "-e" "undef *Test::Harness::Switches; test_harness(0, 'blib/lib', 'blib/arch')" t/*.t t/attribute_options_ok/*.t t/is_class_ok/*.t t/validate_attribute/*.t t/validate_class/*.t t/validate_role/*.t t/validate_thing/*.t t/wrapped/*.t
t/00-check-deps.t ...................................... ok
t/00-compile.t ......................................... ok
#
# Versions for all modules listed in MYMETA.json (including optional ones):
#
# === Configure Requires ===
#
# Module Want Have
# ------------------- ---- ----
# ExtUtils::MakeMaker any 7.34
#
# === Build Requires ===
#
# Module Want Have
# ------------------- ---- ----
# ExtUtils::MakeMaker any 7.34
#
# === Test Requires ===
#
# Module Want Have
# ---------------------- ----- --------
# ExtUtils::MakeMaker any 7.34
# File::Spec any 3.75
# IO::Handle any 1.39
# IPC::Open3 any 1.20
# List::Util 1.45 1.52
# Moose any 2.2011
# Moose::Meta::Attribute any 2.2011
# Moose::Role any 2.2011
# Moose::Util::MetaRole any 2.2011
# TAP::SimpleOutput 0.009 0.009
# Test::Builder::Tester any 1.302167
# Test::CheckDeps 0.010 0.010
# Test::More 0.94 1.302167
# namespace::autoclean any 0.28
#
# === Test Recommends ===
#
# Module Want Have
# ---------- -------- --------
# CPAN::Meta 2.120900 2.150010
#
# === Runtime Requires ===
#
# Module Want Have
# ---------------------------- ---- --------
# Carp any 1.50
# Data::OptList any 0.110
# List::MoreUtils any 0.428
# List::Util 1.45 1.52
# Moose::Util any 2.2011
# Moose::Util::TypeConstraints any 2.2011
# Scalar::Util any 1.52
# Sub::Exporter::Progressive any 0.001013
# Syntax::Keyword::Junction any 0.003008
# Test::Builder any 1.302167
# Test::Moose any 2.2011
# Test::More 0.94 1.302167
# strict any 1.11
# warnings any 1.37
#
t/00-report-prereqs.t .................................. ok
t/attribute_options_ok/basic.t ......................... ok
t/attribute_options_ok/subtest-wrapper.t ............... ok
t/check_sugar.t ........................................ ok
t/definition_context.t ................................. ok
t/does_metaroles_ok.t .................................. ok
t/does_not_metaroles_ok.t .............................. ok
t/does_not_ok.t ........................................ ok
t/does_ok.t ............................................ ok
t/has_attribute_ok.t ................................... ok
t/is_anon_ok.t ......................................... ok
t/is_class_ok/basic.t .................................. ok
t/is_class_ok/moose-meta-attribute-should-be-moosey.t .. ok
t/is_immutable_ok.t .................................... ok
t/is_not_anon_ok.t ..................................... ok
t/is_role_ok.t ......................................... ok
t/meta_ok.t ............................................ ok
t/method_from_pkg_ok.t ................................. ok
t/method_is_accessor_ok.t .............................. ok
t/method_is_not_accessor_ok.t .......................... ok
t/method_not_from_pkg_ok.t ............................. ok
t/method_ok.t .......................................... ok
t/no_meta_ok.t ......................................... ok
t/pristine_ok.t ........................................ ok
t/requires_method_ok.t ................................. ok
t/subtest-1.t .......................................... ok
t/validate_attribute/basic.t ........................... ok
t/validate_attribute/coerce.t .......................... ok
t/validate_attribute/in_roles.t ........................ ok
t/validate_attribute/lazy.t ............................ ok
t/validate_attribute/required.t ........................ ok
t/validate_class/basic.t ............................... ok
t/validate_class/metaclasses.t ......................... ok
t/validate_class/metaroles.t ........................... ok
t/validate_class/methods.t ............................. ok
t/validate_role/basic.t ................................ ok
t/validate_role/compose.t .............................. ok
t/validate_role/metaclasses.t .......................... ok
t/validate_role/metaroles.t ............................ ok
t/validate_thing/metaclasses.t ......................... ok
t/validate_thing/methods.t ............................. ok
t/validate_thing/sugar.t ............................... ok
t/wrapped/in_roles.t ................................... ok
All tests successful.
Test Summary Report
-------------------
t/00-check-deps.t (Wstat: 0 Tests: 32 Failed: 0)
TODO passed: 32
Files=45, Tests=235, 21 wallclock secs ( 0.22 usr 0.11 sys + 15.13 cusr 4.22 csys = 19.68 CPU)
Result: PASS
------------------------------
PREREQUISITES
------------------------------
Prerequisite modules loaded:
requires:
Module Need Have
---------------------------- ----- --------
Carp 0 1.50
Data::OptList 0 0.110
List::MoreUtils 0 0.428
List::Util 1.45 1.52
Moose::Util 0 2.2011
Moose::Util::TypeConstraints 0 2.2011
perl 5.006 5.026002
Scalar::Util 0 1.52
strict 0 1.11
Sub::Exporter::Progressive 0 0.001013
Syntax::Keyword::Junction 0 0.003008
Test::Builder 0 1.302167
Test::Moose 0 2.2011
Test::More 0.94 1.302167
warnings 0 1.37
build_requires:
Module Need Have
---------------------------- ----- --------
ExtUtils::MakeMaker 0 7.34
File::Spec 0 3.75
IO::Handle 0 1.39
IPC::Open3 0 1.20
List::Util 1.45 1.52
! Moose 0 broken
! Moose::Meta::Attribute 0 broken
! Moose::Role 0 broken
Moose::Util::MetaRole 0 2.2011
namespace::autoclean 0 0.28
TAP::SimpleOutput 0.009 0.009
Test::Builder::Tester 0 1.302167
Test::CheckDeps 0.010 0.010
Test::More 0.94 1.302167
configure_requires:
Module Need Have
---------------------------- ----- --------
ExtUtils::MakeMaker 0 7.34
perl 5.006 5.026002
------------------------------
ENVIRONMENT AND OTHER CONTEXT
------------------------------
Environment variables:
AUTOMATED_TESTING = 1
NONINTERACTIVE_TESTING = 1
PATH = /export/home/njh/perl5/perlbrew/bin:/export/home/njh/perl5/perlbrew/perls/perl-5.26.2/bin:/export/home/njh/src/njh/smoker/bin:/usr/bin
PERL5LIB = /export/home/njh/.cpan/build/TAP-SimpleOutput-0.009-0/blib/arch:/export/home/njh/.cpan/build/TAP-SimpleOutput-0.009-0/blib/lib:/export/home/njh/.cpan/build/Perl-Version-1.013-0/blib/arch:/export/home/njh/.cpan/build/Perl-Version-1.013-0/blib/lib:/export/home/njh/.cpan/build/File-Slurp-Tiny-0.004-0/blib/arch:/export/home/njh/.cpan/build/File-Slurp-Tiny-0.004-0/blib/lib:/export/home/njh/.cpan/build/Syntax-Keyword-Junction-0.003008-0/blib/arch:/export/home/njh/.cpan/build/Syntax-Keyword-Junction-0.003008-0/blib/lib:/export/home/njh/.cpan/build/syntax-0.004-0/blib/arch:/export/home/njh/.cpan/build/syntax-0.004-0/blib/lib:/export/home/njh/.cpan/build/Log-Log4perl-Appender-ScreenColoredLevels-UsingMyColors-0.112-0/blib/arch:/export/home/njh/.cpan/build/Log-Log4perl-Appender-ScreenColoredLevels-UsingMyColors-0.112-0/blib/lib:/export/home/njh/.cpan/build/Data-Validate-Domain-0.14-0/blib/arch:/export/home/njh/.cpan/build/Data-Validate-Domain-0.14-0/blib/lib:/export/home/njh/.cpan/build/Net-Domain-TLD-1.75-0/blib/arch:/export/home/njh/.cpan/build/Net-Domain-TLD-1.75-0/blib/lib
PERL5OPT =
PERL5_CPANPLUS_IS_RUNNING = 28210
PERL5_CPAN_IS_RUNNING = 28210
PERL5_CPAN_IS_RUNNING_IN_RECURSION = 28192,28210
PERLBREW_HOME = /export/home/njh/.perlbrew
PERLBREW_MANPATH = /export/home/njh/perl5/perlbrew/perls/perl-5.26.2/man
PERLBREW_PATH = /export/home/njh/perl5/perlbrew/bin:/export/home/njh/perl5/perlbrew/perls/perl-5.26.2/bin
PERLBREW_PERL = perl-5.26.2
PERLBREW_ROOT = /export/home/njh/perl5/perlbrew
PERLBREW_SHELLRC_VERSION = 0.87
PERLBREW_VERSION = 0.87
PERL_MM_USE_DEFAULT = 1
PERL_USE_UNSAFE_INC = 1
SHELL = /usr/bin/bash
TERM = dumb
TMPDIR = /tmp/testwrapper.28196
Perl special variables (and OS-specific diagnostics, for MSWin32):
$^X = /export/home/njh/perl5/perlbrew/perls/perl-5.26.2/bin/perl
$UID/$EUID = 101 / 101
$GID = 10 10
$EGID = 10 10
Perl module toolchain versions installed:
Module Have
------------------- --------
CPAN 2.26
CPAN::Meta 2.150010
Cwd 3.75
ExtUtils::CBuilder 0.280230
ExtUtils::Command 7.34
ExtUtils::Install 2.14
ExtUtils::MakeMaker 7.34
ExtUtils::Manifest 1.71
ExtUtils::ParseXS 3.35
File::Spec 3.75
JSON 4.02
JSON::PP 4.03
Module::Build 0.4224
Module::Signature n/a
Parse::CPAN::Meta 2.150010
Test::Harness 3.42
Test::More 1.302167
YAML 1.30
YAML::Syck 1.31
version 0.9924
--
Summary of my perl5 (revision 5 version 26 subversion 2) configuration:
Platform:
osname=solaris
osvers=2.11
archname=i86pc-solaris
uname='sunos vultr1.bandsman.co.uk 5.11 illumos-b075503f22 i86pc i386 i86pc '
config_args='-de -Dprefix=/export/home/njh/perl5/perlbrew/perls/perl-5.26.2 -Accflags=-O2 -xstrconst -D__EXTENSIONS__ -Aeval:scriptdir=/export/home/njh/perl5/perlbrew/perls/perl-5.26.2/bin'
hint=recommended
useposix=true
d_sigaction=define
useithreads=undef
usemultiplicity=undef
use64bitint=undef
use64bitall=undef
uselongdouble=undef
usemymalloc=n
default_inc_excludes_dot=define
bincompat5005=undef
Compiler:
cc='/opt/SUNWspro/bin/cc'
ccflags ='-O2 -xstrconst -D__EXTENSIONS__ -I/usr/gnu/include -D_LARGEFILE_SOURCE -D_FILE_OFFSET_BITS=64 -DPERL_USE_SAFE_PUTENV'
optimize='-O'
cppflags='-O2 -xstrconst -D__EXTENSIONS__ -I/usr/gnu/include'
ccversion='Sun C 5.10 SunOS_i386 2009/06/03'
gccversion=''
gccosandvers=''
intsize=4
longsize=4
ptrsize=4
doublesize=8
byteorder=1234
doublekind=3
d_longlong=define
longlongsize=8
d_longdbl=define
longdblsize=12
longdblkind=3
ivtype='long'
ivsize=4
nvtype='double'
nvsize=8
Off_t='off_t'
lseeksize=8
alignbytes=4
prototype=define
Linker and Libraries:
ld='/opt/SUNWspro/bin/cc'
ldflags =' -L/usr/lib -L/usr/ccs/lib -L/opt/sunstudio12.1/prod/lib -L/lib -L/usr/gnu/lib '
libpth=/usr/lib /usr/ccs/lib /opt/sunstudio12.1/prod/lib /lib /usr/gnu/lib
libs=-lpthread -lsocket -lnsl -lgdbm -ldb -ldl -lm -lc
perllibs=-lpthread -lsocket -lnsl -ldl -lm -lc
libc=/lib/libc.so
so=so
useshrplib=true
libperl=libperl.so
gnulibc_version=''
Dynamic Linking:
dlsrc=dl_dlopen.xs
dlext=so
d_dlsymun=undef
ccdlflags=' -R /export/home/njh/perl5/perlbrew/perls/perl-5.26.2/lib/5.26.2/i86pc-solaris/CORE'
cccdlflags='-KPIC'
lddlflags='-G -L/usr/lib -L/usr/ccs/lib -L/opt/sunstudio12.1/prod/lib -L/lib -L/usr/gnu/lib'
Characteristics of this binary (from libperl):
Compile-time options:
HAS_TIMES
PERLIO_LAYERS
PERL_COPY_ON_WRITE
PERL_DONT_CREATE_GVSV
PERL_HASH_FUNC_ONE_AT_A_TIME_HARD
PERL_MALLOC_WRAP
PERL_OP_PARENT
PERL_PRESERVE_IVUV
PERL_USE_SAFE_PUTENV
USE_LARGE_FILES
USE_LOCALE
USE_LOCALE_COLLATE
USE_LOCALE_CTYPE
USE_LOCALE_NUMERIC
USE_LOCALE_TIME
USE_PERLIO
USE_PERL_ATOF
Locally applied patches:
Devel::PatchPerl 1.52
Built under solaris
Compiled at Sep 10 2018 07:29:39
%ENV:
PERL5LIB="/export/home/njh/.cpan/build/TAP-SimpleOutput-0.009-0/blib/arch:/export/home/njh/.cpan/build/TAP-SimpleOutput-0.009-0/blib/lib:/export/home/njh/.cpan/build/Perl-Version-1.013-0/blib/arch:/export/home/njh/.cpan/build/Perl-Version-1.013-0/blib/lib:/export/home/njh/.cpan/build/File-Slurp-Tiny-0.004-0/blib/arch:/export/home/njh/.cpan/build/File-Slurp-Tiny-0.004-0/blib/lib:/export/home/njh/.cpan/build/Syntax-Keyword-Junction-0.003008-0/blib/arch:/export/home/njh/.cpan/build/Syntax-Keyword-Junction-0.003008-0/blib/lib:/export/home/njh/.cpan/build/syntax-0.004-0/blib/arch:/export/home/njh/.cpan/build/syntax-0.004-0/blib/lib:/export/home/njh/.cpan/build/Log-Log4perl-Appender-ScreenColoredLevels-UsingMyColors-0.112-0/blib/arch:/export/home/njh/.cpan/build/Log-Log4perl-Appender-ScreenColoredLevels-UsingMyColors-0.112-0/blib/lib:/export/home/njh/.cpan/build/Data-Validate-Domain-0.14-0/blib/arch:/export/home/njh/.cpan/build/Data-Validate-Domain-0.14-0/blib/lib:/export/home/njh/.cpan/build/Net-Domain-TLD-1.75-0/blib/arch:/export/home/njh/.cpan/build/Net-Domain-TLD-1.75-0/blib/lib"
PERL5OPT=""
PERL5_CPANPLUS_IS_RUNNING="28210"
PERL5_CPAN_IS_RUNNING="28210"
PERL5_CPAN_IS_RUNNING_IN_RECURSION="28192,28210"
PERLBREW_HOME="/export/home/njh/.perlbrew"
PERLBREW_MANPATH="/export/home/njh/perl5/perlbrew/perls/perl-5.26.2/man"
PERLBREW_PATH="/export/home/njh/perl5/perlbrew/bin:/export/home/njh/perl5/perlbrew/perls/perl-5.26.2/bin"
PERLBREW_PERL="perl-5.26.2"
PERLBREW_ROOT="/export/home/njh/perl5/perlbrew"
PERLBREW_SHELLRC_VERSION="0.87"
PERLBREW_VERSION="0.87"
PERL_MM_USE_DEFAULT="1"
PERL_USE_UNSAFE_INC="1"
@INC:
/export/home/njh/.cpan/build/TAP-SimpleOutput-0.009-0/blib/arch
/export/home/njh/.cpan/build/TAP-SimpleOutput-0.009-0/blib/lib
/export/home/njh/.cpan/build/Perl-Version-1.013-0/blib/arch
/export/home/njh/.cpan/build/Perl-Version-1.013-0/blib/lib
/export/home/njh/.cpan/build/File-Slurp-Tiny-0.004-0/blib/arch
/export/home/njh/.cpan/build/File-Slurp-Tiny-0.004-0/blib/lib
/export/home/njh/.cpan/build/Syntax-Keyword-Junction-0.003008-0/blib/arch
/export/home/njh/.cpan/build/Syntax-Keyword-Junction-0.003008-0/blib/lib
/export/home/njh/.cpan/build/syntax-0.004-0/blib/arch
/export/home/njh/.cpan/build/syntax-0.004-0/blib/lib
/export/home/njh/.cpan/build/Log-Log4perl-Appender-ScreenColoredLevels-UsingMyColors-0.112-0/blib/arch
/export/home/njh/.cpan/build/Log-Log4perl-Appender-ScreenColoredLevels-UsingMyColors-0.112-0/blib/lib
/export/home/njh/.cpan/build/Data-Validate-Domain-0.14-0/blib/arch
/export/home/njh/.cpan/build/Data-Validate-Domain-0.14-0/blib/lib
/export/home/njh/.cpan/build/Net-Domain-TLD-1.75-0/blib/arch
/export/home/njh/.cpan/build/Net-Domain-TLD-1.75-0/blib/lib
/export/home/njh/perl5/perlbrew/perls/perl-5.26.2/lib/site_perl/5.26.2/i86pc-solaris
/export/home/njh/perl5/perlbrew/perls/perl-5.26.2/lib/site_perl/5.26.2
/export/home/njh/perl5/perlbrew/perls/perl-5.26.2/lib/5.26.2/i86pc-solaris
/export/home/njh/perl5/perlbrew/perls/perl-5.26.2/lib/5.26.2
.